Workbook

Sheet Resa
B1: NOMS DES EXCURSIONS ==> | G1: QUANTITE | H1: CREMONE | I1: VERONE | J1: PADOUE | K1: CLA - DOGES | L1: MURANO BURANO | M1: OPTION FERRARI | N1: DYN - CASANOVA | O1: DYN - VERONE VELO | P1: TOTAL | Q1: € INC | R1: Payé | S1: TOTAL A PAYER
B2: DEPARTS EFFECTIFS | G2: 59 | H2: 65 | I2: 56
B3: FORFAITS PAR EXCU => | G3: 59 | H3: 65 | I3: 63 | J3: 63 | K3: 59 | L3: 55
B4: TOTAL FORFAITS + RESA A BORD | G4: =SUM(G8:G$149) -> 62 | H4: =SUM(H8:H$149) -> 69 | I4: =SUM(I8:I$149) -> 67 | J4: =SUM(J8:J$149) -> 67 | K4: =SUM(K8:K$149) -> 60 | L4: =SUM(L8:L$149) -> 58 | M4: =SUM(M8:M$149) -> 0 | N4: =SUM(N8:N$149) -> 0 | O4: =SUM(O8:O$149) -> 0 | R4: =SUM(R7:R144) -> 0 | S4: =SUM(S8:S149) -> 1706
B5: NB PAX RESA A BORD | G5: =SUM(G4-G3) -> 3 | H5: =SUM(H4-H3) -> 4 | I5: =SUM(I4-I3) -> 4 | J5: =SUM(J4-J3) -> 4 | K5: =SUM(K4-K3) -> 1 | L5: =SUM(L4-L3) -> 3 | M5: =SUM(M4-M3) -> 0 | N5: =SUM(N4-N3) -> 0 | O5: =SUM(O4-O3) -> 0
G6: 79 | H6: 140 | I6: 62 | J6: 86 | K6: 79 | L6: 53 | M6: 92 | N6: 79 | O6: 94
A7: GROUPES ? | B7: ROOM | C7: NOM | D7: PRENOM | E7: NAT
A8: 1 | B8: 111 | C8: HONERUD | D8: BJØRG | E8: NO | F8: ESCAPE NO | G8: 1 | H8: 1 | J8: 1 | P8: =$G$6*G8+$N$6*N8+$H$6*H8+$O$6*O8+$I$6*I8+$M$6*M8+$K$6*K8+$J$6*J8+$L$6*L8 -> 305 | Q8: 305 | S8: =P8-(Q8+R8) -> 0
A9: 1 | B9: 111 | C9: PEDERSEN | D9: LEONHARD | E9: NO | F9: ESCAPE NO | G9: 1 | H9: 1 | J9: 1 | P9: =$G$6*G9+$N$6*N9+$H$6*H9+$O$6*O9+$I$6*I9+$M$6*M9+$K$6*K9+$J$6*J9+$L$6*L9 -> 305 | Q9: 305 | S9: =P9-(Q9+R9) -> 0
A10: 1 | B10: 113 | C10: RUUD | D10: ASTRID ELISABETH | E10: NO | F10: ESCAPE NO | G10: 1 | H10: 1 | I10: 1 | J10: 1 | K10: 1 | L10: 1 | P10: =$G$6*G10+$N$6*N10+$H$6*H10+$O$6*O10+$I$6*I10+$M$6*M10+$K$6*K10+$J$6*J10+$L$6*L10 -> 499 | Q10: 499 | S10: =P10-(Q10+R10) -> 0
A11: 1 | B11: 115 | C11: FJELDVIK | D11: AASELILL | E11: NO | F11: ESCAPE NO | G11: 1 | H11: 1 | I11: 1 | J11: 1 | K11: 1 | L11: 1 | P11: =$G$6*G11+$N$6*N11+$H$6*H11+$O$6*O11+$I$6*I11+$M$6*M11+$K$6*K11+$J$6*J11+$L$6*L11 -> 499 | Q11: 499 | S11: =P11-(Q11+R11) -> 0
A12: 1 | B12: 115 | C12: HANSEN | D12: PER BORGER | E12: NO | F12: ESCAPE NO | G12: 1 | H12: 1 | I12: 1 | J12: 1 | K12: 1 | L12: 1 | P12: =$G$6*G12+$N$6*N12+$H$6*H12+$O$6*O12+$I$6*I12+$M$6*M12+$K$6*K12+$J$6*J12+$L$6*L12 -> 499 | Q12: 499 | S12: =P12-(Q12+R12) -> 0
A13: 1 | B13: 116 | C13: WÆRVÅGEN | D13: HANS PETTER | E13: NO | F13: ESCAPE NO | G13: 1 | H13: 1 | I13: 1 | J13: 1 | K13: 1 | L13: 1 | P13: =$G$6*G13+$N$6*N13+$H$6*H13+$O$6*O13+$I$6*I13+$M$6*M13+$K$6*K13+$J$6*J13+$L$6*L13 -> 499 | Q13: 499 | S13: =P13-(Q13+R13) -> 0
A14: 1 | B14: 116 | C14: WÆRVÅGEN | D14: LINDA CAROL | E14: NO | F14: ESCAPE NO | G14: 1 | H14: 1 | I14: 1 | J14: 1 | K14: 1 | L14: 1 | P14: =$G$6*G14+$N$6*N14+$H$6*H14+$O$6*O14+$I$6*I14+$M$6*M14+$K$6*K14+$J$6*J14+$L$6*L14 -> 499 | Q14: 499 | S14: =P14-(Q14+R14) -> 0
A15: 1 | B15: 117 | C15: INGEBRIGTSEN | D15: KARI-ELIN | E15: NO | F15: ESCAPE NO | G15: 1 | H15: 1 | J15: 1 | P15: =$G$6*G15+$N$6*N15+$H$6*H15+$O$6*O15+$I$6*I15+$M$6*M15+$K$6*K15+$J$6*J15+$L$6*L15 -> 305 | Q15: 305 | S15: =P15-(Q15+R15) -> 0
A16: 1 | B16: 117 | C16: RYDLAND | D16: ODD | E16: NO | F16: ESCAPE NO | G16: 1 | H16: 1 | J16: 1 | P16: =$G$6*G16+$N$6*N16+$H$6*H16+$O$6*O16+$I$6*I16+$M$6*M16+$K$6*K16+$J$6*J16+$L$6*L16 -> 305 | Q16: 305 | S16: =P16-(Q16+R16) -> 0
A17: 2 | B17: 118 | C17: NYMOEN | D17: ODD MAGNAR | E17: NO | F17: ESCAPE NO | I17: 1 | P17: =$G$6*G17+$N$6*N17+$H$6*H17+$O$6*O17+$I$6*I17+$M$6*M17+$K$6*K17+$J$6*J17+$L$6*L17 -> 62 | Q17: 62 | S17: =P17-(Q17+R17) -> 0
A18: 2 | B18: 118 | C18: SIMONSEN | D18: MERETE CISILIE | E18: NO | F18: ESCAPE NO | I18: 1 | P18: =$G$6*G18+$N$6*N18+$H$6*H18+$O$6*O18+$I$6*I18+$M$6*M18+$K$6*K18+$J$6*J18+$L$6*L18 -> 62 | Q18: 62 | S18: =P18-(Q18+R18) -> 0
A19: 2 | B19: 121 | C19: BERGSTEN | D19: JAN | E19: SE | F19: ESCAPE SE | K19: 1 | L19: 1 | P19: =$G$6*G19+$N$6*N19+$H$6*H19+$O$6*O19+$I$6*I19+$M$6*M19+$K$6*K19+$J$6*J19+$L$6*L19 -> 132 | Q19: 0 | S19: =P19-(Q19+R19) -> 132
A20: 2 | B20: 122 | C20: PLATOU | D20: CHRISTINA TL | E20: SE | F20: ESCAPE SE | G20: 1 | H20: 1 | I20: 1 | J20: 1 | K20: 1 | L20: 1 | P20: =$G$6*G20+$N$6*N20+$H$6*H20+$O$6*O20+$I$6*I20+$M$6*M20+$K$6*K20+$J$6*J20+$L$6*L20 -> 499 | Q20: 499 | S20: =P20-(Q20+R20) -> 0
A21: 2 | B21: 123 | C21: BRYNILDSEN | D21: ULF TL | E21: NO | F21: ESCAPE NO | G21: 1 | H21: 1 | I21: 1 | J21: 1 | K21: 1 | L21: 1 | P21: =$G$6*G21+$N$6*N21+$H$6*H21+$O$6*O21+$I$6*I21+$M$6*M21+$K$6*K21+$J$6*J21+$L$6*L21 -> 499 | Q21: 499 | S21: =P21-(Q21+R21) -> 0
A22: 2 | B22: 124 | C22: MARRAFFA | D22: NOEL | E22: FR | H22: 1 | J22: 1 | P22: =$G$6*G22+$N$6*N22+$H$6*H22+$O$6*O22+$I$6*I22+$M$6*M22+$K$6*K22+$J$6*J22+$L$6*L22 -> 226 | Q22: 226 | S22: =P22-(Q22+R22) -> 0
A23: 2 | B23: 124 | C23: MOUTON MARRAFA | D23: MIREILLE | E23: FR | H23: 1 | J23: 1 | P23: =$G$6*G23+$N$6*N23+$H$6*H23+$O$6*O23+$I$6*I23+$M$6*M23+$K$6*K23+$J$6*J23+$L$6*L23 -> 226 | Q23: 226 | S23: =P23-(Q23+R23) -> 0
A24: 2 | B24: 125 | C24: BÄCKLUND | D24: ERIK GUSTAV | E24: NO | F24: ESCAPE SE | G24: 1 | H24: 1 | I24: 1 | J24: 1 | K24: 1 | L24: 1 | P24: =$G$6*G24+$N$6*N24+$H$6*H24+$O$6*O24+$I$6*I24+$M$6*M24+$K$6*K24+$J$6*J24+$L$6*L24 -> 499 | Q24: 499 | S24: =P24-(Q24+R24) -> 0
A25: 2 | B25: 125 | C25: LUNDMARK | D25: RUT MONICA | E25: NO | F25: ESCAPE SE | H25: 1 | I25: 1 | J25: 1 | K25: 1 | L25: 1 | P25: =$G$6*G25+$N$6*N25+$H$6*H25+$O$6*O25+$I$6*I25+$M$6*M25+$K$6*K25+$J$6*J25+$L$6*L25 -> 420 | Q25: 420 | S25: =P25-(Q25+R25) -> 0
A26: 2 | B26: 127 | C26: HAMRE | D26: LIV TURID | E26: NO | F26: ESCAPE NO | G26: 1 | H26: 1 | I26: 1 | J26: 1 | K26: 1 | L26: 1 | P26: =$G$6*G26+$N$6*N26+$H$6*H26+$O$6*O26+$I$6*I26+$M$6*M26+$K$6*K26+$J$6*J26+$L$6*L26 -> 499 | Q26: 499 | S26: =P26-(Q26+R26) -> 0
A27: 2 | B27: 128 | C27: TOQUE VVE. COUSIN | D27: GISELE | E27: FR | G27: 1 | H27: 1 | I27: 1 | J27: 1 | K27: 1 | L27: 1 | P27: =$G$6*G27+$N$6*N27+$H$6*H27+$O$6*O27+$I$6*I27+$M$6*M27+$K$6*K27+$J$6*J27+$L$6*L27 -> 499 | Q27: 499 | S27: =P27-(Q27+R27) -> 0
A28: 2 | B28: 129 | C28: ØRNHAUG | D28: ELLINOR | E28: NO | F28: ESCAPE NO | G28: 1 | H28: 1 | I28: 1 | J28: 1 | K28: 1 | L28: 1 | P28: =$G$6*G28+$N$6*N28+$H$6*H28+$O$6*O28+$I$6*I28+$M$6*M28+$K$6*K28+$J$6*J28+$L$6*L28 -> 499 | Q28: 499 | S28: =P28-(Q28+R28) -> 0
A29: 2 | B29: 129 | C29: ØRNHAUG | D29: BJØRNULF | E29: NO | F29: ESCAPE NO | G29: 1 | H29: 1 | I29: 1 | J29: 1 | K29: 1 | L29: 1 | P29: =$G$6*G29+$N$6*N29+$H$6*H29+$O$6*O29+$I$6*I29+$M$6*M29+$K$6*K29+$J$6*J29+$L$6*L29 -> 499 | Q29: 499 | S29: =P29-(Q29+R29) -> 0
A30: 2 | B30: 130 | C30: DARGENT EP. MONGREDIEN | D30: JOCELYNE | E30: FR | G30: 1 | H30: 1 | I30: 1 | J30: 1 | K30: 1 | L30: 1 | P30: =$G$6*G30+$N$6*N30+$H$6*H30+$O$6*O30+$I$6*I30+$M$6*M30+$K$6*K30+$J$6*J30+$L$6*L30 -> 499 | Q30: 499 | S30: =P30-(Q30+R30) -> 0
A31: 2 | B31: 132 | C31: CREPIN | D31: ETIENNETTE | E31: FR | G31: 1 | H31: 1 | I31: 1 | J31: 1 | K31: 1 | L31: 1 | P31: =$G$6*G31+$N$6*N31+$H$6*H31+$O$6*O31+$I$6*I31+$M$6*M31+$K$6*K31+$J$6*J31+$L$6*L31 -> 499 | Q31: 499 | S31: =P31-(Q31+R31) -> 0
A32: 2 | B32: 132 | C32: SMAGGHE | D32: JACQUELINE | E32: FR | G32: 1 | H32: 1 | I32: 1 | J32: 1 | K32: 1 | L32: 1 | P32: =$G$6*G32+$N$6*N32+$H$6*H32+$O$6*O32+$I$6*I32+$M$6*M32+$K$6*K32+$J$6*J32+$L$6*L32 -> 499 | Q32: 499 | S32: =P32-(Q32+R32) -> 0
A33: 2 | B33: 135 | C33: OHNO | D33: KATHARINE | E33: GB | G33: 1 | H33: 1 | J33: 1 | P33: =$G$6*G33+$N$6*N33+$H$6*H33+$O$6*O33+$I$6*I33+$M$6*M33+$K$6*K33+$J$6*J33+$L$6*L33 -> 305 | Q33: 0 | S33: =P33-(Q33+R33) -> 305
A34: 2 | B34: 135 | C34: OLDFIELD | D34: HELEN | E34: GB | G34: 1 | H34: 1 | J34: 1 | P34: =$G$6*G34+$N$6*N34+$H$6*H34+$O$6*O34+$I$6*I34+$M$6*M34+$K$6*K34+$J$6*J34+$L$6*L34 -> 305 | Q34: 0 | S34: =P34-(Q34+R34) -> 305
A35: 2 | B35: 137 | C35: FLEW | D35: VIRGINIA | E35: GB | G35: 1 | H35: 1 | J35: 1 | P35: =$G$6*G35+$N$6*N35+$H$6*H35+$O$6*O35+$I$6*I35+$M$6*M35+$K$6*K35+$J$6*J35+$L$6*L35 -> 305 | Q35: 0 | S35: =P35-(Q35+R35) -> 305
A36: 2 | B36: 137 | C36: RAINE | D36: ELISABETH ANN ISABEL | E36: GB | G36: 1 | H36: 1 | J36: 1 | P36: =$G$6*G36+$N$6*N36+$H$6*H36+$O$6*O36+$I$6*I36+$M$6*M36+$K$6*K36+$J$6*J36+$L$6*L36 -> 305 | Q36: 0 | S36: =P36-(Q36+R36) -> 305
A37: 2 | B37: 140 | C37: KONDRATIEVA | D37: TAMARA | E37: FR | G37: 1 | H37: 1 | I37: 1 | J37: 1 | K37: 1 | L37: 1 | P37: =$G$6*G37+$N$6*N37+$H$6*H37+$O$6*O37+$I$6*I37+$M$6*M37+$K$6*K37+$J$6*J37+$L$6*L37 -> 499 | Q37: 384 | S37: =P37-(Q37+R37) -> 115
A38: 2 | B38: 141 | C38: GLADYCHEVA EP. LASSERRE | D38: TATIANA | E38: FR | G38: 1 | H38: 1 | I38: 1 | J38: 1 | K38: 1 | L38: 1 | P38: =$G$6*G38+$N$6*N38+$H$6*H38+$O$6*O38+$I$6*I38+$M$6*M38+$K$6*K38+$J$6*J38+$L$6*L38 -> 499 | Q38: 384 | S38: =P38-(Q38+R38) -> 115
A39: 2 | B39: 250 | C39: KARLSSON | D39: LORD KENNETH GUNNAR | E39: SE | F39: ESCAPE SE | G39: 1 | H39: 1 | I39: 1 | J39: 1 | K39: 1 | L39: 1 | P39: =$G$6*G39+$N$6*N39+$H$6*H39+$O$6*O39+$I$6*I39+$M$6*M39+$K$6*K39+$J$6*J39+$L$6*L39 -> 499 | Q39: 499 | S39: =P39-(Q39+R39) -> 0
A40: 2 | B40: 250 | C40: KARLSSON | D40: LADY MARGARETA | E40: SE | F40: ESCAPE SE | G40: 1 | H40: 1 | I40: 1 | J40: 1 | K40: 1 | L40: 1 | P40: =$G$6*G40+$N$6*N40+$H$6*H40+$O$6*O40+$I$6*I40+$M$6*M40+$K$6*K40+$J$6*J40+$L$6*L40 -> 499 | Q40: 499 | S40: =P40-(Q40+R40) -> 0
A41: 2 | B41: 251 | C41: LETTING | D41: ELLEN | E41: NO | F41: ESCAPE NO | P41: =$G$6*G41+$N$6*N41+$H$6*H41+$O$6*O41+$I$6*I41+$M$6*M41+$K$6*K41+$J$6*J41+$L$6*L41 -> 0 | Q41: 0 | S41: =P41-(Q41+R41) -> 0
A42: 2 | B42: 251 | C42: LETTING | D42: JON | E42: NO | F42: ESCAPE NO | P42: =$G$6*G42+$N$6*N42+$H$6*H42+$O$6*O42+$I$6*I42+$M$6*M42+$K$6*K42+$J$6*J42+$L$6*L42 -> 0 | Q42: 0 | S42: =P42-(Q42+R42) -> 0
A43: 2 | B43: 252 | C43: MARONI | D43: SISSEL MARGRETHE | E43: NO | F43: ESCAPE NO | G43: 1 | H43: 1 | I43: 1 | J43: 1 | K43: 1 | L43: 1 | P43: =$G$6*G43+$N$6*N43+$H$6*H43+$O$6*O43+$I$6*I43+$M$6*M43+$K$6*K43+$J$6*J43+$L$6*L43 -> 499 | Q43: 499 | S43: =P43-(Q43+R43) -> 0
A44: 2 | B44: 252 | C44: SLEIRE | D44: ARNE HENRIK | E44: NO | F44: ESCAPE NO | G44: 1 | H44: 1 | I44: 1 | J44: 1 | K44: 1 | L44: 1 | P44: =$G$6*G44+$N$6*N44+$H$6*H44+$O$6*O44+$I$6*I44+$M$6*M44+$K$6*K44+$J$6*J44+$L$6*L44 -> 499 | Q44: 499 | S44: =P44-(Q44+R44) -> 0
A45: 2 | B45: 253 | C45: LILJESTRÖM | D45: HANS | E45: SE | F45: ESCAPE SE | G45: 1 | H45: 1 | I45: 1 | J45: 1 | K45: 1 | L45: 1 | P45: =$G$6*G45+$N$6*N45+$H$6*H45+$O$6*O45+$I$6*I45+$M$6*M45+$K$6*K45+$J$6*J45+$L$6*L45 -> 499 | Q45: 499 | S45: =P45-(Q45+R45) -> 0
A46: 1 | B46: 253 | C46: MYRGREN LILJESTRÖM | D46: MONIKA | E46: SE | F46: ESCAPE SE | G46: 1 | H46: 1 | I46: 1 | J46: 1 | K46: 1 | L46: 1 | P46: =$G$6*G46+$N$6*N46+$H$6*H46+$O$6*O46+$I$6*I46+$M$6*M46+$K$6*K46+$J$6*J46+$L$6*L46 -> 499 | Q46: 499 | S46: =P46-(Q46+R46) -> 0
A47: 1 | B47: 254 | C47: HALMER | D47: BENTE MARGARET | E47: NO | F47: ESCAPE NO | G47: 1 | H47: 1 | I47: 1 | J47: 1 | K47: 1 | L47: 1 | P47: =$G$6*G47+$N$6*N47+$H$6*H47+$O$6*O47+$I$6*I47+$M$6*M47+$K$6*K47+$J$6*J47+$L$6*L47 -> 499 | Q47: 499 | S47: =P47-(Q47+R47) -> 0
A48: 1 | B48: 254 | C48: SVENSEN | D48: ARNFINN LEA | E48: NO | F48: ESCAPE NO | G48: 1 | H48: 1 | I48: 1 | J48: 1 | K48: 1 | L48: 1 | P48: =$G$6*G48+$N$6*N48+$H$6*H48+$O$6*O48+$I$6*I48+$M$6*M48+$K$6*K48+$J$6*J48+$L$6*L48 -> 499 | Q48: 499 | S48: =P48-(Q48+R48) -> 0
A49: 1 | B49: 255 | C49: LIEN | D49: MARIT ODBERG | E49: NO | F49: ESCAPE NO | G49: 1 | H49: 1 | I49: 1 | J49: 1 | K49: 1 | L49: 1 | P49: =$G$6*G49+$N$6*N49+$H$6*H49+$O$6*O49+$I$6*I49+$M$6*M49+$K$6*K49+$J$6*J49+$L$6*L49 -> 499 | Q49: 499 | S49: =P49-(Q49+R49) -> 0
A50: 1 | B50: 255 | C50: ODBERG | D50: ØIVIND | E50: NO | F50: ESCAPE NO | G50: 1 | H50: 1 | I50: 1 | J50: 1 | K50: 1 | L50: 1 | P50: =$G$6*G50+$N$6*N50+$H$6*H50+$O$6*O50+$I$6*I50+$M$6*M50+$K$6*K50+$J$6*J50+$L$6*L50 -> 499 | Q50: 499 | S50: =P50-(Q50+R50) -> 0
A51: 1 | B51: 256 | C51: JENSEN | D51: KNUT | E51: NO | F51: ESCAPE NO | G51: 1 | H51: 1 | I51: 1 | J51: 1 | K51: 1 | L51: 1 | P51: =$G$6*G51+$N$6*N51+$H$6*H51+$O$6*O51+$I$6*I51+$M$6*M51+$K$6*K51+$J$6*J51+$L$6*L51 -> 499 | Q51: 499 | S51: =P51-(Q51+R51) -> 0
A52: 1 | B52: 256 | C52: JENSEN | D52: LISBETH | E52: NO | F52: ESCAPE NO | G52: 1 | H52: 1 | I52: 1 | J52: 1 | K52: 1 | L52: 1 | P52: =$G$6*G52+$N$6*N52+$H$6*H52+$O$6*O52+$I$6*I52+$M$6*M52+$K$6*K52+$J$6*J52+$L$6*L52 -> 499 | Q52: 499 | S52: =P52-(Q52+R52) -> 0
A53: 1 | B53: 257 | C53: RYMILL | D53: FRANKLIN JAMES | E53: GB | F53: ESCAPE NO | I53: 1 | P53: =$G$6*G53+$N$6*N53+$H$6*H53+$O$6*O53+$I$6*I53+$M$6*M53+$K$6*K53+$J$6*J53+$L$6*L53 -> 62 | Q53: 62 | S53: =P53-(Q53+R53) -> 0
A54: 1 | B54: 257 | C54: RYMILL | D54: TOVE APLAND | E54: NO | F54: ESCAPE NO | I54: 1 | P54: =$G$6*G54+$N$6*N54+$H$6*H54+$O$6*O54+$I$6*I54+$M$6*M54+$K$6*K54+$J$6*J54+$L$6*L54 -> 62 | Q54: 62 | S54: =P54-(Q54+R54) -> 0
A55: 1 | B55: 258 | C55: KNUTSEN | D55: INGER MARGRETHE AMBRO | E55: NO | F55: ESCAPE NO | I55: 1 | P55: =$G$6*G55+$N$6*N55+$H$6*H55+$O$6*O55+$I$6*I55+$M$6*M55+$K$6*K55+$J$6*J55+$L$6*L55 -> 62 | Q55: 62 | S55: =P55-(Q55+R55) -> 0
A56: 1 | B56: 258 | C56: KNUTSEN | D56: ASBJØRN | E56: NO | F56: ESCAPE NO | I56: 1 | P56: =$G$6*G56+$N$6*N56+$H$6*H56+$O$6*O56+$I$6*I56+$M$6*M56+$K$6*K56+$J$6*J56+$L$6*L56 -> 62 | Q56: 62 | S56: =P56-(Q56+R56) -> 0
A57: 1 | B57: 259 | C57: PEDERSEN | D57: EIVIND | E57: NO | F57: ESCAPE NO | I57: 1 | P57: =$G$6*G57+$N$6*N57+$H$6*H57+$O$6*O57+$I$6*I57+$M$6*M57+$K$6*K57+$J$6*J57+$L$6*L57 -> 62 | Q57: 62 | S57: =P57-(Q57+R57) -> 0
A58: 1 | B58: 259 | C58: PEDERSEN | D58: AGGI VÅTVIK | E58: NO | F58: ESCAPE NO | I58: 1 | P58: =$G$6*G58+$N$6*N58+$H$6*H58+$O$6*O58+$I$6*I58+$M$6*M58+$K$6*K58+$J$6*J58+$L$6*L58 -> 62 | Q58: 62 | S58: =P58-(Q58+R58) -> 0
A59: 1 | B59: 260 | C59: DAMMEN | D59: MARIANNE | E59: NO | F59: ESCAPE NO | G59: 1 | H59: 1 | I59: 1 | J59: 1 | K59: 1 | L59: 1 | P59: =$G$6*G59+$N$6*N59+$H$6*H59+$O$6*O59+$I$6*I59+$M$6*M59+$K$6*K59+$J$6*J59+$L$6*L59 -> 499 | Q59: 499 | S59: =P59-(Q59+R59) -> 0
A60: 1 | B60: 260 | C60: OEVRE | D60: TERJE | E60: NO | F60: ESCAPE NO | G60: 1 | H60: 1 | I60: 1 | J60: 1 | K60: 1 | L60: 1 | P60: =$G$6*G60+$N$6*N60+$H$6*H60+$O$6*O60+$I$6*I60+$M$6*M60+$K$6*K60+$J$6*J60+$L$6*L60 -> 499 | Q60: 499 | S60: =P60-(Q60+R60) -> 0
A61: 1 | B61: 261 | C61: BIØRNSTAD | D61: ANNIKEN ELISABETH | E61: NO | F61: ESCAPE NO | G61: 1 | H61: 1 | I61: 1 | J61: 1 | K61: 1 | L61: 1 | P61: =$G$6*G61+$N$6*N61+$H$6*H61+$O$6*O61+$I$6*I61+$M$6*M61+$K$6*K61+$J$6*J61+$L$6*L61 -> 499 | Q61: 499 | S61: =P61-(Q61+R61) -> 0
A62: 1 | B62: 261 | C62: HOLST | D62: ERIK | E62: NO | F62: ESCAPE NO | G62: 1 | H62: 1 | I62: 1 | J62: 1 | K62: 1 | L62: 1 | P62: =$G$6*G62+$N$6*N62+$H$6*H62+$O$6*O62+$I$6*I62+$M$6*M62+$K$6*K62+$J$6*J62+$L$6*L62 -> 499 | Q62: 499 | S62: =P62-(Q62+R62) -> 0
A63: 1 | B63: 263 | C63: EHRENCRONA | D63: LARS GORAN | E63: SE | F63: ESCAPE SE | P63: =$G$6*G63+$N$6*N63+$H$6*H63+$O$6*O63+$I$6*I63+$M$6*M63+$K$6*K63+$J$6*J63+$L$6*L63 -> 0 | Q63: 0 | S63: =P63-(Q63+R63) -> 0
A64: 1 | B64: 263 | C64: JOEVEER | D64: ANNE TIIU | E64: SE | F64: ESCAPE SE | G64: 1 | H64: 1 | I64: 1 | J64: 1 | K64: 1 | L64: 1 | P64: =$G$6*G64+$N$6*N64+$H$6*H64+$O$6*O64+$I$6*I64+$M$6*M64+$K$6*K64+$J$6*J64+$L$6*L64 -> 499 | Q64: 499 | S64: =P64-(Q64+R64) -> 0
A65: 1 | B65: 264 | C65: HARTMANN | D65: PAUL | E65: NO | F65: ESCAPE NO | G65: 1 | H65: 1 | I65: 1 | J65: 1 | K65: 1 | L65: 1 | P65: =$G$6*G65+$N$6*N65+$H$6*H65+$O$6*O65+$I$6*I65+$M$6*M65+$K$6*K65+$J$6*J65+$L$6*L65 -> 499 | Q65: 499 | S65: =P65-(Q65+R65) -> 0
A66: 1 | B66: 264 | C66: HARTMANN | D66: KARI | E66: NO | F66: ESCAPE NO | G66: 1 | H66: 1 | I66: 1 | J66: 1 | K66: 1 | L66: 1 | P66: =$G$6*G66+$N$6*N66+$H$6*H66+$O$6*O66+$I$6*I66+$M$6*M66+$K$6*K66+$J$6*J66+$L$6*L66 -> 499 | Q66: 499 | S66: =P66-(Q66+R66) -> 0
A67: 1 | B67: 265 | C67: HAARBERG | D67: SKULE | E67: NO | F67: ESCAPE NO | H67: 1 | I67: 1 | J67: 1 | K67: 1 | P67: =$G$6*G67+$N$6*N67+$H$6*H67+$O$6*O67+$I$6*I67+$M$6*M67+$K$6*K67+$J$6*J67+$L$6*L67 -> 367 | Q67: 367 | S67: =P67-(Q67+R67) -> 0
A68: 1 | B68: 265 | C68: TSCHERNING | D68: LISBETH | E68: NO | F68: ESCAPE NO | H68: 1 | I68: 1 | J68: 1 | K68: 1 | P68: =$G$6*G68+$N$6*N68+$H$6*H68+$O$6*O68+$I$6*I68+$M$6*M68+$K$6*K68+$J$6*J68+$L$6*L68 -> 367 | Q68: 367 | S68: =P68-(Q68+R68) -> 0
A69: 1 | B69: 266 | C69: BULLET | D69: MARTINE | E69: FR | G69: 1 | H69: 1 | I69: 1 | J69: 1 | K69: 1 | L69: 1 | P69: =$G$6*G69+$N$6*N69+$H$6*H69+$O$6*O69+$I$6*I69+$M$6*M69+$K$6*K69+$J$6*J69+$L$6*L69 -> 499 | Q69: 499 | S69: =P69-(Q69+R69) -> 0
A70: 1 | B70: 266 | C70: ROBIOLLE | D70: DOMINIQUE | E70: FR | G70: 1 | H70: 1 | I70: 1 | J70: 1 | K70: 1 | L70: 1 | P70: =$G$6*G70+$N$6*N70+$H$6*H70+$O$6*O70+$I$6*I70+$M$6*M70+$K$6*K70+$J$6*J70+$L$6*L70 -> 499 | Q70: 499 | S70: =P70-(Q70+R70) -> 0
A71: 1 | B71: 267 | C71: HOOGHE | D71: BRUNO | E71: FR | G71: 1 | H71: 1 | I71: 1 | J71: 1 | K71: 1 | L71: 1 | P71: =$G$6*G71+$N$6*N71+$H$6*H71+$O$6*O71+$I$6*I71+$M$6*M71+$K$6*K71+$J$6*J71+$L$6*L71 -> 499 | Q71: 499 | S71: =P71-(Q71+R71) -> 0
A72: 1 | B72: 267 | C72: HOOGHE | D72: CATHERINE | E72: FR | G72: 1 | H72: 1 | I72: 1 | J72: 1 | K72: 1 | L72: 1 | P72: =$G$6*G72+$N$6*N72+$H$6*H72+$O$6*O72+$I$6*I72+$M$6*M72+$K$6*K72+$J$6*J72+$L$6*L72 -> 499 | Q72: 499 | S72: =P72-(Q72+R72) -> 0
A73: 1 | B73: 268 | C73: BEIGNON | D73: CATHERINE | E73: FR | G73: 1 | H73: 1 | I73: 1 | J73: 1 | K73: 1 | L73: 1 | P73: =$G$6*G73+$N$6*N73+$H$6*H73+$O$6*O73+$I$6*I73+$M$6*M73+$K$6*K73+$J$6*J73+$L$6*L73 -> 499 | Q73: 499 | S73: =P73-(Q73+R73) -> 0
A74: 1 | B74: 268 | C74: BEIGNON | D74: CHRISTOPHE | E74: FR | G74: 1 | H74: 1 | I74: 1 | J74: 1 | K74: 1 | L74: 1 | P74: =$G$6*G74+$N$6*N74+$H$6*H74+$O$6*O74+$I$6*I74+$M$6*M74+$K$6*K74+$J$6*J74+$L$6*L74 -> 499 | Q74: 499 | S74: =P74-(Q74+R74) -> 0
A75: 1 | B75: 269 | C75: FERRETTI VVE. LEMAIRE | D75: MADELEINE | E75: FR | G75: 1 | H75: 1 | I75: 1 | J75: 1 | K75: 1 | L75: 1 | P75: =$G$6*G75+$N$6*N75+$H$6*H75+$O$6*O75+$I$6*I75+$M$6*M75+$K$6*K75+$J$6*J75+$L$6*L75 -> 499 | Q75: 499 | S75: =P75-(Q75+R75) -> 0
A76: 1 | B76: 270 | C76: BLANCHARD | D76: JACQUELINE | E76: FR | G76: 1 | H76: 1 | I76: 1 | J76: 1 | K76: 1 | L76: 1 | P76: =$G$6*G76+$N$6*N76+$H$6*H76+$O$6*O76+$I$6*I76+$M$6*M76+$K$6*K76+$J$6*J76+$L$6*L76 -> 499 | Q76: 499 | S76: =P76-(Q76+R76) -> 0
A77: 1 | B77: 270 | C77: BLANCHARD | D77: JACQUES GUY | E77: FR | G77: 1 | H77: 1 | I77: 1 | J77: 1 | K77: 1 | L77: 1 | P77: =$G$6*G77+$N$6*N77+$H$6*H77+$O$6*O77+$I$6*I77+$M$6*M77+$K$6*K77+$J$6*J77+$L$6*L77 -> 499 | Q77: 499 | S77: =P77-(Q77+R77) -> 0
A78: 1 | B78: 271 | C78: LEGOUX EP. BLED | D78: ROSELINE | E78: FR | G78: 1 | H78: 1 | I78: 1 | J78: 1 | K78: 1 | L78: 1 | P78: =$G$6*G78+$N$6*N78+$H$6*H78+$O$6*O78+$I$6*I78+$M$6*M78+$K$6*K78+$J$6*J78+$L$6*L78 -> 499 | Q78: 499 | S78: =P78-(Q78+R78) -> 0
A79: 1 | B79: 272 | C79: WIDMER MOLLET | D79: MICHEL | E79: FR | G79: 1 | H79: 1 | I79: 1 | J79: 1 | K79: 1 | L79: 1 | P79: =$G$6*G79+$N$6*N79+$H$6*H79+$O$6*O79+$I$6*I79+$M$6*M79+$K$6*K79+$J$6*J79+$L$6*L79 -> 499 | Q79: 499 | S79: =P79-(Q79+R79) -> 0
A80: 1 | B80: 272 | C80: WIDMER MOLLET | D80: MICHELE | E80: FR | G80: 1 | H80: 1 | I80: 1 | J80: 1 | K80: 1 | L80: 1 | P80: =$G$6*G80+$N$6*N80+$H$6*H80+$O$6*O80+$I$6*I80+$M$6*M80+$K$6*K80+$J$6*J80+$L$6*L80 -> 499 | Q80: 499 | S80: =P80-(Q80+R80) -> 0
A81: 1 | B81: 273 | C81: VANDENBOSCH | D81: MIREILLE | E81: BE | G81: 1 | H81: 1 | I81: 1 | J81: 1 | K81: 1 | L81: 1 | P81: =$G$6*G81+$N$6*N81+$H$6*H81+$O$6*O81+$I$6*I81+$M$6*M81+$K$6*K81+$J$6*J81+$L$6*L81 -> 499 | Q81: 499 | S81: =P81-(Q81+R81) -> 0
A82: 1 | B82: 274 | C82: KJØSNES | D82: SYNNØVE | E82: NO | F82: ESCAPE NO | G82: 1 | H82: 1 | I82: 1 | J82: 1 | K82: 1 | L82: 1 | P82: =$G$6*G82+$N$6*N82+$H$6*H82+$O$6*O82+$I$6*I82+$M$6*M82+$K$6*K82+$J$6*J82+$L$6*L82 -> 499 | Q82: 499 | S82: =P82-(Q82+R82) -> 0
A83: 1 | B83: 274 | C83: KJØSNES | D83: NOROLF | E83: NO | F83: ESCAPE NO | G83: 1 | H83: 1 | I83: 1 | J83: 1 | K83: 1 | L83: 1 | P83: =$G$6*G83+$N$6*N83+$H$6*H83+$O$6*O83+$I$6*I83+$M$6*M83+$K$6*K83+$J$6*J83+$L$6*L83 -> 499 | Q83: 499 | S83: =P83-(Q83+R83) -> 0
A84: 1 | B84: 275 | C84: VERHELPEN | D84: NICOLE | E84: BE | G84: 1 | H84: 1 | I84: 1 | J84: 1 | K84: 1 | L84: 1 | P84: =$G$6*G84+$N$6*N84+$H$6*H84+$O$6*O84+$I$6*I84+$M$6*M84+$K$6*K84+$J$6*J84+$L$6*L84 -> 499 | Q84: 499 | S84: =P84-(Q84+R84) -> 0
A85: 1 | B85: 277 | C85: BONENFANT | D85: FRANCIS | E85: FR | H85: 1 | I85: 1 | K85: 1 | L85: 1 | P85: =$G$6*G85+$N$6*N85+$H$6*H85+$O$6*O85+$I$6*I85+$M$6*M85+$K$6*K85+$J$6*J85+$L$6*L85 -> 334 | Q85: 272 | S85: =P85-(Q85+R85) -> 62
A86: 1 | B86: 277 | C86: REVEILLON FOSSE | D86: ARLETTE | E86: FR | H86: 1 | I86: 1 | K86: 1 | L86: 1 | P86: =$G$6*G86+$N$6*N86+$H$6*H86+$O$6*O86+$I$6*I86+$M$6*M86+$K$6*K86+$J$6*J86+$L$6*L86 -> 334 | Q86: 272 | S86: =P86-(Q86+R86) -> 62
A87: 1 | B87: 300 | C87: DOMMANGET | D87: PHILIPPE | E87: FR | G87: 1 | H87: 1 | I87: 1 | J87: 1 | K87: 1 | L87: 1 | P87: =$G$6*G87+$N$6*N87+$H$6*H87+$O$6*O87+$I$6*I87+$M$6*M87+$K$6*K87+$J$6*J87+$L$6*L87 -> 499 | Q87: 499 | S87: =P87-(Q87+R87) -> 0
A88: 1 | B88: 300 | C88: DOMMANGET | D88: MARTINE | E88: FR | G88: 1 | H88: 1 | I88: 1 | J88: 1 | K88: 1 | L88: 1 | P88: =$G$6*G88+$N$6*N88+$H$6*H88+$O$6*O88+$I$6*I88+$M$6*M88+$K$6*K88+$J$6*J88+$L$6*L88 -> 499 | Q88: 499 | S88: =P88-(Q88+R88) -> 0
A89: 1 | P89: =$G$6*G89+$N$6*N89+$H$6*H89+$O$6*O89+$I$6*I89+$M$6*M89+$K$6*K89+$J$6*J89+$L$6*L89 -> 0 | Q89: 0 | S89: =P89-(Q89+R89) -> 0
A90: 1 | P90: =$G$6*G90+$N$6*N90+$H$6*H90+$O$6*O90+$I$6*I90+$M$6*M90+$K$6*K90+$J$6*J90+$L$6*L90 -> 0 | Q90: 0 | S90: =P90-(Q90+R90) -> 0
A91: 1 | P91: =$G$6*G91+$N$6*N91+$H$6*H91+$O$6*O91+$I$6*I91+$M$6*M91+$K$6*K91+$J$6*J91+$L$6*L91 -> 0 | Q91: 0 | S91: =P91-(Q91+R91) -> 0
A92: 1 | P92: =$G$6*G92+$N$6*N92+$H$6*H92+$O$6*O92+$I$6*I92+$M$6*M92+$K$6*K92+$J$6*J92+$L$6*L92 -> 0 | Q92: 0 | S92: =P92-(Q92+R92) -> 0
A93: 1 | P93: =$G$6*G93+$N$6*N93+$H$6*H93+$O$6*O93+$I$6*I93+$M$6*M93+$K$6*K93+$J$6*J93+$L$6*L93 -> 0 | Q93: 0 | S93: =P93-(Q93+R93) -> 0
A94: 1 | P94: =$G$6*G94+$N$6*N94+$H$6*H94+$O$6*O94+$I$6*I94+$M$6*M94+$K$6*K94+$J$6*J94+$L$6*L94 -> 0 | Q94: 0 | S94: =P94-(Q94+R94) -> 0
A95: 1 | P95: =$G$6*G95+$N$6*N95+$H$6*H95+$O$6*O95+$I$6*I95+$M$6*M95+$K$6*K95+$J$6*J95+$L$6*L95 -> 0 | S95: =P95-(Q95+R95) -> 0
A96: 1 | P96: =$G$6*G96+$N$6*N96+$H$6*H96+$O$6*O96+$I$6*I96+$M$6*M96+$K$6*K96+$J$6*J96+$L$6*L96 -> 0 | S96: =P96-(Q96+R96) -> 0
A97: 1 | P97: =$G$6*G97+$N$6*N97+$H$6*H97+$O$6*O97+$I$6*I97+$M$6*M97+$K$6*K97+$J$6*J97+$L$6*L97 -> 0 | S97: =P97-(Q97+R97) -> 0
A98: 1 | P98: =$G$6*G98+$N$6*N98+$H$6*H98+$O$6*O98+$I$6*I98+$M$6*M98+$K$6*K98+$J$6*J98+$L$6*L98 -> 0 | S98: =P98-(Q98+R98) -> 0
A99: 1 | P99: =$G$6*G99+$N$6*N99+$H$6*H99+$O$6*O99+$I$6*I99+$M$6*M99+$K$6*K99+$J$6*J99+$L$6*L99 -> 0 | S99: =P99-(Q99+R99) -> 0
A100: 1 | P100: =$G$6*G100+$N$6*N100+$H$6*H100+$O$6*O100+$I$6*I100+$M$6*M100+$K$6*K100+$J$6*J100+$L$6*L100 -> 0 | S100: =P100-(Q100+R100) -> 0
...

Sheet Excel 365
B1: Excel 365 | F1: Excel 365 Insider
B2: Formules dynamiques : Room et Qté | F2: Formule unique et dynamique pour l'entièreté du tableau
B4: Room | C4: Qté | D4: Groupe | F4: {=_xlfn.LET( _xlpm.pr_,_xlfn.UNIQUE(Resa!B8:B88*1), _xlfn.VSTACK(_xlfn.HSTACK("Room","Quantité","Groupe"),_xlfn.HSTACK(_xlpm.pr_,_xlfn.BYROW(_xlpm.pr_,_xlfn.LAMBDA(_xlpm.r,SUMIFS(Resa!$G$8:$G$88,Resa!$B$8:$B$88,_xlpm.r))),_xlfn.BYROW(_xlpm.pr_,_xlfn.LAMBDA(_xlpm.r,"Groupe " & _xlfn.TEXTJOIN(" - ",1,_xlfn.UNIQUE(_xlfn._xlws.FILTER(Resa!$A$8:$A$88,Resa!$B$8:$B$88*1=_xlpm.r))))))) )} -> Room | G4: Quantité | H4: Groupe
B5: {=_xlfn.UNIQUE(Resa!B8:B88*1)} -> 111 | C5: {=SUMIFS(Resa!$G$8:$G$88,Resa!$B$8:$B$88,_xlfn.ANCHORARRAY(B5))} -> 2 | D5: {="Groupe " & _xlfn.TEXTJOIN(" - ",1,_xlfn.UNIQUE(_xlfn._xlws.FILTER(Resa!$A$8:$A$88,Resa!$B$8:$B$88*1=B5)))} -> Groupe 1 | F5: 111 | G5: 2 | H5: Groupe 1
B6: 113 | C6: 1 | D6: {="Groupe " & _xlfn.TEXTJOIN(" - ",1,_xlfn.UNIQUE(_xlfn._xlws.FILTER(Resa!$A$8:$A$88,Resa!$B$8:$B$88*1=B6)))} -> Groupe 1 | F6: 113 | G6: 1 | H6: Groupe 1
B7: 115 | C7: 2 | D7: {="Groupe " & _xlfn.TEXTJOIN(" - ",1,_xlfn.UNIQUE(_xlfn._xlws.FILTER(Resa!$A$8:$A$88,Resa!$B$8:$B$88*1=B7)))} -> Groupe 1 | F7: 115 | G7: 2 | H7: Groupe 1
B8: 116 | C8: 2 | D8: {="Groupe " & _xlfn.TEXTJOIN(" - ",1,_xlfn.UNIQUE(_xlfn._xlws.FILTER(Resa!$A$8:$A$88,Resa!$B$8:$B$88*1=B8)))} -> Groupe 1 | F8: 116 | G8: 2 | H8: Groupe 1
B9: 117 | C9: 2 | D9: {="Groupe " & _xlfn.TEXTJOIN(" - ",1,_xlfn.UNIQUE(_xlfn._xlws.FILTER(Resa!$A$8:$A$88,Resa!$B$8:$B$88*1=B9)))} -> Groupe 1 | F9: 117 | G9: 2 | H9: Groupe 1
B10: 118 | C10: 0 | D10: {="Groupe " & _xlfn.TEXTJOIN(" - ",1,_xlfn.UNIQUE(_xlfn._xlws.FILTER(Resa!$A$8:$A$88,Resa!$B$8:$B$88*1=B10)))} -> Groupe 2 | F10: 118 | G10: 0 | H10: Groupe 2
B11: 121 | C11: 0 | D11: {="Groupe " & _xlfn.TEXTJOIN(" - ",1,_xlfn.UNIQUE(_xlfn._xlws.FILTER(Resa!$A$8:$A$88,Resa!$B$8:$B$88*1=B11)))} -> Groupe 2 | F11: 121 | G11: 0 | H11: Groupe 2
B12: 122 | C12: 1 | D12: {="Groupe " & _xlfn.TEXTJOIN(" - ",1,_xlfn.UNIQUE(_xlfn._xlws.FILTER(Resa!$A$8:$A$88,Resa!$B$8:$B$88*1=B12)))} -> Groupe 2 | F12: 122 | G12: 1 | H12: Groupe 2
B13: 123 | C13: 1 | D13: {="Groupe " & _xlfn.TEXTJOIN(" - ",1,_xlfn.UNIQUE(_xlfn._xlws.FILTER(Resa!$A$8:$A$88,Resa!$B$8:$B$88*1=B13)))} -> Groupe 2 | F13: 123 | G13: 1 | H13: Groupe 2
B14: 124 | C14: 0 | D14: {="Groupe " & _xlfn.TEXTJOIN(" - ",1,_xlfn.UNIQUE(_xlfn._xlws.FILTER(Resa!$A$8:$A$88,Resa!$B$8:$B$88*1=B14)))} -> Groupe 2 | F14: 124 | G14: 0 | H14: Groupe 2
B15: 125 | C15: 1 | D15: {="Groupe " & _xlfn.TEXTJOIN(" - ",1,_xlfn.UNIQUE(_xlfn._xlws.FILTER(Resa!$A$8:$A$88,Resa!$B$8:$B$88*1=B15)))} -> Groupe 2 | F15: 125 | G15: 1 | H15: Groupe 2
B16: 127 | C16: 1 | D16: {="Groupe " & _xlfn.TEXTJOIN(" - ",1,_xlfn.UNIQUE(_xlfn._xlws.FILTER(Resa!$A$8:$A$88,Resa!$B$8:$B$88*1=B16)))} -> Groupe 2 | F16: 127 | G16: 1 | H16: Groupe 2
B17: 128 | C17: 1 | D17: {="Groupe " & _xlfn.TEXTJOIN(" - ",1,_xlfn.UNIQUE(_xlfn._xlws.FILTER(Resa!$A$8:$A$88,Resa!$B$8:$B$88*1=B17)))} -> Groupe 2 | F17: 128 | G17: 1 | H17: Groupe 2
... B51: 300 | C51: 2 | D51: {="Groupe " & _xlfn.TEXTJOIN(" - ",1,_xlfn.UNIQUE(_xlfn._xlws.FILTER(Resa!$A$8:$A$88,Resa!$B$8:$B$88*1=B51)))} -> Groupe 1 | F51: 300 | G51: 2 | H51: Groupe 1

Sheet FEUILLE TEST
A1: CABINE | B1: # | C1: GROUPES | E1: CABINE | F1: # | G1: GROUPES | I1: CABINE | J1: # | K1: GROUPES
A2: 101 | B2: =IF(A2="","",SUMIF(Resa!$B$8:$B$165,A2,Resa!$H$8:$H$149)) -> 0 | C2: =IF(A2="","",VLOOKUP(A2,Resa!A8:D149,4,0)) -> #N/A | E2: 125 | F2: =IF(E2="","",SUMIF(Resa!$B$8:$B$165,E2,Resa!$H$8:$H$149)) -> 2 | G2: =IF(E2="","",VLOOKUP(E2,Resa!E8:J149,4,0)) -> #N/A | I2: 250 | J2: =IF(I2="","",SUMIF(Resa!$B$8:$B$165,I2,Resa!$H$8:$H$149)) -> 2 | K2: =IF(I2="","",VLOOKUP(I2,Resa!I8:N149,4,0)) -> #N/A
A3: 102 | B3: =IF(A3="","",SUMIF(Resa!$B$8:$B$165,A3,Resa!$H$8:$H$149)) -> 0 | C3: =IF(A3="","",VLOOKUP(A3,Resa!A9:D150,4,0)) -> #N/A | E3: 126 | F3: =IF(E3="","",SUMIF(Resa!$B$8:$B$165,E3,Resa!$H$8:$H$149)) -> 0 | G3: =IF(E3="","",VLOOKUP(E3,Resa!E9:J150,4,0)) -> #N/A | I3: 251 | J3: =IF(I3="","",SUMIF(Resa!$B$8:$B$165,I3,Resa!$H$8:$H$149)) -> 0 | K3: =IF(I3="","",VLOOKUP(I3,Resa!I9:N150,4,0)) -> #N/A
A4: 103 | B4: =IF(A4="","",SUMIF(Resa!$B$8:$B$165,A4,Resa!$H$8:$H$149)) -> 0 | C4: =IF(A4="","",VLOOKUP(A4,Resa!A10:D151,4,0)) -> #N/A | E4: 127 | F4: =IF(E4="","",SUMIF(Resa!$B$8:$B$165,E4,Resa!$H$8:$H$149)) -> 1 | G4: =IF(E4="","",VLOOKUP(E4,Resa!E10:J151,4,0)) -> #N/A | I4: 252 | J4: =IF(I4="","",SUMIF(Resa!$B$8:$B$165,I4,Resa!$H$8:$H$149)) -> 2 | K4: =IF(I4="","",VLOOKUP(I4,Resa!I10:N151,4,0)) -> #N/A
A5: 104 | B5: =IF(A5="","",SUMIF(Resa!$B$8:$B$165,A5,Resa!$H$8:$H$149)) -> 0 | C5: =IF(A5="","",VLOOKUP(A5,Resa!A11:D152,4,0)) -> #N/A | E5: 128 | F5: =IF(E5="","",SUMIF(Resa!$B$8:$B$165,E5,Resa!$H$8:$H$149)) -> 1 | G5: =IF(E5="","",VLOOKUP(E5,Resa!E11:J152,4,0)) -> #N/A | I5: 253 | J5: =IF(I5="","",SUMIF(Resa!$B$8:$B$165,I5,Resa!$H$8:$H$149)) -> 2 | K5: =IF(I5="","",VLOOKUP(I5,Resa!I11:N152,4,0)) -> #N/A
A6: 105 | B6: =IF(A6="","",SUMIF(Resa!$B$8:$B$165,A6,Resa!$H$8:$H$149)) -> 0 | C6: =IF(A6="","",VLOOKUP(A6,Resa!A12:D153,4,0)) -> #N/A | E6: 129 | F6: =IF(E6="","",SUMIF(Resa!$B$8:$B$165,E6,Resa!$H$8:$H$149)) -> 2 | G6: =IF(E6="","",VLOOKUP(E6,Resa!E12:J153,4,0)) -> #N/A | I6: 254 | J6: =IF(I6="","",SUMIF(Resa!$B$8:$B$165,I6,Resa!$H$8:$H$149)) -> 2 | K6: =IF(I6="","",VLOOKUP(I6,Resa!I12:N153,4,0)) -> #N/A
A7: 106 | B7: =IF(A7="","",SUMIF(Resa!$B$8:$B$165,A7,Resa!$H$8:$H$149)) -> 0 | C7: =IF(A7="","",VLOOKUP(A7,Resa!A13:D154,4,0)) -> #N/A | E7: 130 | F7: =IF(E7="","",SUMIF(Resa!$B$8:$B$165,E7,Resa!$H$8:$H$149)) -> 1 | G7: =IF(E7="","",VLOOKUP(E7,Resa!E13:J154,4,0)) -> #N/A | I7: 255 | J7: =IF(I7="","",SUMIF(Resa!$B$8:$B$165,I7,Resa!$H$8:$H$149)) -> 2 | K7: =IF(I7="","",VLOOKUP(I7,Resa!I13:N154,4,0)) -> #N/A
A8: 107 | B8: =IF(A8="","",SUMIF(Resa!$B$8:$B$165,A8,Resa!$H$8:$H$149)) -> 0 | C8: =IF(A8="","",VLOOKUP(A8,Resa!A14:D155,4,0)) -> #N/A | E8: 131 | F8: =IF(E8="","",SUMIF(Resa!$B$8:$B$165,E8,Resa!$H$8:$H$149)) -> 0 | G8: =IF(E8="","",VLOOKUP(E8,Resa!E14:J155,4,0)) -> #N/A | I8: 256 | J8: =IF(I8="","",SUMIF(Resa!$B$8:$B$165,I8,Resa!$H$8:$H$149)) -> 2 | K8: =IF(I8="","",VLOOKUP(I8,Resa!I14:N155,4,0)) -> #N/A
A9: 108 | B9: =IF(A9="","",SUMIF(Resa!$B$8:$B$165,A9,Resa!$H$8:$H$149)) -> 0 | C9: =IF(A9="","",VLOOKUP(A9,Resa!A15:D156,4,0)) -> #N/A | E9: 132 | F9: =IF(E9="","",SUMIF(Resa!$B$8:$B$165,E9,Resa!$H$8:$H$149)) -> 2 | G9: =IF(E9="","",VLOOKUP(E9,Resa!E15:J156,4,0)) -> #N/A | I9: 257 | J9: =IF(I9="","",SUMIF(Resa!$B$8:$B$165,I9,Resa!$H$8:$H$149)) -> 0 | K9: =IF(I9="","",VLOOKUP(I9,Resa!I15:N156,4,0)) -> #N/A
A10: 109 | B10: =IF(A10="","",SUMIF(Resa!$B$8:$B$165,A10,Resa!$H$8:$H$149)) -> 0 | C10: =IF(A10="","",VLOOKUP(A10,Resa!A16:D157,4,0)) -> #N/A | E10: 133 | F10: =IF(E10="","",SUMIF(Resa!$B$8:$B$165,E10,Resa!$H$8:$H$149)) -> 0 | G10: =IF(E10="","",VLOOKUP(E10,Resa!E16:J157,4,0)) -> #N/A | I10: 258 | J10: =IF(I10="","",SUMIF(Resa!$B$8:$B$165,I10,Resa!$H$8:$H$149)) -> 0 | K10: =IF(I10="","",VLOOKUP(I10,Resa!I16:N157,4,0)) -> #N/A
A11: 110 | B11: =IF(A11="","",SUMIF(Resa!$B$8:$B$165,A11,Resa!$H$8:$H$149)) -> 0 | C11: =IF(A11="","",VLOOKUP(A11,Resa!A17:D158,4,0)) -> #N/A | E11: 134 | F11: =IF(E11="","",SUMIF(Resa!$B$8:$B$165,E11,Resa!$H$8:$H$149)) -> 0 | G11: =IF(E11="","",VLOOKUP(E11,Resa!E17:J158,4,0)) -> #N/A | I11: 259 | J11: =IF(I11="","",SUMIF(Resa!$B$8:$B$165,I11,Resa!$H$8:$H$149)) -> 0 | K11: =IF(I11="","",VLOOKUP(I11,Resa!I17:N158,4,0)) -> #N/A
A12: 111 | B12: =IF(A12="","",SUMIF(Resa!$B$8:$B$165,A12,Resa!$H$8:$H$149)) -> 2 | C12: =IF(A12="","",VLOOKUP(A12,Resa!A18:D159,4,0)) -> #N/A | E12: 135 | F12: =IF(E12="","",SUMIF(Resa!$B$8:$B$165,E12,Resa!$H$8:$H$149)) -> 2 | G12: =IF(E12="","",VLOOKUP(E12,Resa!E18:J159,4,0)) -> #N/A | I12: 260 | J12: =IF(I12="","",SUMIF(Resa!$B$8:$B$165,I12,Resa!$H$8:$H$149)) -> 2 | K12: =IF(I12="","",VLOOKUP(I12,Resa!I18:N159,4,0)) -> #N/A
A13: 112 | B13: =IF(A13="","",SUMIF(Resa!$B$8:$B$165,A13,Resa!$H$8:$H$149)) -> 0 | C13: =IF(A13="","",VLOOKUP(A13,Resa!A19:D160,4,0)) -> #N/A | E13: 136 | F13: =IF(E13="","",SUMIF(Resa!$B$8:$B$165,E13,Resa!$H$8:$H$149)) -> 0 | G13: =IF(E13="","",VLOOKUP(E13,Resa!E19:J160,4,0)) -> #N/A | I13: 261 | J13: =IF(I13="","",SUMIF(Resa!$B$8:$B$165,I13,Resa!$H$8:$H$149)) -> 2 | K13: =IF(I13="","",VLOOKUP(I13,Resa!I19:N160,4,0)) -> #N/A
... A25: 124 | B25: =IF(A25="","",SUMIF(Resa!$B$8:$B$165,A25,Resa!$H$8:$H$149)) -> 2 | C25: =IF(A25="","",VLOOKUP(A25,Resa!A31:D172,4,0)) -> #N/A | E25: 148 | F25: =IF(E25="","",SUMIF(Resa!$B$8:$B$165,E25,Resa!$H$8:$H$149)) -> 0 | G25: =IF(E25="","",VLOOKUP(E25,Resa!E31:J172,4,0)) -> #N/A | I25: 273 | J25: =IF(I25="","",SUMIF(Resa!$B$8:$B$165,I25,Resa!$H$8:$H$149)) -> 1 | K25: =IF(I25="","",VLOOKUP(I25,Resa!I31:N172,4,0)) -> #N/A
E26: 150 | F26: =IF(E26="","",SUMIF(Resa!$B$8:$B$165,E26,Resa!$H$8:$H$149)) -> 0 | G26: =IF(E26="","",VLOOKUP(E26,Resa!E32:J173,4,0)) -> #N/A | I26: 274 | J26: =IF(I26="","",SUMIF(Resa!$B$8:$B$165,I26,Resa!$H$8:$H$149)) -> 2 | K26: =IF(I26="","",VLOOKUP(I26,Resa!I32:N173,4,0)) -> #N/A
E27: 152 | F27: =IF(E27="","",SUMIF(Resa!$B$8:$B$165,E27,Resa!$H$8:$H$149)) -> 0 | G27: =IF(E27="","",VLOOKUP(E27,Resa!E33:J174,4,0)) -> #N/A | I27: 275 | J27: =IF(I27="","",SUMIF(Resa!$B$8:$B$165,I27,Resa!$H$8:$H$149)) -> 1 | K27: =IF(I27="","",VLOOKUP(I27,Resa!I33:N174,4,0)) -> #N/A
E28: 300 | F28: =IF(E28="","",SUMIF(Resa!$B$8:$B$165,E28,Resa!$H$8:$H$149)) -> 2 | G28: =IF(E28="","",VLOOKUP(E28,Resa!E34:J175,4,0)) -> #N/A | I28: 276 | J28: =IF(I28="","",SUMIF(Resa!$B$8:$B$165,I28,Resa!$H$8:$H$149)) -> 0 | K28: =IF(I28="","",VLOOKUP(I28,Resa!I34:N175,4,0)) -> #N/A
I29: 277 | J29: =IF(I29="","",SUMIF(Resa!$B$8:$B$165,I29,Resa!$H$8:$H$149)) -> 2 | K29: =IF(I29="","",VLOOKUP(I29,Resa!I35:N176,4,0)) -> #N/A

Sheet LANGUES
A1: TOTAL LANGUES pour COMMANDES GUIDES | M1: TOTAL PAR GROUPES pour COMMANDES GUIDES
B10: MANTOUE | C10: CREMONE | D10: CLA - VERONE | E10: PADOUE | F10: CLA - DOGES | G10: MURANO BURANO | H10: OPTION FERRARI | I10: DYN - CASANOVA | J10: DYN - VERONE VELO | N10: MANTOUE | O10: CREMONE | P10: CLA - VERONE | Q10: CLA - VERONE | R10: CLA - DOGES | S10: MURANO BURANO | T10: OPTION FERRARI | U10: DYN - CASANOVA | V10: DYN - VERONE VELO
A11: FR | B11: =Resa!G$161 -> 22 | C11: =Resa!H$161 -> 26 | D11: =Resa!I$161 -> 24 | E11: =Resa!J$161 -> 24 | F11: =Resa!K$161 -> 24 | G11: =Resa!L$161 -> 24 | H11: =Resa!M$161 -> 0 | I11: =Resa!N$161 -> 0 | J11: =Resa!O$161 -> 0 | M11: BUCHARD | N11: =COUNTIFS(Resa!$F$8:$F$149,$M$11,Resa!K$8:K$149,"1") -> 0 | O11: =COUNTIFS(Resa!$F$8:$F$149,$M$11,Resa!L$8:L$149,"1") -> 0 | P11: =COUNTIFS(Resa!$F$8:$F$149,$M$11,Resa!I$8:I$149,"1") -> 0 | Q11: =COUNTIFS(Resa!$F$8:$F$149,$M$11,Resa!J$8:J$149,"1") -> 0 | R11: =COUNTIFS(Resa!$F$8:$F$149,$M$11,Resa!G$8:G$149,"1") -> 0 | S11: =COUNTIFS(Resa!$F$8:$F$149,$M$11,Resa!H$8:H$149,"1") -> 0 | T11: =COUNTIFS(Resa!$F$8:$F$149,$M$11,Resa!M$8:M$149,"1") -> 0 | U11: =COUNTIFS(Resa!$F$8:$F$149,$M$11,Resa!N$8:N$149,"1") -> 0 | V11: =COUNTIFS(Resa!$F$8:$F$149,$M$11,Resa!O$8:O$149,"1") -> 0
A12: EN | B12: =Resa!G$177 -> 40 | C12: =Resa!H$177 -> 43 | D12: =Resa!I$177 -> 43 | E12: =Resa!J$177 -> 43 | F12: =Resa!K$177 -> 36 | G12: =Resa!L$177 -> 34 | H12: =Resa!M$177 -> 0 | I12: =Resa!N$177 -> 0 | J12: =Resa!O$177 -> 0 | M12: ANTON GOTTEN GIR | N12: =COUNTIFS(Resa!$F$8:$F$149,$M$12,Resa!K$8:K$149,"1") -> 0 | O12: =COUNTIFS(Resa!$F$8:$F$149,$M$12,Resa!L$8:L$149,"1") -> 0 | P12: =COUNTIFS(Resa!$F$8:$F$149,$M$12,Resa!I$8:I$149,"1") -> 0 | Q12: =COUNTIFS(Resa!$F$8:$F$149,$M$12,Resa!J$8:J$149,"1") -> 0 | R12: =COUNTIFS(Resa!$F$8:$F$149,$M$12,Resa!G$8:G$149,"1") -> 0 | S12: =COUNTIFS(Resa!$F$8:$F$149,$M$12,Resa!H$8:H$149,"1") -> 0 | T12: =COUNTIFS(Resa!$F$8:$F$149,$M$12,Resa!M$8:M$149,"1") -> 0 | U12: =COUNTIFS(Resa!$F$8:$F$149,$M$12,Resa!N$8:N$149,"1") -> 0 | V12: =COUNTIFS(Resa!$F$8:$F$149,$M$12,Resa!O$8:O$149,"1") -> 0
A13: DE | B13: =Resa!G$182 -> 0 | C13: =Resa!H$182 -> 0 | D13: =Resa!I$182 -> 0 | E13: =Resa!J$182 -> 0 | F13: =Resa!K$182 -> 0 | G13: =Resa!L$182 -> 0 | H13: =Resa!M$182 -> 0 | I13: =Resa!N$182 -> 0 | J13: =Resa!O$182 -> 0 | N13: =COUNTIFS(Resa!$F$8:$F$149,$M$13,Resa!K$8:K$149,"1") -> 0 | O13: =COUNTIFS(Resa!$F$8:$F$149,$M$13,Resa!L$8:L$149,"1") -> 0 | P13: =COUNTIFS(Resa!$F$8:$F$149,$M$13,Resa!I$8:I$149,"1") -> 0 | Q13: =COUNTIFS(Resa!$F$8:$F$149,$M$13,Resa!J$8:J$149,"1") -> 0 | R13: =COUNTIFS(Resa!$F$8:$F$149,$M$13,Resa!G$8:G$149,"1") -> 0 | S13: =COUNTIFS(Resa!$F$8:$F$149,$M$13,Resa!H$8:H$149,"1") -> 0 | T13: =COUNTIFS(Resa!$F$8:$F$149,$M$13,Resa!M$8:M$149,"1") -> 0 | U13: =COUNTIFS(Resa!$F$8:$F$149,$M$13,Resa!N$8:N$149,"1") -> 0 | V13: =COUNTIFS(Resa!$F$8:$F$149,$M$13,Resa!O$8:O$149,"1") -> 0
A14: PO | B14: =Resa!G$186 -> 0 | C14: =Resa!H$186 -> 0 | D14: =Resa!I$186 -> 0 | E14: =Resa!J$186 -> 0 | F14: =Resa!K$186 -> 0 | G14: =Resa!L$186 -> 0 | H14: =Resa!M$186 -> 0 | I14: =Resa!N$186 -> 0 | J14: =Resa!O$186 -> 0 | M14: RICHOU GIR | N14: =COUNTIFS(Resa!$F$8:$F$149,$M$14,Resa!K$8:K$149,"1") -> 0 | O14: =COUNTIFS(Resa!$F$8:$F$149,$M$14,Resa!L$8:L$149,"1") -> 0 | P14: =COUNTIFS(Resa!$F$8:$F$149,$M$14,Resa!I$8:I$149,"1") -> 0 | Q14: =COUNTIFS(Resa!$F$8:$F$149,$M$14,Resa!J$8:J$149,"1") -> 0 | R14: =COUNTIFS(Resa!$F$8:$F$149,$M$14,Resa!G$8:G$149,"1") -> 0 | S14: =COUNTIFS(Resa!$F$8:$F$149,$M$14,Resa!H$8:H$149,"1") -> 0 | T14: =COUNTIFS(Resa!$F$8:$F$149,$M$14,Resa!M$8:M$149,"1") -> 0 | U14: =COUNTIFS(Resa!$F$8:$F$149,$M$14,Resa!N$8:N$149,"1") -> 0 | V14: =COUNTIFS(Resa!$F$8:$F$149,$M$14,Resa!O$8:O$149,"1") -> 0
A15: ES | B15: =Resa!G$192 -> 0 | C15: =Resa!H$192 -> 0 | D15: =Resa!I$192 -> 0 | E15: =Resa!J$192 -> 0 | F15: =Resa!K$192 -> 0 | G15: =Resa!L$192 -> 0 | H15: =Resa!M$192 -> 0 | I15: =Resa!N$192 -> 0 | J15: =Resa!O$192 -> 0 | N15: =COUNTIFS(Resa!$F$8:$F$149,$M$15,Resa!K$8:K$149,"1") -> 0 | O15: =COUNTIFS(Resa!$F$8:$F$149,$M$15,Resa!L$8:L$149,"1") -> 0 | P15: =COUNTIFS(Resa!$F$8:$F$149,$M$15,Resa!I$8:I$149,"1") -> 0 | Q15: =COUNTIFS(Resa!$F$8:$F$149,$M$15,Resa!J$8:J$149,"1") -> 0 | R15: =COUNTIFS(Resa!$F$8:$F$149,$M$15,Resa!G$8:G$149,"1") -> 0 | S15: =COUNTIFS(Resa!$F$8:$F$149,$M$15,Resa!H$8:H$149,"1") -> 0 | T15: =COUNTIFS(Resa!$F$8:$F$149,$M$15,Resa!M$8:M$149,"1") -> 0 | U15: =COUNTIFS(Resa!$F$8:$F$149,$M$15,Resa!N$8:N$149,"1") -> 0 | V15: =COUNTIFS(Resa!$F$8:$F$149,$M$15,Resa!O$8:O$149,"1") -> 0
A16: IT | B16: =Resa!G$194 -> 0 | C16: =Resa!H$194 -> 0 | D16: =Resa!I$194 -> 0 | E16: =Resa!J$194 -> 0 | F16: =Resa!K$194 -> 0 | G16: =Resa!L$194 -> 0 | H16: =Resa!M$194 -> 0 | I16: =Resa!N$194 -> 0 | J16: =Resa!O$194 -> 0 | M16: ="" | N16: =COUNTIFS(Resa!$F$8:$F$149,$M$16,Resa!K$8:K$149,"1") -> 24 | O16: =COUNTIFS(Resa!$F$8:$F$149,$M$16,Resa!L$8:L$149,"1") -> 24 | P16: =COUNTIFS(Resa!$F$8:$F$149,$M$16,Resa!I$8:I$149,"1") -> 24 | Q16: =COUNTIFS(Resa!$F$8:$F$149,$M$16,Resa!J$8:J$149,"1") -> 28 | R16: =COUNTIFS(Resa!$F$8:$F$149,$M$16,Resa!G$8:G$149,"1") -> 26 | S16: =COUNTIFS(Resa!$F$8:$F$149,$M$16,Resa!H$8:H$149,"1") -> 30 | T16: =COUNTIFS(Resa!$F$8:$F$149,$M$16,Resa!M$8:M$149,"1") -> 0 | U16: =COUNTIFS(Resa!$F$8:$F$149,$M$16,Resa!N$8:N$149,"1") -> 0 | V16: =COUNTIFS(Resa!$F$8:$F$149,$M$16,Resa!O$8:O$149,"1") -> 0
A17: TOTAL | B17: =SUM(B11:B16) -> 62 | C17: =SUM(C11:C16) -> 69 | D17: =SUM(D11:D16) -> 67 | E17: =SUM(E11:E16) -> 67 | F17: =SUM(F11:F16) -> 60 | G17: =SUM(G11:G16) -> 58 | H17: =SUM(H11:H16) -> 0 | I17: =SUM(I11:I16) -> 0 | J17: =SUM(J11:J16) -> 0 | M17: TOTAL | N17: =SUM(N11:N16) -> 24 | O17: =SUM(O11:O16) -> 24 | P17: =SUM(P11:P16) -> 24 | Q17: =SUM(Q11:Q16) -> 28 | R17: =SUM(R11:R16) -> 26 | S17: =SUM(S11:S16) -> 30 | T17: =SUM(T11:T16) -> 0 | U17: =SUM(U11:U16) -> 0 | V17: =SUM(V11:V16) -> 0

Sheet Excu 1
K1: GROUPE 1 | N1: GROUPE 2 | Q1: GROUPE 3 | T1: GROUPE 4 | W1: GROUPE 5 | Z1: GROUPE 6
K2: =IF(AND(Resa!$C12<>"",Resa!$T12=1),Resa!B12,"") | L2: =IF(AND(Resa!$C12<>"",Resa!$T12=1),Resa!C12,"") | M2: =IF(AND(Resa!$C12<>"",Resa!$T12=1),Resa!D12,"") | N2: =IF(AND(Resa!$C12<>"",Resa!$T12=2),Resa!B12,"") | O2: =IF(AND(Resa!$C12<>"",Resa!$T12=2),Resa!C12,"") | P2: =IF(AND(Resa!$C12<>"",Resa!$T12=2),Resa!D12,"") | Q2: =IF(AND(Resa!$C12<>"",Resa!$T12=3),Resa!B12,"") | R2: =IF(AND(Resa!$C12<>"",Resa!$T12=3),Resa!C12,"") | S2: =IF(AND(Resa!$C12<>"",Resa!$T12=3),Resa!D12,"") | T2: =IF(AND(Resa!$C12<>"",Resa!$T12=4),Resa!E12,"") | U2: =IF(AND(Resa!$C12<>"",Resa!$T12=4),Resa!F12,"") | V2: =IF(AND(Resa!$C12<>"",Resa!$T12=4),Resa!G12,"") | W2: =IF(AND(Resa!$C12<>"",Resa!$T12=5),Resa!H12,"") | X2: =IF(AND(Resa!$C12<>"",Resa!$T12=5),Resa!I12,"") | Y2: =IF(AND(Resa!$C12<>"",Resa!$T12=5),Resa!J12,"") | Z2: =IF(AND(Resa!$C12<>"",Resa!$T12=6),Resa!K12,"") | AA2: =IF(AND(Resa!$C12<>"",Resa!$T12=6),Resa!L12,"") | AB2: =IF(AND(Resa!$C12<>"",Resa!$T12=6),Resa!M12,"")
N3: =IF(AND(Resa!$C13<>"",Resa!$T13=2),Resa!B13,"") | O3: =IF(AND(Resa!$C13<>"",Resa!$T13=2),Resa!C13,"") | P3: =IF(AND(Resa!$C13<>"",Resa!$T13=2),Resa!D13,"")
A4: CABINE | C4: SORTIE | E4: CABINE | F4: SORTIE | H4: CABINE | I4: SORTIE | M4: e | N4: =IF(AND(Resa!$C14<>"",Resa!$T14=2),Resa!B14,"") | O4: =IF(AND(Resa!$C14<>"",Resa!$T14=2),Resa!C14,"") | P4: =IF(AND(Resa!$C14<>"",Resa!$T14=2),Resa!D14,"")
A5: 101 | B5: =IF(AND(Resa!C12<>"",Resa!T12=1),"GROUPE 1",IF(AND(B12<>"",R12=2),"GROUPE 2",IF(AND(B12<>"",R12=3),"GROUPE 3",IF(AND(B12<>"",R12=4),"GROUPE 4",IF(AND(B12<>"",R12=5),"GROUPE 5",IF(AND(B12<>"",R12=6),"GROUPE 6","")))))) | C5: =SUMIF(Resa!$B$8:$B$165,A5,Resa!$G$8:$G$149) -> 0 | E5: 125 | F5: =SUMIF(Resa!$B$8:$B$165,E5,Resa!$G$8:$G$149) -> 1 | H5: 250 | I5: =SUMIF(Resa!$B$8:$B$165,H5,Resa!$G$8:$G$149) -> 2 | N5: =IF(AND(Resa!$C15<>"",Resa!$T15=2),Resa!B15,"") | O5: =IF(AND(Resa!$C15<>"",Resa!$T15=2),Resa!C15,"") | P5: =IF(AND(Resa!$C15<>"",Resa!$T15=2),Resa!D15,"")
A6: 102 | C6: =SUMIF(Resa!$B$8:$B$165,A6,Resa!$G$8:$G$149) -> 0 | E6: 126 | F6: =SUMIF(Resa!$B$8:$B$165,E6,Resa!$G$8:$G$149) -> 0 | H6: 251 | I6: =SUMIF(Resa!$B$8:$B$165,H6,Resa!$G$8:$G$149) -> 0 | N6: =IF(AND(Resa!$C16<>"",Resa!$T16=2),Resa!B16,"") | O6: =IF(AND(Resa!$C16<>"",Resa!$T16=2),Resa!C16,"") | P6: =IF(AND(Resa!$C16<>"",Resa!$T16=2),Resa!D16,"")
A7: 103 | C7: =SUMIF(Resa!$B$8:$B$165,A7,Resa!$G$8:$G$149) -> 0 | E7: 127 | F7: =SUMIF(Resa!$B$8:$B$165,E7,Resa!$G$8:$G$149) -> 1 | H7: 252 | I7: =SUMIF(Resa!$B$8:$B$165,H7,Resa!$G$8:$G$149) -> 2 | N7: =IF(AND(Resa!$C17<>"",Resa!$T17=2),Resa!B17,"") | O7: =IF(AND(Resa!$C17<>"",Resa!$T17=2),Resa!C17,"") | P7: =IF(AND(Resa!$C17<>"",Resa!$T17=2),Resa!D17,"")
A8: 104 | C8: =SUMIF(Resa!$B$8:$B$165,A8,Resa!$G$8:$G$149) -> 0 | E8: 128 | F8: =SUMIF(Resa!$B$8:$B$165,E8,Resa!$G$8:$G$149) -> 1 | H8: 253 | I8: =SUMIF(Resa!$B$8:$B$165,H8,Resa!$G$8:$G$149) -> 2 | N8: =IF(AND(Resa!$C18<>"",Resa!$T18=2),Resa!B18,"") | O8: =IF(AND(Resa!$C18<>"",Resa!$T18=2),Resa!C18,"") | P8: =IF(AND(Resa!$C18<>"",Resa!$T18=2),Resa!D18,"")
A9: 105 | C9: =SUMIF(Resa!$B$8:$B$165,A9,Resa!$G$8:$G$149) -> 0 | E9: 129 | F9: =SUMIF(Resa!$B$8:$B$165,E9,Resa!$G$8:$G$149) -> 2 | H9: 254 | I9: =SUMIF(Resa!$B$8:$B$165,H9,Resa!$G$8:$G$149) -> 2 | N9: =IF(AND(Resa!$C19<>"",Resa!$T19=2),Resa!B19,"") | O9: =IF(AND(Resa!$C19<>"",Resa!$T19=2),Resa!C19,"") | P9: =IF(AND(Resa!$C19<>"",Resa!$T19=2),Resa!D19,"")
A10: 106 | C10: =SUMIF(Resa!$B$8:$B$165,A10,Resa!$G$8:$G$149) -> 0 | E10: 130 | F10: =SUMIF(Resa!$B$8:$B$165,E10,Resa!$G$8:$G$149) -> 1 | H10: 255 | I10: =SUMIF(Resa!$B$8:$B$165,H10,Resa!$G$8:$G$149) -> 2 | N10: =IF(AND(Resa!$C20<>"",Resa!$T20=2),Resa!B20,"") | O10: =IF(AND(Resa!$C20<>"",Resa!$T20=2),Resa!C20,"") | P10: =IF(AND(Resa!$C20<>"",Resa!$T20=2),Resa!D20,"")
A11: 107 | C11: =SUMIF(Resa!$B$8:$B$165,A11,Resa!$G$8:$G$149) -> 0 | E11: 131 | F11: =SUMIF(Resa!$B$8:$B$165,E11,Resa!$G$8:$G$149) -> 0 | H11: 256 | I11: =SUMIF(Resa!$B$8:$B$165,H11,Resa!$G$8:$G$149) -> 2 | N11: =IF(AND(Resa!$C21<>"",Resa!$T21=2),Resa!B21,"") | O11: =IF(AND(Resa!$C21<>"",Resa!$T21=2),Resa!C21,"") | P11: =IF(AND(Resa!$C21<>"",Resa!$T21=2),Resa!D21,"")
A12: 108 | C12: =SUMIF(Resa!$B$8:$B$165,A12,Resa!$G$8:$G$149) -> 0 | E12: 132 | F12: =SUMIF(Resa!$B$8:$B$165,E12,Resa!$G$8:$G$149) -> 2 | H12: 257 | I12: =SUMIF(Resa!$B$8:$B$165,H12,Resa!$G$8:$G$149) -> 0 | N12: =IF(AND(Resa!$C22<>"",Resa!$T22=2),Resa!B22,"") | O12: =IF(AND(Resa!$C22<>"",Resa!$T22=2),Resa!C22,"") | P12: =IF(AND(Resa!$C22<>"",Resa!$T22=2),Resa!D22,"")
A13: 109 | C13: =SUMIF(Resa!$B$8:$B$165,A13,Resa!$G$8:$G$149) -> 0 | E13: 133 | F13: =SUMIF(Resa!$B$8:$B$165,E13,Resa!$G$8:$G$149) -> 0 | H13: 258 | I13: =SUMIF(Resa!$B$8:$B$165,H13,Resa!$G$8:$G$149) -> 0
A14: 110 | C14: =SUMIF(Resa!$B$8:$B$165,A14,Resa!$G$8:$G$149) -> 0 | E14: 134 | F14: =SUMIF(Resa!$B$8:$B$165,E14,Resa!$G$8:$G$149) -> 0 | H14: 259 | I14: =SUMIF(Resa!$B$8:$B$165,H14,Resa!$G$8:$G$149) -> 0
A15: 111 | C15: =SUMIF(Resa!$B$8:$B$165,A15,Resa!$G$8:$G$149) -> 2 | E15: 135 | F15: =SUMIF(Resa!$B$8:$B$165,E15,Resa!$G$8:$G$149) -> 2 | H15: 260 | I15: =SUMIF(Resa!$B$8:$B$165,H15,Resa!$G$8:$G$149) -> 2
A16: 112 | C16: =SUMIF(Resa!$B$8:$B$165,A16,Resa!$G$8:$G$149) -> 0 | E16: 136 | F16: =SUMIF(Resa!$B$8:$B$165,E16,Resa!$G$8:$G$149) -> 0 | H16: 261 | I16: =SUMIF(Resa!$B$8:$B$165,H16,Resa!$G$8:$G$149) -> 2
A17: 113 | C17: =SUMIF(Resa!$B$8:$B$165,A17,Resa!$G$8:$G$149) -> 1 | E17: 137 | F17: =SUMIF(Resa!$B$8:$B$165,E17,Resa!$G$8:$G$149) -> 2 | H17: 262 | I17: =SUMIF(Resa!$B$8:$B$165,H17,Resa!$G$8:$G$149) -> 0
A18: 114 | C18: =SUMIF(Resa!$B$8:$B$165,A18,Resa!$G$8:$G$149) -> 0 | E18: 138 | F18: =SUMIF(Resa!$B$8:$B$165,E18,Resa!$G$8:$G$149) -> 0 | H18: 263 | I18: =SUMIF(Resa!$B$8:$B$165,H18,Resa!$G$8:$G$149) -> 1
A19: 115 | C19: =SUMIF(Resa!$B$8:$B$165,A19,Resa!$G$8:$G$149) -> 2 | E19: 139 | F19: =SUMIF(Resa!$B$8:$B$165,E19,Resa!$G$8:$G$149) -> 0 | H19: 264 | I19: =SUMIF(Resa!$B$8:$B$165,H19,Resa!$G$8:$G$149) -> 2
A20: 116 | C20: =SUMIF(Resa!$B$8:$B$165,A20,Resa!$G$8:$G$149) -> 2 | E20: 140 | F20: =SUMIF(Resa!$B$8:$B$165,E20,Resa!$G$8:$G$149) -> 1 | H20: 265 | I20: =SUMIF(Resa!$B$8:$B$165,H20,Resa!$G$8:$G$149) -> 0
A21: 117 | C21: =SUMIF(Resa!$B$8:$B$165,A21,Resa!$G$8:$G$149) -> 2 | E21: 141 | F21: =SUMIF(Resa!$B$8:$B$165,E21,Resa!$G$8:$G$149) -> 1 | H21: 266 | I21: =SUMIF(Resa!$B$8:$B$165,H21,Resa!$G$8:$G$149) -> 2
A22: 118 | C22: =SUMIF(Resa!$B$8:$B$165,A22,Resa!$G$8:$G$149) -> 0 | E22: 142 | F22: =SUMIF(Resa!$B$8:$B$165,E22,Resa!$G$8:$G$149) -> 0 | H22: 267 | I22: =SUMIF(Resa!$B$8:$B$165,H22,Resa!$G$8:$G$149) -> 2
A23: 119 | C23: =SUMIF(Resa!$B$8:$B$165,A23,Resa!$G$8:$G$149) -> 0 | E23: 143 | F23: =SUMIF(Resa!$B$8:$B$165,E23,Resa!$G$8:$G$149) -> 0 | H23: 268 | I23: =SUMIF(Resa!$B$8:$B$165,H23,Resa!$G$8:$G$149) -> 2
A24: 120 | C24: =SUMIF(Resa!$B$8:$B$165,A24,Resa!$G$8:$G$149) -> 0 | E24: 144 | F24: =SUMIF(Resa!$B$8:$B$165,E24,Resa!$G$8:$G$149) -> 0 | H24: 269 | I24: =SUMIF(Resa!$B$8:$B$165,H24,Resa!$G$8:$G$149) -> 1
... A28: 124 | C28: =SUMIF(Resa!$B$8:$B$165,A28,Resa!$G$8:$G$149) -> 0 | E28: 148 | F28: =SUMIF(Resa!$B$8:$B$165,E28,Resa!$G$8:$G$149) -> 0 | H28: 273 | I28: =SUMIF(Resa!$B$8:$B$165,H28,Resa!$G$8:$G$149) -> 1
E29: 150 | F29: =SUMIF(Resa!$B$8:$B$165,E29,Resa!$G$8:$G$149) -> 0 | H29: 274 | I29: =SUMIF(Resa!$B$8:$B$165,H29,Resa!$G$8:$G$149) -> 2
E30: 152 | F30: =SUMIF(Resa!$B$8:$B$165,E30,Resa!$G$8:$G$149) -> 0 | H30: 275 | I30: =SUMIF(Resa!$B$8:$B$165,H30,Resa!$G$8:$G$149) -> 1
E31: 300 | F31: =SUMIF(Resa!$B$8:$B$165,E31,Resa!$G$8:$G$149) -> 2 | H31: 276 | I31: =SUMIF(Resa!$B$8:$B$165,H31,Resa!$G$8:$G$149) -> 0
H32: 277 | I32: =SUMIF(Resa!$B$8:$B$165,H32,Resa!$G$8:$G$149) -> 0
B34: Nombre de Pax
B35: =SUM(C5:C28)+SUM(F5:F31)+SUM(I5:I32) -> 62

Sheet Excu 2
A2: CABINE | B2: # | C2: GROUPE | E2: CABINE | F2: # | G2: GROUPE | I2: CABINE | J2: SORTIE | K2: GROUPE
A3: 101 | B3: =SUMIF(Resa!$B$8:$B$165,A3,Resa!$H$8:$H$149) -> 0 | E3: 125 | F3: =SUMIF(Resa!$B$8:$B$165,E3,Resa!$H$8:$H$149) -> 2 | G3: =IF(AND(Resa!G12<>"",Resa!W12=1,F3>0),"GROUPE 1",IF(AND(Resa!G12<>"",Resa!W12=2,F3>0),"GROUPE 2",IF(AND(Resa!G12<>"",Resa!W12=3,F3>0),"GROUPE 3",IF(AND(Resa!G12<>"",Resa!W12=4,F3>0),"GROUPE 4",IF(AND(Resa!G12<>"",Resa!W12=5,F3>0),"GROUPE 5",IF(AND(Resa!W12=6,F3>0),"GROUPE 6","")))))) | I3: 250 | J3: =SUMIF(Resa!$B$8:$B$165,I3,Resa!$H$8:$H$149) -> 2 | K3: =IF(AND(Resa!K12<>"",Resa!AA12=1,J3>0),"GROUPE 1",IF(AND(Resa!K12<>"",Resa!AA12=2,J3>0),"GROUPE 2",IF(AND(Resa!K12<>"",Resa!AA12=3,J3>0),"GROUPE 3",IF(AND(Resa!K12<>"",Resa!AA12=4,J3>0),"GROUPE 4",IF(AND(Resa!K12<>"",Resa!AA12=5,J3>0),"GROUPE 5",IF(AND(Resa!AA12=6,J3>0),"GROUPE 6",""))))))
A4: 102 | B4: =SUMIF(Resa!$B$8:$B$165,A4,Resa!$H$8:$H$149) -> 0 | E4: 126 | F4: =SUMIF(Resa!$B$8:$B$165,E4,Resa!$H$8:$H$149) -> 0 | G4: =IF(AND(Resa!G13<>"",Resa!W13=1,F4>0),"GROUPE 1",IF(AND(Resa!G13<>"",Resa!W13=2,F4>0),"GROUPE 2",IF(AND(Resa!G13<>"",Resa!W13=3,F4>0),"GROUPE 3",IF(AND(Resa!G13<>"",Resa!W13=4,F4>0),"GROUPE 4",IF(AND(Resa!G13<>"",Resa!W13=5,F4>0),"GROUPE 5",IF(AND(Resa!W13=6,F4>0),"GROUPE 6","")))))) | I4: 251 | J4: =SUMIF(Resa!$B$8:$B$165,I4,Resa!$H$8:$H$149) -> 0 | K4: =IF(AND(Resa!K13<>"",Resa!AA13=1,J4>0),"GROUPE 1",IF(AND(Resa!K13<>"",Resa!AA13=2,J4>0),"GROUPE 2",IF(AND(Resa!K13<>"",Resa!AA13=3,J4>0),"GROUPE 3",IF(AND(Resa!K13<>"",Resa!AA13=4,J4>0),"GROUPE 4",IF(AND(Resa!K13<>"",Resa!AA13=5,J4>0),"GROUPE 5",IF(AND(Resa!AA13=6,J4>0),"GROUPE 6",""))))))
A5: 103 | B5: =SUMIF(Resa!$B$8:$B$165,A5,Resa!$H$8:$H$149) -> 0 | E5: 127 | F5: =SUMIF(Resa!$B$8:$B$165,E5,Resa!$H$8:$H$149) -> 1 | G5: =IF(AND(Resa!G14<>"",Resa!W14=1,F5>0),"GROUPE 1",IF(AND(Resa!G14<>"",Resa!W14=2,F5>0),"GROUPE 2",IF(AND(Resa!G14<>"",Resa!W14=3,F5>0),"GROUPE 3",IF(AND(Resa!G14<>"",Resa!W14=4,F5>0),"GROUPE 4",IF(AND(Resa!G14<>"",Resa!W14=5,F5>0),"GROUPE 5",IF(AND(Resa!W14=6,F5>0),"GROUPE 6","")))))) | I5: 252 | J5: =SUMIF(Resa!$B$8:$B$165,I5,Resa!$H$8:$H$149) -> 2 | K5: =IF(AND(Resa!K14<>"",Resa!AA14=1,J5>0),"GROUPE 1",IF(AND(Resa!K14<>"",Resa!AA14=2,J5>0),"GROUPE 2",IF(AND(Resa!K14<>"",Resa!AA14=3,J5>0),"GROUPE 3",IF(AND(Resa!K14<>"",Resa!AA14=4,J5>0),"GROUPE 4",IF(AND(Resa!K14<>"",Resa!AA14=5,J5>0),"GROUPE 5",IF(AND(Resa!AA14=6,J5>0),"GROUPE 6",""))))))
A6: 104 | B6: =SUMIF(Resa!$B$8:$B$165,A6,Resa!$H$8:$H$149) -> 0 | E6: 128 | F6: =SUMIF(Resa!$B$8:$B$165,E6,Resa!$H$8:$H$149) -> 1 | G6: =IF(AND(Resa!G15<>"",Resa!W15=1,F6>0),"GROUPE 1",IF(AND(Resa!G15<>"",Resa!W15=2,F6>0),"GROUPE 2",IF(AND(Resa!G15<>"",Resa!W15=3,F6>0),"GROUPE 3",IF(AND(Resa!G15<>"",Resa!W15=4,F6>0),"GROUPE 4",IF(AND(Resa!G15<>"",Resa!W15=5,F6>0),"GROUPE 5",IF(AND(Resa!W15=6,F6>0),"GROUPE 6","")))))) | I6: 253 | J6: =SUMIF(Resa!$B$8:$B$165,I6,Resa!$H$8:$H$149) -> 2 | K6: =IF(AND(Resa!K15<>"",Resa!AA15=1,J6>0),"GROUPE 1",IF(AND(Resa!K15<>"",Resa!AA15=2,J6>0),"GROUPE 2",IF(AND(Resa!K15<>"",Resa!AA15=3,J6>0),"GROUPE 3",IF(AND(Resa!K15<>"",Resa!AA15=4,J6>0),"GROUPE 4",IF(AND(Resa!K15<>"",Resa!AA15=5,J6>0),"GROUPE 5",IF(AND(Resa!AA15=6,J6>0),"GROUPE 6",""))))))
A7: 105 | B7: =SUMIF(Resa!$B$8:$B$165,A7,Resa!$H$8:$H$149) -> 0 | E7: 129 | F7: =SUMIF(Resa!$B$8:$B$165,E7,Resa!$H$8:$H$149) -> 2 | G7: =IF(AND(Resa!G16<>"",Resa!W16=1,F7>0),"GROUPE 1",IF(AND(Resa!G16<>"",Resa!W16=2,F7>0),"GROUPE 2",IF(AND(Resa!G16<>"",Resa!W16=3,F7>0),"GROUPE 3",IF(AND(Resa!G16<>"",Resa!W16=4,F7>0),"GROUPE 4",IF(AND(Resa!G16<>"",Resa!W16=5,F7>0),"GROUPE 5",IF(AND(Resa!W16=6,F7>0),"GROUPE 6","")))))) | I7: 254 | J7: =SUMIF(Resa!$B$8:$B$165,I7,Resa!$H$8:$H$149) -> 2 | K7: =IF(AND(Resa!K16<>"",Resa!AA16=1,J7>0),"GROUPE 1",IF(AND(Resa!K16<>"",Resa!AA16=2,J7>0),"GROUPE 2",IF(AND(Resa!K16<>"",Resa!AA16=3,J7>0),"GROUPE 3",IF(AND(Resa!K16<>"",Resa!AA16=4,J7>0),"GROUPE 4",IF(AND(Resa!K16<>"",Resa!AA16=5,J7>0),"GROUPE 5",IF(AND(Resa!AA16=6,J7>0),"GROUPE 6",""))))))
A8: 106 | B8: =SUMIF(Resa!$B$8:$B$165,A8,Resa!$H$8:$H$149) -> 0 | E8: 130 | F8: =SUMIF(Resa!$B$8:$B$165,E8,Resa!$H$8:$H$149) -> 1 | G8: =IF(AND(Resa!G17<>"",Resa!W17=1,F8>0),"GROUPE 1",IF(AND(Resa!G17<>"",Resa!W17=2,F8>0),"GROUPE 2",IF(AND(Resa!G17<>"",Resa!W17=3,F8>0),"GROUPE 3",IF(AND(Resa!G17<>"",Resa!W17=4,F8>0),"GROUPE 4",IF(AND(Resa!G17<>"",Resa!W17=5,F8>0),"GROUPE 5",IF(AND(Resa!W17=6,F8>0),"GROUPE 6","")))))) | I8: 255 | J8: =SUMIF(Resa!$B$8:$B$165,I8,Resa!$H$8:$H$149) -> 2 | K8: =IF(AND(Resa!K17<>"",Resa!AA17=1,J8>0),"GROUPE 1",IF(AND(Resa!K17<>"",Resa!AA17=2,J8>0),"GROUPE 2",IF(AND(Resa!K17<>"",Resa!AA17=3,J8>0),"GROUPE 3",IF(AND(Resa!K17<>"",Resa!AA17=4,J8>0),"GROUPE 4",IF(AND(Resa!K17<>"",Resa!AA17=5,J8>0),"GROUPE 5",IF(AND(Resa!AA17=6,J8>0),"GROUPE 6",""))))))
A9: 107 | B9: =SUMIF(Resa!$B$8:$B$165,A9,Resa!$H$8:$H$149) -> 0 | E9: 131 | F9: =SUMIF(Resa!$B$8:$B$165,E9,Resa!$H$8:$H$149) -> 0 | G9: =IF(AND(Resa!G18<>"",Resa!W18=1,F9>0),"GROUPE 1",IF(AND(Resa!G18<>"",Resa!W18=2,F9>0),"GROUPE 2",IF(AND(Resa!G18<>"",Resa!W18=3,F9>0),"GROUPE 3",IF(AND(Resa!G18<>"",Resa!W18=4,F9>0),"GROUPE 4",IF(AND(Resa!G18<>"",Resa!W18=5,F9>0),"GROUPE 5",IF(AND(Resa!W18=6,F9>0),"GROUPE 6","")))))) | I9: 256 | J9: =SUMIF(Resa!$B$8:$B$165,I9,Resa!$H$8:$H$149) -> 2 | K9: =IF(AND(Resa!K18<>"",Resa!AA18=1,J9>0),"GROUPE 1",IF(AND(Resa!K18<>"",Resa!AA18=2,J9>0),"GROUPE 2",IF(AND(Resa!K18<>"",Resa!AA18=3,J9>0),"GROUPE 3",IF(AND(Resa!K18<>"",Resa!AA18=4,J9>0),"GROUPE 4",IF(AND(Resa!K18<>"",Resa!AA18=5,J9>0),"GROUPE 5",IF(AND(Resa!AA18=6,J9>0),"GROUPE 6",""))))))
A10: 108 | B10: =SUMIF(Resa!$B$8:$B$165,A10,Resa!$H$8:$H$149) -> 0 | E10: 132 | F10: =SUMIF(Resa!$B$8:$B$165,E10,Resa!$H$8:$H$149) -> 2 | G10: =IF(AND(Resa!G19<>"",Resa!W19=1,F10>0),"GROUPE 1",IF(AND(Resa!G19<>"",Resa!W19=2,F10>0),"GROUPE 2",IF(AND(Resa!G19<>"",Resa!W19=3,F10>0),"GROUPE 3",IF(AND(Resa!G19<>"",Resa!W19=4,F10>0),"GROUPE 4",IF(AND(Resa!G19<>"",Resa!W19=5,F10>0),"GROUPE 5",IF(AND(Resa!W19=6,F10>0),"GROUPE 6","")))))) | I10: 257 | J10: =SUMIF(Resa!$B$8:$B$165,I10,Resa!$H$8:$H$149) -> 0 | K10: =IF(AND(Resa!K19<>"",Resa!AA19=1,J10>0),"GROUPE 1",IF(AND(Resa!K19<>"",Resa!AA19=2,J10>0),"GROUPE 2",IF(AND(Resa!K19<>"",Resa!AA19=3,J10>0),"GROUPE 3",IF(AND(Resa!K19<>"",Resa!AA19=4,J10>0),"GROUPE 4",IF(AND(Resa!K19<>"",Resa!AA19=5,J10>0),"GROUPE 5",IF(AND(Resa!AA19=6,J10>0),"GROUPE 6",""))))))
A11: 109 | B11: =SUMIF(Resa!$B$8:$B$165,A11,Resa!$H$8:$H$149) -> 0 | E11: 133 | F11: =SUMIF(Resa!$B$8:$B$165,E11,Resa!$H$8:$H$149) -> 0 | G11: =IF(AND(Resa!G20<>"",Resa!W20=1,F11>0),"GROUPE 1",IF(AND(Resa!G20<>"",Resa!W20=2,F11>0),"GROUPE 2",IF(AND(Resa!G20<>"",Resa!W20=3,F11>0),"GROUPE 3",IF(AND(Resa!G20<>"",Resa!W20=4,F11>0),"GROUPE 4",IF(AND(Resa!G20<>"",Resa!W20=5,F11>0),"GROUPE 5",IF(AND(Resa!W20=6,F11>0),"GROUPE 6","")))))) | I11: 258 | J11: =SUMIF(Resa!$B$8:$B$165,I11,Resa!$H$8:$H$149) -> 0 | K11: =IF(AND(Resa!K20<>"",Resa!AA20=1,J11>0),"GROUPE 1",IF(AND(Resa!K20<>"",Resa!AA20=2,J11>0),"GROUPE 2",IF(AND(Resa!K20<>"",Resa!AA20=3,J11>0),"GROUPE 3",IF(AND(Resa!K20<>"",Resa!AA20=4,J11>0),"GROUPE 4",IF(AND(Resa!K20<>"",Resa!AA20=5,J11>0),"GROUPE 5",IF(AND(Resa!AA20=6,J11>0),"GROUPE 6",""))))))
A12: 110 | B12: =SUMIF(Resa!$B$8:$B$165,A12,Resa!$H$8:$H$149) -> 0 | E12: 134 | F12: =SUMIF(Resa!$B$8:$B$165,E12,Resa!$H$8:$H$149) -> 0 | G12: =IF(AND(Resa!G21<>"",Resa!W21=1,F12>0),"GROUPE 1",IF(AND(Resa!G21<>"",Resa!W21=2,F12>0),"GROUPE 2",IF(AND(Resa!G21<>"",Resa!W21=3,F12>0),"GROUPE 3",IF(AND(Resa!G21<>"",Resa!W21=4,F12>0),"GROUPE 4",IF(AND(Resa!G21<>"",Resa!W21=5,F12>0),"GROUPE 5",IF(AND(Resa!W21=6,F12>0),"GROUPE 6","")))))) | I12: 259 | J12: =SUMIF(Resa!$B$8:$B$165,I12,Resa!$H$8:$H$149) -> 0 | K12: =IF(AND(Resa!K21<>"",Resa!AA21=1,J12>0),"GROUPE 1",IF(AND(Resa!K21<>"",Resa!AA21=2,J12>0),"GROUPE 2",IF(AND(Resa!K21<>"",Resa!AA21=3,J12>0),"GROUPE 3",IF(AND(Resa!K21<>"",Resa!AA21=4,J12>0),"GROUPE 4",IF(AND(Resa!K21<>"",Resa!AA21=5,J12>0),"GROUPE 5",IF(AND(Resa!AA21=6,J12>0),"GROUPE 6",""))))))
A13: 111 | B13: =SUMIF(Resa!$B$8:$B$165,A13,Resa!$H$8:$H$149) -> 2 | E13: 135 | F13: =SUMIF(Resa!$B$8:$B$165,E13,Resa!$H$8:$H$149) -> 2 | G13: =IF(AND(Resa!G22<>"",Resa!W22=1,F13>0),"GROUPE 1",IF(AND(Resa!G22<>"",Resa!W22=2,F13>0),"GROUPE 2",IF(AND(Resa!G22<>"",Resa!W22=3,F13>0),"GROUPE 3",IF(AND(Resa!G22<>"",Resa!W22=4,F13>0),"GROUPE 4",IF(AND(Resa!G22<>"",Resa!W22=5,F13>0),"GROUPE 5",IF(AND(Resa!W22=6,F13>0),"GROUPE 6","")))))) | I13: 260 | J13: =SUMIF(Resa!$B$8:$B$165,I13,Resa!$H$8:$H$149) -> 2 | K13: =IF(AND(Resa!K22<>"",Resa!AA22=1,J13>0),"GROUPE 1",IF(AND(Resa!K22<>"",Resa!AA22=2,J13>0),"GROUPE 2",IF(AND(Resa!K22<>"",Resa!AA22=3,J13>0),"GROUPE 3",IF(AND(Resa!K22<>"",Resa!AA22=4,J13>0),"GROUPE 4",IF(AND(Resa!K22<>"",Resa!AA22=5,J13>0),"GROUPE 5",IF(AND(Resa!AA22=6,J13>0),"GROUPE 6",""))))))
A14: 112 | B14: =SUMIF(Resa!$B$8:$B$165,A14,Resa!$H$8:$H$149) -> 0 | E14: 136 | F14: =SUMIF(Resa!$B$8:$B$165,E14,Resa!$H$8:$H$149) -> 0 | G14: =IF(AND(Resa!G23<>"",Resa!W23=1,F14>0),"GROUPE 1",IF(AND(Resa!G23<>"",Resa!W23=2,F14>0),"GROUPE 2",IF(AND(Resa!G23<>"",Resa!W23=3,F14>0),"GROUPE 3",IF(AND(Resa!G23<>"",Resa!W23=4,F14>0),"GROUPE 4",IF(AND(Resa!G23<>"",Resa!W23=5,F14>0),"GROUPE 5",IF(AND(Resa!W23=6,F14>0),"GROUPE 6","")))))) | I14: 261 | J14: =SUMIF(Resa!$B$8:$B$165,I14,Resa!$H$8:$H$149) -> 2 | K14: =IF(AND(Resa!K23<>"",Resa!AA23=1,J14>0),"GROUPE 1",IF(AND(Resa!K23<>"",Resa!AA23=2,J14>0),"GROUPE 2",IF(AND(Resa!K23<>"",Resa!AA23=3,J14>0),"GROUPE 3",IF(AND(Resa!K23<>"",Resa!AA23=4,J14>0),"GROUPE 4",IF(AND(Resa!K23<>"",Resa!AA23=5,J14>0),"GROUPE 5",IF(AND(Resa!AA23=6,J14>0),"GROUPE 6",""))))))
... A26: 124 | B26: =SUMIF(Resa!$B$8:$B$165,A26,Resa!$H$8:$H$149) -> 2 | E26: 148 | F26: =SUMIF(Resa!$B$8:$B$165,E26,Resa!$H$8:$H$149) -> 0 | G26: =IF(AND(Resa!G35<>"",Resa!W35=1,F26>0),"GROUPE 1",IF(AND(Resa!G35<>"",Resa!W35=2,F26>0),"GROUPE 2",IF(AND(Resa!G35<>"",Resa!W35=3,F26>0),"GROUPE 3",IF(AND(Resa!G35<>"",Resa!W35=4,F26>0),"GROUPE 4",IF(AND(Resa!G35<>"",Resa!W35=5,F26>0),"GROUPE 5",IF(AND(Resa!W35=6,F26>0),"GROUPE 6","")))))) | I26: 273 | J26: =SUMIF(Resa!$B$8:$B$165,I26,Resa!$H$8:$H$149) -> 1 | K26: =IF(AND(Resa!K35<>"",Resa!AA35=1,J26>0),"GROUPE 1",IF(AND(Resa!K35<>"",Resa!AA35=2,J26>0),"GROUPE 2",IF(AND(Resa!K35<>"",Resa!AA35=3,J26>0),"GROUPE 3",IF(AND(Resa!K35<>"",Resa!AA35=4,J26>0),"GROUPE 4",IF(AND(Resa!K35<>"",Resa!AA35=5,J26>0),"GROUPE 5",IF(AND(Resa!AA35=6,J26>0),"GROUPE 6",""))))))
E27: 150 | F27: =SUMIF(Resa!$B$8:$B$165,E27,Resa!$H$8:$H$149) -> 0 | I27: 274 | J27: =SUMIF(Resa!$B$8:$B$165,I27,Resa!$H$8:$H$149) -> 2
E28: 152 | F28: =SUMIF(Resa!$B$8:$B$165,E28,Resa!$H$8:$H$149) -> 0 | I28: 275 | J28: =SUMIF(Resa!$B$8:$B$165,I28,Resa!$H$8:$H$149) -> 1
E29: 300 | F29: =SUMIF(Resa!$B$8:$B$165,E29,Resa!$H$8:$H$149) -> 2 | I29: 276 | J29: =SUMIF(Resa!$B$8:$B$165,I29,Resa!$H$8:$H$149) -> 0
I30: 277 | J30: =SUMIF(Resa!$B$8:$B$165,I30,Resa!$H$8:$H$149) -> 2
I52: Nombre de Pax
I53: =SUM(#REF!)+SUM(F3:F29)+SUM(J3:J30) -> #REF!

Sheet Excu 3 
A4: CABINE | B4: SORTIE | D4: CABINE | E4: SORTIE | G4: CABINE | H4: SORTIE
A5: 101 | B5: =SUMIF(Resa!$B$8:$B$165,A5,Resa!$I$8:$I$149) -> 0 | D5: 125 | E5: =SUMIF(Resa!$B$8:$B$165,D5,Resa!$I$8:$I$149) -> 2 | G5: 250 | H5: =SUMIF(Resa!$B$8:$B$165,G5,Resa!$I$8:$I$149) -> 2
A6: 102 | B6: =SUMIF(Resa!$B$8:$B$165,A6,Resa!$I$8:$I$149) -> 0 | D6: 126 | E6: =SUMIF(Resa!$B$8:$B$165,D6,Resa!$I$8:$I$149) -> 0 | G6: 251 | H6: =SUMIF(Resa!$B$8:$B$165,G6,Resa!$I$8:$I$149) -> 0
A7: 103 | B7: =SUMIF(Resa!$B$8:$B$165,A7,Resa!$I$8:$I$149) -> 0 | D7: 127 | E7: =SUMIF(Resa!$B$8:$B$165,D7,Resa!$I$8:$I$149) -> 1 | G7: 252 | H7: =SUMIF(Resa!$B$8:$B$165,G7,Resa!$I$8:$I$149) -> 2
A8: 104 | B8: =SUMIF(Resa!$B$8:$B$165,A8,Resa!$I$8:$I$149) -> 0 | D8: 128 | E8: =SUMIF(Resa!$B$8:$B$165,D8,Resa!$I$8:$I$149) -> 1 | G8: 253 | H8: =SUMIF(Resa!$B$8:$B$165,G8,Resa!$I$8:$I$149) -> 2
A9: 105 | B9: =SUMIF(Resa!$B$8:$B$165,A9,Resa!$I$8:$I$149) -> 0 | D9: 129 | E9: =SUMIF(Resa!$B$8:$B$165,D9,Resa!$I$8:$I$149) -> 2 | G9: 254 | H9: =SUMIF(Resa!$B$8:$B$165,G9,Resa!$I$8:$I$149) -> 2
A10: 106 | B10: =SUMIF(Resa!$B$8:$B$165,A10,Resa!$I$8:$I$149) -> 0 | D10: 130 | E10: =SUMIF(Resa!$B$8:$B$165,D10,Resa!$I$8:$I$149) -> 1 | G10: 255 | H10: =SUMIF(Resa!$B$8:$B$165,G10,Resa!$I$8:$I$149) -> 2
A11: 107 | B11: =SUMIF(Resa!$B$8:$B$165,A11,Resa!$I$8:$I$149) -> 0 | D11: 131 | E11: =SUMIF(Resa!$B$8:$B$165,D11,Resa!$I$8:$I$149) -> 0 | G11: 256 | H11: =SUMIF(Resa!$B$8:$B$165,G11,Resa!$I$8:$I$149) -> 2
A12: 108 | B12: =SUMIF(Resa!$B$8:$B$165,A12,Resa!$I$8:$I$149) -> 0 | D12: 132 | E12: =SUMIF(Resa!$B$8:$B$165,D12,Resa!$I$8:$I$149) -> 2 | G12: 257 | H12: =SUMIF(Resa!$B$8:$B$165,G12,Resa!$I$8:$I$149) -> 2
A13: 109 | B13: =SUMIF(Resa!$B$8:$B$165,A13,Resa!$I$8:$I$149) -> 0 | D13: 133 | E13: =SUMIF(Resa!$B$8:$B$165,D13,Resa!$I$8:$I$149) -> 0 | G13: 258 | H13: =SUMIF(Resa!$B$8:$B$165,G13,Resa!$I$8:$I$149) -> 2
A14: 110 | B14: =SUMIF(Resa!$B$8:$B$165,A14,Resa!$I$8:$I$149) -> 0 | D14: 134 | E14: =SUMIF(Resa!$B$8:$B$165,D14,Resa!$I$8:$I$149) -> 0 | G14: 259 | H14: =SUMIF(Resa!$B$8:$B$165,G14,Resa!$I$8:$I$149) -> 2
A15: 111 | B15: =SUMIF(Resa!$B$8:$B$165,A15,Resa!$I$8:$I$149) -> 0 | D15: 135 | E15: =SUMIF(Resa!$B$8:$B$165,D15,Resa!$I$8:$I$149) -> 0 | G15: 260 | H15: =SUMIF(Resa!$B$8:$B$165,G15,Resa!$I$8:$I$149) -> 2
A16: 112 | B16: =SUMIF(Resa!$B$8:$B$165,A16,Resa!$I$8:$I$149) -> 0 | D16: 136 | E16: =SUMIF(Resa!$B$8:$B$165,D16,Resa!$I$8:$I$149) -> 0 | G16: 261 | H16: =SUMIF(Resa!$B$8:$B$165,G16,Resa!$I$8:$I$149) -> 2
... A28: 124 | B28: =SUMIF(Resa!$B$8:$B$165,A28,Resa!$I$8:$I$149) -> 0 | D28: 148 | E28: =SUMIF(Resa!$B$8:$B$165,D28,Resa!$I$8:$I$149) -> 0 | G28: 273 | H28: =SUMIF(Resa!$B$8:$B$165,G28,Resa!$I$8:$I$149) -> 1
D29: 150 | E29: =SUMIF(Resa!$B$8:$B$165,D29,Resa!$I$8:$I$149) -> 0 | G29: 274 | H29: =SUMIF(Resa!$B$8:$B$165,G29,Resa!$I$8:$I$149) -> 2
D30: 152 | E30: =SUMIF(Resa!$B$8:$B$165,D30,Resa!$I$8:$I$149) -> 0 | G30: 275 | H30: =SUMIF(Resa!$B$8:$B$165,G30,Resa!$I$8:$I$149) -> 1
D31: 300 | E31: =SUMIF(Resa!$B$8:$B$165,D31,Resa!$I$8:$I$149) -> 2 | G31: 276 | H31: =SUMIF(Resa!$B$8:$B$165,G31,Resa!$I$8:$I$149) -> 0
B32: Nombre de Pax | G32: 277 | H32: =SUMIF(Resa!$B$8:$B$165,G32,Resa!$I$8:$I$149) -> 2
B33: =SUM(B5:B28)+SUM(E5:E31)+SUM(H5:H32) -> 67

Sheet Excu 4
A4: CABINE | B4: SORTIE | D4: CABINE | E4: SORTIE | G4: CABINE | H4: SORTIE
A5: 101 | B5: =SUMIF(Resa!$B$8:$B$165,A5,Resa!$J$8:$J$149) -> 0 | D5: 125 | E5: =SUMIF(Resa!$B$8:$B$165,D5,Resa!$J$8:$J$149) -> 2 | G5: 250 | H5: =SUMIF(Resa!$B$8:$B$165,G5,Resa!$J$8:$J$149) -> 2
A6: 102 | B6: =SUMIF(Resa!$B$8:$B$165,A6,Resa!$J$8:$J$149) -> 0 | D6: 126 | E6: =SUMIF(Resa!$B$8:$B$165,D6,Resa!$J$8:$J$149) -> 0 | G6: 251 | H6: =SUMIF(Resa!$B$8:$B$165,G6,Resa!$J$8:$J$149) -> 0
A7: 103 | B7: =SUMIF(Resa!$B$8:$B$165,A7,Resa!$J$8:$J$149) -> 0 | D7: 127 | E7: =SUMIF(Resa!$B$8:$B$165,D7,Resa!$J$8:$J$149) -> 1 | G7: 252 | H7: =SUMIF(Resa!$B$8:$B$165,G7,Resa!$J$8:$J$149) -> 2
A8: 104 | B8: =SUMIF(Resa!$B$8:$B$165,A8,Resa!$J$8:$J$149) -> 0 | D8: 128 | E8: =SUMIF(Resa!$B$8:$B$165,D8,Resa!$J$8:$J$149) -> 1 | G8: 253 | H8: =SUMIF(Resa!$B$8:$B$165,G8,Resa!$J$8:$J$149) -> 2
A9: 105 | B9: =SUMIF(Resa!$B$8:$B$165,A9,Resa!$J$8:$J$149) -> 0 | D9: 129 | E9: =SUMIF(Resa!$B$8:$B$165,D9,Resa!$J$8:$J$149) -> 2 | G9: 254 | H9: =SUMIF(Resa!$B$8:$B$165,G9,Resa!$J$8:$J$149) -> 2
A10: 106 | B10: =SUMIF(Resa!$B$8:$B$165,A10,Resa!$J$8:$J$149) -> 0 | D10: 130 | E10: =SUMIF(Resa!$B$8:$B$165,D10,Resa!$J$8:$J$149) -> 1 | G10: 255 | H10: =SUMIF(Resa!$B$8:$B$165,G10,Resa!$J$8:$J$149) -> 2
A11: 107 | B11: =SUMIF(Resa!$B$8:$B$165,A11,Resa!$J$8:$J$149) -> 0 | D11: 131 | E11: =SUMIF(Resa!$B$8:$B$165,D11,Resa!$J$8:$J$149) -> 0 | G11: 256 | H11: =SUMIF(Resa!$B$8:$B$165,G11,Resa!$J$8:$J$149) -> 2
A12: 108 | B12: =SUMIF(Resa!$B$8:$B$165,A12,Resa!$J$8:$J$149) -> 0 | D12: 132 | E12: =SUMIF(Resa!$B$8:$B$165,D12,Resa!$J$8:$J$149) -> 2 | G12: 257 | H12: =SUMIF(Resa!$B$8:$B$165,G12,Resa!$J$8:$J$149) -> 0
A13: 109 | B13: =SUMIF(Resa!$B$8:$B$165,A13,Resa!$J$8:$J$149) -> 0 | D13: 133 | E13: =SUMIF(Resa!$B$8:$B$165,D13,Resa!$J$8:$J$149) -> 0 | G13: 258 | H13: =SUMIF(Resa!$B$8:$B$165,G13,Resa!$J$8:$J$149) -> 0
A14: 110 | B14: =SUMIF(Resa!$B$8:$B$165,A14,Resa!$J$8:$J$149) -> 0 | D14: 134 | E14: =SUMIF(Resa!$B$8:$B$165,D14,Resa!$J$8:$J$149) -> 0 | G14: 259 | H14: =SUMIF(Resa!$B$8:$B$165,G14,Resa!$J$8:$J$149) -> 0
A15: 111 | B15: =SUMIF(Resa!$B$8:$B$165,A15,Resa!$J$8:$J$149) -> 2 | D15: 135 | E15: =SUMIF(Resa!$B$8:$B$165,D15,Resa!$J$8:$J$149) -> 2 | G15: 260 | H15: =SUMIF(Resa!$B$8:$B$165,G15,Resa!$J$8:$J$149) -> 2
A16: 112 | B16: =SUMIF(Resa!$B$8:$B$165,A16,Resa!$J$8:$J$149) -> 0 | D16: 136 | E16: =SUMIF(Resa!$B$8:$B$165,D16,Resa!$J$8:$J$149) -> 0 | G16: 261 | H16: =SUMIF(Resa!$B$8:$B$165,G16,Resa!$J$8:$J$149) -> 2
... A28: 124 | B28: =SUMIF(Resa!$B$8:$B$165,A28,Resa!$J$8:$J$149) -> 2 | D28: 148 | E28: =SUMIF(Resa!$B$8:$B$165,D28,Resa!$J$8:$J$149) -> 0 | G28: 273 | H28: =SUMIF(Resa!$B$8:$B$165,G28,Resa!$J$8:$J$149) -> 1
D29: 150 | E29: =SUMIF(Resa!$B$8:$B$165,D29,Resa!$J$8:$J$149) -> 0 | G29: 274 | H29: =SUMIF(Resa!$B$8:$B$165,G29,Resa!$J$8:$J$149) -> 2
D30: 152 | E30: =SUMIF(Resa!$B$8:$B$165,D30,Resa!$J$8:$J$149) -> 0 | G30: 275 | H30: =SUMIF(Resa!$B$8:$B$165,G30,Resa!$J$8:$J$149) -> 1
D31: 300 | E31: =SUMIF(Resa!$B$8:$B$165,D31,Resa!$J$8:$J$149) -> 2 | G31: 276 | H31: =SUMIF(Resa!$B$8:$B$165,G31,Resa!$J$8:$J$149) -> 0
B32: Nombre de Pax | G32: 277 | H32: =SUMIF(Resa!$B$8:$B$165,G32,Resa!$J$8:$J$149) -> 0
B33: =SUM(B5:B28)+SUM(E5:E31)+SUM(H5:H32) -> 67

Sheet Excu 5
A4: CABINE | B4: SORTIE | D4: CABINE | E4: SORTIE | G4: CABINE | H4: SORTIE
A5: 101 | B5: =SUMIF(Resa!$B$8:$B$165,A5,Resa!$K$8:$K$149) -> 0 | D5: 125 | E5: =SUMIF(Resa!$B$8:$B$165,D5,Resa!$K$8:$K$149) -> 2 | G5: 250 | H5: =SUMIF(Resa!$B$8:$B$165,G5,Resa!$K$8:$K$149) -> 2
A6: 102 | B6: =SUMIF(Resa!$B$8:$B$165,A6,Resa!$K$8:$K$149) -> 0 | D6: 126 | E6: =SUMIF(Resa!$B$8:$B$165,D6,Resa!$K$8:$K$149) -> 0 | G6: 251 | H6: =SUMIF(Resa!$B$8:$B$165,G6,Resa!$K$8:$K$149) -> 0
A7: 103 | B7: =SUMIF(Resa!$B$8:$B$165,A7,Resa!$K$8:$K$149) -> 0 | D7: 127 | E7: =SUMIF(Resa!$B$8:$B$165,D7,Resa!$K$8:$K$149) -> 1 | G7: 252 | H7: =SUMIF(Resa!$B$8:$B$165,G7,Resa!$K$8:$K$149) -> 2
A8: 104 | B8: =SUMIF(Resa!$B$8:$B$165,A8,Resa!$K$8:$K$149) -> 0 | D8: 128 | E8: =SUMIF(Resa!$B$8:$B$165,D8,Resa!$K$8:$K$149) -> 1 | G8: 253 | H8: =SUMIF(Resa!$B$8:$B$165,G8,Resa!$K$8:$K$149) -> 2
A9: 105 | B9: =SUMIF(Resa!$B$8:$B$165,A9,Resa!$K$8:$K$149) -> 0 | D9: 129 | E9: =SUMIF(Resa!$B$8:$B$165,D9,Resa!$K$8:$K$149) -> 2 | G9: 254 | H9: =SUMIF(Resa!$B$8:$B$165,G9,Resa!$K$8:$K$149) -> 2
A10: 106 | B10: =SUMIF(Resa!$B$8:$B$165,A10,Resa!$K$8:$K$149) -> 0 | D10: 130 | E10: =SUMIF(Resa!$B$8:$B$165,D10,Resa!$K$8:$K$149) -> 1 | G10: 255 | H10: =SUMIF(Resa!$B$8:$B$165,G10,Resa!$K$8:$K$149) -> 2
A11: 107 | B11: =SUMIF(Resa!$B$8:$B$165,A11,Resa!$K$8:$K$149) -> 0 | D11: 131 | E11: =SUMIF(Resa!$B$8:$B$165,D11,Resa!$K$8:$K$149) -> 0 | G11: 256 | H11: =SUMIF(Resa!$B$8:$B$165,G11,Resa!$K$8:$K$149) -> 2
A12: 108 | B12: =SUMIF(Resa!$B$8:$B$165,A12,Resa!$K$8:$K$149) -> 0 | D12: 132 | E12: =SUMIF(Resa!$B$8:$B$165,D12,Resa!$K$8:$K$149) -> 2 | G12: 257 | H12: =SUMIF(Resa!$B$8:$B$165,G12,Resa!$K$8:$K$149) -> 0
A13: 109 | B13: =SUMIF(Resa!$B$8:$B$165,A13,Resa!$K$8:$K$149) -> 0 | D13: 133 | E13: =SUMIF(Resa!$B$8:$B$165,D13,Resa!$K$8:$K$149) -> 0 | G13: 258 | H13: =SUMIF(Resa!$B$8:$B$165,G13,Resa!$K$8:$K$149) -> 0
A14: 110 | B14: =SUMIF(Resa!$B$8:$B$165,A14,Resa!$K$8:$K$149) -> 0 | D14: 134 | E14: =SUMIF(Resa!$B$8:$B$165,D14,Resa!$K$8:$K$149) -> 0 | G14: 259 | H14: =SUMIF(Resa!$B$8:$B$165,G14,Resa!$K$8:$K$149) -> 0
A15: 111 | B15: =SUMIF(Resa!$B$8:$B$165,A15,Resa!$K$8:$K$149) -> 0 | D15: 135 | E15: =SUMIF(Resa!$B$8:$B$165,D15,Resa!$K$8:$K$149) -> 0 | G15: 260 | H15: =SUMIF(Resa!$B$8:$B$165,G15,Resa!$K$8:$K$149) -> 2
A16: 112 | B16: =SUMIF(Resa!$B$8:$B$165,A16,Resa!$K$8:$K$149) -> 0 | D16: 136 | E16: =SUMIF(Resa!$B$8:$B$165,D16,Resa!$K$8:$K$149) -> 0 | G16: 261 | H16: =SUMIF(Resa!$B$8:$B$165,G16,Resa!$K$8:$K$149) -> 2
... A28: 124 | B28: =SUMIF(Resa!$B$8:$B$165,A28,Resa!$K$8:$K$149) -> 0 | D28: 148 | E28: =SUMIF(Resa!$B$8:$B$165,D28,Resa!$K$8:$K$149) -> 0 | G28: 273 | H28: =SUMIF(Resa!$B$8:$B$165,G28,Resa!$K$8:$K$149) -> 1
D29: 150 | E29: =SUMIF(Resa!$B$8:$B$165,D29,Resa!$K$8:$K$149) -> 0 | G29: 274 | H29: =SUMIF(Resa!$B$8:$B$165,G29,Resa!$K$8:$K$149) -> 2
D30: 152 | E30: =SUMIF(Resa!$B$8:$B$165,D30,Resa!$K$8:$K$149) -> 0 | G30: 275 | H30: =SUMIF(Resa!$B$8:$B$165,G30,Resa!$K$8:$K$149) -> 1
D31: 300 | E31: =SUMIF(Resa!$B$8:$B$165,D31,Resa!$K$8:$K$149) -> 2 | G31: 276 | H31: =SUMIF(Resa!$B$8:$B$165,G31,Resa!$K$8:$K$149) -> 0
B32: Nombre de Pax | G32: 277 | H32: =SUMIF(Resa!$B$8:$B$165,G32,Resa!$K$8:$K$149) -> 2
B33: =SUM(B5:B28)+SUM(E5:E31)+SUM(H5:H32) -> 60

Sheet Excu 6
A4: CABINE | B4: SORTIE | D4: CABINE | E4: SORTIE | G4: CABINE | H4: SORTIE
A5: 101 | B5: =SUMIF(Resa!$B$8:$B$165,A5,Resa!$L$8:$L$149) -> 0 | D5: 125 | E5: =SUMIF(Resa!$B$8:$B$165,D5,Resa!$L$8:$L$149) -> 2 | G5: 250 | H5: =SUMIF(Resa!$B$8:$B$165,G5,Resa!$L$8:$L$149) -> 2
A6: 102 | B6: =SUMIF(Resa!$B$8:$B$165,A6,Resa!$L$8:$L$149) -> 0 | D6: 126 | E6: =SUMIF(Resa!$B$8:$B$165,D6,Resa!$L$8:$L$149) -> 0 | G6: 251 | H6: =SUMIF(Resa!$B$8:$B$165,G6,Resa!$L$8:$L$149) -> 0
A7: 103 | B7: =SUMIF(Resa!$B$8:$B$165,A7,Resa!$L$8:$L$149) -> 0 | D7: 127 | E7: =SUMIF(Resa!$B$8:$B$165,D7,Resa!$L$8:$L$149) -> 1 | G7: 252 | H7: =SUMIF(Resa!$B$8:$B$165,G7,Resa!$L$8:$L$149) -> 2
A8: 104 | B8: =SUMIF(Resa!$B$8:$B$165,A8,Resa!$L$8:$L$149) -> 0 | D8: 128 | E8: =SUMIF(Resa!$B$8:$B$165,D8,Resa!$L$8:$L$149) -> 1 | G8: 253 | H8: =SUMIF(Resa!$B$8:$B$165,G8,Resa!$L$8:$L$149) -> 2
A9: 105 | B9: =SUMIF(Resa!$B$8:$B$165,A9,Resa!$L$8:$L$149) -> 0 | D9: 129 | E9: =SUMIF(Resa!$B$8:$B$165,D9,Resa!$L$8:$L$149) -> 2 | G9: 254 | H9: =SUMIF(Resa!$B$8:$B$165,G9,Resa!$L$8:$L$149) -> 2
A10: 106 | B10: =SUMIF(Resa!$B$8:$B$165,A10,Resa!$L$8:$L$149) -> 0 | D10: 130 | E10: =SUMIF(Resa!$B$8:$B$165,D10,Resa!$L$8:$L$149) -> 1 | G10: 255 | H10: =SUMIF(Resa!$B$8:$B$165,G10,Resa!$L$8:$L$149) -> 2
A11: 107 | B11: =SUMIF(Resa!$B$8:$B$165,A11,Resa!$L$8:$L$149) -> 0 | D11: 131 | E11: =SUMIF(Resa!$B$8:$B$165,D11,Resa!$L$8:$L$149) -> 0 | G11: 256 | H11: =SUMIF(Resa!$B$8:$B$165,G11,Resa!$L$8:$L$149) -> 2
A12: 108 | B12: =SUMIF(Resa!$B$8:$B$165,A12,Resa!$L$8:$L$149) -> 0 | D12: 132 | E12: =SUMIF(Resa!$B$8:$B$165,D12,Resa!$L$8:$L$149) -> 2 | G12: 257 | H12: =SUMIF(Resa!$B$8:$B$165,G12,Resa!$L$8:$L$149) -> 0
A13: 109 | B13: =SUMIF(Resa!$B$8:$B$165,A13,Resa!$L$8:$L$149) -> 0 | D13: 133 | E13: =SUMIF(Resa!$B$8:$B$165,D13,Resa!$L$8:$L$149) -> 0 | G13: 258 | H13: =SUMIF(Resa!$B$8:$B$165,G13,Resa!$L$8:$L$149) -> 0
A14: 110 | B14: =SUMIF(Resa!$B$8:$B$165,A14,Resa!$L$8:$L$149) -> 0 | D14: 134 | E14: =SUMIF(Resa!$B$8:$B$165,D14,Resa!$L$8:$L$149) -> 0 | G14: 259 | H14: =SUMIF(Resa!$B$8:$B$165,G14,Resa!$L$8:$L$149) -> 0
A15: 111 | B15: =SUMIF(Resa!$B$8:$B$165,A15,Resa!$L$8:$L$149) -> 0 | D15: 135 | E15: =SUMIF(Resa!$B$8:$B$165,D15,Resa!$L$8:$L$149) -> 0 | G15: 260 | H15: =SUMIF(Resa!$B$8:$B$165,G15,Resa!$L$8:$L$149) -> 2
A16: 112 | B16: =SUMIF(Resa!$B$8:$B$165,A16,Resa!$L$8:$L$149) -> 0 | D16: 136 | E16: =SUMIF(Resa!$B$8:$B$165,D16,Resa!$L$8:$L$149) -> 0 | G16: 261 | H16: =SUMIF(Resa!$B$8:$B$165,G16,Resa!$L$8:$L$149) -> 2
... A28: 124 | B28: =SUMIF(Resa!$B$8:$B$165,A28,Resa!$L$8:$L$149) -> 0 | D28: 148 | E28: =SUMIF(Resa!$B$8:$B$165,D28,Resa!$L$8:$L$149) -> 0 | G28: 273 | H28: =SUMIF(Resa!$B$8:$B$165,G28,Resa!$L$8:$L$149) -> 1
D29: 150 | E29: =SUMIF(Resa!$B$8:$B$165,D29,Resa!$L$8:$L$149) -> 0 | G29: 274 | H29: =SUMIF(Resa!$B$8:$B$165,G29,Resa!$L$8:$L$149) -> 2
D30: 152 | E30: =SUMIF(Resa!$B$8:$B$165,D30,Resa!$L$8:$L$149) -> 0 | G30: 275 | H30: =SUMIF(Resa!$B$8:$B$165,G30,Resa!$L$8:$L$149) -> 1
D31: 300 | E31: =SUMIF(Resa!$B$8:$B$165,D31,Resa!$L$8:$L$149) -> 2 | G31: 276 | H31: =SUMIF(Resa!$B$8:$B$165,G31,Resa!$L$8:$L$149) -> 0
B32: Nombre de Pax | G32: 277 | H32: =SUMIF(Resa!$B$8:$B$165,G32,Resa!$L$8:$L$149) -> 2
B33: =SUM(B5:B28)+SUM(E5:E31)+SUM(H5:H32) -> 58

Sheet Excu 7
A4: CABINE | B4: SORTIE | D4: CABINE | E4: SORTIE | G4: CABINE | H4: SORTIE
A5: 101 | B5: =SUMIF(Resa!$B$8:$B$165,A5,Resa!$M$8:$M$149) -> 0 | D5: 125 | E5: =SUMIF(Resa!$B$8:$B$165,D5,Resa!$M$8:$M$149) -> 0 | G5: 250 | H5: =SUMIF(Resa!$B$8:$B$165,G5,Resa!$M$8:$M$149) -> 0
A6: 102 | B6: =SUMIF(Resa!$B$8:$B$165,A6,Resa!$M$8:$M$149) -> 0 | D6: 126 | E6: =SUMIF(Resa!$B$8:$B$165,D6,Resa!$M$8:$M$149) -> 0 | G6: 251 | H6: =SUMIF(Resa!$B$8:$B$165,G6,Resa!$M$8:$M$149) -> 0
A7: 103 | B7: =SUMIF(Resa!$B$8:$B$165,A7,Resa!$M$8:$M$149) -> 0 | D7: 127 | E7: =SUMIF(Resa!$B$8:$B$165,D7,Resa!$M$8:$M$149) -> 0 | G7: 252 | H7: =SUMIF(Resa!$B$8:$B$165,G7,Resa!$M$8:$M$149) -> 0
A8: 104 | B8: =SUMIF(Resa!$B$8:$B$165,A8,Resa!$M$8:$M$149) -> 0 | D8: 128 | E8: =SUMIF(Resa!$B$8:$B$165,D8,Resa!$M$8:$M$149) -> 0 | G8: 253 | H8: =SUMIF(Resa!$B$8:$B$165,G8,Resa!$M$8:$M$149) -> 0
A9: 105 | B9: =SUMIF(Resa!$B$8:$B$165,A9,Resa!$M$8:$M$149) -> 0 | D9: 129 | E9: =SUMIF(Resa!$B$8:$B$165,D9,Resa!$M$8:$M$149) -> 0 | G9: 254 | H9: =SUMIF(Resa!$B$8:$B$165,G9,Resa!$M$8:$M$149) -> 0
A10: 106 | B10: =SUMIF(Resa!$B$8:$B$165,A10,Resa!$M$8:$M$149) -> 0 | D10: 130 | E10: =SUMIF(Resa!$B$8:$B$165,D10,Resa!$M$8:$M$149) -> 0 | G10: 255 | H10: =SUMIF(Resa!$B$8:$B$165,G10,Resa!$M$8:$M$149) -> 0
A11: 107 | B11: =SUMIF(Resa!$B$8:$B$165,A11,Resa!$M$8:$M$149) -> 0 | D11: 131 | E11: =SUMIF(Resa!$B$8:$B$165,D11,Resa!$M$8:$M$149) -> 0 | G11: 256 | H11: =SUMIF(Resa!$B$8:$B$165,G11,Resa!$M$8:$M$149) -> 0
A12: 108 | B12: =SUMIF(Resa!$B$8:$B$165,A12,Resa!$M$8:$M$149) -> 0 | D12: 132 | E12: =SUMIF(Resa!$B$8:$B$165,D12,Resa!$M$8:$M$149) -> 0 | G12: 257 | H12: =SUMIF(Resa!$B$8:$B$165,G12,Resa!$M$8:$M$149) -> 0
A13: 109 | B13: =SUMIF(Resa!$B$8:$B$165,A13,Resa!$M$8:$M$149) -> 0 | D13: 133 | E13: =SUMIF(Resa!$B$8:$B$165,D13,Resa!$M$8:$M$149) -> 0 | G13: 258 | H13: =SUMIF(Resa!$B$8:$B$165,G13,Resa!$M$8:$M$149) -> 0
A14: 110 | B14: =SUMIF(Resa!$B$8:$B$165,A14,Resa!$M$8:$M$149) -> 0 | D14: 134 | E14: =SUMIF(Resa!$B$8:$B$165,D14,Resa!$M$8:$M$149) -> 0 | G14: 259 | H14: =SUMIF(Resa!$B$8:$B$165,G14,Resa!$M$8:$M$149) -> 0
A15: 111 | B15: =SUMIF(Resa!$B$8:$B$165,A15,Resa!$M$8:$M$149) -> 0 | D15: 135 | E15: =SUMIF(Resa!$B$8:$B$165,D15,Resa!$M$8:$M$149) -> 0 | G15: 260 | H15: =SUMIF(Resa!$B$8:$B$165,G15,Resa!$M$8:$M$149) -> 0
A16: 112 | B16: =SUMIF(Resa!$B$8:$B$165,A16,Resa!$M$8:$M$149) -> 0 | D16: 136 | E16: =SUMIF(Resa!$B$8:$B$165,D16,Resa!$M$8:$M$149) -> 0 | G16: 261 | H16: =SUMIF(Resa!$B$8:$B$165,G16,Resa!$M$8:$M$149) -> 0
... A28: 124 | B28: =SUMIF(Resa!$B$8:$B$165,A28,Resa!$M$8:$M$149) -> 0 | D28: 148 | E28: =SUMIF(Resa!$B$8:$B$165,D28,Resa!$M$8:$M$149) -> 0 | G28: 273 | H28: =SUMIF(Resa!$B$8:$B$165,G28,Resa!$M$8:$M$149) -> 0
D29: 150 | E29: =SUMIF(Resa!$B$8:$B$165,D29,Resa!$M$8:$M$149) -> 0 | G29: 274 | H29: =SUMIF(Resa!$B$8:$B$165,G29,Resa!$M$8:$M$149) -> 0
D30: 152 | E30: =SUMIF(Resa!$B$8:$B$165,D30,Resa!$M$8:$M$149) -> 0 | G30: 275 | H30: =SUMIF(Resa!$B$8:$B$165,G30,Resa!$M$8:$M$149) -> 0
D31: 300 | E31: =SUMIF(Resa!$B$8:$B$165,D31,Resa!$M$8:$M$149) -> 0 | G31: 276 | H31: =SUMIF(Resa!$B$8:$B$165,G31,Resa!$M$8:$M$149) -> 0
B32: Nombre de Pax | G32: 277 | H32: =SUMIF(Resa!$B$8:$B$165,G32,Resa!$M$8:$M$149) -> 0
B33: =SUM(B5:B28)+SUM(E5:E31)+SUM(H5:H32) -> 0

Sheet Excu 8
A4: CABINE | B4: SORTIE | D4: CABINE | E4: SORTIE | G4: CABINE | H4: SORTIE
A5: 101 | B5: =SUMIF(Resa!$B$8:$B$165,A5,Resa!$N$8:$N$149) -> 0 | D5: 125 | E5: =SUMIF(Resa!$B$8:$B$165,D5,Resa!$N$8:$N$149) -> 0 | G5: 250 | H5: =SUMIF(Resa!$B$8:$B$165,G5,Resa!$N$8:$N$149) -> 0
A6: 102 | B6: =SUMIF(Resa!$B$8:$B$165,A6,Resa!$N$8:$N$149) -> 0 | D6: 126 | E6: =SUMIF(Resa!$B$8:$B$165,D6,Resa!$N$8:$N$149) -> 0 | G6: 251 | H6: =SUMIF(Resa!$B$8:$B$165,G6,Resa!$N$8:$N$149) -> 0
A7: 103 | B7: =SUMIF(Resa!$B$8:$B$165,A7,Resa!$N$8:$N$149) -> 0 | D7: 127 | E7: =SUMIF(Resa!$B$8:$B$165,D7,Resa!$N$8:$N$149) -> 0 | G7: 252 | H7: =SUMIF(Resa!$B$8:$B$165,G7,Resa!$N$8:$N$149) -> 0
A8: 104 | B8: =SUMIF(Resa!$B$8:$B$165,A8,Resa!$N$8:$N$149) -> 0 | D8: 128 | E8: =SUMIF(Resa!$B$8:$B$165,D8,Resa!$N$8:$N$149) -> 0 | G8: 253 | H8: =SUMIF(Resa!$B$8:$B$165,G8,Resa!$N$8:$N$149) -> 0
A9: 105 | B9: =SUMIF(Resa!$B$8:$B$165,A9,Resa!$N$8:$N$149) -> 0 | D9: 129 | E9: =SUMIF(Resa!$B$8:$B$165,D9,Resa!$N$8:$N$149) -> 0 | G9: 254 | H9: =SUMIF(Resa!$B$8:$B$165,G9,Resa!$N$8:$N$149) -> 0
A10: 106 | B10: =SUMIF(Resa!$B$8:$B$165,A10,Resa!$N$8:$N$149) -> 0 | D10: 130 | E10: =SUMIF(Resa!$B$8:$B$165,D10,Resa!$N$8:$N$149) -> 0 | G10: 255 | H10: =SUMIF(Resa!$B$8:$B$165,G10,Resa!$N$8:$N$149) -> 0
A11: 107 | B11: =SUMIF(Resa!$B$8:$B$165,A11,Resa!$N$8:$N$149) -> 0 | D11: 131 | E11: =SUMIF(Resa!$B$8:$B$165,D11,Resa!$N$8:$N$149) -> 0 | G11: 256 | H11: =SUMIF(Resa!$B$8:$B$165,G11,Resa!$N$8:$N$149) -> 0
A12: 108 | B12: =SUMIF(Resa!$B$8:$B$165,A12,Resa!$N$8:$N$149) -> 0 | D12: 132 | E12: =SUMIF(Resa!$B$8:$B$165,D12,Resa!$N$8:$N$149) -> 0 | G12: 257 | H12: =SUMIF(Resa!$B$8:$B$165,G12,Resa!$N$8:$N$149) -> 0
A13: 109 | B13: =SUMIF(Resa!$B$8:$B$165,A13,Resa!$N$8:$N$149) -> 0 | D13: 133 | E13: =SUMIF(Resa!$B$8:$B$165,D13,Resa!$N$8:$N$149) -> 0 | G13: 258 | H13: =SUMIF(Resa!$B$8:$B$165,G13,Resa!$N$8:$N$149) -> 0
A14: 110 | B14: =SUMIF(Resa!$B$8:$B$165,A14,Resa!$N$8:$N$149) -> 0 | D14: 134 | E14: =SUMIF(Resa!$B$8:$B$165,D14,Resa!$N$8:$N$149) -> 0 | G14: 259 | H14: =SUMIF(Resa!$B$8:$B$165,G14,Resa!$N$8:$N$149) -> 0
A15: 111 | B15: =SUMIF(Resa!$B$8:$B$165,A15,Resa!$N$8:$N$149) -> 0 | D15: 135 | E15: =SUMIF(Resa!$B$8:$B$165,D15,Resa!$N$8:$N$149) -> 0 | G15: 260 | H15: =SUMIF(Resa!$B$8:$B$165,G15,Resa!$N$8:$N$149) -> 0
A16: 112 | B16: =SUMIF(Resa!$B$8:$B$165,A16,Resa!$N$8:$N$149) -> 0 | D16: 136 | E16: =SUMIF(Resa!$B$8:$B$165,D16,Resa!$N$8:$N$149) -> 0 | G16: 261 | H16: =SUMIF(Resa!$B$8:$B$165,G16,Resa!$N$8:$N$149) -> 0
... A28: 124 | B28: =SUMIF(Resa!$B$8:$B$165,A28,Resa!$N$8:$N$149) -> 0 | D28: 148 | E28: =SUMIF(Resa!$B$8:$B$165,D28,Resa!$N$8:$N$149) -> 0 | G28: 273 | H28: =SUMIF(Resa!$B$8:$B$165,G28,Resa!$N$8:$N$149) -> 0
D29: 150 | E29: =SUMIF(Resa!$B$8:$B$165,D29,Resa!$N$8:$N$149) -> 0 | G29: 274 | H29: =SUMIF(Resa!$B$8:$B$165,G29,Resa!$N$8:$N$149) -> 0
D30: 152 | E30: =SUMIF(Resa!$B$8:$B$165,D30,Resa!$N$8:$N$149) -> 0 | G30: 275 | H30: =SUMIF(Resa!$B$8:$B$165,G30,Resa!$N$8:$N$149) -> 0
D31: 300 | E31: =SUMIF(Resa!$B$8:$B$165,D31,Resa!$N$8:$N$149) -> 0 | G31: 276 | H31: =SUMIF(Resa!$B$8:$B$165,G31,Resa!$N$8:$N$149) -> 0
B32: Nombre de Pax | G32: 277 | H32: =SUMIF(Resa!$B$8:$B$165,G32,Resa!$N$8:$N$149) -> 0
B33: =SUM(B5:B28)+SUM(E5:E31)+SUM(H5:H32) -> 0

Sheet Excu 9
A4: CABINE | B4: SORTIE | D4: CABINE | E4: SORTIE | G4: CABINE | H4: SORTIE
A5: 101 | B5: =SUMIF(Resa!$B$8:$B$165,A5,Resa!$O$8:$O$149) -> 0 | D5: 125 | E5: =SUMIF(Resa!$B$8:$B$165,D5,Resa!$O$8:$O$149) -> 0 | G5: 250 | H5: =SUMIF(Resa!$B$8:$B$165,G5,Resa!$O$8:$O$149) -> 0
A6: 102 | B6: =SUMIF(Resa!$B$8:$B$165,A6,Resa!$O$8:$O$149) -> 0 | D6: 126 | E6: =SUMIF(Resa!$B$8:$B$165,D6,Resa!$O$8:$O$149) -> 0 | G6: 251 | H6: =SUMIF(Resa!$B$8:$B$165,G6,Resa!$O$8:$O$149) -> 0
A7: 103 | B7: =SUMIF(Resa!$B$8:$B$165,A7,Resa!$O$8:$O$149) -> 0 | D7: 127 | E7: =SUMIF(Resa!$B$8:$B$165,D7,Resa!$O$8:$O$149) -> 0 | G7: 252 | H7: =SUMIF(Resa!$B$8:$B$165,G7,Resa!$O$8:$O$149) -> 0
A8: 104 | B8: =SUMIF(Resa!$B$8:$B$165,A8,Resa!$O$8:$O$149) -> 0 | D8: 128 | E8: =SUMIF(Resa!$B$8:$B$165,D8,Resa!$O$8:$O$149) -> 0 | G8: 253 | H8: =SUMIF(Resa!$B$8:$B$165,G8,Resa!$O$8:$O$149) -> 0
A9: 105 | B9: =SUMIF(Resa!$B$8:$B$165,A9,Resa!$O$8:$O$149) -> 0 | D9: 129 | E9: =SUMIF(Resa!$B$8:$B$165,D9,Resa!$O$8:$O$149) -> 0 | G9: 254 | H9: =SUMIF(Resa!$B$8:$B$165,G9,Resa!$O$8:$O$149) -> 0
A10: 106 | B10: =SUMIF(Resa!$B$8:$B$165,A10,Resa!$O$8:$O$149) -> 0 | D10: 130 | E10: =SUMIF(Resa!$B$8:$B$165,D10,Resa!$O$8:$O$149) -> 0 | G10: 255 | H10: =SUMIF(Resa!$B$8:$B$165,G10,Resa!$O$8:$O$149) -> 0
A11: 107 | B11: =SUMIF(Resa!$B$8:$B$165,A11,Resa!$O$8:$O$149) -> 0 | D11: 131 | E11: =SUMIF(Resa!$B$8:$B$165,D11,Resa!$O$8:$O$149) -> 0 | G11: 256 | H11: =SUMIF(Resa!$B$8:$B$165,G11,Resa!$O$8:$O$149) -> 0
A12: 108 | B12: =SUMIF(Resa!$B$8:$B$165,A12,Resa!$O$8:$O$149) -> 0 | D12: 132 | E12: =SUMIF(Resa!$B$8:$B$165,D12,Resa!$O$8:$O$149) -> 0 | G12: 257 | H12: =SUMIF(Resa!$B$8:$B$165,G12,Resa!$O$8:$O$149) -> 0
A13: 109 | B13: =SUMIF(Resa!$B$8:$B$165,A13,Resa!$O$8:$O$149) -> 0 | D13: 133 | E13: =SUMIF(Resa!$B$8:$B$165,D13,Resa!$O$8:$O$149) -> 0 | G13: 258 | H13: =SUMIF(Resa!$B$8:$B$165,G13,Resa!$O$8:$O$149) -> 0
A14: 110 | B14: =SUMIF(Resa!$B$8:$B$165,A14,Resa!$O$8:$O$149) -> 0 | D14: 134 | E14: =SUMIF(Resa!$B$8:$B$165,D14,Resa!$O$8:$O$149) -> 0 | G14: 259 | H14: =SUMIF(Resa!$B$8:$B$165,G14,Resa!$O$8:$O$149) -> 0
A15: 111 | B15: =SUMIF(Resa!$B$8:$B$165,A15,Resa!$O$8:$O$149) -> 0 | D15: 135 | E15: =SUMIF(Resa!$B$8:$B$165,D15,Resa!$O$8:$O$149) -> 0 | G15: 260 | H15: =SUMIF(Resa!$B$8:$B$165,G15,Resa!$O$8:$O$149) -> 0
A16: 112 | B16: =SUMIF(Resa!$B$8:$B$165,A16,Resa!$O$8:$O$149) -> 0 | D16: 136 | E16: =SUMIF(Resa!$B$8:$B$165,D16,Resa!$O$8:$O$149) -> 0 | G16: 261 | H16: =SUMIF(Resa!$B$8:$B$165,G16,Resa!$O$8:$O$149) -> 0
... A28: 124 | B28: =SUMIF(Resa!$B$8:$B$165,A28,Resa!$O$8:$O$149) -> 0 | D28: 148 | E28: =SUMIF(Resa!$B$8:$B$165,D28,Resa!$O$8:$O$149) -> 0 | G28: 273 | H28: =SUMIF(Resa!$B$8:$B$165,G28,Resa!$O$8:$O$149) -> 0
D29: 150 | E29: =SUMIF(Resa!$B$8:$B$165,D29,Resa!$O$8:$O$149) -> 0 | G29: 274 | H29: =SUMIF(Resa!$B$8:$B$165,G29,Resa!$O$8:$O$149) -> 0
D30: 152 | E30: =SUMIF(Resa!$B$8:$B$165,D30,Resa!$O$8:$O$149) -> 0 | G30: 275 | H30: =SUMIF(Resa!$B$8:$B$165,G30,Resa!$O$8:$O$149) -> 0
D31: 300 | E31: =SUMIF(Resa!$B$8:$B$165,D31,Resa!$O$8:$O$149) -> 0 | G31: 276 | H31: =SUMIF(Resa!$B$8:$B$165,G31,Resa!$O$8:$O$149) -> 0
B32: Nombre de Pax | G32: 277 | H32: =SUMIF(Resa!$B$8:$B$165,G32,Resa!$O$8:$O$149) -> 0
B33: =SUM(B5:B28)+SUM(E5:E31)+SUM(H5:H32) -> 0
