Workbook

Sheet Resa
B1: NOMS DES EXCURSIONS ==> | G1: QUANTITE | H1: CREMONE | I1: VERONE | J1: PADOUE | K1: CLA - DOGES | L1: MURANO BURANO | M1: OPTION FERRARI | N1: DYN - CASANOVA | O1: DYN - VERONE VELO | P1: TOTAL | Q1: € INC | R1: Payé | S1: TOTAL A PAYER
B2: DEPARTS EFFECTIFS | G2: 59 | H2: 65 | I2: 56
B3: FORFAITS PAR EXCU => | G3: 59 | H3: 65 | I3: 63 | J3: 63 | K3: 59 | L3: 55
B4: TOTAL FORFAITS + RESA A BORD | G4: =SUM(G8:G$149) -> 62 | H4: =SUM(H8:H$149) -> 69 | I4: =SUM(I8:I$149) -> 67 | J4: =SUM(J8:J$149) -> 67 | K4: =SUM(K8:K$149) -> 60 | L4: =SUM(L8:L$149) -> 58 | M4: =SUM(M8:M$149) -> 0 | N4: =SUM(N8:N$149) -> 0 | O4: =SUM(O8:O$149) -> 0 | R4: =SUM(R7:R144) -> 0 | S4: =SUM(S8:S149) -> 1706
B5: NB PAX RESA A BORD | G5: =SUM(G4-G3) -> 3 | H5: =SUM(H4-H3) -> 4 | I5: =SUM(I4-I3) -> 4 | J5: =SUM(J4-J3) -> 4 | K5: =SUM(K4-K3) -> 1 | L5: =SUM(L4-L3) -> 3 | M5: =SUM(M4-M3) -> 0 | N5: =SUM(N4-N3) -> 0 | O5: =SUM(O4-O3) -> 0
G6: 79 | H6: 140 | I6: 62 | J6: 86 | K6: 79 | L6: 53 | M6: 92 | N6: 79 | O6: 94
A7: GROUPES ? | B7: ROOM | C7: NOM | D7: PRENOM | E7: NAT
A8: 1 | B8: 111 | C8: HONERUD | D8: BJØRG | E8: NO | F8: ESCAPE NO | G8: 1 | H8: 1 | J8: 1 | P8: =$G$6*G8+$N$6*N8+$H$6*H8+$O$6*O8+$I$6*I8+$M$6*M8+$K$6*K8+$J$6*J8+$L$6*L8 -> 305 | Q8: 305 | S8: =P8-(Q8+R8) -> 0
A9: 1 | B9: 111 | C9: PEDERSEN | D9: LEONHARD | E9: NO | F9: ESCAPE NO | G9: 1 | H9: 1 | J9: 1 | P9: =$G$6*G9+$N$6*N9+$H$6*H9+$O$6*O9+$I$6*I9+$M$6*M9+$K$6*K9+$J$6*J9+$L$6*L9 -> 305 | Q9: 305 | S9: =P9-(Q9+R9) -> 0
A10: 1 | B10: 113 | C10: RUUD | D10: ASTRID ELISABETH | E10: NO | F10: ESCAPE NO | G10: 1 | H10: 1 | I10: 1 | J10: 1 | K10: 1 | L10: 1 | P10: =$G$6*G10+$N$6*N10+$H$6*H10+$O$6*O10+$I$6*I10+$M$6*M10+$K$6*K10+$J$6*J10+$L$6*L10 -> 499 | Q10: 499 | S10: =P10-(Q10+R10) -> 0
A11: 1 | B11: 115 | C11: FJELDVIK | D11: AASELILL | E11: NO | F11: ESCAPE NO | G11: 1 | H11: 1 | I11: 1 | J11: 1 | K11: 1 | L11: 1 | P11: =$G$6*G11+$N$6*N11+$H$6*H11+$O$6*O11+$I$6*I11+$M$6*M11+$K$6*K11+$J$6*J11+$L$6*L11 -> 499 | Q11: 499 | S11: =P11-(Q11+R11) -> 0
A12: 1 | B12: 115 | C12: HANSEN | D12: PER BORGER | E12: NO | F12: ESCAPE NO | G12: 1 | H12: 1 | I12: 1 | J12: 1 | K12: 1 | L12: 1 | P12: =$G$6*G12+$N$6*N12+$H$6*H12+$O$6*O12+$I$6*I12+$M$6*M12+$K$6*K12+$J$6*J12+$L$6*L12 -> 499 | Q12: 499 | S12: =P12-(Q12+R12) -> 0
A13: 1 | B13: 116 | C13: WÆRVÅGEN | D13: HANS PETTER | E13: NO | F13: ESCAPE NO | G13: 1 | H13: 1 | I13: 1 | J13: 1 | K13: 1 | L13: 1 | P13: =$G$6*G13+$N$6*N13+$H$6*H13+$O$6*O13+$I$6*I13+$M$6*M13+$K$6*K13+$J$6*J13+$L$6*L13 -> 499 | Q13: 499 | S13: =P13-(Q13+R13) -> 0
A14: 1 | B14: 116 | C14: WÆRVÅGEN | D14: LINDA CAROL | E14: NO | F14: ESCAPE NO | G14: 1 | H14: 1 | I14: 1 | J14: 1 | K14: 1 | L14: 1 | P14: =$G$6*G14+$N$6*N14+$H$6*H14+$O$6*O14+$I$6*I14+$M$6*M14+$K$6*K14+$J$6*J14+$L$6*L14 -> 499 | Q14: 499 | S14: =P14-(Q14+R14) -> 0
A15: 1 | B15: 117 | C15: INGEBRIGTSEN | D15: KARI-ELIN | E15: NO | F15: ESCAPE NO | G15: 1 | H15: 1 | J15: 1 | P15: =$G$6*G15+$N$6*N15+$H$6*H15+$O$6*O15+$I$6*I15+$M$6*M15+$K$6*K15+$J$6*J15+$L$6*L15 -> 305 | Q15: 305 | S15: =P15-(Q15+R15) -> 0
A16: 1 | B16: 117 | C16: RYDLAND | D16: ODD | E16: NO | F16: ESCAPE NO | G16: 1 | H16: 1 | J16: 1 | P16: =$G$6*G16+$N$6*N16+$H$6*H16+$O$6*O16+$I$6*I16+$M$6*M16+$K$6*K16+$J$6*J16+$L$6*L16 -> 305 | Q16: 305 | S16: =P16-(Q16+R16) -> 0
A17: 2 | B17: 118 | C17: NYMOEN | D17: ODD MAGNAR | E17: NO | F17: ESCAPE NO | I17: 1 | P17: =$G$6*G17+$N$6*N17+$H$6*H17+$O$6*O17+$I$6*I17+$M$6*M17+$K$6*K17+$J$6*J17+$L$6*L17 -> 62 | Q17: 62 | S17: =P17-(Q17+R17) -> 0
A18: 2 | B18: 118 | C18: SIMONSEN | D18: MERETE CISILIE | E18: NO | F18: ESCAPE NO | I18: 1 | P18: =$G$6*G18+$N$6*N18+$H$6*H18+$O$6*O18+$I$6*I18+$M$6*M18+$K$6*K18+$J$6*J18+$L$6*L18 -> 62 | Q18: 62 | S18: =P18-(Q18+R18) -> 0
A19: 2 | B19: 121 | C19: BERGSTEN | D19: JAN | E19: SE | F19: ESCAPE SE | K19: 1 | L19: 1 | P19: =$G$6*G19+$N$6*N19+$H$6*H19+$O$6*O19+$I$6*I19+$M$6*M19+$K$6*K19+$J$6*J19+$L$6*L19 -> 132 | Q19: 0 | S19: =P19-(Q19+R19) -> 132
A20: 2 | B20: 122 | C20: PLATOU | D20: CHRISTINA TL | E20: SE | F20: ESCAPE SE | G20: 1 | H20: 1 | I20: 1 | J20: 1 | K20: 1 | L20: 1 | P20: =$G$6*G20+$N$6*N20+$H$6*H20+$O$6*O20+$I$6*I20+$M$6*M20+$K$6*K20+$J$6*J20+$L$6*L20 -> 499 | Q20: 499 | S20: =P20-(Q20+R20) -> 0
A21: 2 | B21: 123 | C21: BRYNILDSEN | D21: ULF TL | E21: NO | F21: ESCAPE NO | G21: 1 | H21: 1 | I21: 1 | J21: 1 | K21: 1 | L21: 1 | P21: =$G$6*G21+$N$6*N21+$H$6*H21+$O$6*O21+$I$6*I21+$M$6*M21+$K$6*K21+$J$6*J21+$L$6*L21 -> 499 | Q21: 499 | S21: =P21-(Q21+R21) -> 0
A22: 2 | B22: 124 | C22: MARRAFFA | D22: NOEL | E22: FR | H22: 1 | J22: 1 | P22: =$G$6*G22+$N$6*N22+$H$6*H22+$O$6*O22+$I$6*I22+$M$6*M22+$K$6*K22+$J$6*J22+$L$6*L22 -> 226 | Q22: 226 | S22: =P22-(Q22+R22) -> 0
A23: 2 | B23: 124 | C23: MOUTON MARRAFA | D23: MIREILLE | E23: FR | H23: 1 | J23: 1 | P23: =$G$6*G23+$N$6*N23+$H$6*H23+$O$6*O23+$I$6*I23+$M$6*M23+$K$6*K23+$J$6*J23+$L$6*L23 -> 226 | Q23: 226 | S23: =P23-(Q23+R23) -> 0
A24: 2 | B24: 125 | C24: BÄCKLUND | D24: ERIK GUSTAV | E24: NO | F24: ESCAPE SE | G24: 1 | H24: 1 | I24: 1 | J24: 1 | K24: 1 | L24: 1 | P24: =$G$6*G24+$N$6*N24+$H$6*H24+$O$6*O24+$I$6*I24+$M$6*M24+$K$6*K24+$J$6*J24+$L$6*L24 -> 499 | Q24: 499 | S24: =P24-(Q24+R24) -> 0
A25: 2 | B25: 125 | C25: LUNDMARK | D25: RUT MONICA | E25: NO | F25: ESCAPE SE | H25: 1 | I25: 1 | J25: 1 | K25: 1 | L25: 1 | P25: =$G$6*G25+$N$6*N25+$H$6*H25+$O$6*O25+$I$6*I25+$M$6*M25+$K$6*K25+$J$6*J25+$L$6*L25 -> 420 | Q25: 420 | S25: =P25-(Q25+R25) -> 0
A26: 2 | B26: 127 | C26: HAMRE | D26: LIV TURID | E26: NO | F26: ESCAPE NO | G26: 1 | H26: 1 | I26: 1 | J26: 1 | K26: 1 | L26: 1 | P26: =$G$6*G26+$N$6*N26+$H$6*H26+$O$6*O26+$I$6*I26+$M$6*M26+$K$6*K26+$J$6*J26+$L$6*L26 -> 499 | Q26: 499 | S26: =P26-(Q26+R26) -> 0
A27: 2 | B27: 128 | C27: TOQUE VVE. COUSIN | D27: GISELE | E27: FR | G27: 1 | H27: 1 | I27: 1 | J27: 1 | K27: 1 | L27: 1 | P27: =$G$6*G27+$N$6*N27+$H$6*H27+$O$6*O27+$I$6*I27+$M$6*M27+$K$6*K27+$J$6*J27+$L$6*L27 -> 499 | Q27: 499 | S27: =P27-(Q27+R27) -> 0
A28: 2 | B28: 129 | C28: ØRNHAUG | D28: ELLINOR | E28: NO | F28: ESCAPE NO | G28: 1 | H28: 1 | I28: 1 | J28: 1 | K28: 1 | L28: 1 | P28: =$G$6*G28+$N$6*N28+$H$6*H28+$O$6*O28+$I$6*I28+$M$6*M28+$K$6*K28+$J$6*J28+$L$6*L28 -> 499 | Q28: 499 | S28: =P28-(Q28+R28) -> 0
A29: 2 | B29: 129 | C29: ØRNHAUG | D29: BJØRNULF | E29: NO | F29: ESCAPE NO | G29: 1 | H29: 1 | I29: 1 | J29: 1 | K29: 1 | L29: 1 | P29: =$G$6*G29+$N$6*N29+$H$6*H29+$O$6*O29+$I$6*I29+$M$6*M29+$K$6*K29+$J$6*J29+$L$6*L29 -> 499 | Q29: 499 | S29: =P29-(Q29+R29) -> 0
A30: 2 | B30: 130 | C30: DARGENT EP. MONGREDIEN | D30: JOCELYNE | E30: FR | G30: 1 | H30: 1 | I30: 1 | J30: 1 | K30: 1 | L30: 1 | P30: =$G$6*G30+$N$6*N30+$H$6*H30+$O$6*O30+$I$6*I30+$M$6*M30+$K$6*K30+$J$6*J30+$L$6*L30 -> 499 | Q30: 499 | S30: =P30-(Q30+R30) -> 0
A31: 2 | B31: 132 | C31: CREPIN | D31: ETIENNETTE | E31: FR | G31: 1 | H31: 1 | I31: 1 | J31: 1 | K31: 1 | L31: 1 | P31: =$G$6*G31+$N$6*N31+$H$6*H31+$O$6*O31+$I$6*I31+$M$6*M31+$K$6*K31+$J$6*J31+$L$6*L31 -> 499 | Q31: 499 | S31: =P31-(Q31+R31) -> 0
A32: 2 | B32: 132 | C32: SMAGGHE | D32: JACQUELINE | E32: FR | G32: 1 | H32: 1 | I32: 1 | J32: 1 | K32: 1 | L32: 1 | P32: =$G$6*G32+$N$6*N32+$H$6*H32+$O$6*O32+$I$6*I32+$M$6*M32+$K$6*K32+$J$6*J32+$L$6*L32 -> 499 | Q32: 499 | S32: =P32-(Q32+R32) -> 0
A33: 2 | B33: 135 | C33: OHNO | D33: KATHARINE | E33: GB | G33: 1 | H33: 1 | J33: 1 | P33: =$G$6*G33+$N$6*N33+$H$6*H33+$O$6*O33+$I$6*I33+$M$6*M33+$K$6*K33+$J$6*J33+$L$6*L33 -> 305 | Q33: 0 | S33: =P33-(Q33+R33) -> 305
A34: 2 | B34: 135 | C34: OLDFIELD | D34: HELEN | E34: GB | G34: 1 | H34: 1 | J34: 1 | P34: =$G$6*G34+$N$6*N34+$H$6*H34+$O$6*O34+$I$6*I34+$M$6*M34+$K$6*K34+$J$6*J34+$L$6*L34 -> 305 | Q34: 0 | S34: =P34-(Q34+R34) -> 305
A35: 2 | B35: 137 | C35: FLEW | D35: VIRGINIA | E35: GB | G35: 1 | H35: 1 | J35: 1 | P35: =$G$6*G35+$N$6*N35+$H$6*H35+$O$6*O35+$I$6*I35+$M$6*M35+$K$6*K35+$J$6*J35+$L$6*L35 -> 305 | Q35: 0 | S35: =P35-(Q35+R35) -> 305
A36: 2 | B36: 137 | C36: RAINE | D36: ELISABETH ANN ISABEL | E36: GB | G36: 1 | H36: 1 | J36: 1 | P36: =$G$6*G36+$N$6*N36+$H$6*H36+$O$6*O36+$I$6*I36+$M$6*M36+$K$6*K36+$J$6*J36+$L$6*L36 -> 305 | Q36: 0 | S36: =P36-(Q36+R36) -> 305
A37: 2 | B37: 140 | C37: KONDRATIEVA | D37: TAMARA | E37: FR | G37: 1 | H37: 1 | I37: 1 | J37: 1 | K37: 1 | L37: 1 | P37: =$G$6*G37+$N$6*N37+$H$6*H37+$O$6*O37+$I$6*I37+$M$6*M37+$K$6*K37+$J$6*J37+$L$6*L37 -> 499 | Q37: 384 | S37: =P37-(Q37+R37) -> 115
A38: 2 | B38: 141 | C38: GLADYCHEVA EP. LASSERRE | D38: TATIANA | E38: FR | G38: 1 | H38: 1 | I38: 1 | J38: 1 | K38: 1 | L38: 1 | P38: =$G$6*G38+$N$6*N38+$H$6*H38+$O$6*O38+$I$6*I38+$M$6*M38+$K$6*K38+$J$6*J38+$L$6*L38 -> 499 | Q38: 384 | S38: =P38-(Q38+R38) -> 115
A39: 2 | B39: 250 | C39: KARLSSON | D39: LORD KENNETH GUNNAR | E39: SE | F39: ESCAPE SE | G39: 1 | H39: 1 | I39: 1 | J39: 1 | K39: 1 | L39: 1 | P39: =$G$6*G39+$N$6*N39+$H$6*H39+$O$6*O39+$I$6*I39+$M$6*M39+$K$6*K39+$J$6*J39+$L$6*L39 -> 499 | Q39: 499 | S39: =P39-(Q39+R39) -> 0
A40: 2 | B40: 250 | C40: KARLSSON | D40: LADY MARGARETA | E40: SE | F40: ESCAPE SE | G40: 1 | H40: 1 | I40: 1 | J40: 1 | K40: 1 | L40: 1 | P40: =$G$6*G40+$N$6*N40+$H$6*H40+$O$6*O40+$I$6*I40+$M$6*M40+$K$6*K40+$J$6*J40+$L$6*L40 -> 499 | Q40: 499 | S40: =P40-(Q40+R40) -> 0
...

Sheet Excel 365
B1: Excel 365 | F1: Excel 365 Insider
B2: Formules dynamiques : Room et Qté | F2: Formule unique et dynamique pour l'entièreté du tableau
B4: Room | C4: Qté | D4: Groupe | F4: {=_xlfn.LET( _xlpm.pr_,_xlfn.UNIQUE(Resa!B8:B88*1), _xlfn.VSTACK(_xlfn.HSTACK("Room","Quantité","Groupe"),_xlfn.HSTACK(_xlpm.pr_,_xlfn.BYROW(_xlpm.pr_,_xlfn.LAMBDA(_xlpm.r,SUMIFS(Resa!$G$8:$G$88,Resa!$B$8:$B$88,_xlpm.r))),_xlfn.BYROW(_xlpm.pr_,_xlfn.LAMBDA(_xlpm.r,"Groupe " & _xlfn.TEXTJOIN(" - ",1,_xlfn.UNIQUE(_xlfn._xlws.FILTER(Resa!$A$8:$A$88,Resa!$B$8:$B$88*1=_xlpm.r))))))) )} -> Room | G4: Quantité | H4: Groupe
B5: {=_xlfn.UNIQUE(Resa!B8:B88*1)} -> 111 | C5: {=SUMIFS(Resa!$G$8:$G$88,Resa!$B$8:$B$88,_xlfn.ANCHORARRAY(B5))} -> 2 | D5: {="Groupe " & _xlfn.TEXTJOIN(" - ",1,_xlfn.UNIQUE(_xlfn._xlws.FILTER(Resa!$A$8:$A$88,Resa!$B$8:$B$88*1=B5)))} -> Groupe 1 | F5: 111 | G5: 2 | H5: Groupe 1
B6: 113 | C6: 1 | D6: {="Groupe " & _xlfn.TEXTJOIN(" - ",1,_xlfn.UNIQUE(_xlfn._xlws.FILTER(Resa!$A$8:$A$88,Resa!$B$8:$B$88*1=B6)))} -> Groupe 1 | F6: 113 | G6: 1 | H6: Groupe 1
B7: 115 | C7: 2 | D7: {="Groupe " & _xlfn.TEXTJOIN(" - ",1,_xlfn.UNIQUE(_xlfn._xlws.FILTER(Resa!$A$8:$A$88,Resa!$B$8:$B$88*1=B7)))} -> Groupe 1 | F7: 115 | G7: 2 | H7: Groupe 1
B8: 116 | C8: 2 | D8: {="Groupe " & _xlfn.TEXTJOIN(" - ",1,_xlfn.UNIQUE(_xlfn._xlws.FILTER(Resa!$A$8:$A$88,Resa!$B$8:$B$88*1=B8)))} -> Groupe 1 | F8: 116 | G8: 2 | H8: Groupe 1
B9: 117 | C9: 2 | D9: {="Groupe " & _xlfn.TEXTJOIN(" - ",1,_xlfn.UNIQUE(_xlfn._xlws.FILTER(Resa!$A$8:$A$88,Resa!$B$8:$B$88*1=B9)))} -> Groupe 1 | F9: 117 | G9: 2 | H9: Groupe 1
B10: 118 | C10: 0 | D10: {="Groupe " & _xlfn.TEXTJOIN(" - ",1,_xlfn.UNIQUE(_xlfn._xlws.FILTER(Resa!$A$8:$A$88,Resa!$B$8:$B$88*1=B10)))} -> Groupe 2 | F10: 118 | G10: 0 | H10: Groupe 2
B11: 121 | C11: 0 | D11: {="Groupe " & _xlfn.TEXTJOIN(" - ",1,_xlfn.UNIQUE(_xlfn._xlws.FILTER(Resa!$A$8:$A$88,Resa!$B$8:$B$88*1=B11)))} -> Groupe 2 | F11: 121 | G11: 0 | H11: Groupe 2
B12: 122 | C12: 1 | D12: {="Groupe " & _xlfn.TEXTJOIN(" - ",1,_xlfn.UNIQUE(_xlfn._xlws.FILTER(Resa!$A$8:$A$88,Resa!$B$8:$B$88*1=B12)))} -> Groupe 2 | F12: 122 | G12: 1 | H12: Groupe 2
B13: 123 | C13: 1 | D13: {="Groupe " & _xlfn.TEXTJOIN(" - ",1,_xlfn.UNIQUE(_xlfn._xlws.FILTER(Resa!$A$8:$A$88,Resa!$B$8:$B$88*1=B13)))} -> Groupe 2 | F13: 123 | G13: 1 | H13: Groupe 2
B14: 124 | C14: 0 | D14: {="Groupe " & _xlfn.TEXTJOIN(" - ",1,_xlfn.UNIQUE(_xlfn._xlws.FILTER(Resa!$A$8:$A$88,Resa!$B$8:$B$88*1=B14)))} -> Groupe 2 | F14: 124 | G14: 0 | H14: Groupe 2
B15: 125 | C15: 1 | D15: {="Groupe " & _xlfn.TEXTJOIN(" - ",1,_xlfn.UNIQUE(_xlfn._xlws.FILTER(Resa!$A$8:$A$88,Resa!$B$8:$B$88*1=B15)))} -> Groupe 2 | F15: 125 | G15: 1 | H15: Groupe 2
B16: 127 | C16: 1 | D16: {="Groupe " & _xlfn.TEXTJOIN(" - ",1,_xlfn.UNIQUE(_xlfn._xlws.FILTER(Resa!$A$8:$A$88,Resa!$B$8:$B$88*1=B16)))} -> Groupe 2 | F16: 127 | G16: 1 | H16: Groupe 2
B17: 128 | C17: 1 | D17: {="Groupe " & _xlfn.TEXTJOIN(" - ",1,_xlfn.UNIQUE(_xlfn._xlws.FILTER(Resa!$A$8:$A$88,Resa!$B$8:$B$88*1=B17)))} -> Groupe 2 | F17: 128 | G17: 1 | H17: Groupe 2
... B51: 300 | C51: 2 | D51: {="Groupe " & _xlfn.TEXTJOIN(" - ",1,_xlfn.UNIQUE(_xlfn._xlws.FILTER(Resa!$A$8:$A$88,Resa!$B$8:$B$88*1=B51)))} -> Groupe 1 | F51: 300 | G51: 2 | H51: Groupe 1

Sheet FEUILLE TEST
A1: CABINE | B1: # | C1: GROUPES | E1: CABINE | F1: # | G1: GROUPES | I1: CABINE | J1: # | K1: GROUPES
A2: 101 | B2: =IF(A2="","",SUMIF(Resa!$B$8:$B$165,A2,Resa!$H$8:$H$149)) -> 0 | C2: =IF(A2="","",VLOOKUP(A2,Resa!A8:D149,4,0)) -> #N/A | E2: 125 | F2: =IF(E2="","",SUMIF(Resa!$B$8:$B$165,E2,Resa!$H$8:$H$149)) -> 2 | G2: =IF(E2="","",VLOOKUP(E2,Resa!E8:J149,4,0)) -> #N/A | I2: 250 | J2: =IF(I2="","",SUMIF(Resa!$B$8:$B$165,I2,Resa!$H$8:$H$149)) -> 2 | K2: =IF(I2="","",VLOOKUP(I2,Resa!I8:N149,4,0)) -> #N/A
A3: 102 | B3: =IF(A3="","",SUMIF(Resa!$B$8:$B$165,A3,Resa!$H$8:$H$149)) -> 0 | C3: =IF(A3="","",VLOOKUP(A3,Resa!A9:D150,4,0)) -> #N/A | E3: 126 | F3: =IF(E3="","",SUMIF(Resa!$B$8:$B$165,E3,Resa!$H$8:$H$149)) -> 0 | G3: =IF(E3="","",VLOOKUP(E3,Resa!E9:J150,4,0)) -> #N/A | I3: 251 | J3: =IF(I3="","",SUMIF(Resa!$B$8:$B$165,I3,Resa!$H$8:$H$149)) -> 0 | K3: =IF(I3="","",VLOOKUP(I3,Resa!I9:N150,4,0)) -> #N/A
A4: 103 | B4: =IF(A4="","",SUMIF(Resa!$B$8:$B$165,A4,Resa!$H$8:$H$149)) -> 0 | C4: =IF(A4="","",VLOOKUP(A4,Resa!A10:D151,4,0)) -> #N/A | E4: 127 | F4: =IF(E4="","",SUMIF(Resa!$B$8:$B$165,E4,Resa!$H$8:$H$149)) -> 1 | G4: =IF(E4="","",VLOOKUP(E4,Resa!E10:J151,4,0)) -> #N/A | I4: 252 | J4: =IF(I4="","",SUMIF(Resa!$B$8:$B$165,I4,Resa!$H$8:$H$149)) -> 2 | K4: =IF(I4="","",VLOOKUP(I4,Resa!I10:N151,4,0)) -> #N/A
A5: 104 | B5: =IF(A5="","",SUMIF(Resa!$B$8:$B$165,A5,Resa!$H$8:$H$149)) -> 0 | C5: =IF(A5="","",VLOOKUP(A5,Resa!A11:D152,4,0)) -> #N/A | E5: 128 | F5: =IF(E5="","",SUMIF(Resa!$B$8:$B$165,E5,Resa!$H$8:$H$149)) -> 1 | G5: =IF(E5="","",VLOOKUP(E5,Resa!E11:J152,4,0)) -> #N/A | I5: 253 | J5: =IF(I5="","",SUMIF(Resa!$B$8:$B$165,I5,Resa!$H$8:$H$149)) -> 2 | K5: =IF(I5="","",VLOOKUP(I5,Resa!I11:N152,4,0)) -> #N/A
A6: 105 | B6: =IF(A6="","",SUMIF(Resa!$B$8:$B$165,A6,Resa!$H$8:$H$149)) -> 0 | C6: =IF(A6="","",VLOOKUP(A6,Resa!A12:D153,4,0)) -> #N/A | E6: 129 | F6: =IF(E6="","",SUMIF(Resa!$B$8:$B$165,E6,Resa!$H$8:$H$149)) -> 2 | G6: =IF(E6="","",VLOOKUP(E6,Resa!E12:J153,4,0)) -> #N/A | I6: 254 | J6: =IF(I6="","",SUMIF(Resa!$B$8:$B$165,I6,Resa!$H$8:$H$149)) -> 2 | K6: =IF(I6="","",VLOOKUP(I6,Resa!I12:N153,4,0)) -> #N/A
A7: 106 | B7: =IF(A7="","",SUMIF(Resa!$B$8:$B$165,A7,Resa!$H$8:$H$149)) -> 0 | C7: =IF(A7="","",VLOOKUP(A7,Resa!A13:D154,4,0)) -> #N/A | E7: 130 | F7: =IF(E7="","",SUMIF(Resa!$B$8:$B$165,E7,Resa!$H$8:$H$149)) -> 1 | G7: =IF(E7="","",VLOOKUP(E7,Resa!E13:J154,4,0)) -> #N/A | I7: 255 | J7: =IF(I7="","",SUMIF(Resa!$B$8:$B$165,I7,Resa!$H$8:$H$149)) -> 2 | K7: =IF(I7="","",VLOOKUP(I7,Resa!I13:N154,4,0)) -> #N/A
A8: 107 | B8: =IF(A8="","",SUMIF(Resa!$B$8:$B$165,A8,Resa!$H$8:$H$149)) -> 0 | C8: =IF(A8="","",VLOOKUP(A8,Resa!A14:D155,4,0)) -> #N/A | E8: 131 | F8: =IF(E8="","",SUMIF(Resa!$B$8:$B$165,E8,Resa!$H$8:$H$149)) -> 0 | G8: =IF(E8="","",VLOOKUP(E8,Resa!E14:J155,4,0)) -> #N/A | I8: 256 | J8: =IF(I8="","",SUMIF(Resa!$B$8:$B$165,I8,Resa!$H$8:$H$149)) -> 2 | K8: =IF(I8="","",VLOOKUP(I8,Resa!I14:N155,4,0)) -> #N/A
A9: 108 | B9: =IF(A9="","",SUMIF(Resa!$B$8:$B$165,A9,Resa!$H$8:$H$149)) -> 0 | C9: =IF(A9="","",VLOOKUP(A9,Resa!A15:D156,4,0)) -> #N/A | E9: 132 | F9: =IF(E9="","",SUMIF(Resa!$B$8:$B$165,E9,Resa!$H$8:$H$149)) -> 2 | G9: =IF(E9="","",VLOOKUP(E9,Resa!E15:J156,4,0)) -> #N/A | I9: 257 | J9: =IF(I9="","",SUMIF(Resa!$B$8:$B$165,I9,Resa!$H$8:$H$149)) -> 0 | K9: =IF(I9="","",VLOOKUP(I9,Resa!I15:N156,4,0)) -> #N/A
A10: 109 | B10: =IF(A10="","",SUMIF(Resa!$B$8:$B$165,A10,Resa!$H$8:$H$149)) -> 0 | C10: =IF(A10="","",VLOOKUP(A10,Resa!A16:D157,4,0)) -> #N/A | E10: 133 | F10: =IF(E10="","",SUMIF(Resa!$B$8:$B$165,E10,Resa!$H$8:$H$149)) -> 0 | G10: =IF(E10="","",VLOOKUP(E10,Resa!E16:J157,4,0)) -> #N/A | I10: 258 | J10: =IF(I10="","",SUMIF(Resa!$B$8:$B$165,I10,Resa!$H$8:$H$149)) -> 0 | K10: =IF(I10="","",VLOOKUP(I10,Resa!I16:N157,4,0)) -> #N/A
A11: 110 | B11: =IF(A11="","",SUMIF(Resa!$B$8:$B$165,A11,Resa!$H$8:$H$149)) -> 0 | C11: =IF(A11="","",VLOOKUP(A11,Resa!A17:D158,4,0)) -> #N/A | E11: 134 | F11: =IF(E11="","",SUMIF(Resa!$B$8:$B$165,E11,Resa!$H$8:$H$149)) -> 0 | G11: =IF(E11="","",VLOOKUP(E11,Resa!E17:J158,4,0)) -> #N/A | I11: 259 | J11: =IF(I11="","",SUMIF(Resa!$B$8:$B$165,I11,Resa!$H$8:$H$149)) -> 0 | K11: =IF(I11="","",VLOOKUP(I11,Resa!I17:N158,4,0)) -> #N/A
A12: 111 | B12: =IF(A12="","",SUMIF(Resa!$B$8:$B$165,A12,Resa!$H$8:$H$149)) -> 2 | C12: =IF(A12="","",VLOOKUP(A12,Resa!A18:D159,4,0)) -> #N/A | E12: 135 | F12: =IF(E12="","",SUMIF(Resa!$B$8:$B$165,E12,Resa!$H$8:$H$149)) -> 2 | G12: =IF(E12="","",VLOOKUP(E12,Resa!E18:J159,4,0)) -> #N/A | I12: 260 | J12: =IF(I12="","",SUMIF(Resa!$B$8:$B$165,I12,Resa!$H$8:$H$149)) -> 2 | K12: =IF(I12="","",VLOOKUP(I12,Resa!I18:N159,4,0)) -> #N/A
A13: 112 | B13: =IF(A13="","",SUMIF(Resa!$B$8:$B$165,A13,Resa!$H$8:$H$149)) -> 0 | C13: =IF(A13="","",VLOOKUP(A13,Resa!A19:D160,4,0)) -> #N/A | E13: 136 | F13: =IF(E13="","",SUMIF(Resa!$B$8:$B$165,E13,Resa!$H$8:$H$149)) -> 0 | G13: =IF(E13="","",VLOOKUP(E13,Resa!E19:J160,4,0)) -> #N/A | I13: 261 | J13: =IF(I13="","",SUMIF(Resa!$B$8:$B$165,I13,Resa!$H$8:$H$149)) -> 2 | K13: =IF(I13="","",VLOOKUP(I13,Resa!I19:N160,4,0)) -> #N/A
... A25: 124 | B25: =IF(A25="","",SUMIF(Resa!$B$8:$B$165,A25,Resa!$H$8:$H$149)) -> 2 | C25: =IF(A25="","",VLOOKUP(A25,Resa!A31:D172,4,0)) -> #N/A | E25: 148 | F25: =IF(E25="","",SUMIF(Resa!$B$8:$B$165,E25,Resa!$H$8:$H$149)) -> 0 | G25: =IF(E25="","",VLOOKUP(E25,Resa!E31:J172,4,0)) -> #N/A | I25: 273 | J25: =IF(I25="","",SUMIF(Resa!$B$8:$B$165,I25,Resa!$H$8:$H$149)) -> 1 | K25: =IF(I25="","",VLOOKUP(I25,Resa!I31:N172,4,0)) -> #N/A
E26: 150 | F26: =IF(E26="","",SUMIF(Resa!$B$8:$B$165,E26,Resa!$H$8:$H$149)) -> 0 | G26: =IF(E26="","",VLOOKUP(E26,Resa!E32:J173,4,0)) -> #N/A | I26: 274 | J26: =IF(I26="","",SUMIF(Resa!$B$8:$B$165,I26,Resa!$H$8:$H$149)) -> 2 | K26: =IF(I26="","",VLOOKUP(I26,Resa!I32:N173,4,0)) -> #N/A
E27: 152 | F27: =IF(E27="","",SUMIF(Resa!$B$8:$B$165,E27,Resa!$H$8:$H$149)) -> 0 | G27: =IF(E27="","",VLOOKUP(E27,Resa!E33:J174,4,0)) -> #N/A | I27: 275 | J27: =IF(I27="","",SUMIF(Resa!$B$8:$B$165,I27,Resa!$H$8:$H$149)) -> 1 | K27: =IF(I27="","",VLOOKUP(I27,Resa!I33:N174,4,0)) -> #N/A
E28: 300 | F28: =IF(E28="","",SUMIF(Resa!$B$8:$B$165,E28,Resa!$H$8:$H$149)) -> 2 | G28: =IF(E28="","",VLOOKUP(E28,Resa!E34:J175,4,0)) -> #N/A | I28: 276 | J28: =IF(I28="","",SUMIF(Resa!$B$8:$B$165,I28,Resa!$H$8:$H$149)) -> 0 | K28: =IF(I28="","",VLOOKUP(I28,Resa!I34:N175,4,0)) -> #N/A
I29: 277 | J29: =IF(I29="","",SUMIF(Resa!$B$8:$B$165,I29,Resa!$H$8:$H$149)) -> 2 | K29: =IF(I29="","",VLOOKUP(I29,Resa!I35:N176,4,0)) -> #N/A

Sheet LANGUES
A1: TOTAL LANGUES pour COMMANDES GUIDES | M1: TOTAL PAR GROUPES pour COMMANDES GUIDES
B10: MANTOUE | C10: CREMONE | D10: CLA - VERONE | E10: PADOUE | F10: CLA - DOGES | G10: MURANO BURANO | H10: OPTION FERRARI | I10: DYN - CASANOVA | J10: DYN - VERONE VELO | N10: MANTOUE | O10: CREMONE | P10: CLA - VERONE | Q10: CLA - VERONE | R10: CLA - DOGES | S10: MURANO BURANO | T10: OPTION FERRARI | U10: DYN - CASANOVA | V10: DYN - VERONE VELO
A11: FR | B11: =Resa!G$161 -> 22 | C11: =Resa!H$161 -> 26 | D11: =Resa!I$161 -> 24 | E11: =Resa!J$161 -> 24 | F11: =Resa!K$161 -> 24 | G11: =Resa!L$161 -> 24 | H11: =Resa!M$161 -> 0 | I11: =Resa!N$161 -> 0 | J11: =Resa!O$161 -> 0 | M11: BUCHARD | N11: =COUNTIFS(Resa!$F$8:$F$149,$M$11,Resa!K$8:K$149,"1") -> 0 | O11: =COUNTIFS(Resa!$F$8:$F$149,$M$11,Resa!L$8:L$149,"1") -> 0 | P11: =COUNTIFS(Resa!$F$8:$F$149,$M$11,Resa!I$8:I$149,"1") -> 0 | Q11: =COUNTIFS(Resa!$F$8:$F$149,$M$11,Resa!J$8:J$149,"1") -> 0 | R11: =COUNTIFS(Resa!$F$8:$F$149,$M$11,Resa!G$8:G$149,"1") -> 0 | S11: =COUNTIFS(Resa!$F$8:$F$149,$M$11,Resa!H$8:H$149,"1") -> 0 | T11: =COUNTIFS(Resa!$F$8:$F$149,$M$11,Resa!M$8:M$149,"1") -> 0 | U11: =COUNTIFS(Resa!$F$8:$F$149,$M$11,Resa!N$8:N$149,"1") -> 0 | V11: =COUNTIFS(Resa!$F$8:$F$149,$M$11,Resa!O$8:O$149,"1") -> 0
A12: EN | B12: =Resa!G$177 -> 40 | C12: =Resa!H$177 -> 43 | D12: =Resa!I$177 -> 43 | E12: =Resa!J$177 -> 43 | F12: =Resa!K$177 -> 36 | G12: =Resa!L$177 -> 34 | H12: =Resa!M$177 -> 0 | I12: =Resa!N$177 -> 0 | J12: =Resa!O$177 -> 0 | M12: ANTON GOTTEN GIR | N12: =COUNTIFS(Resa!$F$8:$F$149,$M$12,Resa!K$8:K$149,"1") -> 0 | O12: =COUNTIFS(Resa!$F$8:$F$149,$M$12,Resa!L$8:L$149,"1") -> 0 | P12: =COUNTIFS(Resa!$F$8:$F$149,$M$12,Resa!I$8:I$149,"1") -> 0 | Q12: =COUNTIFS(Resa!$F$8:$F$149,$M$12,Resa!J$8:J$149,"1") -> 0 | R12: =COUNTIFS(Resa!$F$8:$F$149,$M$12,Resa!G$8:G$149,"1") -> 0 | S12: =COUNTIFS(Resa!$F$8:$F$149,$M$12,Resa!H$8:H$149,"1") -> 0 | T12: =COUNTIFS(Resa!$F$8:$F$149,$M$12,Resa!M$8:M$149,"1") -> 0 | U12: =COUNTIFS(Resa!$F$8:$F$149,$M$12,Resa!N$8:N$149,"1") -> 0 | V12: =COUNTIFS(Resa!$F$8:$F$149,$M$12,Resa!O$8:O$149,"1") -> 0
A13: DE | B13: =Resa!G$182 -> 0 | C13: =Resa!H$182 -> 0 | D13: =Resa!I$182 -> 0 | E13: =Resa!J$182 -> 0 | F13: =Resa!K$182 -> 0 | G13: =Resa!L$182 -> 0 | H13: =Resa!M$182 -> 0 | I13: =Resa!N$182 -> 0 | J13: =Resa!O$182 -> 0 | N13: =COUNTIFS(Resa!$F$8:$F$149,$M$13,Resa!K$8:K$149,"1") -> 0 | O13: =COUNTIFS(Resa!$F$8:$F$149,$M$13,Resa!L$8:L$149,"1") -> 0 | P13: =COUNTIFS(Resa!$F$8:$F$149,$M$13,Resa!I$8:I$149,"1") -> 0 | Q13: =COUNTIFS(Resa!$F$8:$F$149,$M$13,Resa!J$8:J$149,"1") -> 0 | R13: =COUNTIFS(Resa!$F$8:$F$149,$M$13,Resa!G$8:G$149,"1") -> 0 | S13: =COUNTIFS(Resa!$F$8:$F$149,$M$13,Resa!H$8:H$149,"1") -> 0 | T13: =COUNTIFS(Resa!$F$8:$F$149,$M$13,Resa!M$8:M$149,"1") -> 0 | U13: =COUNTIFS(Resa!$F$8:$F$149,$M$13,Resa!N$8:N$149,"1") -> 0 | V13: =COUNTIFS(Resa!$F$8:$F$149,$M$13,Resa!O$8:O$149,"1") -> 0
A14: PO | B14: =Resa!G$186 -> 0 | C14: =Resa!H$186 -> 0 | D14: =Resa!I$186 -> 0 | E14: =Resa!J$186 -> 0 | F14: =Resa!K$186 -> 0 | G14: =Resa!L$186 -> 0 | H14: =Resa!M$186 -> 0 | I14: =Resa!N$186 -> 0 | J14: =Resa!O$186 -> 0 | M14: RICHOU GIR | N14: =COUNTIFS(Resa!$F$8:$F$149,$M$14,Resa!K$8:K$149,"1") -> 0 | O14: =COUNTIFS(Resa!$F$8:$F$149,$M$14,Resa!L$8:L$149,"1") -> 0 | P14: =COUNTIFS(Resa!$F$8:$F$149,$M$14,Resa!I$8:I$149,"1") -> 0 | Q14: =COUNTIFS(Resa!$F$8:$F$149,$M$14,Resa!J$8:J$149,"1") -> 0 | R14: =COUNTIFS(Resa!$F$8:$F$149,$M$14,Resa!G$8:G$149,"1") -> 0 | S14: =COUNTIFS(Resa!$F$8:$F$149,$M$14,Resa!H$8:H$149,"1") -> 0 | T14: =COUNTIFS(Resa!$F$8:$F$149,$M$14,Resa!M$8:M$149,"1") -> 0 | U14: =COUNTIFS(Resa!$F$8:$F$149,$M$14,Resa!N$8:N$149,"1") -> 0 | V14: =COUNTIFS(Resa!$F$8:$F$149,$M$14,Resa!O$8:O$149,"1") -> 0
A15: ES | B15: =Resa!G$192 -> 0 | C15: =Resa!H$192 -> 0 | D15: =Resa!I$192 -> 0 | E15: =Resa!J$192 -> 0 | F15: =Resa!K$192 -> 0 | G15: =Resa!L$192 -> 0 | H15: =Resa!M$192 -> 0 | I15: =Resa!N$192 -> 0 | J15: =Resa!O$192 -> 0 | N15: =COUNTIFS(Resa!$F$8:$F$149,$M$15,Resa!K$8:K$149,"1") -> 0 | O15: =COUNTIFS(Resa!$F$8:$F$149,$M$15,Resa!L$8:L$149,"1") -> 0 | P15: =COUNTIFS(Resa!$F$8:$F$149,$M$15,Resa!I$8:I$149,"1") -> 0 | Q15: =COUNTIFS(Resa!$F$8:$F$149,$M$15,Resa!J$8:J$149,"1") -> 0 | R15: =COUNTIFS(Resa!$F$8:$F$149,$M$15,Resa!G$8:G$149,"1") -> 0 | S15: =COUNTIFS(Resa!$F$8:$F$149,$M$15,Resa!H$8:H$149,"1") -> 0 | T15: =COUNTIFS(Resa!$F$8:$F$149,$M$15,Resa!M$8:M$149,"1") -> 0 | U15: =COUNTIFS(Resa!$F$8:$F$149,$M$15,Resa!N$8:N$149,"1") -> 0 | V15: =COUNTIFS(Resa!$F$8:$F$149,$M$15,Resa!O$8:O$149,"1") -> 0
A16: IT | B16: =Resa!G$194 -> 0 | C16: =Resa!H$194 -> 0 | D16: =Resa!I$194 -> 0 | E16: =Resa!J$194 -> 0 | F16: =Resa!K$194 -> 0 | G16: =Resa!L$194 -> 0 | H16: =Resa!M$194 -> 0 | I16: =Resa!N$194 -> 0 | J16: =Resa!O$194 -> 0 | M16: ="" | N16: =COUNTIFS(Resa!$F$8:$F$149,$M$16,Resa!K$8:K$149,"1") -> 24 | O16: =COUNTIFS(Resa!$F$8:$F$149,$M$16,Resa!L$8:L$149,"1") -> 24 | P16: =COUNTIFS(Resa!$F$8:$F$149,$M$16,Resa!I$8:I$149,"1") -> 24 | Q16: =COUNTIFS(Resa!$F$8:$F$149,$M$16,Resa!J$8:J$149,"1") -> 28 | R16: =COUNTIFS(Resa!$F$8:$F$149,$M$16,Resa!G$8:G$149,"1") -> 26 | S16: =COUNTIFS(Resa!$F$8:$F$149,$M$16,Resa!H$8:H$149,"1") -> 30 | T16: =COUNTIFS(Resa!$F$8:$F$149,$M$16,Resa!M$8:M$149,"1") -> 0 | U16: =COUNTIFS(Resa!$F$8:$F$149,$M$16,Resa!N$8:N$149,"1") -> 0 | V16: =COUNTIFS(Resa!$F$8:$F$149,$M$16,Resa!O$8:O$149,"1") -> 0
A17: TOTAL | B17: =SUM(B11:B16) -> 62 | C17: =SUM(C11:C16) -> 69 | D17: =SUM(D11:D16) -> 67 | E17: =SUM(E11:E16) -> 67 | F17: =SUM(F11:F16) -> 60 | G17: =SUM(G11:G16) -> 58 | H17: =SUM(H11:H16) -> 0 | I17: =SUM(I11:I16) -> 0 | J17: =SUM(J11:J16) -> 0 | M17: TOTAL | N17: =SUM(N11:N16) -> 24 | O17: =SUM(O11:O16) -> 24 | P17: =SUM(P11:P16) -> 24 | Q17: =SUM(Q11:Q16) -> 28 | R17: =SUM(R11:R16) -> 26 | S17: =SUM(S11:S16) -> 30 | T17: =SUM(T11:T16) -> 0 | U17: =SUM(U11:U16) -> 0 | V17: =SUM(V11:V16) -> 0

Sheet Excu 1
K1: GROUPE 1 | N1: GROUPE 2 | Q1: GROUPE 3 | T1: GROUPE 4 | W1: GROUPE 5 | Z1: GROUPE 6
K2: =IF(AND(Resa!$C12<>"",Resa!$T12=1),Resa!B12,"") | L2: =IF(AND(Resa!$C12<>"",Resa!$T12=1),Resa!C12,"") | M2: =IF(AND(Resa!$C12<>"",Resa!$T12=1),Resa!D12,"") | N2: =IF(AND(Resa!$C12<>"",Resa!$T12=2),Resa!B12,"") | O2: =IF(AND(Resa!$C12<>"",Resa!$T12=2),Resa!C12,"") | P2: =IF(AND(Resa!$C12<>"",Resa!$T12=2),Resa!D12,"") | Q2: =IF(AND(Resa!$C12<>"",Resa!$T12=3),Resa!B12,"") | R2: =IF(AND(Resa!$C12<>"",Resa!$T12=3),Resa!C12,"") | S2: =IF(AND(Resa!$C12<>"",Resa!$T12=3),Resa!D12,"") | T2: =IF(AND(Resa!$C12<>"",Resa!$T12=4),Resa!E12,"") | U2: =IF(AND(Resa!$C12<>"",Resa!$T12=4),Resa!F12,"") | V2: =IF(AND(Resa!$C12<>"",Resa!$T12=4),Resa!G12,"") | W2: =IF(AND(Resa!$C12<>"",Resa!$T12=5),Resa!H12,"") | X2: =IF(AND(Resa!$C12<>"",Resa!$T12=5),Resa!I12,"") | Y2: =IF(AND(Resa!$C12<>"",Resa!$T12=5),Resa!J12,"") | Z2: =IF(AND(Resa!$C12<>"",Resa!$T12=6),Resa!K12,"") | AA2: =IF(AND(Resa!$C12<>"",Resa!$T12=6),Resa!L12,"") | AB2: =IF(AND(Resa!$C12<>"",Resa!$T12=6),Resa!M12,"")
N3: =IF(AND(Resa!$C13<>"",Resa!$T13=2),Resa!B13,"") | O3: =IF(AND(Resa!$C13<>"",Resa!$T13=2),Resa!C13,"") | P3: =IF(AND(Resa!$C13<>"",Resa!$T13=2),Resa!D13,"")
A4: CABINE | C4: SORTIE | E4: CABINE | F4: SORTIE | H4: CABINE | I4: SORTIE | M4: e | N4: =IF(AND(Resa!$C14<>"",Resa!$T14=2),Resa!B14,"") | O4: =IF(AND(Resa!$C14<>"",Resa!$T14=2),Resa!C14,"") | P4: =IF(AND(Resa!$C14<>"",Resa!$T14=2),Resa!D14,"")
A5: 101 | B5: =IF(AND(Resa!C12<>"",Resa!T12=1),"GROUPE 1",IF(AND(B12<>"",R12=2),"GROUPE 2",IF(AND(B12<>"",R12=3),"GROUPE 3",IF(AND(B12<>"",R12=4),"GROUPE 4",IF(AND(B12<>"",R12=5),"GROUPE 5",IF(AND(B12<>"",R12=6),"GROUPE 6","")))))) | C5: =SUMIF(Resa!$B$8:$B$165,A5,Resa!$G$8:$G$149) -> 0 | E5: 125 | F5: =SUMIF(Resa!$B$8:$B$165,E5,Resa!$G$8:$G$149) -> 1 | H5: 250 | I5: =SUMIF(Resa!$B$8:$B$165,H5,Resa!$G$8:$G$149) -> 2 | N5: =IF(AND(Resa!$C15<>"",Resa!$T15=2),Resa!B15,"") | O5: =IF(AND(Resa!$C15<>"",Resa!$T15=2),Resa!C15,"") | P5: =IF(AND(Resa!$C15<>"",Resa!$T15=2),Resa!D15,"")
A6: 102 | C6: =SUMIF(Resa!$B$8:$B$165,A6,Resa!$G$8:$G$149) -> 0 | E6: 126 | F6: =SUMIF(Resa!$B$8:$B$165,E6,Resa!$G$8:$G$149) -> 0 | H6: 251 | I6: =SUMIF(Resa!$B$8:$B$165,H6,Resa!$G$8:$G$149) -> 0 | N6: =IF(AND(Resa!$C16<>"",Resa!$T16=2),Resa!B16,"") | O6: =IF(AND(Resa!$C16<>"",Resa!$T16=2),Resa!C16,"") | P6: =IF(AND(Resa!$C16<>"",Resa!$T16=2),Resa!D16,"")
A7: 103 | C7: =SUMIF(Resa!$B$8:$B$165,A7,Resa!$G$8:$G$149) -> 0 | E7: 127 | F7: =SUMIF(Resa!$B$8:$B$165,E7,Resa!$G$8:$G$149) -> 1 | H7: 252 | I7: =SUMIF(Resa!$B$8:$B$165,H7,Resa!$G$8:$G$149) -> 2 | N7: =IF(AND(Resa!$C17<>"",Resa!$T17=2),Resa!B17,"") | O7: =IF(AND(Resa!$C17<>"",Resa!$T17=2),Resa!C17,"") | P7: =IF(AND(Resa!$C17<>"",Resa!$T17=2),Resa!D17,"")
A8: 104 | C8: =SUMIF(Resa!$B$8:$B$165,A8,Resa!$G$8:$G$149) -> 0 | E8: 128 | F8: =SUMIF(Resa!$B$8:$B$165,E8,Resa!$G$8:$G$149) -> 1 | H8: 253 | I8: =SUMIF(Resa!$B$8:$B$165,H8,Resa!$G$8:$G$149) -> 2 | N8: =IF(AND(Resa!$C18<>"",Resa!$T18=2),Resa!B18,"") | O8: =IF(AND(Resa!$C18<>"",Resa!$T18=2),Resa!C18,"") | P8: =IF(AND(Resa!$C18<>"",Resa!$T18=2),Resa!D18,"")
A9: 105 | C9: =SUMIF(Resa!$B$8:$B$165,A9,Resa!$G$8:$G$149) -> 0 | E9: 129 | F9: =SUMIF(Resa!$B$8:$B$165,E9,Resa!$G$8:$G$149) -> 2 | H9: 254 | I9: =SUMIF(Resa!$B$8:$B$165,H9,Resa!$G$8:$G$149) -> 2 | N9: =IF(AND(Resa!$C19<>"",Resa!$T19=2),Resa!B19,"") | O9: =IF(AND(Resa!$C19<>"",Resa!$T19=2),Resa!C19,"") | P9: =IF(AND(Resa!$C19<>"",Resa!$T19=2),Resa!D19,"")
A10: 106 | C10: =SUMIF(Resa!$B$8:$B$165,A10,Resa!$G$8:$G$149) -> 0 | E10: 130 | F10: =SUMIF(Resa!$B$8:$B$165,E10,Resa!$G$8:$G$149) -> 1 | H10: 255 | I10: =SUMIF(Resa!$B$8:$B$165,H10,Resa!$G$8:$G$149) -> 2 | N10: =IF(AND(Resa!$C20<>"",Resa!$T20=2),Resa!B20,"") | O10: =IF(AND(Resa!$C20<>"",Resa!$T20=2),Resa!C20,"") | P10: =IF(AND(Resa!$C20<>"",Resa!$T20=2),Resa!D20,"")
A11: 107 | C11: =SUMIF(Resa!$B$8:$B$165,A11,Resa!$G$8:$G$149) -> 0 | E11: 131 | F11: =SUMIF(Resa!$B$8:$B$165,E11,Resa!$G$8:$G$149) -> 0 | H11: 256 | I11: =SUMIF(Resa!$B$8:$B$165,H11,Resa!$G$8:$G$149) -> 2 | N11: =IF(AND(Resa!$C21<>"",Resa!$T21=2),Resa!B21,"") | O11: =IF(AND(Resa!$C21<>"",Resa!$T21=2),Resa!C21,"") | P11: =IF(AND(Resa!$C21<>"",Resa!$T21=2),Resa!D21,"")
A12: 108 | C12: =SUMIF(Resa!$B$8:$B$165,A12,Resa!$G$8:$G$149) -> 0 | E12: 132 | F12: =SUMIF(Resa!$B$8:$B$165,E12,Resa!$G$8:$G$149) -> 2 | H12: 257 | I12: =SUMIF(Resa!$B$8:$B$165,H12,Resa!$G$8:$G$149) -> 0 | N12: =IF(AND(Resa!$C22<>"",Resa!$T22=2),Resa!B22,"") | O12: =IF(AND(Resa!$C22<>"",Resa!$T22=2),Resa!C22,"") | P12: =IF(AND(Resa!$C22<>"",Resa!$T22=2),Resa!D22,"")
A13: 109 | C13: =SUMIF(Resa!$B$8:$B$165,A13,Resa!$G$8:$G$149) -> 0 | E13: 133 | F13: =SUMIF(Resa!$B$8:$B$165,E13,Resa!$G$8:$G$149) -> 0 | H13: 258 | I13: =SUMIF(Resa!$B$8:$B$165,H13,Resa!$G$8:$G$149) -> 0
A14: 110 | C14: =SUMIF(Resa!$B$8:$B$165,A14,Resa!$G$8:$G$149) -> 0 | E14: 134 | F14: =SUMIF(Resa!$B$8:$B$165,E14,Resa!$G$8:$G$149) -> 0 | H14: 259 | I14: =SUMIF(Resa!$B$8:$B$165,H14,Resa!$G$8:$G$149) -> 0
A15: 111 | C15: =SUMIF(Resa!$B$8:$B$165,A15,Resa!$G$8:$G$149) -> 2 | E15: 135 | F15: =SUMIF(Resa!$B$8:$B$165,E15,Resa!$G$8:$G$149) -> 2 | H15: 260 | I15: =SUMIF(Resa!$B$8:$B$165,H15,Resa!$G$8:$G$149) -> 2
A16: 112 | C16: =SUMIF(Resa!$B$8:$B$165,A16,Resa!$G$8:$G$149) -> 0 | E16: 136 | F16: =SUMIF(Resa!$B$8:$B$165,E16,Resa!$G$8:$G$149) -> 0 | H16: 261 | I16: =SUMIF(Resa!$B$8:$B$165,H16,Resa!$G$8:$G$149) -> 2
A17: 113 | C17: =SUMIF(Resa!$B$8:$B$165,A17,Resa!$G$8:$G$149) -> 1 | E17: 137 | F17: =SUMIF(Resa!$B$8:$B$165,E17,Resa!$G$8:$G$149) -> 2 | H17: 262 | I17: =SUMIF(Resa!$B$8:$B$165,H17,Resa!$G$8:$G$149) -> 0
A18: 114 | C18: =SUMIF(Resa!$B$8:$B$165,A18,Resa!$G$8:$G$149) -> 0 | E18: 138 | F18: =SUMIF(Resa!$B$8:$B$165,E18,Resa!$G$8:$G$149) -> 0 | H18: 263 | I18: =SUMIF(Resa!$B$8:$B$165,H18,Resa!$G$8:$G$149) -> 1
A19: 115 | C19: =SUMIF(Resa!$B$8:$B$165,A19,Resa!$G$8:$G$149) -> 2 | E19: 139 | F19: =SUMIF(Resa!$B$8:$B$165,E19,Resa!$G$8:$G$149) -> 0 | H19: 264 | I19: =SUMIF(Resa!$B$8:$B$165,H19,Resa!$G$8:$G$149) -> 2
A20: 116 | C20: =SUMIF(Resa!$B$8:$B$165,A20,Resa!$G$8:$G$149) -> 2 | E20: 140 | F20: =SUMIF(Resa!$B$8:$B$165,E20,Resa!$G$8:$G$149) -> 1 | H20: 265 | I20: =SUMIF(Resa!$B$8:$B$165,H20,Resa!$G$8:$G$149) -> 0
A21: 117 | C21: =SUMIF(Resa!$B$8:$B$165,A21,Resa!$G$8:$G$149) -> 2 | E21: 141 | F21: =SUMIF(Resa!$B$8:$B$165,E21,Resa!$G$8:$G$149) -> 1 | H21: 266 | I21: =SUMIF(Resa!$B$8:$B$165,H21,Resa!$G$8:$G$149) -> 2
A22: 118 | C22: =SUMIF(Resa!$B$8:$B$165,A22,Resa!$G$8:$G$149) -> 0 | E22: 142 | F22: =SUMIF(Resa!$B$8:$B$165,E22,Resa!$G$8:$G$149) -> 0 | H22: 267 | I22: =SUMIF(Resa!$B$8:$B$165,H22,Resa!$G$8:$G$149) -> 2
A23: 119 | C23: =SUMIF(Resa!$B$8:$B$165,A23,Resa!$G$8:$G$149) -> 0 | E23: 143 | F23: =SUMIF(Resa!$B$8:$B$165,E23,Resa!$G$8:$G$149) -> 0 | H23: 268 | I23: =SUMIF(Resa!$B$8:$B$165,H23,Resa!$G$8:$G$149) -> 2
A24: 120 | C24: =SUMIF(Resa!$B$8:$B$165,A24,Resa!$G$8:$G$149) -> 0 | E24: 144 | F24: =SUMIF(Resa!$B$8:$B$165,E24,Resa!$G$8:$G$149) -> 0 | H24: 269 | I24: =SUMIF(Resa!$B$8:$B$165,H24,Resa!$G$8:$G$149) -> 1
... A28: 124 | C28: =SUMIF(Resa!$B$8:$B$165,A28,Resa!$G$8:$G$149) -> 0 | E28: 148 | F28: =SUMIF(Resa!$B$8:$B$165,E28,Resa!$G$8:$G$149) -> 0 | H28: 273 | I28: =SUMIF(Resa!$B$8:$B$165,H28,Resa!$G$8:$G$149) -> 1
E29: 150 | F29: =SUMIF(Resa!$B$8:$B$165,E29,Resa!$G$8:$G$149) -> 0 | H29: 274 | I29: =SUMIF(Resa!$B$8:$B$165,H29,Resa!$G$8:$G$149) -> 2
E30: 152 | F30: =SUMIF(Resa!$B$8:$B$165,E30,Resa!$G$8:$G$149) -> 0 | H30: 275 | I30: =SUMIF(Resa!$B$8:$B$165,H30,Resa!$G$8:$G$149) -> 1
E31: 300 | F31: =SUMIF(Resa!$B$8:$B$165,E31,Resa!$G$8:$G$149) -> 2 | H31: 276 | I31: =SUMIF(Resa!$B$8:$B$165,H31,Resa!$G$8:$G$149) -> 0
H32: 277 | I32: =SUMIF(Resa!$B$8:$B$165,H32,Resa!$G$8:$G$149) -> 0
B34: Nombre de Pax
B35: =SUM(C5:C28)+SUM(F5:F31)+SUM(I5:I32) -> 62

Sheet Excu 2
A2: CABINE | B2: # | C2: GROUPE | E2: CABINE | F2: # | G2: GROUPE | I2: CABINE | J2: SORTIE | K2: GROUPE
A3: 101 | B3: =SUMIF(Resa!$B$8:$B$165,A3,Resa!$H$8:$H$149) -> 0 | E3: 125 | F3: =SUMIF(Resa!$B$8:$B$165,E3,Resa!$H$8:$H$149) -> 2 | G3: =IF(AND(Resa!G12<>"",Resa!W12=1,F3>0),"GROUPE 1",IF(AND(Resa!G12<>"",Resa!W12=2,F3>0),"GROUPE 2",IF(AND(Resa!G12<>"",Resa!W12=3,F3>0),"GROUPE 3",IF(AND(Resa!G12<>"",Resa!W12=4,F3>0),"GROUPE 4",IF(AND(Resa!G12<>"",Resa!W12=5,F3>0),"GROUPE 5",IF(AND(Resa!W12=6,F3>0),"GROUPE 6","")))))) | I3: 250 | J3: =SUMIF(Resa!$B$8:$B$165,I3,Resa!$H$8:$H$149) -> 2 | K3: =IF(AND(Resa!K12<>"",Resa!AA12=1,J3>0),"GROUPE 1",IF(AND(Resa!K12<>"",Resa!AA12=2,J3>0),"GROUPE 2",IF(AND(Resa!K12<>"",Resa!AA12=3,J3>0),"GROUPE 3",IF(AND(Resa!K12<>"",Resa!AA12=4,J3>0),"GROUPE 4",IF(AND(Resa!K12<>"",Resa!AA12=5,J3>0),"GROUPE 5",IF(AND(Resa!AA12=6,J3>0),"GROUPE 6",""))))))
A4: 102 | B4: =SUMIF(Resa!$B$8:$B$165,A4,Resa!$H$8:$H$149) -> 0 | E4: 126 | F4: =SUMIF(Resa!$B$8:$B$165,E4,Resa!$H$8:$H$149) -> 0 | G4: =IF(AND(Resa!G13<>"",Resa!W13=1,F4>0),"GROUPE 1",IF(AND(Resa!G13<>"",Resa!W13=2,F4>0),"GROUPE 2",IF(AND(Resa!G13<>"",Resa!W13=3,F4>0),"GROUPE 3",IF(AND(Resa!G13<>"",Resa!W13=4,F4>0),"GROUPE 4",IF(AND(Resa!G13<>"",Resa!W13=5,F4>0),"GROUPE 5",IF(AND(Resa!W13=6,F4>0),"GROUPE 6","")))))) | I4: 251 | J4: =SUMIF(Resa!$B$8:$B$165,I4,Resa!$H$8:$H$149) -> 0 | K4: =IF(AND(Resa!K13<>"",Resa!AA13=1,J4>0),"GROUPE 1",IF(AND(Resa!K13<>"",Resa!AA13=2,J4>0),"GROUPE 2",IF(AND(Resa!K13<>"",Resa!AA13=3,J4>0),"GROUPE 3",IF(AND(Resa!K13<>"",Resa!AA13=4,J4>0),"GROUPE 4",IF(AND(Resa!K13<>"",Resa!AA13=5,J4>0),"GROUPE 5",IF(AND(Resa!AA13=6,J4>0),"GROUPE 6",""))))))
A5: 103 | B5: =SUMIF(Resa!$B$8:$B$165,A5,Resa!$H$8:$H$149) -> 0 | E5: 127 | F5: =SUMIF(Resa!$B$8:$B$165,E5,Resa!$H$8:$H$149) -> 1 | G5: =IF(AND(Resa!G14<>"",Resa!W14=1,F5>0),"GROUPE 1",IF(AND(Resa!G14<>"",Resa!W14=2,F5>0),"GROUPE 2",IF(AND(Resa!G14<>"",Resa!W14=3,F5>0),"GROUPE 3",IF(AND(Resa!G14<>"",Resa!W14=4,F5>0),"GROUPE 4",IF(AND(Resa!G14<>"",Resa!W14=5,F5>0),"GROUPE 5",IF(AND(Resa!W14=6,F5>0),"GROUPE 6","")))))) | I5: 252 | J5: =SUMIF(Resa!$B$8:$B$165,I5,Resa!$H$8:$H$149) -> 2 | K5: =IF(AND(Resa!K14<>"",Resa!AA14=1,J5>0),"GROUPE 1",IF(AND(Resa!K14<>"",Resa!AA14=2,J5>0),"GROUPE 2",IF(AND(Resa!K14<>"",Resa!AA14=3,J5>0),"GROUPE 3",IF(AND(Resa!K14<>"",Resa!AA14=4,J5>0),"GROUPE 4",IF(AND(Resa!K14<>"",Resa!AA14=5,J5>0),"GROUPE 5",IF(AND(Resa!AA14=6,J5>0),"GROUPE 6",""))))))
A6: 104 | B6: =SUMIF(Resa!$B$8:$B$165,A6,Resa!$H$8:$H$149) -> 0 | E6: 128 | F6: =SUMIF(Resa!$B$8:$B$165,E6,Resa!$H$8:$H$149) -> 1 | G6: =IF(AND(Resa!G15<>"",Resa!W15=1,F6>0),"GROUPE 1",IF(AND(Resa!G15<>"",Resa!W15=2,F6>0),"GROUPE 2",IF(AND(Resa!G15<>"",Resa!W15=3,F6>0),"GROUPE 3",IF(AND(Resa!G15<>"",Resa!W15=4,F6>0),"GROUPE 4",IF(AND(Resa!G15<>"",Resa!W15=5,F6>0),"GROUPE 5",IF(AND(Resa!W15=6,F6>0),"GROUPE 6","")))))) | I6: 253 | J6: =SUMIF(Resa!$B$8:$B$165,I6,Resa!$H$8:$H$149) -> 2 | K6: =IF(AND(Resa!K15<>"",Resa!AA15=1,J6>0),"GROUPE 1",IF(AND(Resa!K15<>"",Resa!AA15=2,J6>0),"GROUPE 2",IF(AND(Resa!K15<>"",Resa!AA15=3,J6>0),"GROUPE 3",IF(AND(Resa!K15<>"",Resa!AA15=4,J6>0),"GROUPE 4",IF(AND(Resa!K15<>"",Resa!AA15=5,J6>0),"GROUPE 5",IF(AND(Resa!AA15=6,J6>0),"GROUPE 6",""))))))
A7: 105 | B7: =SUMIF(Resa!$B$8:$B$165,A7,Resa!$H$8:$H$149) -> 0 | E7: 129 | F7: =SUMIF(Resa!$B$8:$B$165,E7,Resa!$H$8:$H$149) -> 2 | G7: =IF(AND(Resa!G16<>"",Resa!W16=1,F7>0),"GROUPE 1",IF(AND(Resa!G16<>"",Resa!W16=2,F7>0),"GROUPE 2",IF(AND(Resa!G16<>"",Resa!W16=3,F7>0),"GROUPE 3",IF(AND(Resa!G16<>"",Resa!W16=4,F7>0),"GROUPE 4",IF(AND(Resa!G16<>"",Resa!W16=5,F7>0),"GROUPE 5",IF(AND(Resa!W16=6,F7>0),"GROUPE 6","")))))) | I7: 254 | J7: =SUMIF(Resa!$B$8:$B$165,I7,Resa!$H$8:$H$149) -> 2 | K7: =IF(AND(Resa!K16<>"",Resa!AA16=1,J7>0),"GROUPE 1",IF(AND(Resa!K16<>"",Resa!AA16=2,J7>0),"GROUPE 2",IF(AND(Resa!K16<>"",Resa!AA16=3,J7>0),"GROUPE 3",IF(AND(Resa!K16<>"",Resa!AA16=4,J7>0),"GROUPE 4",IF(AND(Resa!K16<>"",Resa!AA16=5,J7>0),"GROUPE 5",IF(AND(Resa!AA16=6,J7>0),"GROUPE 6",""))))))
A8: 106 | B8: =SUMIF(Resa!$B$8:$B$165,A8,Resa!$H$8:$H$149) -> 0 | E8: 130 | F8: =SUMIF(Resa!$B$8:$B$165,E8,Resa!$H$8:$H$149) -> 1 | G8: =IF(AND(Resa!G17<>"",Resa!W17=1,F8>0),"GROUPE 1",IF(AND(Resa!G17<>"",Resa!W17=2,F8>0),"GROUPE 2",IF(AND(Resa!G17<>"",Resa!W17=3,F8>0),"GROUPE 3",IF(AND(Resa!G17<>"",Resa!W17=4,F8>0),"GROUPE 4",IF(AND(Resa!G17<>"",Resa!W17=5,F8>0),"GROUPE 5",IF(AND(Resa!W17=6,F8>0),"GROUPE 6","")))))) | I8: 255 | J8: =SUMIF(Resa!$B$8:$B$165,I8,Resa!$H$8:$H$149) -> 2 | K8: =IF(AND(Resa!K17<>"",Resa!AA17=1,J8>0),"GROUPE 1",IF(AND(Resa!K17<>"",Resa!AA17=2,J8>0),"GROUPE 2",IF(AND(Resa!K17<>"",Resa!AA17=3,J8>0),"GROUPE 3",IF(AND(Resa!K17<>"",Resa!AA17=4,J8>0),"GROUPE 4",IF(AND(Resa!K17<>"",Resa!AA17=5,J8>0),"GROUPE 5",IF(AND(Resa!AA17=6,J8>0),"GROUPE 6",""))))))
A9: 107 | B9: =SUMIF(Resa!$B$8:$B$165,A9,Resa!$H$8:$H$149) -> 0 | E9: 131 | F9: =SUMIF(Resa!$B$8:$B$165,E9,Resa!$H$8:$H$149) -> 0 | G9: =IF(AND(Resa!G18<>"",Resa!W18=1,F9>0),"GROUPE 1",IF(AND(Resa!G18<>"",Resa!W18=2,F9>0),"GROUPE 2",IF(AND(Resa!G18<>"",Resa!W18=3,F9>0),"GROUPE 3",IF(AND(Resa!G18<>"",Resa!W18=4,F9>0),"GROUPE 4",IF(AND(Resa!G18<>"",Resa!W18=5,F9>0),"GROUPE 5",IF(AND(Resa!W18=6,F9>0),"GROUPE 6","")))))) | I9: 256 | J9: =SUMIF(Resa!$B$8:$B$165,I9,Resa!$H$8:$H$149) -> 2 | K9: =IF(AND(Resa!K18<>"",Resa!AA18=1,J9>0),"GROUPE 1",IF(AND(Resa!K18<>"",Resa!AA18=2,J9>0),"GROUPE 2",IF(AND(Resa!K18<>"",Resa!AA18=3,J9>0),"GROUPE 3",IF(AND(Resa!K18<>"",Resa!AA18=4,J9>0),"GROUPE 4",IF(AND(Resa!K18<>"",Resa!AA18=5,J9>0),"GROUPE 5",IF(AND(Resa!AA18=6,J9>0),"GROUPE 6",""))))))
A10: 108 | B10: =SUMIF(Resa!$B$8:$B$165,A10,Resa!$H$8:$H$149) -> 0 | E10: 132 | F10: =SUMIF(Resa!$B$8:$B$165,E10,Resa!$H$8:$H$149) -> 2 | G10: =IF(AND(Resa!G19<>"",Resa!W19=1,F10>0),"GROUPE 1",IF(AND(Resa!G19<>"",Resa!W19=2,F10>0),"GROUPE 2",IF(AND(Resa!G19<>"",Resa!W19=3,F10>0),"GROUPE 3",IF(AND(Resa!G19<>"",Resa!W19=4,F10>0),"GROUPE 4",IF(AND(Resa!G19<>"",Resa!W19=5,F10>0),"GROUPE 5",IF(AND(Resa!W19=6,F10>0),"GROUPE 6","")))))) | I10: 257 | J10: =SUMIF(Resa!$B$8:$B$165,I10,Resa!$H$8:$H$149) -> 0 | K10: =IF(AND(Resa!K19<>"",Resa!AA19=1,J10>0),"GROUPE 1",IF(AND(Resa!K19<>"",Resa!AA19=2,J10>0),"GROUPE 2",IF(AND(Resa!K19<>"",Resa!AA19=3,J10>0),"GROUPE 3",IF(AND(Resa!K19<>"",Resa!AA19=4,J10>0),"GROUPE 4",IF(AND(Resa!K19<>"",Resa!AA19=5,J10>0),"GROUPE 5",IF(AND(Resa!AA19=6,J10>0),"GROUPE 6",""))))))
A11: 109 | B11: =SUMIF(Resa!$B$8:$B$165,A11,Resa!$H$8:$H$149) -> 0 | E11: 133 | F11: =SUMIF(Resa!$B$8:$B$165,E11,Resa!$H$8:$H$149) -> 0 | G11: =IF(AND(Resa!G20<>"",Resa!W20=1,F11>0),"GROUPE 1",IF(AND(Resa!G20<>"",Resa!W20=2,F11>0),"GROUPE 2",IF(AND(Resa!G20<>"",Resa!W20=3,F11>0),"GROUPE 3",IF(AND(Resa!G20<>"",Resa!W20=4,F11>0),"GROUPE 4",IF(AND(Resa!G20<>"",Resa!W20=5,F11>0),"GROUPE 5",IF(AND(Resa!W20=6,F11>0),"GROUPE 6","")))))) | I11: 258 | J11: =SUMIF(Resa!$B$8:$B$165,I11,Resa!$H$8:$H$149) -> 0 | K11: =IF(AND(Resa!K20<>"",Resa!AA20=1,J11>0),"GROUPE 1",IF(AND(Resa!K20<>"",Resa!AA20=2,J11>0),"GROUPE 2",IF(AND(Resa!K20<>"",Resa!AA20=3,J11>0),"GROUPE 3",IF(AND(Resa!K20<>"",Resa!AA20=4,J11>0),"GROUPE 4",IF(AND(Resa!K20<>"",Resa!AA20=5,J11>0),"GROUPE 5",IF(AND(Resa!AA20=6,J11>0),"GROUPE 6",""))))))
A12: 110 | B12: =SUMIF(Resa!$B$8:$B$165,A12,Resa!$H$8:$H$149) -> 0 | E12: 134 | F12: =SUMIF(Resa!$B$8:$B$165,E12,Resa!$H$8:$H$149) -> 0 | G12: =IF(AND(Resa!G21<>"",Resa!W21=1,F12>0),"GROUPE 1",IF(AND(Resa!G21<>"",Resa!W21=2,F12>0),"GROUPE 2",IF(AND(Resa!G21<>"",Resa!W21=3,F12>0),"GROUPE 3",IF(AND(Resa!G21<>"",Resa!W21=4,F12>0),"GROUPE 4",IF(AND(Resa!G21<>"",Resa!W21=5,F12>0),"GROUPE 5",IF(AND(Resa!W21=6,F12>0),"GROUPE 6","")))))) | I12: 259 | J12: =SUMIF(Resa!$B$8:$B$165,I12,Resa!$H$8:$H$149) -> 0 | K12: =IF(AND(Resa!K21<>"",Resa!AA21=1,J12>0),"GROUPE 1",IF(AND(Resa!K21<>"",Resa!AA21=2,J12>0),"GROUPE 2",IF(AND(Resa!K21<>"",Resa!AA21=3,J12>0),"GROUPE 3",IF(AND(Resa!K21<>"",Resa!AA21=4,J12>0),"GROUPE 4",IF(AND(Resa!K21<>"",Resa!AA21=5,J12>0),"GROUPE 5",IF(AND(Resa!AA21=6,J12>0),"GROUPE 6",""))))))
A13: 111 | B13: =SUMIF(Resa!$B$8:$B$165,A13,Resa!$H$8:$H$149) -> 2 | E13: 135 | F13: =SUMIF(Resa!$B$8:$B$165,E13,Resa!$H$8:$H$149) -> 2 | G13: =IF(AND(Resa!G22<>"",Resa!W22=1,F13>0),"GROUPE 1",IF(AND(Resa!G22<>"",Resa!W22=2,F13>0),"GROUPE 2",IF(AND(Resa!G22<>"",Resa!W22=3,F13>0),"GROUPE 3",IF(AND(Resa!G22<>"",Resa!W22=4,F13>0),"GROUPE 4",IF(AND(Resa!G22<>"",Resa!W22=5,F13>0),"GROUPE 5",IF(AND(Resa!W22=6,F13>0),"GROUPE 6","")))))) | I13: 260 | J13: =SUMIF(Resa!$B$8:$B$165,I13,Resa!$H$8:$H$149) -> 2 | K13: =IF(AND(Resa!K22<>"",Resa!AA22=1,J13>0),"GROUPE 1",IF(AND(Resa!K22<>"",Resa!AA22=2,J13>0),"GROUPE 2",IF(AND(Resa!K22<>"",Resa!AA22=3,J13>0),"GROUPE 3",IF(AND(Resa!K22<>"",Resa!AA22=4,J13>0),"GROUPE 4",IF(AND(Resa!K22<>"",Resa!AA22=5,J13>0),"GROUPE 5",IF(AND(Resa!AA22=6,J13>0),"GROUPE 6",""))))))
A14: 112 | B14: =SUMIF(Resa!$B$8:$B$165,A14,Resa!$H$8:$H$149) -> 0 | E14: 136 | F14: =SUMIF(Resa!$B$8:$B$165,E14,Resa!$H$8:$H$149) -> 0 | G14: =IF(AND(Resa!G23<>"",Resa!W23=1,F14>0),"GROUPE 1",IF(AND(Resa!G23<>"",Resa!W23=2,F14>0),"GROUPE 2",IF(AND(Resa!G23<>"",Resa!W23=3,F14>0),"GROUPE 3",IF(AND(Resa!G23<>"",Resa!W23=4,F14>0),"GROUPE 4",IF(AND(Resa!G23<>"",Resa!W23=5,F14>0),"GROUPE 5",IF(AND(Resa!W23=6,F14>0),"GROUPE 6","")))))) | I14: 261 | J14: =SUMIF(Resa!$B$8:$B$165,I14,Resa!$H$8:$H$149) -> 2 | K14: =IF(AND(Resa!K23<>"",Resa!AA23=1,J14>0),"GROUPE 1",IF(AND(Resa!K23<>"",Resa!AA23=2,J14>0),"GROUPE 2",IF(AND(Resa!K23<>"",Resa!AA23=3,J14>0),"GROUPE 3",IF(AND(Resa!K23<>"",Resa!AA23=4,J14>0),"GROUPE 4",IF(AND(Resa!K23<>"",Resa!AA23=5,J14>0),"GROUPE 5",IF(AND(Resa!AA23=6,J14>0),"GROUPE 6",""))))))
... A26: 124 | B26: =SUMIF(Resa!$B$8:$B$165,A26,Resa!$H$8:$H$149) -> 2 | E26: 148 | F26: =SUMIF(Resa!$B$8:$B$165,E26,Resa!$H$8:$H$149) -> 0 | G26: =IF(AND(Resa!G35<>"",Resa!W35=1,F26>0),"GROUPE 1",IF(AND(Resa!G35<>"",Resa!W35=2,F26>0),"GROUPE 2",IF(AND(Resa!G35<>"",Resa!W35=3,F26>0),"GROUPE 3",IF(AND(Resa!G35<>"",Resa!W35=4,F26>0),"GROUPE 4",IF(AND(Resa!G35<>"",Resa!W35=5,F26>0),"GROUPE 5",IF(AND(Resa!W35=6,F26>0),"GROUPE 6","")))))) | I26: 273 | J26: =SUMIF(Resa!$B$8:$B$165,I26,Resa!$H$8:$H$149) -> 1 | K26: =IF(AND(Resa!K35<>"",Resa!AA35=1,J26>0),"GROUPE 1",IF(AND(Resa!K35<>"",Resa!AA35=2,J26>0),"GROUPE 2",IF(AND(Resa!K35<>"",Resa!AA35=3,J26>0),"GROUPE 3",IF(AND(Resa!K35<>"",Resa!AA35=4,J26>0),"GROUPE 4",IF(AND(Resa!K35<>"",Resa!AA35=5,J26>0),"GROUPE 5",IF(AND(Resa!AA35=6,J26>0),"GROUPE 6",""))))))
E27: 150 | F27: =SUMIF(Resa!$B$8:$B$165,E27,Resa!$H$8:$H$149) -> 0 | I27: 274 | J27: =SUMIF(Resa!$B$8:$B$165,I27,Resa!$H$8:$H$149) -> 2
E28: 152 | F28: =SUMIF(Resa!$B$8:$B$165,E28,Resa!$H$8:$H$149) -> 0 | I28: 275 | J28: =SUMIF(Resa!$B$8:$B$165,I28,Resa!$H$8:$H$149) -> 1
E29: 300 | F29: =SUMIF(Resa!$B$8:$B$165,E29,Resa!$H$8:$H$149) -> 2 | I29: 276 | J29: =SUMIF(Resa!$B$8:$B$165,I29,Resa!$H$8:$H$149) -> 0
I30: 277 | J30: =SUMIF(Resa!$B$8:$B$165,I30,Resa!$H$8:$H$149) -> 2
I52: Nombre de Pax
I53: =SUM(#REF!)+SUM(F3:F29)+SUM(J3:J30) -> #REF!

Sheet Excu 3 
A4: CABINE | B4: SORTIE | D4: CABINE | E4: SORTIE | G4: CABINE | H4: SORTIE
A5: 101 | B5: =SUMIF(Resa!$B$8:$B$165,A5,Resa!$I$8:$I$149) -> 0 | D5: 125 | E5: =SUMIF(Resa!$B$8:$B$165,D5,Resa!$I$8:$I$149) -> 2 | G5: 250 | H5: =SUMIF(Resa!$B$8:$B$165,G5,Resa!$I$8:$I$149) -> 2
A6: 102 | B6: =SUMIF(Resa!$B$8:$B$165,A6,Resa!$I$8:$I$149) -> 0 | D6: 126 | E6: =SUMIF(Resa!$B$8:$B$165,D6,Resa!$I$8:$I$149) -> 0 | G6: 251 | H6: =SUMIF(Resa!$B$8:$B$165,G6,Resa!$I$8:$I$149) -> 0
A7: 103 | B7: =SUMIF(Resa!$B$8:$B$165,A7,Resa!$I$8:$I$149) -> 0 | D7: 127 | E7: =SUMIF(Resa!$B$8:$B$165,D7,Resa!$I$8:$I$149) -> 1 | G7: 252 | H7: =SUMIF(Resa!$B$8:$B$165,G7,Resa!$I$8:$I$149) -> 2
A8: 104 | B8: =SUMIF(Resa!$B$8:$B$165,A8,Resa!$I$8:$I$149) -> 0 | D8: 128 | E8: =SUMIF(Resa!$B$8:$B$165,D8,Resa!$I$8:$I$149) -> 1 | G8: 253 | H8: =SUMIF(Resa!$B$8:$B$165,G8,Resa!$I$8:$I$149) -> 2
A9: 105 | B9: =SUMIF(Resa!$B$8:$B$165,A9,Resa!$I$8:$I$149) -> 0 | D9: 129 | E9: =SUMIF(Resa!$B$8:$B$165,D9,Resa!$I$8:$I$149) -> 2 | G9: 254 | H9: =SUMIF(Resa!$B$8:$B$165,G9,Resa!$I$8:$I$149) -> 2
A10: 106 | B10: =SUMIF(Resa!$B$8:$B$165,A10,Resa!$I$8:$I$149) -> 0 | D10: 130 | E10: =SUMIF(Resa!$B$8:$B$165,D10,Resa!$I$8:$I$149) -> 1 | G10: 255 | H10: =SUMIF(Resa!$B$8:$B$165,G10,Resa!$I$8:$I$149) -> 2
A11: 107 | B11: =SUMIF(Resa!$B$8:$B$165,A11,Resa!$I$8:$I$149) -> 0 | D11: 131 | E11: =SUMIF(Resa!$B$8:$B$165,D11,Resa!$I$8:$I$149) -> 0 | G11: 256 | H11: =SUMIF(Resa!$B$8:$B$165,G11,Resa!$I$8:$I$149) -> 2
A12: 108 | B12: =SUMIF(Resa!$B$8:$B$165,A12,Resa!$I$8:$I$149) -> 0 | D12: 132 | E12: =SUMIF(Resa!$B$8:$B$165,D12,Resa!$I$8:$I$149) -> 2 | G12: 257 | H12: =SUMIF(Resa!$B$8:$B$165,G12,Resa!$I$8:$I$149) -> 2
A13: 109 | B13: =SUMIF(Resa!$B$8:$B$165,A13,Resa!$I$8:$I$149) -> 0 | D13: 133 | E13: =SUMIF(Resa!$B$8:$B$165,D13,Resa!$I$8:$I$149) -> 0 | G13: 258 | H13: =SUMIF(Resa!$B$8:$B$165,G13,Resa!$I$8:$I$149) -> 2
A14: 110 | B14: =SUMIF(Resa!$B$8:$B$165,A14,Resa!$I$8:$I$149) -> 0 | D14: 134 | E14: =SUMIF(Resa!$B$8:$B$165,D14,Resa!$I$8:$I$149) -> 0 | G14: 259 | H14: =SUMIF(Resa!$B$8:$B$165,G14,Resa!$I$8:$I$149) -> 2
A15: 111 | B15: =SUMIF(Resa!$B$8:$B$165,A15,Resa!$I$8:$I$149) -> 0 | D15: 135 | E15: =SUMIF(Resa!$B$8:$B$165,D15,Resa!$I$8:$I$149) -> 0 | G15: 260 | H15: =SUMIF(Resa!$B$8:$B$165,G15,Resa!$I$8:$I$149) -> 2
A16: 112 | B16: =SUMIF(Resa!$B$8:$B$165,A16,Resa!$I$8:$I$149) -> 0 | D16: 136 | E16: =SUMIF(Resa!$B$8:$B$165,D16,Resa!$I$8:$I$149) -> 0 | G16: 261 | H16: =SUMIF(Resa!$B$8:$B$165,G16,Resa!$I$8:$I$149) -> 2
... A28: 124 | B28: =SUMIF(Resa!$B$8:$B$165,A28,Resa!$I$8:$I$149) -> 0 | D28: 148 | E28: =SUMIF(Resa!$B$8:$B$165,D28,Resa!$I$8:$I$149) -> 0 | G28: 273 | H28: =SUMIF(Resa!$B$8:$B$165,G28,Resa!$I$8:$I$149) -> 1
D29: 150 | E29: =SUMIF(Resa!$B$8:$B$165,D29,Resa!$I$8:$I$149) -> 0 | G29: 274 | H29: =SUMIF(Resa!$B$8:$B$165,G29,Resa!$I$8:$I$149) -> 2
D30: 152 | E30: =SUMIF(Resa!$B$8:$B$165,D30,Resa!$I$8:$I$149) -> 0 | G30: 275 | H30: =SUMIF(Resa!$B$8:$B$165,G30,Resa!$I$8:$I$149) -> 1
D31: 300 | E31: =SUMIF(Resa!$B$8:$B$165,D31,Resa!$I$8:$I$149) -> 2 | G31: 276 | H31: =SUMIF(Resa!$B$8:$B$165,G31,Resa!$I$8:$I$149) -> 0
B32: Nombre de Pax | G32: 277 | H32: =SUMIF(Resa!$B$8:$B$165,G32,Resa!$I$8:$I$149) -> 2
B33: =SUM(B5:B28)+SUM(E5:E31)+SUM(H5:H32) -> 67

Sheet Excu 4
A4: CABINE | B4: SORTIE | D4: CABINE | E4: SORTIE | G4: CABINE | H4: SORTIE
A5: 101 | B5: =SUMIF(Resa!$B$8:$B$165,A5,Resa!$J$8:$J$149) -> 0 | D5: 125 | E5: =SUMIF(Resa!$B$8:$B$165,D5,Resa!$J$8:$J$149) -> 2 | G5: 250 | H5: =SUMIF(Resa!$B$8:$B$165,G5,Resa!$J$8:$J$149) -> 2
A6: 102 | B6: =SUMIF(Resa!$B$8:$B$165,A6,Resa!$J$8:$J$149) -> 0 | D6: 126 | E6: =SUMIF(Resa!$B$8:$B$165,D6,Resa!$J$8:$J$149) -> 0 | G6: 251 | H6: =SUMIF(Resa!$B$8:$B$165,G6,Resa!$J$8:$J$149) -> 0
A7: 103 | B7: =SUMIF(Resa!$B$8:$B$165,A7,Resa!$J$8:$J$149) -> 0 | D7: 127 | E7: =SUMIF(Resa!$B$8:$B$165,D7,Resa!$J$8:$J$149) -> 1 | G7: 252 | H7: =SUMIF(Resa!$B$8:$B$165,G7,Resa!$J$8:$J$149) -> 2
A8: 104 | B8: =SUMIF(Resa!$B$8:$B$165,A8,Resa!$J$8:$J$149) -> 0 | D8: 128 | E8: =SUMIF(Resa!$B$8:$B$165,D8,Resa!$J$8:$J$149) -> 1 | G8: 253 | H8: =SUMIF(Resa!$B$8:$B$165,G8,Resa!$J$8:$J$149) -> 2
A9: 105 | B9: =SUMIF(Resa!$B$8:$B$165,A9,Resa!$J$8:$J$149) -> 0 | D9: 129 | E9: =SUMIF(Resa!$B$8:$B$165,D9,Resa!$J$8:$J$149) -> 2 | G9: 254 | H9: =SUMIF(Resa!$B$8:$B$165,G9,Resa!$J$8:$J$149) -> 2
A10: 106 | B10: =SUMIF(Resa!$B$8:$B$165,A10,Resa!$J$8:$J$149) -> 0 | D10: 130 | E10: =SUMIF(Resa!$B$8:$B$165,D10,Resa!$J$8:$J$149) -> 1 | G10: 255 | H10: =SUMIF(Resa!$B$8:$B$165,G10,Resa!$J$8:$J$149) -> 2
A11: 107 | B11: =SUMIF(Resa!$B$8:$B$165,A11,Resa!$J$8:$J$149) -> 0 | D11: 131 | E11: =SUMIF(Resa!$B$8:$B$165,D11,Resa!$J$8:$J$149) -> 0 | G11: 256 | H11: =SUMIF(Resa!$B$8:$B$165,G11,Resa!$J$8:$J$149) -> 2
A12: 108 | B12: =SUMIF(Resa!$B$8:$B$165,A12,Resa!$J$8:$J$149) -> 0 | D12: 132 | E12: =SUMIF(Resa!$B$8:$B$165,D12,Resa!$J$8:$J$149) -> 2 | G12: 257 | H12: =SUMIF(Resa!$B$8:$B$165,G12,Resa!$J$8:$J$149) -> 0
A13: 109 | B13: =SUMIF(Resa!$B$8:$B$165,A13,Resa!$J$8:$J$149) -> 0 | D13: 133 | E13: =SUMIF(Resa!$B$8:$B$165,D13,Resa!$J$8:$J$149) -> 0 | G13: 258 | H13: =SUMIF(Resa!$B$8:$B$165,G13,Resa!$J$8:$J$149) -> 0
A14: 110 | B14: =SUMIF(Resa!$B$8:$B$165,A14,Resa!$J$8:$J$149) -> 0 | D14: 134 | E14: =SUMIF(Resa!$B$8:$B$165,D14,Resa!$J$8:$J$149) -> 0 | G14: 259 | H14: =SUMIF(Resa!$B$8:$B$165,G14,Resa!$J$8:$J$149) -> 0
A15: 111 | B15: =SUMIF(Resa!$B$8:$B$165,A15,Resa!$J$8:$J$149) -> 2 | D15: 135 | E15: =SUMIF(Resa!$B$8:$B$165,D15,Resa!$J$8:$J$149) -> 2 | G15: 260 | H15: =SUMIF(Resa!$B$8:$B$165,G15,Resa!$J$8:$J$149) -> 2
A16: 112 | B16: =SUMIF(Resa!$B$8:$B$165,A16,Resa!$J$8:$J$149) -> 0 | D16: 136 | E16: =SUMIF(Resa!$B$8:$B$165,D16,Resa!$J$8:$J$149) -> 0 | G16: 261 | H16: =SUMIF(Resa!$B$8:$B$165,G16,Resa!$J$8:$J$149) -> 2
... A28: 124 | B28: =SUMIF(Resa!$B$8:$B$165,A28,Resa!$J$8:$J$149) -> 2 | D28: 148 | E28: =SUMIF(Resa!$B$8:$B$165,D28,Resa!$J$8:$J$149) -> 0 | G28: 273 | H28: =SUMIF(Resa!$B$8:$B$165,G28,Resa!$J$8:$J$149) -> 1
D29: 150 | E29: =SUMIF(Resa!$B$8:$B$165,D29,Resa!$J$8:$J$149) -> 0 | G29: 274 | H29: =SUMIF(Resa!$B$8:$B$165,G29,Resa!$J$8:$J$149) -> 2
D30: 152 | E30: =SUMIF(Resa!$B$8:$B$165,D30,Resa!$J$8:$J$149) -> 0 | G30: 275 | H30: =SUMIF(Resa!$B$8:$B$165,G30,Resa!$J$8:$J$149) -> 1
D31: 300 | E31: =SUMIF(Resa!$B$8:$B$165,D31,Resa!$J$8:$J$149) -> 2 | G31: 276 | H31: =SUMIF(Resa!$B$8:$B$165,G31,Resa!$J$8:$J$149) -> 0
B32: Nombre de Pax | G32: 277 | H32: =SUMIF(Resa!$B$8:$B$165,G32,Resa!$J$8:$J$149) -> 0
B33: =SUM(B5:B28)+SUM(E5:E31)+SUM(H5:H32) -> 67

Sheet Excu 5
A4: CABINE | B4: SORTIE | D4: CABINE | E4: SORTIE | G4: CABINE | H4: SORTIE
A5: 101 | B5: =SUMIF(Resa!$B$8:$B$165,A5,Resa!$K$8:$K$149) -> 0 | D5: 125 | E5: =SUMIF(Resa!$B$8:$B$165,D5,Resa!$K$8:$K$149) -> 2 | G5: 250 | H5: =SUMIF(Resa!$B$8:$B$165,G5,Resa!$K$8:$K$149) -> 2
A6: 102 | B6: =SUMIF(Resa!$B$8:$B$165,A6,Resa!$K$8:$K$149) -> 0 | D6: 126 | E6: =SUMIF(Resa!$B$8:$B$165,D6,Resa!$K$8:$K$149) -> 0 | G6: 251 | H6: =SUMIF(Resa!$B$8:$B$165,G6,Resa!$K$8:$K$149) -> 0
A7: 103 | B7: =SUMIF(Resa!$B$8:$B$165,A7,Resa!$K$8:$K$149) -> 0 | D7: 127 | E7: =SUMIF(Resa!$B$8:$B$165,D7,Resa!$K$8:$K$149) -> 1 | G7: 252 | H7: =SUMIF(Resa!$B$8:$B$165,G7,Resa!$K$8:$K$149) -> 2
A8: 104 | B8: =SUMIF(Resa!$B$8:$B$165,A8,Resa!$K$8:$K$149) -> 0 | D8: 128 | E8: =SUMIF(Resa!$B$8:$B$165,D8,Resa!$K$8:$K$149) -> 1 | G8: 253 | H8: =SUMIF(Resa!$B$8:$B$165,G8,Resa!$K$8:$K$149) -> 2
A9: 105 | B9: =SUMIF(Resa!$B$8:$B$165,A9,Resa!$K$8:$K$149) -> 0 | D9: 129 | E9: =SUMIF(Resa!$B$8:$B$165,D9,Resa!$K$8:$K$149) -> 2 | G9: 254 | H9: =SUMIF(Resa!$B$8:$B$165,G9,Resa!$K$8:$K$149) -> 2
A10: 106 | B10: =SUMIF(Resa!$B$8:$B$165,A10,Resa!$K$8:$K$149) -> 0 | D10: 130 | E10: =SUMIF(Resa!$B$8:$B$165,D10,Resa!$K$8:$K$149) -> 1 | G10: 255 | H10: =SUMIF(Resa!$B$8:$B$165,G10,Resa!$K$8:$K$149) -> 2
A11: 107 | B11: =SUMIF(Resa!$B$8:$B$165,A11,Resa!$K$8:$K$149) -> 0 | D11: 131 | E11: =SUMIF(Resa!$B$8:$B$165,D11,Resa!$K$8:$K$149) -> 0 | G11: 256 | H11: =SUMIF(Resa!$B$8:$B$165,G11,Resa!$K$8:$K$149) -> 2
A12: 108 | B12: =SUMIF(Resa!$B$8:$B$165,A12,Resa!$K$8:$K$149) -> 0 | D12: 132 | E12: =SUMIF(Resa!$B$8:$B$165,D12,Resa!$K$8:$K$149) -> 2 | G12: 257 | H12: =SUMIF(Resa!$B$8:$B$165,G12,Resa!$K$8:$K$149) -> 0
A13: 109 | B13: =SUMIF(Resa!$B$8:$B$165,A13,Resa!$K$8:$K$149) -> 0 | D13: 133 | E13: =SUMIF(Resa!$B$8:$B$165,D13,Resa!$K$8:$K$149) -> 0 | G13: 258 | H13: =SUMIF(Resa!$B$8:$B$165,G13,Resa!$K$8:$K$149) -> 0
A14: 110 | B14: =SUMIF(Resa!$B$8:$B$165,A14,Resa!$K$8:$K$149) -> 0 | D14: 134 | E14: =SUMIF(Resa!$B$8:$B$165,D14,Resa!$K$8:$K$149) -> 0 | G14: 259 | H14: =SUMIF(Resa!$B$8:$B$165,G14,Resa!$K$8:$K$149) -> 0
A15: 111 | B15: =SUMIF(Resa!$B$8:$B$165,A15,Resa!$K$8:$K$149) -> 0 | D15: 135 | E15: =SUMIF(Resa!$B$8:$B$165,D15,Resa!$K$8:$K$149) -> 0 | G15: 260 | H15: =SUMIF(Resa!$B$8:$B$165,G15,Resa!$K$8:$K$149) -> 2
A16: 112 | B16: =SUMIF(Resa!$B$8:$B$165,A16,Resa!$K$8:$K$149) -> 0 | D16: 136 | E16: =SUMIF(Resa!$B$8:$B$165,D16,Resa!$K$8:$K$149) -> 0 | G16: 261 | H16: =SUMIF(Resa!$B$8:$B$165,G16,Resa!$K$8:$K$149) -> 2
... A28: 124 | B28: =SUMIF(Resa!$B$8:$B$165,A28,Resa!$K$8:$K$149) -> 0 | D28: 148 | E28: =SUMIF(Resa!$B$8:$B$165,D28,Resa!$K$8:$K$149) -> 0 | G28: 273 | H28: =SUMIF(Resa!$B$8:$B$165,G28,Resa!$K$8:$K$149) -> 1
D29: 150 | E29: =SUMIF(Resa!$B$8:$B$165,D29,Resa!$K$8:$K$149) -> 0 | G29: 274 | H29: =SUMIF(Resa!$B$8:$B$165,G29,Resa!$K$8:$K$149) -> 2
D30: 152 | E30: =SUMIF(Resa!$B$8:$B$165,D30,Resa!$K$8:$K$149) -> 0 | G30: 275 | H30: =SUMIF(Resa!$B$8:$B$165,G30,Resa!$K$8:$K$149) -> 1
D31: 300 | E31: =SUMIF(Resa!$B$8:$B$165,D31,Resa!$K$8:$K$149) -> 2 | G31: 276 | H31: =SUMIF(Resa!$B$8:$B$165,G31,Resa!$K$8:$K$149) -> 0
B32: Nombre de Pax | G32: 277 | H32: =SUMIF(Resa!$B$8:$B$165,G32,Resa!$K$8:$K$149) -> 2
B33: =SUM(B5:B28)+SUM(E5:E31)+SUM(H5:H32) -> 60

Sheet Excu 6
A4: CABINE | B4: SORTIE | D4: CABINE | E4: SORTIE | G4: CABINE | H4: SORTIE
A5: 101 | B5: =SUMIF(Resa!$B$8:$B$165,A5,Resa!$L$8:$L$149) -> 0 | D5: 125 | E5: =SUMIF(Resa!$B$8:$B$165,D5,Resa!$L$8:$L$149) -> 2 | G5: 250 | H5: =SUMIF(Resa!$B$8:$B$165,G5,Resa!$L$8:$L$149) -> 2
A6: 102 | B6: =SUMIF(Resa!$B$8:$B$165,A6,Resa!$L$8:$L$149) -> 0 | D6: 126 | E6: =SUMIF(Resa!$B$8:$B$165,D6,Resa!$L$8:$L$149) -> 0 | G6: 251 | H6: =SUMIF(Resa!$B$8:$B$165,G6,Resa!$L$8:$L$149) -> 0
A7: 103 | B7: =SUMIF(Resa!$B$8:$B$165,A7,Resa!$L$8:$L$149) -> 0 | D7: 127 | E7: =SUMIF(Resa!$B$8:$B$165,D7,Resa!$L$8:$L$149) -> 1 | G7: 252 | H7: =SUMIF(Resa!$B$8:$B$165,G7,Resa!$L$8:$L$149) -> 2
A8: 104 | B8: =SUMIF(Resa!$B$8:$B$165,A8,Resa!$L$8:$L$149) -> 0 | D8: 128 | E8: =SUMIF(Resa!$B$8:$B$165,D8,Resa!$L$8:$L$149) -> 1 | G8: 253 | H8: =SUMIF(Resa!$B$8:$B$165,G8,Resa!$L$8:$L$149) -> 2
A9: 105 | B9: =SUMIF(Resa!$B$8:$B$165,A9,Resa!$L$8:$L$149) -> 0 | D9: 129 | E9: =SUMIF(Resa!$B$8:$B$165,D9,Resa!$L$8:$L$149) -> 2 | G9: 254 | H9: =SUMIF(Resa!$B$8:$B$165,G9,Resa!$L$8:$L$149) -> 2
A10: 106 | B10: =SUMIF(Resa!$B$8:$B$165,A10,Resa!$L$8:$L$149) -> 0 | D10: 130 | E10: =SUMIF(Resa!$B$8:$B$165,D10,Resa!$L$8:$L$149) -> 1 | G10: 255 | H10: =SUMIF(Resa!$B$8:$B$165,G10,Resa!$L$8:$L$149) -> 2
A11: 107 | B11: =SUMIF(Resa!$B$8:$B$165,A11,Resa!$L$8:$L$149) -> 0 | D11: 131 | E11: =SUMIF(Resa!$B$8:$B$165,D11,Resa!$L$8:$L$149) -> 0 | G11: 256 | H11: =SUMIF(Resa!$B$8:$B$165,G11,Resa!$L$8:$L$149) -> 2
A12: 108 | B12: =SUMIF(Resa!$B$8:$B$165,A12,Resa!$L$8:$L$149) -> 0 | D12: 132 | E12: =SUMIF(Resa!$B$8:$B$165,D12,Resa!$L$8:$L$149) -> 2 | G12: 257 | H12: =SUMIF(Resa!$B$8:$B$165,G12,Resa!$L$8:$L$149) -> 0
A13: 109 | B13: =SUMIF(Resa!$B$8:$B$165,A13,Resa!$L$8:$L$149) -> 0 | D13: 133 | E13: =SUMIF(Resa!$B$8:$B$165,D13,Resa!$L$8:$L$149) -> 0 | G13: 258 | H13: =SUMIF(Resa!$B$8:$B$165,G13,Resa!$L$8:$L$149) -> 0
A14: 110 | B14: =SUMIF(Resa!$B$8:$B$165,A14,Resa!$L$8:$L$149) -> 0 | D14: 134 | E14: =SUMIF(Resa!$B$8:$B$165,D14,Resa!$L$8:$L$149) -> 0 | G14: 259 | H14: =SUMIF(Resa!$B$8:$B$165,G14,Resa!$L$8:$L$149) -> 0
A15: 111 | B15: =SUMIF(Resa!$B$8:$B$165,A15,Resa!$L$8:$L$149) -> 0 | D15: 135 | E15: =SUMIF(Resa!$B$8:$B$165,D15,Resa!$L$8:$L$149) -> 0 | G15: 260 | H15: =SUMIF(Resa!$B$8:$B$165,G15,Resa!$L$8:$L$149) -> 2
A16: 112 | B16: =SUMIF(Resa!$B$8:$B$165,A16,Resa!$L$8:$L$149) -> 0 | D16: 136 | E16: =SUMIF(Resa!$B$8:$B$165,D16,Resa!$L$8:$L$149) -> 0 | G16: 261 | H16: =SUMIF(Resa!$B$8:$B$165,G16,Resa!$L$8:$L$149) -> 2
... A28: 124 | B28: =SUMIF(Resa!$B$8:$B$165,A28,Resa!$L$8:$L$149) -> 0 | D28: 148 | E28: =SUMIF(Resa!$B$8:$B$165,D28,Resa!$L$8:$L$149) -> 0 | G28: 273 | H28: =SUMIF(Resa!$B$8:$B$165,G28,Resa!$L$8:$L$149) -> 1
D29: 150 | E29: =SUMIF(Resa!$B$8:$B$165,D29,Resa!$L$8:$L$149) -> 0 | G29: 274 | H29: =SUMIF(Resa!$B$8:$B$165,G29,Resa!$L$8:$L$149) -> 2
D30: 152 | E30: =SUMIF(Resa!$B$8:$B$165,D30,Resa!$L$8:$L$149) -> 0 | G30: 275 | H30: =SUMIF(Resa!$B$8:$B$165,G30,Resa!$L$8:$L$149) -> 1
D31: 300 | E31: =SUMIF(Resa!$B$8:$B$165,D31,Resa!$L$8:$L$149) -> 2 | G31: 276 | H31: =SUMIF(Resa!$B$8:$B$165,G31,Resa!$L$8:$L$149) -> 0
B32: Nombre de Pax | G32: 277 | H32: =SUMIF(Resa!$B$8:$B$165,G32,Resa!$L$8:$L$149) -> 2
B33: =SUM(B5:B28)+SUM(E5:E31)+SUM(H5:H32) -> 58

Sheet Excu 7
A4: CABINE | B4: SORTIE | D4: CABINE | E4: SORTIE | G4: CABINE | H4: SORTIE
A5: 101 | B5: =SUMIF(Resa!$B$8:$B$165,A5,Resa!$M$8:$M$149) -> 0 | D5: 125 | E5: =SUMIF(Resa!$B$8:$B$165,D5,Resa!$M$8:$M$149) -> 0 | G5: 250 | H5: =SUMIF(Resa!$B$8:$B$165,G5,Resa!$M$8:$M$149) -> 0
A6: 102 | B6: =SUMIF(Resa!$B$8:$B$165,A6,Resa!$M$8:$M$149) -> 0 | D6: 126 | E6: =SUMIF(Resa!$B$8:$B$165,D6,Resa!$M$8:$M$149) -> 0 | G6: 251 | H6: =SUMIF(Resa!$B$8:$B$165,G6,Resa!$M$8:$M$149) -> 0
A7: 103 | B7: =SUMIF(Resa!$B$8:$B$165,A7,Resa!$M$8:$M$149) -> 0 | D7: 127 | E7: =SUMIF(Resa!$B$8:$B$165,D7,Resa!$M$8:$M$149) -> 0 | G7: 252 | H7: =SUMIF(Resa!$B$8:$B$165,G7,Resa!$M$8:$M$149) -> 0
A8: 104 | B8: =SUMIF(Resa!$B$8:$B$165,A8,Resa!$M$8:$M$149) -> 0 | D8: 128 | E8: =SUMIF(Resa!$B$8:$B$165,D8,Resa!$M$8:$M$149) -> 0 | G8: 253 | H8: =SUMIF(Resa!$B$8:$B$165,G8,Resa!$M$8:$M$149) -> 0
A9: 105 | B9: =SUMIF(Resa!$B$8:$B$165,A9,Resa!$M$8:$M$149) -> 0 | D9: 129 | E9: =SUMIF(Resa!$B$8:$B$165,D9,Resa!$M$8:$M$149) -> 0 | G9: 254 | H9: =SUMIF(Resa!$B$8:$B$165,G9,Resa!$M$8:$M$149) -> 0
A10: 106 | B10: =SUMIF(Resa!$B$8:$B$165,A10,Resa!$M$8:$M$149) -> 0 | D10: 130 | E10: =SUMIF(Resa!$B$8:$B$165,D10,Resa!$M$8:$M$149) -> 0 | G10: 255 | H10: =SUMIF(Resa!$B$8:$B$165,G10,Resa!$M$8:$M$149) -> 0
A11: 107 | B11: =SUMIF(Resa!$B$8:$B$165,A11,Resa!$M$8:$M$149) -> 0 | D11: 131 | E11: =SUMIF(Resa!$B$8:$B$165,D11,Resa!$M$8:$M$149) -> 0 | G11: 256 | H11: =SUMIF(Resa!$B$8:$B$165,G11,Resa!$M$8:$M$149) -> 0
A12: 108 | B12: =SUMIF(Resa!$B$8:$B$165,A12,Resa!$M$8:$M$149) -> 0 | D12: 132 | E12: =SUMIF(Resa!$B$8:$B$165,D12,Resa!$M$8:$M$149) -> 0 | G12: 257 | H12: =SUMIF(Resa!$B$8:$B$165,G12,Resa!$M$8:$M$149) -> 0
A13: 109 | B13: =SUMIF(Resa!$B$8:$B$165,A13,Resa!$M$8:$M$149) -> 0 | D13: 133 | E13: =SUMIF(Resa!$B$8:$B$165,D13,Resa!$M$8:$M$149) -> 0 | G13: 258 | H13: =SUMIF(Resa!$B$8:$B$165,G13,Resa!$M$8:$M$149) -> 0
A14: 110 | B14: =SUMIF(Resa!$B$8:$B$165,A14,Resa!$M$8:$M$149) -> 0 | D14: 134 | E14: =SUMIF(Resa!$B$8:$B$165,D14,Resa!$M$8:$M$149) -> 0 | G14: 259 | H14: =SUMIF(Resa!$B$8:$B$165,G14,Resa!$M$8:$M$149) -> 0
A15: 111 | B15: =SUMIF(Resa!$B$8:$B$165,A15,Resa!$M$8:$M$149) -> 0 | D15: 135 | E15: =SUMIF(Resa!$B$8:$B$165,D15,Resa!$M$8:$M$149) -> 0 | G15: 260 | H15: =SUMIF(Resa!$B$8:$B$165,G15,Resa!$M$8:$M$149) -> 0
A16: 112 | B16: =SUMIF(Resa!$B$8:$B$165,A16,Resa!$M$8:$M$149) -> 0 | D16: 136 | E16: =SUMIF(Resa!$B$8:$B$165,D16,Resa!$M$8:$M$149) -> 0 | G16: 261 | H16: =SUMIF(Resa!$B$8:$B$165,G16,Resa!$M$8:$M$149) -> 0
... A28: 124 | B28: =SUMIF(Resa!$B$8:$B$165,A28,Resa!$M$8:$M$149) -> 0 | D28: 148 | E28: =SUMIF(Resa!$B$8:$B$165,D28,Resa!$M$8:$M$149) -> 0 | G28: 273 | H28: =SUMIF(Resa!$B$8:$B$165,G28,Resa!$M$8:$M$149) -> 0
D29: 150 | E29: =SUMIF(Resa!$B$8:$B$165,D29,Resa!$M$8:$M$149) -> 0 | G29: 274 | H29: =SUMIF(Resa!$B$8:$B$165,G29,Resa!$M$8:$M$149) -> 0
D30: 152 | E30: =SUMIF(Resa!$B$8:$B$165,D30,Resa!$M$8:$M$149) -> 0 | G30: 275 | H30: =SUMIF(Resa!$B$8:$B$165,G30,Resa!$M$8:$M$149) -> 0
D31: 300 | E31: =SUMIF(Resa!$B$8:$B$165,D31,Resa!$M$8:$M$149) -> 0 | G31: 276 | H31: =SUMIF(Resa!$B$8:$B$165,G31,Resa!$M$8:$M$149) -> 0
B32: Nombre de Pax | G32: 277 | H32: =SUMIF(Resa!$B$8:$B$165,G32,Resa!$M$8:$M$149) -> 0
