Workbook

Sheet Feuil1
A1: C1 Prix Jean Noiret | B1: Inedit De Ciergues | C1: Gaignard Q. | D1: 10 | E1: 10 | F1: 10 | G1: 10 | H1: 10 | I1: 10 | J1: 3,9 | K1: 10 | L1: 6,3 | N1: {=_xlfn._xlws.FILTER(Feuil2!$A$1:$V$398,(Feuil2!$B$1:$B$398=MID(A1,FIND(" ",A1)+1,99))*(Feuil2!$C$1:$C$398=Feuil1!B1),"Données non disponibles")} -> Données non disponibles
A2: C1 Prix Jean Noiret | B2: Irundo | C2: Masure G. | D2: 7,0 | E2: 3,8 | F2: 8,2 | G2: 2,9 | H2: 4,1 | I2: 3,9 | J2: 0,0 | K2: 7,1 | L2: 10 | N2: {=_xlfn._xlws.FILTER(Feuil2!$A$1:$V$398,(Feuil2!$B$1:$B$398=MID(A2,FIND(" ",A2)+1,99))*(Feuil2!$C$1:$C$398=Feuil1!B2),"Données non disponibles")} -> Partants | O2: Prix Jean Noiret | P2: Irundo | Q2: 68 | R2: 0 | S2: 1s2h6h4h2h(21) | T2: 55 % | U2: 67 % | V2: 0 % | W2: 32 % | X2: 39 % | Y2: 0 | Z2: 0 | AA2: 0 | AB2: 0 | AC2: 60 % | AD2: 0 | AE2: 0 | AF2: 0 | AG2: 0 | AH2: 0 | AI2: 0
A3: C1 Prix Jean Noiret | B3: Issu Des Planches | C3: Denis P. | D3: 3,6 | E3: 3,4 | F3: 4,7 | G3: 0,0 | H3: 5,4 | I3: 3,2 | J3: 3,9 | K3: 1,4 | L3: 7,3 | N3: {=_xlfn._xlws.FILTER(Feuil2!$A$1:$V$398,(Feuil2!$B$1:$B$398=MID(A3,FIND(" ",A3)+1,99))*(Feuil2!$C$1:$C$398=Feuil1!B3),"Données non disponibles")} -> Partants | O3: Prix Jean Noiret | P3: Issu des Planches | Q3: 65 | R3: 0 | S3: 2s2s6h4h(21)6p | T3: 59 % | U3: 0 | V3: 0 | W3: 0 % | X3: 33 % | Y3: 0 | Z3: 0 | AA3: 0 | AB3: 0 | AC3: 50 % | AD3: 0 | AE3: 0 | AF3: 100 % | AG3: 0 | AH3: 0 | AI3: 0
A4: C1 Prix Jean Noiret | B4: Iorana Vallis | C4: Zuliani Mr L. | D4: 8,2 | E4: 0,0 | F4: 3,5 | G4: 4,0 | H4: 0,8 | I4: 3,8 | J4: 10 | K4: 8,6 | L4: 5,0 | N4: {=_xlfn._xlws.FILTER(Feuil2!$A$1:$V$398,(Feuil2!$B$1:$B$398=MID(A4,FIND(" ",A4)+1,99))*(Feuil2!$C$1:$C$398=Feuil1!B4),"Données non disponibles")} -> Partants | O4: Prix Jean Noiret | P4: Iorana Vallis | Q4: 66 | R4: 0 | S4: 2s6h3h1h2h(21) | T4: 0 % | U4: 0 | V4: 75 % | W4: 29 % | X4: 38 % | Y4: 0 | Z4: 0 | AA4: 0 | AB4: 0 | AC4: 80 % | AD4: 0 | AE4: 0 | AF4: 100 % | AG4: 0 | AH4: 0 | AI4: 0
A5: C1 Prix Jean Noiret | B5: Interdit De Jeu | C5: Re G. | D5: 0,0 | E5: 3,1 | F5: 6,1 | G5: 0,0 | H5: 0,0 | I5: 1,2 | J5: 5,7 | K5: 2,9 | L5: 6,0 | N5: {=_xlfn._xlws.FILTER(Feuil2!$A$1:$V$398,(Feuil2!$B$1:$B$398=MID(A5,FIND(" ",A5)+1,99))*(Feuil2!$C$1:$C$398=Feuil1!B5),"Données non disponibles")} -> Partants | O5: Prix Jean Noiret | P5: Interdit de Jeu | Q5: 67 | R5: 0 | S5: 2h3h | T5: 43 % | U5: 100 % | V5: 0 | W5: 38 % | X5: 26 % | Y5: 0 | Z5: 0 | AA5: 0 | AB5: 0 | AC5: 100 % | AD5: 0 | AE5: 0 | AF5: 0 | AG5: 0 | AH5: 0 | AI5: 0
A6: C1 Prix Jean Noiret | B6: Icare Du Seuil | C6: Reveley J. | D6: 6,4 | E6: 2,9 | F6: 0,0 | G6: 0,0 | H6: 3,4 | I6: 0,0 | J6: 0,0 | K6: 0,0 | L6: 2,9 | N6: {=_xlfn._xlws.FILTER(Feuil2!$A$1:$V$398,(Feuil2!$B$1:$B$398=MID(A6,FIND(" ",A6)+1,99))*(Feuil2!$C$1:$C$398=Feuil1!B6),"Données non disponibles")} -> Partants | O6: Prix Jean Noiret | P6: Icare du Seuil | Q6: 67 | R6: 0 | S6: 4hAh(21)1h1h1p | T6: 33 % | U6: 50 % | V6: 0 % | W6: 22 % | X6: 43 % | Y6: 0 | Z6: 0 | AA6: 0 | AB6: 0 | AC6: 50 % | AD6: 0 | AE6: 0 | AF6: 0 | AG6: 0 | AH6: 0 | AI6: 0
A7: C1 Prix Jean Noiret | B7: Ipop Ville | C7: Lajon W. | D7: 6,4 | E7: 4,0 | F7: 7,8 | G7: 0,0 | H7: 6,2 | I7: 7,0 | J7: 3,9 | K7: 2,9 | L7: 0,0 | N7: {=_xlfn._xlws.FILTER(Feuil2!$A$1:$V$398,(Feuil2!$B$1:$B$398=MID(A7,FIND(" ",A7)+1,99))*(Feuil2!$C$1:$C$398=Feuil1!B7),"Données non disponibles")} -> Partants | O7: Prix Jean Noiret | P7: Ipop Ville | Q7: 67 | R7: 0 | S7: 4h3h2h(21)3p4p | T7: 41 % | U7: 0 % | V7: 0 | W7: 34 % | X7: 15 % | Y7: 0 | Z7: 0 | AA7: 0 | AB7: 0 | AC7: 67 % | AD7: 0 | AE7: 0 | AF7: 0 | AG7: 0 | AH7: 0 | AI7: 0
A8: C2 Prix Pelat | B8: Villa Rica | C8: Charron J. | D8: 9,1 | E8: 2,7 | F8: 10 | G8: 2,0 | H8: 10 | I8: 8,2 | J8: 6,0 | K8: 6,7 | L8: 8,8 | N8: {=_xlfn._xlws.FILTER(Feuil2!$A$1:$V$398,(Feuil2!$B$1:$B$398=MID(A8,FIND(" ",A8)+1,99))*(Feuil2!$C$1:$C$398=Feuil1!B8),"Données non disponibles")} -> Partants | O8: Prix Pelat | P8: Villa Rica | Q8: 71 | R8: 0 | S8: 2h1h3h3h5h | T8: 62 % | U8: 67 % | V8: 100 % | W8: 47 % | X8: 31 % | Y8: 0 | Z8: 0 | AA8: 0 | AB8: 0 | AC8: 80 % | AD8: 0 | AE8: 0 | AF8: 100 % | AG8: 0 | AH8: 0 | AI8: 0
A9: C2 Prix Pelat | B9: Cour Supreme | C9: Lefebvre Mr C. | D9: 10 | E9: 9,6 | F9: 8,6 | G9: 4,0 | H9: 1,6 | I9: 10 | J9: 4,7 | K9: 10 | L9: 3,7 | N9: {=_xlfn._xlws.FILTER(Feuil2!$A$1:$V$398,(Feuil2!$B$1:$B$398=MID(A9,FIND(" ",A9)+1,99))*(Feuil2!$C$1:$C$398=Feuil1!B9),"Données non disponibles")} -> Données non disponibles
A10: C2 Prix Pelat | B10: Joika D'Herodiere | C10: Nabet K. | D10: 4,1 | E10: 0,0 | F10: 9,1 | G10: 3,3 | H10: 0,3 | I10: 6,2 | J10: 5,6 | K10: 6,7 | L10: 7,3 | N10: {=_xlfn._xlws.FILTER(Feuil2!$A$1:$V$398,(Feuil2!$B$1:$B$398=MID(A10,FIND(" ",A10)+1,99))*(Feuil2!$C$1:$C$398=Feuil1!B10),"Données non disponibles")} -> Données non disponibles
A11: C2 Prix Pelat | B11: Isaline De Chandou | C11: Reveley J. | D11: 5,0 | E11: 5,5 | F11: 0,9 | G11: 2,5 | H11: 1,1 | I11: 0,3 | J11: 5,0 | K11: 6,7 | L11: 7,8 | N11: {=_xlfn._xlws.FILTER(Feuil2!$A$1:$V$398,(Feuil2!$B$1:$B$398=MID(A11,FIND(" ",A11)+1,99))*(Feuil2!$C$1:$C$398=Feuil1!B11),"Données non disponibles")} -> Partants | O11: Prix Pelat | P11: Isaline de Chandou | Q11: 67 | R11: 0 | S11: 1h2h5h9h | T11: 41 % | U11: 50 % | V11: 0 % | W11: 33 % | X11: 43 % | Y11: 0 | Z11: 0 | AA11: 0 | AB11: 0 | AC11: 50 % | AD11: 0 | AE11: 0 | AF11: 0 | AG11: 0 | AH11: 0 | AI11: 0
A12: C2 Prix Pelat | B12: Najima Star | C12: Re G. | D12: 2,4 | E12: 5,8 | F12: 0,0 | G12: 3,3 | H12: 0,0 | I12: 0,0 | J12: 3,3 | K12: 5,0 | L12: 3,6 | N12: {=_xlfn._xlws.FILTER(Feuil2!$A$1:$V$398,(Feuil2!$B$1:$B$398=MID(A12,FIND(" ",A12)+1,99))*(Feuil2!$C$1:$C$398=Feuil1!B12),"Données non disponibles")} -> Partants | O12: Prix Pelat | P12: Najima Star | Q12: 66 | R12: 0 | S12: 1h8p(21)9p13p10p | T12: 40 % | U12: 100 % | V12: 100 % | W12: 22 % | X12: 26 % | Y12: 0 | Z12: 0 | AA12: 0 | AB12: 0 | AC12: 100 % | AD12: 0 | AE12: 0 | AF12: 0 | AG12: 0 | AH12: 0 | AI12: 0
A13: C2 Prix Pelat | B13: In My Mind | C13: Gauffenic N. | D13: 7,4 | E13: 2,6 | F13: 1,0 | G13: 5,0 | H13: 0,3 | I13: 2,1 | J13: 4,7 | K13: 10 | L13: 9,1 | N13: {=_xlfn._xlws.FILTER(Feuil2!$A$1:$V$398,(Feuil2!$B$1:$B$398=MID(A13,FIND(" ",A13)+1,99))*(Feuil2!$C$1:$C$398=Feuil1!B13),"Données non disponibles")} -> Partants | O13: Prix Pelat | P13: In My Mind | Q13: 66 | R13: 0 | S13: 1h1h4h3p | T13: 53 % | U13: 0 | V13: 0 | W13: 11 % | X13: 26 % | Y13: 0 | Z13: 0 | AA13: 0 | AB13: 0 | AC13: 67 % | AD13: 0 | AE13: 0 | AF13: 100 % | AG13: 0 | AH13: 0 | AI13: 0
A14: C2 Prix Pelat | B14: Sniper Point | C14: Masure G. | D14: 7,9 | E14: 6,5 | F14: 2,9 | G14: 0,0 | H14: 1,3 | I14: 0,2 | J14: 0,0 | K14: 3,3 | L14: 8,9 | N14: {=_xlfn._xlws.FILTER(Feuil2!$A$1:$V$398,(Feuil2!$B$1:$B$398=MID(A14,FIND(" ",A14)+1,99))*(Feuil2!$C$1:$C$398=Feuil1!B14),"Données non disponibles")} -> Partants | O14: Prix Pelat | P14: Sniper Point | Q14: 66 | R14: 0 | S14: 4h4h2h7h2pJh | T14: 0 | U14: 0 | V14: 0 % | W14: 19 % | X14: 39 % | Y14: 0 | Z14: 0 | AA14: 0 | AB14: 0 | AC14: 20 % | AD14: 0 | AE14: 0 | AF14: 0 % | AG14: 0 | AH14: 0 | AI14: 0
A15: C2 Prix Pelat | B15: Namour Has | C15: Chevillard T. | D15: 2,1 | E15: 1,7 | F15: 9,1 | G15: 0,0 | H15: 0,4 | I15: 6,2 | J15: 10 | K15: 3,3 | L15: 9,7 | N15: {=_xlfn._xlws.FILTER(Feuil2!$A$1:$V$398,(Feuil2!$B$1:$B$398=MID(A15,FIND(" ",A15)+1,99))*(Feuil2!$C$1:$C$398=Feuil1!B15),"Données non disponibles")} -> Partants | O15: Prix Pelat | P15: Namour Has | Q15: 66 | R15: 0 | S15: 2h3h | T15: 49 % | U15: 0 | V15: 100 % | W15: 44 % | X15: 37 % | Y15: 0 | Z15: 0 | AA15: 0 | AB15: 0 | AC15: 100 % | AD15: 0 | AE15: 0 | AF15: 100 % | AG15: 0 | AH15: 0 | AI15: 0
A16: C2 Prix Pelat | B16: Pearl Of Wisdom | C16: Zuliani Mr A. | D16: 0,0 | E16: 10 | F16: 9,1 | G16: 10 | H16: 2,5 | I16: 6,2 | J16: 4,7 | K16: 5,0 | L16: 10 | N16: {=_xlfn._xlws.FILTER(Feuil2!$A$1:$V$398,(Feuil2!$B$1:$B$398=MID(A16,FIND(" ",A16)+1,99))*(Feuil2!$C$1:$C$398=Feuil1!B16),"Données non disponibles")} -> Partants | O16: Prix Pelat | P16: Pearl of Wisdom | Q16: 65 | R16: 0 | S16: 1h | T16: 57 % | U16: 100 % | V16: 0 | W16: 44 % | X16: 49 % | Y16: 0 | Z16: 0 | AA16: 0 | AB16: 0 | AC16: 100 % | AD16: 0 | AE16: 0 | AF16: 100 % | AG16: 0 | AH16: 0 | AI16: 0
A17: C2 Prix Pelat | B17: Ishita | C17: Richard G. | D17: 7,1 | E17: 5,6 | F17: 9,1 | G17: 0,0 | H17: 2,0 | I17: 6,2 | J17: 3,3 | K17: 0,0 | L17: 0,0 | N17: {=_xlfn._xlws.FILTER(Feuil2!$A$1:$V$398,(Feuil2!$B$1:$B$398=MID(A17,FIND(" ",A17)+1,99))*(Feuil2!$C$1:$C$398=Feuil1!B17),"Données non disponibles")} -> Partants | O17: Prix Pelat | P17: Ishita | Q17: 65 | R17: 0 | S17: 4h | T17: 54 % | U17: 0 % | V17: 0 % | W17: 44 % | X17: 33 % | Y17: 0 | Z17: 0 | AA17: 0 | AB17: 0 | AC17: 0 % | AD17: 0 | AE17: 0 | AF17: 0 | AG17: 0 | AH17: 0 | AI17: 0
A18: C3 Prix World Citizen | B18: Virgo Celestin | C18: Dubourg Mr K. | D18: 10 | E18: 10 | F18: 10 | G18: 6,7 | H18: 10 | I18: 10 | J18: 10 | K18: 10 | L18: 6,7 | N18: {=_xlfn._xlws.FILTER(Feuil2!$A$1:$V$398,(Feuil2!$B$1:$B$398=MID(A18,FIND(" ",A18)+1,99))*(Feuil2!$C$1:$C$398=Feuil1!B18),"Données non disponibles")} -> Partants | O18: Prix World Citizen | P18: Virgo Celestin | Q18: 72 | R18: 0 | S18: 1s1h1hTs1s(21) | T18: 59 % | U18: 89 % | V18: 0 | W18: 47 % | X18: 37 % | Y18: 0 | Z18: 0 | AA18: 0 | AB18: 50 % | AC18: 91 % | AD18: 0 | AE18: 0 | AF18: 0 % | AG18: 0 | AH18: 0 | AI18: 0
A19: C3 Prix World Citizen | B19: Hey Jude | C19: Zuliani Mr A. | D19: 6,1 | E19: 6,8 | F19: 9,5 | G19: 3,3 | H19: 5,6 | I19: 7,6 | J19: 2,7 | K19: 3,1 | L19: 5,1 | N19: {=_xlfn._xlws.FILTER(Feuil2!$A$1:$V$398,(Feuil2!$B$1:$B$398=MID(A19,FIND(" ",A19)+1,99))*(Feuil2!$C$1:$C$398=Feuil1!B19),"Données non disponibles")} -> Partants | O19: Prix World Citizen | P19: Hey Jude | Q19: 69 | R19: 0 | S19: 1s5h2h(21)1s1s | T19: 57 % | U19: 67 % | V19: 0 | W19: 44 % | X19: 49 % | Y19: 0 | Z19: 0 | AA19: 0 | AB19: 0 | AC19: 78 % | AD19: 0 | AE19: 0 | AF19: 0 | AG19: 0 | AH19: 0 | AI19: 0
A20: C3 Prix World Citizen | B20: Araucarias | C20: Lestrade B. | D20: 7,3 | E20: 5,0 | F20: 9,5 | G20: 4,0 | H20: 4,4 | I20: 7,6 | J20: 2,7 | K20: 5,4 | L20: 7,8 | N20: {=_xlfn._xlws.FILTER(Feuil2!$A$1:$V$398,(Feuil2!$B$1:$B$398=MID(A20,FIND(" ",A20)+1,99))*(Feuil2!$C$1:$C$398=Feuil1!B20),"Données non disponibles")} -> Partants | O20: Prix World Citizen | P20: Araucarias | Q20: 68 | R20: 0 | S20: 6s4s2s1s1s(21) | T20: 55 % | U20: 0 % | V20: 0 % | W20: 44 % | X20: 47 % | Y20: 0 | Z20: 0 | AA20: 0 | AB20: 0 % | AC20: 63 % | AD20: 0 | AE20: 0 | AF20: 33 % | AG20: 0 | AH20: 0 | AI20: 0
A21: C3 Prix World Citizen | B21: Gooaaal | C21: Lefebvre Mr C. | D21: 5,8 | E21: 6,5 | F21: 7,2 | G21: 0,0 | H21: 3,1 | I21: 2,6 | J21: 2,5 | K21: 2,3 | L21: 8,2 | N21: {=_xlfn._xlws.FILTER(Feuil2!$A$1:$V$398,(Feuil2!$B$1:$B$398=MID(A21,FIND(" ",A21)+1,99))*(Feuil2!$C$1:$C$398=Feuil1!B21),"Données non disponibles")} -> Partants | O21: Prix World Citizen | P21: Gooaaal | Q21: 66 | R21: 0 | S21: As2sTs2s(21)2s | T21: 44 % | U21: 25 % | V21: 20 % | W21: 29 % | X21: 31 % | Y21: 0 | Z21: 0 | AA21: 0 | AB21: 29 % | AC21: 40 % | AD21: 0 | AE21: 0 | AF21: 33 % | AG21: 0 | AH21: 0 | AI21: 0
A22: C3 Prix World Citizen | B22: Griffon D'Aubrelle | C22: Alain De Chitray | D22: 5,2 | E22: 4,2 | F22: 9,2 | G22: 10 | H22: 4,1 | I22: 6,4 | J22: 2,7 | K22: 2,3 | L22: 9,6 | N22: {=_xlfn._xlws.FILTER(Feuil2!$A$1:$V$398,(Feuil2!$B$1:$B$398=MID(A22,FIND(" ",A22)+1,99))*(Feuil2!$C$1:$C$398=Feuil1!B22),"Données non disponibles")} -> Partants | O22: Prix World Citizen | P22: Griffon d'Aubrelle | Q22: 66 | R22: 0 | S22: 1s(21)3s(20)3sTs | T22: 42 % | U22: 100 % | V22: 33 % | W22: 27 % | X22: 23 % | Y22: 0 | Z22: 0 | AA22: 0 | AB22: 0 % | AC22: 73 % | AD22: 0 | AE22: 0 | AF22: 75 % | AG22: 0 | AH22: 0 | AI22: 0
A23: C3 Prix World Citizen | B23: Grandioso | C23: Chevillard T. | D23: 3,6 | E23: 0,0 | F23: 7,6 | G23: 1,7 | H23: 0,3 | I23: 2,7 | J23: 0,4 | K23: 0,0 | L23: 0,0 | N23: {=_xlfn._xlws.FILTER(Feuil2!$A$1:$V$398,(Feuil2!$B$1:$B$398=MID(A23,FIND(" ",A23)+1,99))*(Feuil2!$C$1:$C$398=Feuil1!B23),"Données non disponibles")} -> Partants | O23: Prix World Citizen | P23: Grandioso | Q23: 64 | R23: 0 | S23: 5sAs5s5s(21)As | T23: 46 % | U23: 0 | V23: 17 % | W23: 30 % | X23: 37 % | Y23: 0 | Z23: 0 | AA23: 0 | AB23: 0 % | AC23: 21 % | AD23: 0 | AE23: 0 | AF23: 17 % | AG23: 0 | AH23: 0 | AI23: 0
A24: C3 Prix World Citizen | B24: Fleuron D'Arthel | C24: Gauffenic N. | D24: 3,0 | E24: 0,8 | F24: 0,0 | G24: 0,0 | H24: 0,0 | I24: 0,0 | J24: 0,6 | K24: 0,8 | L24: 10 | N24: {=_xlfn._xlws.FILTER(Feuil2!$A$1:$V$398,(Feuil2!$B$1:$B$398=MID(A24,FIND(" ",A24)+1,99))*(Feuil2!$C$1:$C$398=Feuil1!B24),"Données non disponibles")} -> Partants | O24: Prix World Citizen | P24: Fleuron d'Arthel | Q24: 62 | R24: 0 | S24: 4s6s3s(21)3s4s | T24: 0 % | U24: 0 % | V24: 14 % | W24: 0 % | X24: 26 % | Y24: 0 | Z24: 0 | AA24: 0 | AB24: 0 % | AC24: 42 % | AD24: 0 | AE24: 0 | AF24: 17 % | AG24: 0 | AH24: 0 | AI24: 0
A25: C3 Prix World Citizen | B25: Duo D'Enfer | C25: Masure G. | D25: 0,0 | E25: 3,9 | F25: 5,1 | G25: 2,0 | H25: 2,6 | I25: 1,9 | J25: 0,0 | K25: 2,3 | L25: 5,8 | N25: {=_xlfn._xlws.FILTER(Feuil2!$A$1:$V$398,(Feuil2!$B$1:$B$398=MID(A25,FIND(" ",A25)+1,99))*(Feuil2!$C$1:$C$398=Feuil1!B25),"Données non disponibles")} -> Partants | O25: Prix World Citizen | P25: Duo d'Enfer | Q25: 62 | R25: 0 | S25: 7s5s7h10s1h(20) | T25: 50 % | U25: 0 | V25: 29 % | W25: 31 % | X25: 39 % | Y25: 0 | Z25: 0 | AA25: 0 | AB25: 27 % | AC25: 39 % | AD25: 0 | AE25: 0 | AF25: 33 % | AG25: 0 | AH25: 0 | AI25: 0
A26: Quinté de demain | B26: Folly Foot | C26: Reveley J. | D26: 10 | E26: 5,3 | F26: 0,9 | G26: 8,0 | H26: 4,5 | I26: 0,1 | J26: 10 | K26: 10 | L26: 4,6 | N26: {=_xlfn._xlws.FILTER(Feuil2!$A$1:$V$398,(Feuil2!$B$1:$B$398=MID(A26,FIND(" ",A26)+1,99))*(Feuil2!$C$1:$C$398=Feuil1!B26),"Données non disponibles")} -> Données non disponibles
A27: Quinté de demain | B27: Avel De Kerbarh | C27: De Giles F. | D27: 3,0 | E27: 2,5 | F27: 10 | G27: 3,3 | H27: 2,1 | I27: 10 | J27: 1,5 | K27: 3,8 | L27: 10 | N27: {=_xlfn._xlws.FILTER(Feuil2!$A$1:$V$398,(Feuil2!$B$1:$B$398=MID(A27,FIND(" ",A27)+1,99))*(Feuil2!$C$1:$C$398=Feuil1!B27),"Données non disponibles")} -> Données non disponibles
A28: Quinté de demain | B28: Lyon Clermont | C28: Lefebvre Mr C. | D28: 9,3 | E28: 9,3 | F28: 4,2 | G28: 4,0 | H28: 6,2 | I28: 2,7 | J28: 4,5 | K28: 6,3 | L28: 5,5 | N28: {=_xlfn._xlws.FILTER(Feuil2!$A$1:$V$398,(Feuil2!$B$1:$B$398=MID(A28,FIND(" ",A28)+1,99))*(Feuil2!$C$1:$C$398=Feuil1!B28),"Données non disponibles")} -> Données non disponibles
A29: Quinté de demain | B29: Hopi Du Mathan | C29: Masure G. | D29: 5,3 | E29: 6,3 | F29: 8,5 | G29: 4,0 | H29: 5,4 | I29: 7,8 | J29: 0,0 | K29: 5,0 | L29: 5,2 | N29: {=_xlfn._xlws.FILTER(Feuil2!$A$1:$V$398,(Feuil2!$B$1:$B$398=MID(A29,FIND(" ",A29)+1,99))*(Feuil2!$C$1:$C$398=Feuil1!B29),"Données non disponibles")} -> Données non disponibles
A30: Quinté de demain | B30: Golden Witch | C30: Chevillard T. | D30: 8,0 | E30: 1,6 | F30: 0,1 | G30: 0,0 | H30: 1,8 | I30: 0,4 | J30: 4,5 | K30: 1,3 | L30: 7,0 | N30: {=_xlfn._xlws.FILTER(Feuil2!$A$1:$V$398,(Feuil2!$B$1:$B$398=MID(A30,FIND(" ",A30)+1,99))*(Feuil2!$C$1:$C$398=Feuil1!B30),"Données non disponibles")} -> Données non disponibles
A31: Quinté de demain | B31: Halo On Fire | C31: Ubeda D. | D31: 5,3 | E31: 0,6 | F31: 3,1 | G31: 5,0 | H31: 0,0 | I31: 0,6 | J31: 9,1 | K31: 3,8 | L31: 0,0 | N31: {=_xlfn._xlws.FILTER(Feuil2!$A$1:$V$398,(Feuil2!$B$1:$B$398=MID(A31,FIND(" ",A31)+1,99))*(Feuil2!$C$1:$C$398=Feuil1!B31),"Données non disponibles")} -> Données non disponibles
A32: Quinté de demain | B32: Foreign Flower | C32: Nabet K. | D32: 4,3 | E32: 0,0 | F32: 0,0 | G32: 0,0 | H32: 1,1 | I32: 0,0 | J32: 4,7 | K32: 0,0 | L32: 7,5 | N32: {=_xlfn._xlws.FILTER(Feuil2!$A$1:$V$398,(Feuil2!$B$1:$B$398=MID(A32,FIND(" ",A32)+1,99))*(Feuil2!$C$1:$C$398=Feuil1!B32),"Données non disponibles")} -> Données non disponibles
A33: Quinté de demain | B33: Fences | C33: Re G. | D33: 4,3 | E33: 5,6 | F33: 4,8 | G33: 4,0 | H33: 0,1 | I33: 0,2 | J33: 0,0 | K33: 5,0 | L33: 7,4 | N33: {=_xlfn._xlws.FILTER(Feuil2!$A$1:$V$398,(Feuil2!$B$1:$B$398=MID(A33,FIND(" ",A33)+1,99))*(Feuil2!$C$1:$C$398=Feuil1!B33),"Données non disponibles")} -> Données non disponibles
A34: Quinté de demain | B34: Six One | C34: Zuliani Mr A. | D34: 6,3 | E34: 9,7 | F34: 8,4 | G34: 10 | H34: 10 | I34: 7,6 | J34: 4,7 | K34: 3,8 | L34: 3,8 | N34: {=_xlfn._xlws.FILTER(Feuil2!$A$1:$V$398,(Feuil2!$B$1:$B$398=MID(A34,FIND(" ",A34)+1,99))*(Feuil2!$C$1:$C$398=Feuil1!B34),"Données non disponibles")} -> Données non disponibles
A35: Quinté de demain | B35: Dentor Des Obeaux | C35: Jouin O. | D35: 6,0 | E35: 4,6 | F35: 7,0 | G35: 0,0 | H35: 1,4 | I35: 4,9 | J35: 4,7 | K35: 1,3 | L35: 6,1 | N35: {=_xlfn._xlws.FILTER(Feuil2!$A$1:$V$398,(Feuil2!$B$1:$B$398=MID(A35,FIND(" ",A35)+1,99))*(Feuil2!$C$1:$C$398=Feuil1!B35),"Données non disponibles")} -> Données non disponibles
A36: Quinté de demain | B36: Chichi De La Vega | C36: Philipperon L. | D36: 5,3 | E36: 6,3 | F36: 0,0 | G36: 0,0 | H36: 3,7 | I36: 0,0 | J36: 1,5 | K36: 1,3 | L36: 5,7 | N36: {=_xlfn._xlws.FILTER(Feuil2!$A$1:$V$398,(Feuil2!$B$1:$B$398=MID(A36,FIND(" ",A36)+1,99))*(Feuil2!$C$1:$C$398=Feuil1!B36),"Données non disponibles")} -> Données non disponibles
A37: Quinté de demain | B37: Golliath | C37: Mlle Desoutter N. | D37: 6,7 | E37: 6,3 | F37: 0,8 | G37: 10 | H37: 4,7 | I37: 1,8 | J37: 6,8 | K37: 7,5 | L37: 5,4 | N37: {=_xlfn._xlws.FILTER(Feuil2!$A$1:$V$398,(Feuil2!$B$1:$B$398=MID(A37,FIND(" ",A37)+1,99))*(Feuil2!$C$1:$C$398=Feuil1!B37),"Données non disponibles")} -> Données non disponibles
... A52: C6 Prix Cadoudal | B52: Idee Du Choeur | C52: Morin V. | D52: 7,6 | E52: 7,4 | F52: 7,0 | G52: 5,0 | H52: 6,2 | I52: 3,0 | J52: 4,0 | K52: 10 | L52: 9,6 | N52: {=_xlfn._xlws.FILTER(Feuil2!$A$1:$V$398,(Feuil2!$B$1:$B$398=MID(A52,FIND(" ",A52)+1,99))*(Feuil2!$C$1:$C$398=Feuil1!B52),"Données non disponibles")} -> Données non disponibles
A53: C6 Prix Cadoudal | B53: Tanzanite | C53: Lefebvre Mr C. | D53: 3,8 | E53: 10 | F53: 7,9 | G53: 10 | H53: 7,6 | I53: 3,2 | J53: 4,0 | K53: 7,5 | L53: 10 | N53: {=_xlfn._xlws.FILTER(Feuil2!$A$1:$V$398,(Feuil2!$B$1:$B$398=MID(A53,FIND(" ",A53)+1,99))*(Feuil2!$C$1:$C$398=Feuil1!B53),"Données non disponibles")} -> Partants | O53: Prix Cadoudal | P53: Tanzanite | Q53: 67 | R53: 0 | S53: 1h | T53: 44 % | U53: 100 % | V53: 0 | W53: 29 % | X53: 31 % | Y53: 0 | Z53: 0 | AA53: 0 | AB53: 0 | AC53: 100 % | AD53: 0 | AE53: 0 | AF53: 100 % | AG53: 0 | AH53: 0 | AI53: 0
A54: C6 Prix Cadoudal | B54: Iosefa Demonmirail | C54: Dubourg Mr P. | D54: 3,3 | E54: 6,9 | F54: 10 | G54: 0,0 | H54: 10 | I54: 6,9 | J54: 4,0 | K54: 2,5 | L54: 9,3 | N54: {=_xlfn._xlws.FILTER(Feuil2!$A$1:$V$398,(Feuil2!$B$1:$B$398=MID(A54,FIND(" ",A54)+1,99))*(Feuil2!$C$1:$C$398=Feuil1!B54),"Données non disponibles")} -> Partants | O54: Prix Cadoudal | P54: Iosefa Demonmirail | Q54: 67 | R54: 0 | S54: 2h | T54: 45 % | U54: 0 | V54: 0 | W54: 42 % | X54: 42 % | Y54: 0 | Z54: 0 | AA54: 0 | AB54: 0 | AC54: 100 % | AD54: 0 | AE54: 0 | AF54: 100 % | AG54: 0 | AH54: 0 | AI54: 0
A55: C6 Prix Cadoudal | B55: Kiboutsnik | C55: Renard A. | D55: 4,8 | E55: 8,6 | F55: 9,2 | G55: 1,6 | H55: 9,3 | I55: 5,4 | J55: 4,0 | K55: 3,0 | L55: 6,6 | N55: {=_xlfn._xlws.FILTER(Feuil2!$A$1:$V$398,(Feuil2!$B$1:$B$398=MID(A55,FIND(" ",A55)+1,99))*(Feuil2!$C$1:$C$398=Feuil1!B55),"Données non disponibles")} -> Partants | O55: Prix Cadoudal | P55: Kiboutsnik | Q55: 67 | R55: 0 | S55: Inédit | T55: 55 % | U55: 0 | V55: 0 | W55: 34 % | X55: 23 % | Y55: 0 | Z55: 0 | AA55: 0 | AB55: 0 | AC55: 0 | AD55: 0 | AE55: 0 | AF55: 0 | AG55: 0 | AH55: 0 | AI55: 0
A56: C6 Prix Cadoudal | B56: Where'S The Party | C56: Bazire P. | D56: 10 | E56: 7,2 | F56: 5,6 | G56: 0,9 | H56: 4,1 | I56: 0,0 | J56: 0,0 | K56: 2,5 | L56: 0,0 | N56: {=_xlfn._xlws.FILTER(Feuil2!$A$1:$V$398,(Feuil2!$B$1:$B$398=MID(A56,FIND(" ",A56)+1,99))*(Feuil2!$C$1:$C$398=Feuil1!B56),"Données non disponibles")} -> Partants | O56: Prix Cadoudal | P56: Where's The Party | Q56: 64 | R56: 0 | S56: 5h3p12p12p16p5p | T56: 0 % | U56: 0 % | V56: 0 | W56: 0 % | X56: 0 | Y56: 0 | Z56: 0 | AA56: 0 | AB56: 0 | AC56: 0 % | AD56: 0 | AE56: 0 | AF56: 0 % | AG56: 0 | AH56: 0 | AI56: 0
A57: C6 Prix Cadoudal | B57: Interplay | C57: Nabet K. | D57: 0,0 | E57: 3,2 | F57: 8,2 | G57: 0,0 | H57: 2,7 | I57: 3,2 | J57: 4,0 | K57: 0,0 | L57: 5,8 | N57: {=_xlfn._xlws.FILTER(Feuil2!$A$1:$V$398,(Feuil2!$B$1:$B$398=MID(A57,FIND(" ",A57)+1,99))*(Feuil2!$C$1:$C$398=Feuil1!B57),"Données non disponibles")} -> Partants | O57: Prix Cadoudal | P57: Interplay | Q57: 67 | R57: 0 | S57: 3p | T57: 41 % | U57: 0 | V57: 0 | W57: 30 % | X57: 36 % | Y57: 0 | Z57: 0 | AA57: 0 | AB57: 0 | AC57: 0 | AD57: 0 | AE57: 0 | AF57: 0 | AG57: 0 | AH57: 0 | AI57: 0
A58: C6 Prix Cadoudal | B58: Royal Mer | C58: Chevillard T. | D58: 1,9 | E58: 4,3 | F58: 9,8 | G58: 1,6 | H58: 3,3 | I58: 10 | J58: 4,0 | K58: 3,0 | L58: 1,7 | N58: {=_xlfn._xlws.FILTER(Feuil2!$A$1:$V$398,(Feuil2!$B$1:$B$398=MID(A58,FIND(" ",A58)+1,99))*(Feuil2!$C$1:$C$398=Feuil1!B58),"Données non disponibles")} -> Partants | O58: Prix Cadoudal | P58: Royal Mer | Q58: 67 | R58: 0 | S58: (21)5p | T58: 50 % | U58: 0 | V58: 0 | W58: 39 % | X58: 37 % | Y58: 0 | Z58: 0 | AA58: 0 | AB58: 0 | AC58: 0 | AD58: 0 | AE58: 0 | AF58: 0 | AG58: 0 | AH58: 0 | AI58: 0
A59: C6 Prix Cadoudal | B59: Marche | C59: Lestrade B. | D59: 2,4 | E59: 8,7 | F59: 10,0 | G59: 0,0 | H59: 9,5 | I59: 6,8 | J59: 4,0 | K59: 0,0 | L59: 8,6 | N59: {=_xlfn._xlws.FILTER(Feuil2!$A$1:$V$398,(Feuil2!$B$1:$B$398=MID(A59,FIND(" ",A59)+1,99))*(Feuil2!$C$1:$C$398=Feuil1!B59),"Données non disponibles")} -> Partants | O59: Prix Cadoudal | P59: Marche | Q59: 67 | R59: 0 | S59: 4h | T59: 55 % | U59: 0 % | V59: 0 | W59: 44 % | X59: 47 % | Y59: 0 | Z59: 0 | AA59: 0 | AB59: 0 | AC59: 0 % | AD59: 0 | AE59: 0 | AF59: 0 % | AG59: 0 | AH59: 0 | AI59: 0
A60: C6 Prix Cadoudal | B60: Impulse Precieuse | C60: Desvaux A. | D60: 9,0 | E60: 4,4 | F60: 2,0 | G60: 0,0 | H60: 3,0 | I60: 0,0 | J60: 2,0 | K60: 2,5 | L60: 6,8 | N60: {=_xlfn._xlws.FILTER(Feuil2!$A$1:$V$398,(Feuil2!$B$1:$B$398=MID(A60,FIND(" ",A60)+1,99))*(Feuil2!$C$1:$C$398=Feuil1!B60),"Données non disponibles")} -> Données non disponibles
A61: C6 Prix Cadoudal | B61: Mercinette | C61: Marchand B. | D61: 6,7 | E61: 6,1 | F61: 4,5 | G61: 0,0 | H61: 5,0 | I61: 1,9 | J61: 10 | K61: 5,0 | L61: 8,3 | N61: {=_xlfn._xlws.FILTER(Feuil2!$A$1:$V$398,(Feuil2!$B$1:$B$398=MID(A61,FIND(" ",A61)+1,99))*(Feuil2!$C$1:$C$398=Feuil1!B61),"Données non disponibles")} -> Partants | O61: Prix Cadoudal | P61: Mercinette | Q61: 61 | R61: 0 | S61: (21)3h3h | T61: 27 % | U61: 100 % | V61: 0 | W61: 26 % | X61: 17 % | Y61: 0 | Z61: 0 | AA61: 0 | AB61: 0 | AC61: 100 % | AD61: 0 | AE61: 0 | AF61: 100 % | AG61: 0 | AH61: 0 | AI61: 0
A62: C6 Prix Cadoudal | B62: Jessie Du Lac | C62: Mayeur R. | D62: 1,4 | E62: 3,4 | F62: 2,8 | G62: 0,0 | H62: 0,0 | I62: 0,9 | J62: 4,0 | K62: 0,0 | L62: 8,9 | N62: {=_xlfn._xlws.FILTER(Feuil2!$A$1:$V$398,(Feuil2!$B$1:$B$398=MID(A62,FIND(" ",A62)+1,99))*(Feuil2!$C$1:$C$398=Feuil1!B62),"Données non disponibles")} -> Partants | O62: Prix Cadoudal | P62: Jessie du Lac | Q62: 64 | R62: 0 | S62: 7hAh | T62: 7 % | U62: 0 | V62: 0 | W62: 19 % | X62: 14 % | Y62: 0 | Z62: 0 | AA62: 0 | AB62: 0 | AC62: 0 % | AD62: 0 | AE62: 0 | AF62: 0 % | AG62: 0 | AH62: 0 | AI62: 0
A63: C6 Prix Cadoudal | B63: Marina Gamba | C63: Bonnet Mlle E. | D63: 7,1 | E63: 0,0 | F63: 0,0 | G63: 0,0 | H63: 0,0 | I63: 0,0 | J63: 4,0 | K63: 0,0 | L63: 3,5 | N63: {=_xlfn._xlws.FILTER(Feuil2!$A$1:$V$398,(Feuil2!$B$1:$B$398=MID(A63,FIND(" ",A63)+1,99))*(Feuil2!$C$1:$C$398=Feuil1!B63),"Données non disponibles")} -> Partants | O63: Prix Cadoudal | P63: Marina Gamba | Q63: 62 | R63: 0 | S63: 4h9p10p6p11p10p | T63: 0 | U63: 0 | V63: 0 | W63: 0 % | X63: 21 % | Y63: 0 | Z63: 0 | AA63: 0 | AB63: 0 | AC63: 0 % | AD63: 0 | AE63: 0 | AF63: 0 % | AG63: 0 | AH63: 0 | AI63: 0
A64: C7 Prix Marly River | B64: Sambrillon | C64: Lefebvre Mr C. | D64: 4,4 | E64: 9,6 | F64: 9,5 | G64: 0,0 | H64: 10 | I64: 0,0 | J64: 10 | K64: 4,0 | L64: 4,4 | N64: {=_xlfn._xlws.FILTER(Feuil2!$A$1:$V$398,(Feuil2!$B$1:$B$398=MID(A64,FIND(" ",A64)+1,99))*(Feuil2!$C$1:$C$398=Feuil1!B64),"Données non disponibles")} -> Partants | O64: Prix Marly River | P64: Sambrillon | Q64: 72 | R64: 0 | S64: 3h3h3hAh(20)14h | T64: 0 | U64: 0 | V64: 25 % | W64: 8 % | X64: 31 % | Y64: 0 | Z64: 0 | AA64: 0 | AB64: 0 % | AC64: 50 % | AD64: 0 | AE64: 0 | AF64: 40 % | AG64: 0 | AH64: 0 | AI64: 0
A65: C7 Prix Marly River | B65: Elisa Des Obeaux | C65: Jouin O. | D65: 10 | E65: 6,8 | F65: 10 | G65: 2,2 | H65: 3,8 | I65: 8,9 | J65: 3,6 | K65: 3,8 | L65: 6,1 | N65: {=_xlfn._xlws.FILTER(Feuil2!$A$1:$V$398,(Feuil2!$B$1:$B$398=MID(A65,FIND(" ",A65)+1,99))*(Feuil2!$C$1:$C$398=Feuil1!B65),"Données non disponibles")} -> Partants | O65: Prix Marly River | P65: Elisa des Obeaux | Q65: 72 | R65: 0 | S65: (21)2h4s3s7s4s | T65: 35 % | U65: 46 % | V65: 60 % | W65: 32 % | X65: 25 % | Y65: 0 | Z65: 0 | AA65: 0 | AB65: 30 % | AC65: 55 % | AD65: 0 | AE65: 0 | AF65: 86 % | AG65: 0 | AH65: 0 | AI65: 0
A66: C7 Prix Marly River | B66: Complet Thon | C66: Howie N. | D66: 4,8 | E66: 4,8 | F66: 7,6 | G66: 0,0 | H66: 2,6 | I66: 3,5 | J66: 3,6 | K66: 2,0 | L66: 3,2 | N66: {=_xlfn._xlws.FILTER(Feuil2!$A$1:$V$398,(Feuil2!$B$1:$B$398=MID(A66,FIND(" ",A66)+1,99))*(Feuil2!$C$1:$C$398=Feuil1!B66),"Données non disponibles")} -> Partants | O66: Prix Marly River | P66: Complet Thon | Q66: 68 | R66: 0 | S66: 8h3h(21)2h8h7h | T66: 32 % | U66: 33 % | V66: 25 % | W66: 22 % | X66: 15 % | Y66: 0 | Z66: 0 | AA66: 0 | AB66: 22 % | AC66: 32 % | AD66: 0 | AE66: 0 | AF66: 33 % | AG66: 0 | AH66: 0 | AI66: 0
A67: C7 Prix Marly River | B67: Beaugos De Houelle | C67: Philipperon L. | D67: 10 | E67: 7,8 | F67: 6,6 | G67: 7,5 | H67: 6,8 | I67: 3,2 | J67: 3,6 | K67: 8,0 | L67: 6,9 | N67: {=_xlfn._xlws.FILTER(Feuil2!$A$1:$V$398,(Feuil2!$B$1:$B$398=MID(A67,FIND(" ",A67)+1,99))*(Feuil2!$C$1:$C$398=Feuil1!B67),"Données non disponibles")} -> Partants | O67: Prix Marly River | P67: Beaugos de Houelle | Q67: 71 | R67: 0 | S67: 7s5s5h4h2s1s | T67: 0 % | U67: 0 % | V67: 0 % | W67: 29 % | X67: 29 % | Y67: 0 | Z67: 0 | AA67: 0 | AB67: 20 % | AC67: 41 % | AD67: 0 | AE67: 0 | AF67: 33 % | AG67: 0 | AH67: 0 | AI67: 0
A68: C7 Prix Marly River | B68: Super Flam | C68: Paillard S. | D68: 2,2 | E68: 10 | F68: 6,5 | G68: 0,0 | H68: 7,7 | I68: 1,5 | J68: 3,6 | K68: 2,0 | L68: 10 | N68: {=_xlfn._xlws.FILTER(Feuil2!$A$1:$V$398,(Feuil2!$B$1:$B$398=MID(A68,FIND(" ",A68)+1,99))*(Feuil2!$C$1:$C$398=Feuil1!B68),"Données non disponibles")} -> Partants | O68: Prix Marly River | P68: Super Flam | Q68: 71 | R68: 0 | S68: 2h12h(21)3h11h10h | T68: 40 % | U68: 0 | V68: 0 % | W68: 20 % | X68: 25 % | Y68: 0 | Z68: 0 | AA68: 0 | AB68: 38 % | AC68: 31 % | AD68: 0 | AE68: 0 | AF68: 14 % | AG68: 0 | AH68: 0 | AI68: 0
A69: C7 Prix Marly River | B69: Lauretta | C69: Reveley J. | D69: 3,3 | E69: 7,2 | F69: 6,5 | G69: 0,0 | H69: 7,8 | I69: 4,7 | J69: 3,6 | K69: 0,0 | L69: 0,0 | N69: {=_xlfn._xlws.FILTER(Feuil2!$A$1:$V$398,(Feuil2!$B$1:$B$398=MID(A69,FIND(" ",A69)+1,99))*(Feuil2!$C$1:$C$398=Feuil1!B69),"Données non disponibles")} -> Partants | O69: Prix Marly River | P69: Lauretta | Q69: 71 | R69: 0 | S69: 6h4h5h7p11p(21) | T69: 40 % | U69: 0 | V69: 0 | W69: 0 % | X69: 43 % | Y69: 0 | Z69: 0 | AA69: 0 | AB69: 0 % | AC69: 14 % | AD69: 0 | AE69: 0 | AF69: 12 % | AG69: 0 | AH69: 0 | AI69: 0
A70: C7 Prix Marly River | B70: Assad Lawal | C70: Merienne A. | D70: 5,2 | E70: 3,1 | F70: 0,0 | G70: 0,0 | H70: 0,0 | I70: 0,0 | J70: 2,2 | K70: 2,0 | L70: 4,9 | N70: {=_xlfn._xlws.FILTER(Feuil2!$A$1:$V$398,(Feuil2!$B$1:$B$398=MID(A70,FIND(" ",A70)+1,99))*(Feuil2!$C$1:$C$398=Feuil1!B70),"Données non disponibles")} -> Partants | O70: Prix Marly River | P70: Assad Lawal | Q70: 70 | R70: 0 | S70: 7h9h5h14h4h2h | T70: 21 % | U70: 27 % | V70: 31 % | W70: 22 % | X70: 19 % | Y70: 0 | Z70: 0 | AA70: 0 | AB70: 29 % | AC70: 14 % | AD70: 0 | AE70: 0 | AF70: 18 % | AG70: 0 | AH70: 0 | AI70: 0
A71: C7 Prix Marly River | B71: Dill Des Fresnes | C71: Blainville T. | D71: 4,8 | E71: 7,8 | F71: 7,9 | G71: 8,6 | H71: 6,8 | I71: 10 | J71: 1,8 | K71: 10 | L71: 5,2 | N71: {=_xlfn._xlws.FILTER(Feuil2!$A$1:$V$398,(Feuil2!$B$1:$B$398=MID(A71,FIND(" ",A71)+1,99))*(Feuil2!$C$1:$C$398=Feuil1!B71),"Données non disponibles")} -> Partants | O71: Prix Marly River | P71: Dill des Fresnes | Q71: 66 | R71: 0 | S71: 1h3h11h4h10h12h | T71: 26 % | U71: 31 % | V71: 0 % | W71: 5 % | X71: 7 % | Y71: 0 | Z71: 0 | AA71: 0 | AB71: 33 % | AC71: 24 % | AD71: 0 | AE71: 0 | AF71: 26 % | AG71: 0 | AH71: 0 | AI71: 0
A72: C7 Prix Marly River | B72: Pandoro | C72: Thomas Dam. | D72: 7,4 | E72: 8,3 | F72: 7,4 | G72: 0,0 | H72: 5,9 | I72: 4,5 | J72: 2,7 | K72: 4,0 | L72: 4,7 | N72: {=_xlfn._xlws.FILTER(Feuil2!$A$1:$V$398,(Feuil2!$B$1:$B$398=MID(A72,FIND(" ",A72)+1,99))*(Feuil2!$C$1:$C$398=Feuil1!B72),"Données non disponibles")} -> Partants | O72: Prix Marly River | P72: Pandoro | Q72: 65 | R72: 0 | S72: 4h2h5h2h8hAh | T72: 42 % | U72: 33 % | V72: 33 % | W72: 13 % | X72: 25 % | Y72: 0 | Z72: 0 | AA72: 0 | AB72: 22 % | AC72: 24 % | AD72: 0 | AE72: 0 | AF72: 31 % | AG72: 0 | AH72: 0 | AI72: 0
A73: C7 Prix Marly River | B73: Days Dream | C73: Da Silva J. | D73: 8,1 | E73: 0,0 | F73: 5,7 | G73: 10 | H73: 0,0 | I73: 3,6 | J73: 4,5 | K73: 10 | L73: 7,7 | N73: {=_xlfn._xlws.FILTER(Feuil2!$A$1:$V$398,(Feuil2!$B$1:$B$398=MID(A73,FIND(" ",A73)+1,99))*(Feuil2!$C$1:$C$398=Feuil1!B73),"Données non disponibles")} -> Partants | O73: Prix Marly River | P73: Days Dream | Q73: 69 | R73: 0 | S73: 2s2s1sAs4s11h | T73: 33 % | U73: 100 % | V73: 33 % | W73: 26 % | X73: 32 % | Y73: 0 | Z73: 0 | AA73: 0 | AB73: 50 % | AC73: 33 % | AD73: 0 | AE73: 0 | AF73: 0 % | AG73: 0 | AH73: 0 | AI73: 0
A74: C7 Prix Marly River | B74: Henry Brulard | C74: Chevillard T. | D74: 5,2 | E74: 5,0 | F74: 6,9 | G74: 0,0 | H74: 4,4 | I74: 0,0 | J74: 2,7 | K74: 4,0 | L74: 9,9 | N74: {=_xlfn._xlws.FILTER(Feuil2!$A$1:$V$398,(Feuil2!$B$1:$B$398=MID(A74,FIND(" ",A74)+1,99))*(Feuil2!$C$1:$C$398=Feuil1!B74),"Données non disponibles")} -> Partants | O74: Prix Marly River | P74: Henry Brulard | Q74: 68 | R74: 0 | S74: 2s7h3sAh5s4s | T74: 100 % | U74: 100 % | V74: 30 % | W74: 20 % | X74: 37 % | Y74: 0 | Z74: 0 | AA74: 0 | AB74: 21 % | AC74: 26 % | AD74: 0 | AE74: 0 | AF74: 32 % | AG74: 0 | AH74: 0 | AI74: 0
A75: C7 Prix Marly River | B75: Calcium | C75: Bonnet Mlle E. | D75: 2,2 | E75: 1,5 | F75: 6,1 | G75: 0,0 | H75: 0,0 | I75: 0,0 | J75: 4,5 | K75: 0,0 | L75: 8,1 | N75: {=_xlfn._xlws.FILTER(Feuil2!$A$1:$V$398,(Feuil2!$B$1:$B$398=MID(A75,FIND(" ",A75)+1,99))*(Feuil2!$C$1:$C$398=Feuil1!B75),"Données non disponibles")} -> Partants | O75: Prix Marly River | P75: Calcium | Q75: 63 | R75: 0 | S75: As4s4s5sAs(20) | T75: 0 | U75: 0 | V75: 20 % | W75: 5 % | X75: 21 % | Y75: 0 | Z75: 0 | AA75: 0 | AB75: 17 % | AC75: 16 % | AD75: 0 | AE75: 0 | AF75: 30 % | AG75: 0 | AH75: 0 | AI75: 0
A76: C7 Prix Marly River | B76: Santana du Berlais | C76: Seigneul A. | D76: 0,0 | E76: 2,9 | F76: 4,7 | G76: 0,0 | H76: 0,0 | I76: 2,1 | J76: 0,0 | K76: 0,0 | L76: 4,6 | N76: {=_xlfn._xlws.FILTER(Feuil2!$A$1:$V$398,(Feuil2!$B$1:$B$398=MID(A76,FIND(" ",A76)+1,99))*(Feuil2!$C$1:$C$398=Feuil1!B76),"Données non disponibles")} -> Partants | O76: Prix Marly River | P76: Santana du Berlais | Q76: 63 | R76: 0 | S76: 15h12h10h13h6h5h | T76: 20 % | U76: 32 % | V76: 25 % | W76: 23 % | X76: 16 % | Y76: 0 | Z76: 0 | AA76: 0 | AB76: 23 % | AC76: 24 % | AD76: 0 | AE76: 0 | AF76: 21 % | AG76: 0 | AH76: 0 | AI76: 0
A77: C8 Prix Mortemart | B77: Kapteen | C77: Seigneul A. | D77: 6,0 | E77: 3,6 | F77: 2,2 | G77: 0,0 | H77: 0,0 | I77: 1,3 | J77: 10 | K77: 2,5 | L77: 4,8 | N77: {=_xlfn._xlws.FILTER(Feuil2!$A$1:$V$398,(Feuil2!$B$1:$B$398=MID(A77,FIND(" ",A77)+1,99))*(Feuil2!$C$1:$C$398=Feuil1!B77),"Données non disponibles")} -> Partants | O77: Prix Mortemart | P77: Kapteen | Q77: 69 | R77: 0 | S77: 3h2h(21)4h8h5h | T77: 20 % | U77: 0 | V77: 29 % | W77: 23 % | X77: 16 % | Y77: 0 | Z77: 0 | AA77: 0 | AB77: 33 % | AC77: 35 % | AD77: 0 | AE77: 0 | AF77: 25 % | AG77: 0 | AH77: 0 | AI77: 0
A78: C8 Prix Mortemart | B78: Lady Hanwell | C78: De Giles F. | D78: 6,2 | E78: 6,1 | F78: 10 | G78: 0,0 | H78: 4,0 | I78: 10 | J78: 7,0 | K78: 1,3 | L78: 4,4 | N78: {=_xlfn._xlws.FILTER(Feuil2!$A$1:$V$398,(Feuil2!$B$1:$B$398=MID(A78,FIND(" ",A78)+1,99))*(Feuil2!$C$1:$C$398=Feuil1!B78),"Données non disponibles")} -> Partants | O78: Prix Mortemart | P78: Lady Hanwell | Q78: 72 | R78: 0 | S78: 5s3s5s4s4sAs | T78: 36 % | U78: 44 % | V78: 50 % | W78: 32 % | X78: 29 % | Y78: 0 | Z78: 0 | AA78: 0 | AB78: 50 % | AC78: 29 % | AD78: 0 | AE78: 0 | AF78: 0 % | AG78: 0 | AH78: 0 | AI78: 0
A79: C8 Prix Mortemart | B79: Goutte De Thaix | C79: Lefebvre Mr C. | D79: 4,7 | E79: 10 | F79: 6,7 | G79: 3,5 | H79: 8,4 | I79: 3,2 | J79: 1,0 | K79: 5,0 | L79: 1,6 | N79: {=_xlfn._xlws.FILTER(Feuil2!$A$1:$V$398,(Feuil2!$B$1:$B$398=MID(A79,FIND(" ",A79)+1,99))*(Feuil2!$C$1:$C$398=Feuil1!B79),"Données non disponibles")} -> Partants | O79: Prix Mortemart | P79: Goutte de Thaix | Q79: 70 | R79: 0 | S79: 4h3h5h6h6s11h | T79: 24 % | U79: 33 % | V79: 40 % | W79: 25 % | X79: 31 % | Y79: 0 | Z79: 0 | AA79: 0 | AB79: 14 % | AC79: 43 % | AD79: 0 | AE79: 0 | AF79: 36 % | AG79: 0 | AH79: 0 | AI79: 0
A80: C8 Prix Mortemart | B80: Adjali | C80: Reveley J. | D80: 5,5 | E80: 7,7 | F80: 2,6 | G80: 0,0 | H80: 6,5 | I80: 4,5 | J80: 2,0 | K80: 2,5 | L80: 2,6 | N80: {=_xlfn._xlws.FILTER(Feuil2!$A$1:$V$398,(Feuil2!$B$1:$B$398=MID(A80,FIND(" ",A80)+1,99))*(Feuil2!$C$1:$C$398=Feuil1!B80),"Données non disponibles")} -> Partants | O80: Prix Mortemart | P80: Adjali | Q80: 70 | R80: 0 | S80: 2h9h8hAh3h(21) | T80: 41 % | U80: 50 % | V80: 50 % | W80: 21 % | X80: 43 % | Y80: 0 | Z80: 0 | AA80: 0 | AB80: 33 % | AC80: 50 % | AD80: 0 | AE80: 0 | AF80: 38 % | AG80: 0 | AH80: 0 | AI80: 0
A81: C8 Prix Mortemart | B81: Frimousse | C81: Follin Y. | D81: 10 | E81: 5,3 | F81: 6,9 | G81: 10 | H81: 8,8 | I81: 5,5 | J81: 4,2 | K81: 10 | L81: 8,0 | N81: {=_xlfn._xlws.FILTER(Feuil2!$A$1:$V$398,(Feuil2!$B$1:$B$398=MID(A81,FIND(" ",A81)+1,99))*(Feuil2!$C$1:$C$398=Feuil1!B81),"Données non disponibles")} -> Partants | O81: Prix Mortemart | P81: Frimousse | Q81: 66 | R81: 0 | S81: 3s1h3s1s2c3s | T81: 43 % | U81: 100 % | V81: 0 | W81: 36 % | X81: 0 % | Y81: 0 | Z81: 0 | AA81: 0 | AB81: 100 % | AC81: 86 % | AD81: 0 | AE81: 0 | AF81: 75 % | AG81: 0 | AH81: 0 | AI81: 0
A82: C8 Prix Mortemart | B82: Roi D'Etoile | C82: Desvaux A. | D82: 0,0 | E82: 5,6 | F82: 0,0 | G82: 0,0 | H82: 3,3 | I82: 1,5 | J82: 4,2 | K82: 0,0 | L82: 5,7 | N82: {=_xlfn._xlws.FILTER(Feuil2!$A$1:$V$398,(Feuil2!$B$1:$B$398=MID(A82,FIND(" ",A82)+1,99))*(Feuil2!$C$1:$C$398=Feuil1!B82),"Données non disponibles")} -> Partants | O82: Prix Mortemart | P82: Roi d'Etoile | Q82: 70 | R82: 0 | S82: Th11hAh(21)4sAs | T82: 50 % | U82: 0 % | V82: 0 % | W82: 0 % | X82: 15 % | Y82: 0 | Z82: 0 | AA82: 0 | AB82: 14 % | AC82: 27 % | AD82: 0 | AE82: 0 | AF82: 29 % | AG82: 0 | AH82: 0 | AI82: 0
A83: C8 Prix Mortemart | B83: Hextravertix | C83: Alain De Chitray | D83: 8,5 | E83: 8,4 | F83: 8,5 | G83: 0,0 | H83: 10 | I83: 6,9 | J83: 10 | K83: 3,7 | L83: 0,0 | N83: {=_xlfn._xlws.FILTER(Feuil2!$A$1:$V$398,(Feuil2!$B$1:$B$398=MID(A83,FIND(" ",A83)+1,99))*(Feuil2!$C$1:$C$398=Feuil1!B83),"Données non disponibles")} -> Partants | O83: Prix Mortemart | P83: Hextravertix | Q83: 70 | R83: 0 | S83: 2h3h2h(21)2h1h | T83: 42 % | U83: 100 % | V83: 100 % | W83: 27 % | X83: 23 % | Y83: 0 | Z83: 0 | AA83: 0 | AB83: 100 % | AC83: 75 % | AD83: 0 | AE83: 0 | AF83: 80 % | AG83: 0 | AH83: 0 | AI83: 0
A84: C8 Prix Mortemart | B84: Belle Capitaine | C84: Philipperon L. | D84: 4,7 | E84: 8,2 | F84: 7,6 | G84: 0,0 | H84: 5,7 | I84: 3,3 | J84: 4,0 | K84: 0,0 | L84: 4,3 | N84: {=_xlfn._xlws.FILTER(Feuil2!$A$1:$V$398,(Feuil2!$B$1:$B$398=MID(A84,FIND(" ",A84)+1,99))*(Feuil2!$C$1:$C$398=Feuil1!B84),"Données non disponibles")} -> Partants | O84: Prix Mortemart | P84: Belle Capitaine | Q84: 69 | R84: 0 | S84: 8h5h(21)Ah4h3h | T84: 41 % | U84: 0 % | V84: 18 % | W84: 30 % | X84: 29 % | Y84: 0 | Z84: 0 | AA84: 0 | AB84: 18 % | AC84: 20 % | AD84: 0 | AE84: 0 | AF84: 17 % | AG84: 0 | AH84: 0 | AI84: 0
A85: C8 Prix Mortemart | B85: Terre Etoilee | C85: Da Silva J. | D85: 6,8 | E85: 0,7 | F85: 3,3 | G85: 0,0 | H85: 0,0 | I85: 2,2 | J85: 4,0 | K85: 2,5 | L85: 2,3 | N85: {=_xlfn._xlws.FILTER(Feuil2!$A$1:$V$398,(Feuil2!$B$1:$B$398=MID(A85,FIND(" ",A85)+1,99))*(Feuil2!$C$1:$C$398=Feuil1!B85),"Données non disponibles")} -> Données non disponibles
A86: C8 Prix Mortemart | B86: Kami Kaze | C86: Gauffenic N. | D86: 3,8 | E86: 6,1 | F86: 2,3 | G86: 0,0 | H86: 3,2 | I86: 0,0 | J86: 4,2 | K86: 0,0 | L86: 3,1 | N86: {=_xlfn._xlws.FILTER(Feuil2!$A$1:$V$398,(Feuil2!$B$1:$B$398=MID(A86,FIND(" ",A86)+1,99))*(Feuil2!$C$1:$C$398=Feuil1!B86),"Données non disponibles")} -> Partants | O86: Prix Mortemart | P86: Kami Kaze | Q86: 69 | R86: 0 | S86: 6h9h12h(21)Ah4h | T86: 17 % | U86: 0 % | V86: 28 % | W86: 13 % | X86: 26 % | Y86: 0 | Z86: 0 | AA86: 0 | AB86: 26 % | AC86: 26 % | AD86: 0 | AE86: 0 | AF86: 12 % | AG86: 0 | AH86: 0 | AI86: 0
A87: C8 Prix Mortemart | B87: Haeva D'Or | C87: Chesneau A. | D87: 6,0 | E87: 0,0 | F87: 3,3 | G87: 5,8 | H87: 0,0 | I87: 2,2 | J87: 1,6 | K87: 5,0 | L87: 0,9 | N87: {=_xlfn._xlws.FILTER(Feuil2!$A$1:$V$398,(Feuil2!$B$1:$B$398=MID(A87,FIND(" ",A87)+1,99))*(Feuil2!$C$1:$C$398=Feuil1!B87),"Données non disponibles")} -> Partants | O87: Prix Mortemart | P87: Haeva d'Or | Q87: 66 | R87: 0 | S87: 1s2s5h6h(21)8h | T87: 20 % | U87: 100 % | V87: 0 | W87: 26 % | X87: 0 % | Y87: 0 | Z87: 0 | AA87: 0 | AB87: 0 | AC87: 33 % | AD87: 0 | AE87: 0 | AF87: 0 % | AG87: 0 | AH87: 0 | AI87: 0
A88: C8 Prix Mortemart | B88: Ironie Du Lac | C88: Mayeur R. | D88: 6,0 | E88: 4,8 | F88: 1,5 | G88: 0,0 | H88: 0,0 | I88: 1,0 | J88: 2,7 | K88: 5,0 | L88: 0,2 | N88: {=_xlfn._xlws.FILTER(Feuil2!$A$1:$V$398,(Feuil2!$B$1:$B$398=MID(A88,FIND(" ",A88)+1,99))*(Feuil2!$C$1:$C$398=Feuil1!B88),"Données non disponibles")} -> Partants | O88: Prix Mortemart | P88: Ironie du Lac | Q88: 67 | R88: 0 | S88: 11h3sTs2s3h8s | T88: 7 % | U88: 0 | V88: 0 % | W88: 19 % | X88: 14 % | Y88: 0 | Z88: 0 | AA88: 0 | AB88: 14 % | AC88: 32 % | AD88: 0 | AE88: 0 | AF88: 27 % | AG88: 0 | AH88: 0 | AI88: 0
A89: C8 Prix Mortemart | B89: Cleny | C89: Thomas Dam. | D89: 5,7 | E89: 8,8 | F89: 5,0 | G89: 0,0 | H89: 5,0 | I89: 2,8 | J89: 0,0 | K89: 2,5 | L89: 10 | N89: {=_xlfn._xlws.FILTER(Feuil2!$A$1:$V$398,(Feuil2!$B$1:$B$398=MID(A89,FIND(" ",A89)+1,99))*(Feuil2!$C$1:$C$398=Feuil1!B89),"Données non disponibles")} -> Partants | O89: Prix Mortemart | P89: Cleny | Q89: 64 | R89: 0 | S89: 3s3s2s9h(21)6s | T89: 42 % | U89: 100 % | V89: 30 % | W89: 13 % | X89: 25 % | Y89: 0 | Z89: 0 | AA89: 0 | AB89: 33 % | AC89: 50 % | AD89: 0 | AE89: 0 | AF89: 40 % | AG89: 0 | AH89: 0 | AI89: 0
A90: C1 Prix Queila Gede | B90: Giorgio De Lou | C90: Mlle Treich S. | D90: 7,9 | E90: 5,3 | F90: 4,3 | G90: 4,5 | H90: 6,5 | I90: 6,3 | J90: 5,5 | K90: 10 | L90: 8,8 | N90: {=_xlfn._xlws.FILTER(Feuil2!$A$1:$V$398,(Feuil2!$B$1:$B$398=MID(A90,FIND(" ",A90)+1,99))*(Feuil2!$C$1:$C$398=Feuil1!B90),"Données non disponibles")} -> Données non disponibles
A91: C1 Prix Queila Gede | B91: Gabor De Touchyvon | C91: Geray P. | D91: 5,0 | E91: 0,9 | F91: 6,8 | G91: 0,0 | H91: 2,9 | I91: 6,5 | J91: 2,6 | K91: 0,0 | L91: 1,4 | N91: {=_xlfn._xlws.FILTER(Feuil2!$A$1:$V$398,(Feuil2!$B$1:$B$398=MID(A91,FIND(" ",A91)+1,99))*(Feuil2!$C$1:$C$398=Feuil1!B91),"Données non disponibles")} -> Données non disponibles
A92: C1 Prix Queila Gede | B92: Gadcha De Bess | C92: Gendrot A. | D92: 10 | E92: 10 | F92: 6,3 | G92: 10 | H92: 10 | I92: 9,1 | J92: 8,8 | K92: 5,7 | L92: 7,9 | N92: {=_xlfn._xlws.FILTER(Feuil2!$A$1:$V$398,(Feuil2!$B$1:$B$398=MID(A92,FIND(" ",A92)+1,99))*(Feuil2!$C$1:$C$398=Feuil1!B92),"Données non disponibles")} -> Données non disponibles
A93: C1 Prix Queila Gede | B93: Forbak D'Art | C93: Bonnefoux X. | D93: 4,2 | E93: 4,3 | F93: 10 | G93: 6,3 | H93: 7,1 | I93: 10 | J93: 3,9 | K93: 0,0 | L93: 5,7 | N93: {=_xlfn._xlws.FILTER(Feuil2!$A$1:$V$398,(Feuil2!$B$1:$B$398=MID(A93,FIND(" ",A93)+1,99))*(Feuil2!$C$1:$C$398=Feuil1!B93),"Données non disponibles")} -> Données non disponibles
A94: C1 Prix Queila Gede | B94: Gold D'Alba | C94: Mlle Mendiboure M. | D94: 5,3 | E94: 0,0 | F94: 4,7 | G94: 2,1 | H94: 2,8 | I94: 3,7 | J94: 7,1 | K94: 7,1 | L94: 8,3 | N94: {=_xlfn._xlws.FILTER(Feuil2!$A$1:$V$398,(Feuil2!$B$1:$B$398=MID(A94,FIND(" ",A94)+1,99))*(Feuil2!$C$1:$C$398=Feuil1!B94),"Données non disponibles")} -> Données non disponibles
A95: C1 Prix Queila Gede | B95: French So Good | C95: Tijou M. | D95: 5,5 | E95: 0,6 | F95: 4,7 | G95: 4,2 | H95: 9,3 | I95: 3,7 | J95: 2,6 | K95: 0,0 | L95: 0,0 | N95: {=_xlfn._xlws.FILTER(Feuil2!$A$1:$V$398,(Feuil2!$B$1:$B$398=MID(A95,FIND(" ",A95)+1,99))*(Feuil2!$C$1:$C$398=Feuil1!B95),"Données non disponibles")} -> Données non disponibles
A96: C1 Prix Queila Gede | B96: Echo du Lupin | C96: Collet Mlle M. | D96: 5,8 | E96: 0,8 | F96: 5,7 | G96: 1,4 | H96: 0,0 | I96: 2,2 | J96: 3,4 | K96: 5,7 | L96: 6,2 | N96: {=_xlfn._xlws.FILTER(Feuil2!$A$1:$V$398,(Feuil2!$B$1:$B$398=MID(A96,FIND(" ",A96)+1,99))*(Feuil2!$C$1:$C$398=Feuil1!B96),"Données non disponibles")} -> Données non disponibles
A97: C1 Prix Queila Gede | B97: Gladys Tartifume | C97: Lorent L. | D97: 5,5 | E97: 4,1 | F97: 8,5 | G97: 1,6 | H97: 3,4 | I97: 5,8 | J97: 4,5 | K97: 2,9 | L97: 3,4 | N97: {=_xlfn._xlws.FILTER(Feuil2!$A$1:$V$398,(Feuil2!$B$1:$B$398=MID(A97,FIND(" ",A97)+1,99))*(Feuil2!$C$1:$C$398=Feuil1!B97),"Données non disponibles")} -> Données non disponibles
A98: C1 Prix Queila Gede | B98: Eclair Des Vaux | C98: Yvon M. | D98: 1,8 | E98: 2,4 | F98: 5,0 | G98: 0,0 | H98: 8,7 | I98: 3,3 | J98: 0,0 | K98: 0,0 | L98: 3,3 | N98: {=_xlfn._xlws.FILTER(Feuil2!$A$1:$V$398,(Feuil2!$B$1:$B$398=MID(A98,FIND(" ",A98)+1,99))*(Feuil2!$C$1:$C$398=Feuil1!B98),"Données non disponibles")} -> Données non disponibles
A99: C1 Prix Queila Gede | B99: Ekinoa du Patural | C99: Beluze P. | D99: 6,8 | E99: 0,9 | F99: 0,0 | G99: 6,3 | H99: 3,8 | I99: 0,0 | J99: 10 | K99: 4,3 | L99: 6,3 | N99: {=_xlfn._xlws.FILTER(Feuil2!$A$1:$V$398,(Feuil2!$B$1:$B$398=MID(A99,FIND(" ",A99)+1,99))*(Feuil2!$C$1:$C$398=Feuil1!B99),"Données non disponibles")} -> Données non disponibles
A100: C1 Prix Queila Gede | B100: Farceuse Du Pre | C100: Pasquier S. E. | D100: 0,0 | E100: 0,5 | F100: 4,7 | G100: 2,3 | H100: 6,1 | I100: 3,7 | J100: 1,4 | K100: 0,0 | L100: 7,3 | N100: {=_xlfn._xlws.FILTER(Feuil2!$A$1:$V$398,(Feuil2!$B$1:$B$398=MID(A100,FIND(" ",A100)+1,99))*(Feuil2!$C$1:$C$398=Feuil1!B100),"Données non disponibles")} -> Données non disponibles
A101: C1 Prix Queila Gede | B101: Flash Royal | C101: Saout Mlle C. | D101: 5,5 | E101: 3,0 | F101: 5,7 | G101: 0,0 | H101: 3,0 | I101: 4,4 | J101: 6,3 | K101: 8,6 | L101: 5,1 | N101: {=_xlfn._xlws.FILTER(Feuil2!$A$1:$V$398,(Feuil2!$B$1:$B$398=MID(A101,FIND(" ",A101)+1,99))*(Feuil2!$C$1:$C$398=Feuil1!B101),"Données non disponibles")} -> Données non disponibles
A102: C1 Prix Queila Gede | B102: Ecureuil Phil | C102: Magnenat Lysiane | D102: 2,1 | E102: 2,6 | F102: 5,7 | G102: 0,0 | H102: 7,6 | I102: 3,2 | J102: 2,2 | K102: 0,0 | L102: 10 | N102: {=_xlfn._xlws.FILTER(Feuil2!$A$1:$V$398,(Feuil2!$B$1:$B$398=MID(A102,FIND(" ",A102)+1,99))*(Feuil2!$C$1:$C$398=Feuil1!B102),"Données non disponibles")} -> Données non disponibles
A103: C2 Prix Jonny Ruffato | B103: Java De Rouaisse | C103: Crespel D. | D103: 4,5 | E103: 4,1 | F103: 0,6 | G103: 0,0 | H103: 0,1 | I103: 0,0 | J103: 3,5 | K103: 0,0 | L103: 3,7 | N103: {=_xlfn._xlws.FILTER(Feuil2!$A$1:$V$398,(Feuil2!$B$1:$B$398=MID(A103,FIND(" ",A103)+1,99))*(Feuil2!$C$1:$C$398=Feuil1!B103),"Données non disponibles")} -> Partants | O103: Prix Jonny Ruffato | P103: Java de Rouaisse | Q103: 25 | R103: 2550 | S103: 4a8aDa8aDaDa | T103: 25 % | U103: 0 | V103: 0 | W103: 12 % | X103: 30 % | Y103: 0 | Z103: 0 | AA103: 0 | AB103: 0 | AC103: 8 % | AD103: 0 | AE103: 8 % | AF103: 0 % | AG103: 0 | AH103: 0 % | AI103: 8 %
A104: C2 Prix Jonny Ruffato | B104: Jet Jet Jet | C104: Abrivard M. | D104: 0,0 | E104: 10 | F104: 10 | G104: 10 | H104: 6,4 | I104: 9,3 | J104: 10 | K104: 3,3 | L104: 0,0 | N104: {=_xlfn._xlws.FILTER(Feuil2!$A$1:$V$398,(Feuil2!$B$1:$B$398=MID(A104,FIND(" ",A104)+1,99))*(Feuil2!$C$1:$C$398=Feuil1!B104),"Données non disponibles")} -> Partants | O104: Prix Jonny Ruffato | P104: Jet Jet Jet | Q104: 25 | R104: 2550 | S104: 1a | T104: 48 % | U104: 0 | V104: 0 | W104: 22 % | X104: 45 % | Y104: 0 | Z104: 0 | AA104: 0 | AB104: 0 | AC104: 100 % | AD104: 0 | AE104: 100 % | AF104: 0 | AG104: 0 | AH104: 100 % | AI104: 100 %
A105: C2 Prix Jonny Ruffato | B105: Junior Du Vallon | C105: Le Creps R. | D105: 0,3 | E105: 7,3 | F105: 9,6 | G105: 3,3 | H105: 5,4 | I105: 10 | J105: 2,8 | K105: 3,3 | L105: 6,7 | N105: {=_xlfn._xlws.FILTER(Feuil2!$A$1:$V$398,(Feuil2!$B$1:$B$398=MID(A105,FIND(" ",A105)+1,99))*(Feuil2!$C$1:$C$398=Feuil1!B105),"Données non disponibles")} -> Partants | O105: Prix Jonny Ruffato | P105: Junior du Vallon | Q105: 25 | R105: 2550 | S105: Da1aDa | T105: 33 % | U105: 50 % | V105: 0 | W105: 34 % | X105: 22 % | Y105: 0 | Z105: 0 | AA105: 0 | AB105: 0 | AC105: 33 % | AD105: 0 | AE105: 33 % | AF105: 33 % | AG105: 0 | AH105: 33 % | AI105: 33 %
A106: C2 Prix Jonny Ruffato | B106: James D'Ovaki | C106: Freddy Moreau | D106: 5,5 | E106: 1,4 | F106: 5,6 | G106: 0,0 | H106: 10 | I106: 3,7 | J106: 3,5 | K106: 0,0 | L106: 4,5 | N106: {=_xlfn._xlws.FILTER(Feuil2!$A$1:$V$398,(Feuil2!$B$1:$B$398=MID(A106,FIND(" ",A106)+1,99))*(Feuil2!$C$1:$C$398=Feuil1!B106),"Données non disponibles")} -> Partants | O106: Prix Jonny Ruffato | P106: James d'Ovaki | Q106: 25 | R106: 2550 | S106: 10aDa2a4a4a(21) | T106: 10 % | U106: 17 % | V106: 0 | W106: 22 % | X106: 18 % | Y106: 0 | Z106: 0 | AA106: 0 | AB106: 0 | AC106: 17 % | AD106: 0 | AE106: 17 % | AF106: 100 % | AG106: 0 | AH106: 17 % | AI106: 17 %
A107: C2 Prix Jonny Ruffato | B107: Jalna De Play | C107: Lacombe Y. | D107: 7,4 | E107: 5,7 | F107: 6,8 | G107: 0,0 | H107: 4,5 | I107: 6,2 | J107: 4,6 | K107: 0,0 | L107: 3,0 | N107: {=_xlfn._xlws.FILTER(Feuil2!$A$1:$V$398,(Feuil2!$B$1:$B$398=MID(A107,FIND(" ",A107)+1,99))*(Feuil2!$C$1:$C$398=Feuil1!B107),"Données non disponibles")} -> Partants | O107: Prix Jonny Ruffato | P107: Jalna de Play | Q107: 25 | R107: 2550 | S107: 3a6a7a2a5a9a | T107: 24 % | U107: 50 % | V107: 0 | W107: 23 % | X107: 26 % | Y107: 0 | Z107: 0 | AA107: 0 | AB107: 0 | AC107: 22 % | AD107: 0 | AE107: 22 % | AF107: 33 % | AG107: 0 | AH107: 67 % | AI107: 22 %
A108: C2 Prix Jonny Ruffato | B108: Junon D'Orgeres | C108: Marty F. | D108: 4,2 | E108: 8,1 | F108: 8,6 | G108: 1,7 | H108: 4,2 | I108: 6,3 | J108: 1,0 | K108: 10 | L108: 0,3 | N108: {=_xlfn._xlws.FILTER(Feuil2!$A$1:$V$398,(Feuil2!$B$1:$B$398=MID(A108,FIND(" ",A108)+1,99))*(Feuil2!$C$1:$C$398=Feuil1!B108),"Données non disponibles")} -> Partants | O108: Prix Jonny Ruffato | P108: Junon d'Orgeres | Q108: 25 | R108: 2550 | S108: 6a9a1a5aDaDa | T108: 30 % | U108: 20 % | V108: 0 % | W108: 24 % | X108: 33 % | Y108: 0 | Z108: 0 | AA108: 0 | AB108: 0 | AC108: 17 % | AD108: 0 | AE108: 17 % | AF108: 0 % | AG108: 0 | AH108: 17 % | AI108: 17 %
A109: C2 Prix Jonny Ruffato | B109: Java Du Vivier | C109: Terry C. | D109: 1,9 | E109: 5,5 | F109: 4,6 | G109: 1,7 | H109: 3,2 | I109: 4,2 | J109: 1,4 | K109: 0,0 | L109: 0,7 | N109: {=_xlfn._xlws.FILTER(Feuil2!$A$1:$V$398,(Feuil2!$B$1:$B$398=MID(A109,FIND(" ",A109)+1,99))*(Feuil2!$C$1:$C$398=Feuil1!B109),"Données non disponibles")} -> Partants | O109: Prix Jonny Ruffato | P109: Java du Vivier | Q109: 25 | R109: 2550 | S109: 1aDaDaDa5aDa | T109: 32 % | U109: 25 % | V109: 0 | W109: 28 % | X109: 31 % | Y109: 0 | Z109: 0 | AA109: 0 | AB109: 0 | AC109: 17 % | AD109: 0 | AE109: 17 % | AF109: 0 % | AG109: 0 | AH109: 20 % | AI109: 17 %
A110: C2 Prix Jonny Ruffato | B110: Jaws Dothrak | C110: Geray P. | D110: 8,7 | E110: 4,1 | F110: 2,3 | G110: 0,0 | H110: 0,8 | I110: 1,1 | J110: 0,0 | K110: 0,0 | L110: 0,2 | N110: {=_xlfn._xlws.FILTER(Feuil2!$A$1:$V$398,(Feuil2!$B$1:$B$398=MID(A110,FIND(" ",A110)+1,99))*(Feuil2!$C$1:$C$398=Feuil1!B110),"Données non disponibles")} -> Partants | O110: Prix Jonny Ruffato | P110: Jaws Dothrak | Q110: 25 | R110: 2550 | S110: 3a4a4aDa4a4a | T110: 14 % | U110: 0 % | V110: 0 % | W110: 8 % | X110: 10 % | Y110: 0 | Z110: 0 | AA110: 0 | AB110: 0 | AC110: 7 % | AD110: 0 | AE110: 7 % | AF110: 0 % | AG110: 0 | AH110: 7 % | AI110: 7 %
A111: C2 Prix Jonny Ruffato | B111: Julia Du Derby | C111: Criado M. | D111: 10 | E111: 6,6 | F111: 4,8 | G111: 0,0 | H111: 0,8 | I111: 3,9 | J111: 1,4 | K111: 3,3 | L111: 7,5 | N111: {=_xlfn._xlws.FILTER(Feuil2!$A$1:$V$398,(Feuil2!$B$1:$B$398=MID(A111,FIND(" ",A111)+1,99))*(Feuil2!$C$1:$C$398=Feuil1!B111),"Données non disponibles")} -> Partants | O111: Prix Jonny Ruffato | P111: Julia du Derby | Q111: 25 | R111: 2550 | S111: 7a4a3a3a4a4a | T111: 24 % | U111: 0 | V111: 100 % | W111: 24 % | X111: 25 % | Y111: 0 | Z111: 0 | AA111: 0 | AB111: 0 | AC111: 18 % | AD111: 0 | AE111: 18 % | AF111: 40 % | AG111: 0 | AH111: 20 % | AI111: 18 %
A112: C2 Prix Jonny Ruffato | B112: Jappeloup Des Pres | C112: Laisis D. | D112: 5,5 | E112: 5,6 | F112: 3,5 | G112: 0,0 | H112: 2,1 | I112: 2,7 | J112: 2,8 | K112: 3,3 | L112: 1,8 | N112: {=_xlfn._xlws.FILTER(Feuil2!$A$1:$V$398,(Feuil2!$B$1:$B$398=MID(A112,FIND(" ",A112)+1,99))*(Feuil2!$C$1:$C$398=Feuil1!B112),"Données non disponibles")} -> Données non disponibles
A113: C2 Prix Jonny Ruffato | B113: Jaguar De Rozevic | C113: Rotger J.C. | D113: 3,5 | E113: 8,6 | F113: 5,5 | G113: 2,0 | H113: 8,8 | I113: 3,9 | J113: 10 | K113: 3,3 | L113: 6,7 | N113: {=_xlfn._xlws.FILTER(Feuil2!$A$1:$V$398,(Feuil2!$B$1:$B$398=MID(A113,FIND(" ",A113)+1,99))*(Feuil2!$C$1:$C$398=Feuil1!B113),"Données non disponibles")} -> Partants | O113: Prix Jonny Ruffato | P113: Jaguar de Rozevic | Q113: 25 | R113: 2575 | S113: 3a1a1DaDm8a | T113: 25 % | U113: 100 % | V113: 0 | W113: 16 % | X113: 10 % | Y113: 0 | Z113: 0 | AA113: 0 | AB113: 0 | AC113: 50 % | AD113: 0 | AE113: 50 % | AF113: 50 % | AG113: 0 | AH113: 100 % | AI113: 50 %
A114: C2 Prix Jonny Ruffato | B114: Jezabel De Chenu | C114: Foucault V. | D114: 8,1 | E114: 0,0 | F114: 0,0 | G114: 1,1 | H114: 0,0 | I114: 0,0 | J114: 0,8 | K114: 10 | L114: 3,6 | N114: {=_xlfn._xlws.FILTER(Feuil2!$A$1:$V$398,(Feuil2!$B$1:$B$398=MID(A114,FIND(" ",A114)+1,99))*(Feuil2!$C$1:$C$398=Feuil1!B114),"Données non disponibles")} -> Partants | O114: Prix Jonny Ruffato | P114: Jezabel de Chenu | Q114: 25 | R114: 2575 | S114: Da3a1aDa7aDa | T114: 16 % | U114: 67 % | V114: 0 | W114: 0 % | X114: 0 % | Y114: 0 | Z114: 0 | AA114: 0 | AB114: 0 | AC114: 22 % | AD114: 0 | AE114: 22 % | AF114: 33 % | AG114: 0 | AH114: 14 % | AI114: 22 %
...

Sheet Feuil2
A1: Partants | B1: Grand Prix Baron d'Ardeuil AOC Buzet | C1: Darwino | D1: 25 | E1: 2550 | F1: 5a5aDa3DaDm1a | G1: 14 % | H1: 0 % | I1: 0 % | J1: 10 % | K1: 18 % | P1: 20 % | R1: 20 % | S1: 11 % | U1: 23 % | V1: 16 %
A2: Partants | B2: Grand Prix Baron d'Ardeuil AOC Buzet | C2: De Padd | D2: 25 | E2: 2575 | F2: 3a6a8aDa6a15a | G2: 38 % | H2: 40 % | I2: 33 % | J2: 24 % | K2: 33 % | P2: 27 % | R2: 27 % | S2: 26 % | U2: 29 % | V2: 32 %
A3: Partants | B3: Grand Prix Baron d'Ardeuil AOC Buzet | C3: Diabolo | D3: 25 | E3: 2575 | F3: 7a6aDa4a1Dista8a | G3: 37 % | H3: 31 % | I3: 17 % | J3: 29 % | K3: 33 % | P3: 25 % | R3: 25 % | S3: 27 % | U3: 22 % | V3: 16 %
A4: Partants | B4: Grand Prix Baron d'Ardeuil AOC Buzet | C4: Diquem | D4: 25 | E4: 2550 | F4: 3a4a4a5a2aDa | G4: 34 % | I4: 0 % | J4: 10 % | K4: 27 % | P4: 40 % | R4: 40 % | S4: 46 % | U4: 63 % | V4: 40 %
A5: Partants | B5: Grand Prix Baron d'Ardeuil AOC Buzet | C5: Early Somolli | D5: 25 | E5: 2550 | F5: 12a8a5a5a6a7a | G5: 25 % | H5: 0 % | J5: 28 % | K5: 34 % | P5: 27 % | R5: 26 % | S5: 24 % | U5: 14 % | V5: 19 %
A6: Partants | B6: Grand Prix Baron d'Ardeuil AOC Buzet | C6: Embrun d'Herfraie | D6: 25 | E6: 2550 | F6: 9m5a4m5mDa0a | G6: 32 % | J6: 28 % | K6: 31 % | P6: 30 % | R6: 30 % | S6: 30 % | U6: 20 % | V6: 33 %
A7: Partants | B7: Grand Prix Baron d'Ardeuil AOC Buzet | C7: Enivrante | D7: 25 | E7: 2575 | F7: 8aDa1a7a2a1a | G7: 43 % | H7: 78 % | I7: 40 % | J7: 20 % | K7: 24 % | P7: 51 % | R7: 52 % | S7: 45 % | U7: 52 % | V7: 50 %
A8: Partants | B8: Grand Prix Baron d'Ardeuil AOC Buzet | C8: Esbeirit | D8: 25 | E8: 2575 | F8: 6a3a6a14a10aDa | G8: 37 % | H8: 49 % | I8: 50 % | J8: 32 % | K8: 33 % | P8: 48 % | R8: 48 % | S8: 51 % | U8: 51 % | V8: 43 %
A9: Partants | B9: Grand Prix Baron d'Ardeuil AOC Buzet | C9: Fasty du Luot | D9: 25 | E9: 2575 | F9: 14aDa7aDa6mDa | G9: 21 % | I9: 0 % | J9: 22 % | K9: 20 % | P9: 37 % | R9: 37 % | S9: 23 % | U9: 31 % | V9: 36 %
A10: Partants | B10: Grand Prix Baron d'Ardeuil AOC Buzet | C10: Gaya des Brousses | D10: 25 | E10: 2550 | F10: 9a1a5a4a2aDa | G10: 35 % | H10: 33 % | I10: 0 % | J10: 28 % | K10: 23 % | P10: 39 % | R10: 39 % | S10: 36 % | U10: 32 % | V10: 38 %
A11: Partants | B11: Grand Prix Baron d'Ardeuil AOC Buzet | C11: Gemme Castelets | D11: 25 | E11: 2550 | F11: Da1a3a2a2a3a | G11: 22 % | H11: 100 % | J11: 28 % | K11: 50 % | P11: 38 % | R11: 38 % | S11: 40 % | U11: 47 % | V11: 23 %
A12: Partants | B12: Grand Prix Baron d'Ardeuil AOC Buzet | C12: Giada | D12: 25 | E12: 2550 | F12: 2a5a3a1a2a1a | G12: 33 % | I12: 42 % | J12: 32 % | K12: 45 % | P12: 39 % | R12: 39 % | S12: 37 % | U12: 35 % | V12: 41 %
A13: Partants | B13: Grand Prix Baron d'Ardeuil AOC Buzet | C13: Gonna Fly | D13: 25 | E13: 2550 | F13: 7a6a3a3a9a5a | G13: 28 % | H13: 53 % | I13: 50 % | J13: 22 % | K13: 25 % | P13: 38 % | R13: 38 % | S13: 40 % | U13: 50 % | V13: 50 %
A14: Partants | B14: Grand Prix Baron d'Ardeuil AOC Buzet | C14: Good Luck Tit | D14: 25 | E14: 2550 | F14: Da7a6aDaDaDa | G14: 23 % | H14: 37 % | J14: 0 % | K14: 0 % | P14: 40 % | R14: 40 % | S14: 35 % | U14: 47 % | V14: 41 %
A15: Partants | B15: Prix Adara | C15: Idéal d'Attaque | D15: 27 | E15: 2700 | F15: DaDaDa11a5a2a | G15: 21 % | H15: 40 % | I15: 0 % | J15: 7 % | K15: 4 % | P15: 21 % | R15: 21 % | S15: 13 % | U15: 28 %
A16: Partants | B16: Prix Adara | C16: Idéal Deladou | D16: 27 | E16: 2700 | F16: 8a1a3a4aDaDa | G16: 32 % | H16: 56 % | I16: 0 % | J16: 12 % | K16: 12 % | P16: 29 % | R16: 29 % | S16: 31 % | U16: 0 % | V16: 25 %
A17: Partants | B17: Prix Adara | C17: Idéal du Biston | D17: 27 | E17: 2700 | F17: 6a3a3a6aDaDa | G17: 25 % | H17: 35 % | I17: 0 % | J17: 16 % | K17: 13 % | P17: 35 % | R17: 35 % | S17: 33 % | U17: 40 % | V17: 33 %
A18: Partants | B18: Prix Adara | C18: Idéfix du Mans | D18: 27 | E18: 2700 | F18: 2a10a1a1a2a(21) | G18: 36 % | H18: 83 % | J18: 23 % | K18: 22 % | P18: 83 % | R18: 83 % | S18: 80 % | U18: 83 % | V18: 83 %
A19: Partants | B19: Prix Adara | C19: Iermont | D19: 27 | E19: 2700 | F19: 2aDa8aDa7a2a | G19: 40 % | H19: 100 % | I19: 0 % | J19: 20 % | K19: 21 % | P19: 37 % | R19: 37 % | S19: 23 % | U19: 40 % | V19: 33 %
A20: Partants | B20: Prix Adara | C20: Imoko Jibelau | D20: 27 | E20: 2700 | F20: 1a3a1aDa5a2a | G20: 55 % | H20: 100 % | I20: 0 % | J20: 25 % | K20: 23 % | P20: 47 % | R20: 47 % | S20: 55 % | U20: 29 % | V20: 50 %
A21: Partants | B21: Prix Adara | C21: Impact de l'Iton | D21: 27 | E21: 2700 | F21: 1a3a1a1a1a5a | G21: 43 % | H21: 100 % | J21: 21 % | K21: 26 % | P21: 38 % | R21: 38 % | S21: 11 % | U21: 40 % | V21: 100 %
A22: Partants | B22: Prix Adara | C22: Indigo de Fontaine | D22: 27 | E22: 2700 | F22: Da11a1a(21)1a1a | G22: 34 % | H22: 43 % | I22: 50 % | J22: 24 % | K22: 26 % | P22: 50 % | R22: 50 % | S22: 25 % | U22: 57 % | V22: 57 %
A23: Partants | B23: Prix Adara | C23: Instinct de Clercé | D23: 27 | E23: 2700 | F23: 4a9a6a2a10a7a | G23: 33 % | H23: 0 % | I23: 43 % | J23: 18 % | K23: 23 % | P23: 35 % | R23: 35 % | S23: 0 % | U23: 38 % | V23: 33 %
A24: Partants | B24: Prix Adara | C24: Intrépide Béji | D24: 27 | E24: 2700 | F24: 3a2a4a2a3a5a | G24: 14 % | H24: 71 % | J24: 15 % | K24: 11 % | P24: 42 % | R24: 42 % | S24: 50 % | U24: 17 % | V24: 45 %
A25: Partants | B25: Prix Adara | C25: Intrépide des Bois | D25: 27 | E25: 2700 | F25: 1a1a4a6a1a6a | G25: 18 % | H25: 36 % | J25: 22 % | K25: 14 % | P25: 31 % | R25: 31 % | S25: 33 % | U25: 36 % | V25: 60 %
A26: Partants | B26: Prix Adara | C26: Invictus de Hoerdt | D26: 27 | E26: 2700 | F26: 1aDaDa1aAaDa | G26: 25 % | H26: 36 % | I26: 0 % | J26: 19 % | K26: 18 % | P26: 31 % | R26: 31 % | S26: 31 % | U26: 0 % | V26: 33 %
A27: Partants | B27: Prix Adara | C27: Ipso Simardière | D27: 27 | E27: 2700 | F27: 5a7aDaDa3a1a | G27: 36 % | H27: 50 % | I27: 33 % | J27: 23 % | K27: 32 % | P27: 37 % | R27: 37 % | S27: 38 % | U27: 31 % | V27: 31 %
A28: Partants | B28: Prix Adara | C28: Ipsos de Banville | D28: 27 | E28: 2700 | F28: 3a7a3aDa2a2a | G28: 20 % | H28: 50 % | I28: 25 % | J28: 20 % | K28: 21 % | P28: 44 % | R28: 44 % | S28: 47 % | U28: 30 % | V28: 44 %
A29: Partants | B29: Prix Adara | C29: Iron Spirit | D29: 27 | E29: 2700 | F29: Dm13a2a1mDaDa | G29: 28 % | H29: 0 % | I29: 20 % | J29: 14 % | K29: 18 % | P29: 31 % | R29: 31 % | S29: 33 % | U29: 20 % | V29: 36 %
A30: Partants | B30: Prix Adara | C30: Ixtrem d'Ourville | D30: 27 | E30: 2700 | F30: Da2a6a2a9a2a | G30: 40 % | J30: 29 % | K30: 34 % | P30: 44 % | R30: 44 % | S30: 47 % | U30: 25 % | V30: 50 %
A31: Partants | B31: Prix Alfred Lefèvre | C31: Disco des Molands | D31: 28 | E31: 2850 | F31: 5m5m6mDm14a2m | G31: 33 % | H31: 0 % | I31: 37 % | J31: 32 % | K31: 29 % | P31: 38 % | S31: 31 % | U31: 41 % | V31: 33 %
A32: Partants | B32: Prix Alfred Lefèvre | C32: Egao Jénilou | D32: 28 | E32: 2850 | F32: 6m2m5m3m5m1m | G32: 73 % | H32: 100 % | I32: 53 % | J32: 37 % | K32: 33 % | P32: 53 % | S32: 46 % | U32: 54 % | V32: 61 %
A33: Partants | B33: Prix Alfred Lefèvre | C33: Fantaisie | D33: 28 | E33: 2850 | F33: 1m1m1m12m1m(21) | G33: 39 % | H33: 65 % | I33: 50 % | J33: 36 % | K33: 24 % | P33: 67 % | S33: 72 % | U33: 56 % | V33: 88 %
A34: Partants | B34: Prix Alfred Lefèvre | C34: Fly Speed | D34: 28 | E34: 2850 | F34: 7a3m6aDa11a6a | J34: 29 % | K34: 23 % | P34: 100 % | S34: 100 % | U34: 100 % | V34: 100 %
A35: Partants | B35: Prix Alfred Lefèvre | C35: Freyja du Pont | D35: 28 | E35: 2850 | F35: 13a3a4a6a6a2a | G35: 0 % | H35: 0 % | I35: 0 % | J35: 0 % | K35: 32 % | P35: 0 % | S35: 0 % | U35: 0 % | V35: 0 %
A36: Partants | B36: Prix Alfred Lefèvre | C36: Gef de Play | D36: 28 | E36: 2850 | F36: 3m10m(21)5m5m7m | G36: 39 % | H36: 50 % | I36: 48 % | J36: 33 % | K36: 34 % | P36: 47 % | S36: 38 % | U36: 47 % | V36: 14 %
A37: Partants | B37: Prix Alfred Lefèvre | C37: Georgica Gédé | D37: 28 | E37: 2850 | F37: 7m2m1m2m2m1m | G37: 31 % | H37: 0 % | I37: 73 % | J37: 35 % | K37: 30 % | P37: 53 % | S37: 57 % | U37: 59 % | V37: 50 %
A38: Partants | B38: Prix Alfred Lefèvre | C38: Hytte du Terroir | D38: 28 | E38: 2850 | F38: 3m5m9m9m5m4m | G38: 43 % | H38: 38 % | I38: 33 % | J38: 35 % | K38: 37 % | P38: 31 % | S38: 27 % | U38: 31 % | V38: 24 %
A39: Partants | B39: Prix Association Experts Comptables 82 (Prix Bélina Josselyn) | C39: Hannibal Carnois | D39: 24 | E39: 2400 | F39: 2aDa1a3a5a1a | G39: 48 % | H39: 100 % | I39: 100 % | J39: 22 % | K39: 45 % | P39: 39 % | R39: 39 % | S39: 50 % | T39: 47 % | U39: 64 % | V39: 50 %
A40: Partants | B40: Prix Association Experts Comptables 82 (Prix Bélina Josselyn) | C40: Happy Lady | D40: 24 | E40: 2400 | F40: 3aDaDaDa3a2a | G40: 35 % | H40: 50 % | I40: 50 % | J40: 28 % | K40: 23 % | P40: 50 % | R40: 50 % | S40: 62 % | T40: 80 % | U40: 47 % | V40: 50 %
A41: Partants | B41: Prix Association Experts Comptables 82 (Prix Bélina Josselyn) | C41: Hélectrik de Sucé | D41: 24 | E41: 2400 | F41: 8a7aDaDa2Da2a | G41: 31 % | H41: 38 % | I41: 0 % | J41: 16 % | K41: 24 % | P41: 20 % | R41: 20 % | S41: 11 % | T41: 17 % | U41: 33 % | V41: 20 %
A42: Partants | B42: Prix Association Experts Comptables 82 (Prix Bélina Josselyn) | C42: Herbes Folles | D42: 24 | E42: 2400 | F42: 3a3a6aDa5aDa | G42: 25 % | H42: 20 % | I42: 0 % | J42: 28 % | K42: 34 % | P42: 33 % | R42: 33 % | S42: 18 % | T42: 33 % | U42: 39 % | V42: 50 %
A43: Partants | B43: Prix Association Experts Comptables 82 (Prix Bélina Josselyn) | C43: Hermès de Gironde | D43: 24 | E43: 2400 | F43: 5a4a1aDa6a2a | G43: 22 % | H43: 44 % | I43: 100 % | J43: 14 % | K43: 20 % | P43: 39 % | R43: 39 % | S43: 33 % | T43: 50 % | U43: 38 % | V43: 50 %
A44: Partants | B44: Prix Association Experts Comptables 82 (Prix Bélina Josselyn) | C44: Hestia du Goutier | D44: 24 | E44: 2400 | F44: 4a1a2a7a7a7a | G44: 39 % | H44: 33 % | I44: 100 % | J44: 49 % | K44: 60 % | P44: 34 % | R44: 34 % | S44: 33 % | T44: 38 % | U44: 53 % | V44: 27 %
A45: Partants | B45: Prix Association Experts Comptables 82 (Prix Bélina Josselyn) | C45: Hidalgo des Lucas | D45: 24 | E45: 2400 | F45: 2a8a6a6a4aDa | G45: 23 % | H45: 18 % | J45: 0 % | K45: 9 % | P45: 17 % | R45: 17 % | S45: 8 % | T45: 15 % | U45: 11 % | V45: 38 %
A46: Partants | B46: Prix Association Experts Comptables 82 (Prix Bélina Josselyn) | C46: Hoca | D46: 24 | E46: 2400 | F46: 2a8a1a5a1aDa | G46: 29 % | H46: 60 % | I46: 50 % | J46: 34 % | K46: 33 % | P46: 44 % | R46: 44 % | S46: 38 % | T46: 40 % | U46: 42 % | V46: 44 %
A47: Partants | B47: Prix Association Experts Comptables 82 (Prix Bélina Josselyn) | C47: Hola du Vivier | D47: 24 | E47: 2400 | F47: Da3a8a5a7aDa | G47: 38 % | J47: 49 % | K47: 22 % | P47: 38 % | R47: 38 % | S47: 50 % | T47: 25 % | U47: 38 % | V47: 27 %
A48: Partants | B48: Prix Association Experts Comptables 82 (Prix Bélina Josselyn) | C48: Houston d'Ecajeul | D48: 24 | E48: 2400 | F48: 6aDaDa7a6a1a | G48: 32 % | H48: 8 % | I48: 0 % | J48: 28 % | K48: 31 % | P48: 30 % | R48: 30 % | S48: 40 % | T48: 43 % | U48: 33 % | V48: 35 %
A49: Partants | B49: Prix Association Experts Comptables 82 (Prix Bélina Josselyn) | C49: Hulk de Tillard | D49: 24 | E49: 2400 | F49: 5aDa2a1a5a1a | G49: 35 % | H49: 40 % | J49: 30 % | K49: 15 % | P49: 38 % | R49: 38 % | S49: 17 % | T49: 67 % | U49: 33 % | V49: 50 %
A50: Partants | B50: Prix Brunhild | C50: Jaff de Meslay | D50: 27 | E50: 2700 | F50: 1m7a2mDa4aDm | G50: 100 % | I50: 100 % | J50: 28 % | K50: 24 % | P50: 67 % | S50: 67 % | U50: 50 % | V50: 67 %
A51: Partants | B51: Prix Brunhild | C51: Jag des Montiers | D51: 27 | E51: 2700 | F51: 2m2m2mDm3mDm | G51: 33 % | H51: 33 % | J51: 31 % | K51: 33 % | P51: 67 % | S51: 100 % | U51: 100 % | V51: 67 %
A52: Partants | B52: Prix Brunhild | C52: Jamy | D52: 27 | E52: 2700 | F52: 1m1m2m | G52: 43 % | H52: 100 % | J52: 35 % | K52: 37 % | P52: 100 % | S52: 100 % | U52: 100 % | V52: 100 %
A53: Partants | B53: Prix Brunhild | C53: Jauress de Cani | D53: 27 | E53: 2700 | F53: 6m6a6m1m2a9a | I53: 0 % | J53: 0 % | K53: 30 % | P53: 33 % | S53: 0 % | U53: 0 % | V53: 33 %
A54: Partants | B54: Prix Brunhild | C54: Jivago de Beylev | D54: 27 | E54: 2700 | F54: 6a9a7a8a3a1a | G54: 38 % | J54: 35 % | K54: 34 %
A55: Partants | B55: Prix Brunhild | C55: Joiso Poker Pro | D55: 27 | E55: 2700 | F55: 3m10aDmDmDm4a | G55: 25 % | H55: 33 % | I55: 40 % | J55: 11 % | K55: 33 % | P55: 40 % | S55: 0 % | U55: 40 % | V55: 40 %
A56: Partants | B56: Prix Brunhild | C56: Joker Joli | D56: 27 | E56: 2700 | F56: 6m13a2m1m4mDm | G56: 36 % | H56: 67 % | J56: 32 % | K56: 28 % | P56: 40 % | S56: 0 % | U56: 0 % | V56: 40 %
A57: Partants | B57: Prix Brunhild | C57: Joscan Kerdreux | D57: 27 | E57: 2700 | F57: 4m6m4m5m1mDm | G57: 0 % | I57: 0 % | J57: 12 % | K57: 23 % | P57: 17 % | S57: 33 % | U57: 20 % | V57: 17 %
A58: Partants | B58: Prix Brunhild | C58: Joyau | D58: 27 | E58: 2700 | F58: 6aDa3a11aDa3a | G58: 25 % | J58: 30 % | K58: 22 %
A59: Partants | B59: Prix Brunhild | C59: Jupiter de Play | D59: 27 | E59: 2700 | F59: Dm1m3mDm | G59: 17 % | H59: 50 % | I59: 0 % | J59: 0 % | K59: 21 % | P59: 50 % | U59: 50 % | V59: 50 %
A60: Partants | B60: Prix Brunhild | C60: Jurançon | D60: 27 | E60: 2700 | F60: Dm1m1mDa3aDa | G60: 37 % | H60: 50 % | I60: 33 % | J60: 26 % | K60: 37 % | P60: 50 % | S60: 0 % | U60: 33 % | V60: 50 %
A61: Partants | B61: Prix Cadoudal | C61: Idée du Choeur | D61: 67 | F61: 1h3h | G61: 64 % | H61: 100 % | J61: 24 % | K61: 17 % | P61: 100 % | S61: 100 %
A62: Partants | B62: Prix Cadoudal | C62: Impulse Précieuse | D62: 65 | F62: 3h8h10p(21)9p4p | G62: 23 % | H62: 50 % | I62: 50 % | J62: 18 % | K62: 15 % | P62: 50 % | S62: 50 %
A63: Partants | B63: Prix Cadoudal | C63: Interplay | D63: 67 | F63: 3p | G63: 41 % | J63: 30 % | K63: 36 %
A64: Partants | B64: Prix Cadoudal | C64: Iosefa Demonmirail | D64: 67 | F64: 2h | G64: 45 % | J64: 42 % | K64: 42 % | P64: 100 % | S64: 100 %
A65: Partants | B65: Prix Cadoudal | C65: Jessie du Lac | D65: 64 | F65: 7hAh | G65: 7 % | J65: 19 % | K65: 14 % | P65: 0 % | S65: 0 %
A66: Partants | B66: Prix Cadoudal | C66: Kiboutsnik | D66: 67 | F66: Inédit | G66: 55 % | J66: 34 % | K66: 23 %
A67: Partants | B67: Prix Cadoudal | C67: Marche | D67: 67 | F67: 4h | G67: 55 % | H67: 0 % | J67: 44 % | K67: 47 % | P67: 0 % | S67: 0 %
A68: Partants | B68: Prix Cadoudal | C68: Marina Gamba | D68: 62 | F68: 4h9p10p6p11p10p | J68: 0 % | K68: 21 % | P68: 0 % | S68: 0 %
A69: Partants | B69: Prix Cadoudal | C69: Mercinette | D69: 61 | F69: (21)3h3h | G69: 27 % | H69: 100 % | J69: 26 % | K69: 17 % | P69: 100 % | S69: 100 %
A70: Partants | B70: Prix Cadoudal | C70: Royal Mer | D70: 67 | F70: (21)5p | G70: 50 % | J70: 39 % | K70: 37 %
A71: Partants | B71: Prix Cadoudal | C71: Tanzanite | D71: 67 | F71: 1h | G71: 44 % | H71: 100 % | J71: 29 % | K71: 31 % | P71: 100 % | S71: 100 %
A72: Partants | B72: Prix Cadoudal | C72: Where's The Party | D72: 64 | F72: 5h3p12p12p16p5p | G72: 0 % | H72: 0 % | J72: 0 % | P72: 0 % | S72: 0 %
A73: Partants | B73: Prix Cocktail Vision (Prix de Chambellay) | C73: Giulietta | D73: 65 | F73: 3hAhAhAhAh12h | G73: 0 % | J73: 0 % | K73: 24 % | P73: 14 % | S73: 20 %
A74: Partants | B74: Prix Cocktail Vision (Prix de Chambellay) | C74: I Can Path | D74: 68 | F74: 7h2Disth(21)4h2h1h | G74: 25 % | J74: 41 % | K74: 50 % | P74: 50 % | S74: 50 %
A75: Partants | B75: Prix Cocktail Vision (Prix de Chambellay) | C75: Idole Môme | D75: 63 | F75: AhTh7p(21)5p | J75: 38 % | K75: 50 % | P75: 0 % | S75: 0 %
A76: Partants | B76: Prix Cocktail Vision (Prix de Chambellay) | C76: Ikigai | D76: 69 | F76: 1h10h(21)10p6p5p | G76: 50 % | J76: 50 % | K76: 32 % | P76: 50 % | S76: 50 %
A77: Partants | B77: Prix Cocktail Vision (Prix de Chambellay) | C77: Image de Rochaude | D77: 63 | F77: Dér.h9p4p8p5p7p | G77: 0 % | H77: 0 % | K77: 14 % | P77: 0 % | S77: 0 %
A78: Partants | B78: Prix Cocktail Vision (Prix de Chambellay) | C78: Imagine Allen | D78: 63 | F78: 1c(21)1s4s2s3s | G78: 73 % | J78: 45 % | K78: 0 % | P78: 71 %
A79: Partants | B79: Prix Cocktail Vision (Prix de Chambellay) | C79: Intense Allen | D79: 63 | F79: 4h(21)13p3p4p | G79: 50 % | J79: 34 % | K79: 0 % | P79: 0 % | S79: 0 %
A80: Partants | B80: Prix Cocktail Vision (Prix de Chambellay) | C80: Isis Girl | D80: 66 | F80: Inédite | G80: 19 % | J80: 18 % | K80: 20 %
A81: Partants | B81: Prix Cocktail Vision (Prix de Chambellay) | C81: Maiana | D81: 64 | F81: 3h7h1p11p | G81: 31 % | I81: 100 % | J81: 38 % | K81: 35 % | P81: 50 % | S81: 50 %
A82: Partants | B82: Prix Cocktail Vision (Prix de Chambellay) | C82: New Way To Win | D82: 63 | F82: (21)5h | G82: 0 % | J82: 19 % | K82: 40 % | P82: 0 %
A83: Partants | B83: Prix Cocktail Vision (Prix de Chambellay) | C83: Sagarose | D83: 64 | F83: 6h(21)5h | G83: 43 % | J83: 42 % | K83: 25 % | P83: 0 % | S83: 0 %
A84: Partants | B84: Prix de l'Allier | C84: Jack des Malberaux | D84: 21 | E84: 2100 | F84: DaDa3aDaDa3a | G84: 0 % | I84: 0 % | J84: 9 % | K84: 26 % | P84: 44 % | R84: 44 % | T84: 0 % | U84: 33 % | V84: 44 %
A85: Partants | B85: Prix de l'Allier | C85: Jailbird Hillperon | D85: 21 | E85: 2100 | F85: 3a7a7a2a8a3a | G85: 33 % | J85: 17 % | K85: 23 % | P85: 33 % | R85: 33 % | S85: 25 % | T85: 40 % | U85: 33 % | V85: 33 %
A86: Partants | B86: Prix de l'Allier | C86: Jet Stud | D86: 21 | E86: 2100 | F86: 2a1a9a | G86: 28 % | H86: 67 % | J86: 20 % | K86: 19 % | P86: 67 % | R86: 67 % | U86: 67 % | V86: 67 %
A87: Partants | B87: Prix de l'Allier | C87: Jewel d'Auchy | D87: 21 | E87: 2100 | F87: 5a6a2a2a5a5a | G87: 29 % | H87: 33 % | J87: 15 % | K87: 13 % | P87: 25 % | R87: 25 % | S87: 40 % | T87: 0 % | U87: 33 % | V87: 25 %
A88: Partants | B88: Prix de l'Allier | C88: Jivago de la Cour | D88: 21 | E88: 2100 | F88: 1a8a9a1a7a | J88: 5 % | K88: 12 % | P88: 40 % | R88: 40 % | S88: 0 % | T88: 0 % | U88: 100 % | V88: 40 %
A89: Partants | B89: Prix de l'Allier | C89: Jog de Javie | D89: 21 | E89: 2100 | F89: DaDa4a1aDaDa | G89: 27 % | H89: 0 % | J89: 21 % | K89: 25 % | P89: 29 % | R89: 29 % | S89: 33 % | T89: 33 % | U89: 33 % | V89: 29 %
A90: Partants | B90: Prix de l'Allier | C90: Joker Darling | D90: 21 | E90: 2100 | F90: 1a1a8aDa3a0a | G90: 57 % | J90: 48 % | K90: 26 % | P90: 50 % | R90: 50 % | S90: 40 % | U90: 40 % | V90: 60 %
A91: Partants | B91: Prix de l'Allier | C91: Joker Wind | D91: 21 | E91: 2100 | F91: 1a1a | G91: 67 % | J91: 35 % | K91: 32 % | P91: 100 % | R91: 100 % | S91: 100 % | V91: 100 %
A92: Partants | B92: Prix de l'Allier | C92: Joujo des Cinty | D92: 21 | E92: 2100 | F92: 2a10a4a1a6aDa | G92: 25 % | H92: 50 % | J92: 19 % | K92: 18 % | P92: 25 % | R92: 25 % | S92: 33 % | U92: 0 % | V92: 25 %
A93: Partants | B93: Prix de l'Allier | C93: Jouteur d'Auge | D93: 21 | E93: 2100 | F93: 8a3a3a7a3aDa | G93: 20 % | H93: 33 % | I93: 50 % | J93: 16 % | K93: 0 % | P93: 18 % | R93: 18 % | S93: 10 % | T93: 33 % | U93: 22 % | V93: 18 %
A94: Partants | B94: Prix de l'Allier | C94: Jovial | D94: 21 | E94: 2100 | F94: 6a5a7a5a5a9a | G94: 19 % | H94: 0 % | J94: 14 % | P94: 18 % | R94: 18 % | S94: 13 % | T94: 20 % | U94: 11 % | V94: 18 %
A95: Partants | B95: Prix de l'Allier | C95: Joyeux des Vaux | D95: 21 | E95: 2100 | F95: 2aDaDa2a6aDa | G95: 42 % | H95: 0 % | I95: 0 % | J95: 18 % | K95: 34 % | P95: 38 % | R95: 38 % | S95: 25 % | T95: 0 % | U95: 33 % | V95: 38 %
A96: Partants | B96: Prix de l'Allier | C96: Juanito Goberna | D96: 21 | E96: 2100 | F96: 4aDa1a2a4a1a | G96: 33 % | H96: 57 % | K96: 20 % | P96: 46 % | R96: 46 % | S96: 0 % | T96: 55 % | U96: 57 % | V96: 46 %
A97: Partants | B97: Prix de l'Allier | C97: Just For Back | D97: 21 | E97: 2100 | F97: 4aDa5a2a2a(21) | G97: 19 % | H97: 40 % | J97: 25 % | K97: 13 % | P97: 33 % | R97: 33 % | S97: 0 % | T97: 33 % | U97: 50 % | V97: 33 %
A98: Partants | B98: Prix de l'Ambassade Régionale des Confréries (Prix de Sautre) | C98: Arown | D98: 2 | F98: 1p6p7p7p3p5p | G98: 50 % | H98: 100 % | I98: 0 % | J98: 27 % | K98: 26 % | L98: 33 % | M98: 0 % | P98: 33 % | Q98: 0 %
A99: Partants | B99: Prix de l'Ambassade Régionale des Confréries (Prix de Sautre) | C99: Chispa | D99: 4 | F99: 1p6p4p1p8p | G99: 25 % | K99: 28 % | L99: 40 % | M99: 50 % | P99: 40 %
A100: Partants | B100: Prix de l'Ambassade Régionale des Confréries (Prix de Sautre) | C100: Grine du Fraisse | D100: 5 | F100: 1p5p | G100: 65 % | J100: 43 % | K100: 34 % | L100: 50 % | M100: 100 % | P100: 50 %
...
