Workbook

Sheet Feuil1
A1: C1 Prix Jean Noiret | B1: Inedit De Ciergues | C1: Gaignard Q. | D1: 10 | E1: 10 | F1: 10 | G1: 10 | H1: 10 | I1: 10 | J1: 3,9 | K1: 10 | L1: 6,3 | N1: {=_xlfn._xlws.FILTER(Feuil2!$A$1:$V$398,(Feuil2!$B$1:$B$398=MID(A1,FIND(" ",A1)+1,99))*(Feuil2!$C$1:$C$398=Feuil1!B1),"Données non disponibles")} -> Données non disponibles
A2: C1 Prix Jean Noiret | B2: Irundo | C2: Masure G. | D2: 7,0 | E2: 3,8 | F2: 8,2 | G2: 2,9 | H2: 4,1 | I2: 3,9 | J2: 0,0 | K2: 7,1 | L2: 10 | N2: {=_xlfn._xlws.FILTER(Feuil2!$A$1:$V$398,(Feuil2!$B$1:$B$398=MID(A2,FIND(" ",A2)+1,99))*(Feuil2!$C$1:$C$398=Feuil1!B2),"Données non disponibles")} -> Partants | O2: Prix Jean Noiret | P2: Irundo | Q2: 68 | R2: 0 | S2: 1s2h6h4h2h(21) | T2: 55 % | U2: 67 % | V2: 0 % | W2: 32 % | X2: 39 % | Y2: 0 | Z2: 0 | AA2: 0 | AB2: 0 | AC2: 60 % | AD2: 0 | AE2: 0 | AF2: 0 | AG2: 0 | AH2: 0 | AI2: 0
A3: C1 Prix Jean Noiret | B3: Issu Des Planches | C3: Denis P. | D3: 3,6 | E3: 3,4 | F3: 4,7 | G3: 0,0 | H3: 5,4 | I3: 3,2 | J3: 3,9 | K3: 1,4 | L3: 7,3 | N3: {=_xlfn._xlws.FILTER(Feuil2!$A$1:$V$398,(Feuil2!$B$1:$B$398=MID(A3,FIND(" ",A3)+1,99))*(Feuil2!$C$1:$C$398=Feuil1!B3),"Données non disponibles")} -> Partants | O3: Prix Jean Noiret | P3: Issu des Planches | Q3: 65 | R3: 0 | S3: 2s2s6h4h(21)6p | T3: 59 % | U3: 0 | V3: 0 | W3: 0 % | X3: 33 % | Y3: 0 | Z3: 0 | AA3: 0 | AB3: 0 | AC3: 50 % | AD3: 0 | AE3: 0 | AF3: 100 % | AG3: 0 | AH3: 0 | AI3: 0
A4: C1 Prix Jean Noiret | B4: Iorana Vallis | C4: Zuliani Mr L. | D4: 8,2 | E4: 0,0 | F4: 3,5 | G4: 4,0 | H4: 0,8 | I4: 3,8 | J4: 10 | K4: 8,6 | L4: 5,0 | N4: {=_xlfn._xlws.FILTER(Feuil2!$A$1:$V$398,(Feuil2!$B$1:$B$398=MID(A4,FIND(" ",A4)+1,99))*(Feuil2!$C$1:$C$398=Feuil1!B4),"Données non disponibles")} -> Partants | O4: Prix Jean Noiret | P4: Iorana Vallis | Q4: 66 | R4: 0 | S4: 2s6h3h1h2h(21) | T4: 0 % | U4: 0 | V4: 75 % | W4: 29 % | X4: 38 % | Y4: 0 | Z4: 0 | AA4: 0 | AB4: 0 | AC4: 80 % | AD4: 0 | AE4: 0 | AF4: 100 % | AG4: 0 | AH4: 0 | AI4: 0
A5: C1 Prix Jean Noiret | B5: Interdit De Jeu | C5: Re G. | D5: 0,0 | E5: 3,1 | F5: 6,1 | G5: 0,0 | H5: 0,0 | I5: 1,2 | J5: 5,7 | K5: 2,9 | L5: 6,0 | N5: {=_xlfn._xlws.FILTER(Feuil2!$A$1:$V$398,(Feuil2!$B$1:$B$398=MID(A5,FIND(" ",A5)+1,99))*(Feuil2!$C$1:$C$398=Feuil1!B5),"Données non disponibles")} -> Partants | O5: Prix Jean Noiret | P5: Interdit de Jeu | Q5: 67 | R5: 0 | S5: 2h3h | T5: 43 % | U5: 100 % | V5: 0 | W5: 38 % | X5: 26 % | Y5: 0 | Z5: 0 | AA5: 0 | AB5: 0 | AC5: 100 % | AD5: 0 | AE5: 0 | AF5: 0 | AG5: 0 | AH5: 0 | AI5: 0
A6: C1 Prix Jean Noiret | B6: Icare Du Seuil | C6: Reveley J. | D6: 6,4 | E6: 2,9 | F6: 0,0 | G6: 0,0 | H6: 3,4 | I6: 0,0 | J6: 0,0 | K6: 0,0 | L6: 2,9 | N6: {=_xlfn._xlws.FILTER(Feuil2!$A$1:$V$398,(Feuil2!$B$1:$B$398=MID(A6,FIND(" ",A6)+1,99))*(Feuil2!$C$1:$C$398=Feuil1!B6),"Données non disponibles")} -> Partants | O6: Prix Jean Noiret | P6: Icare du Seuil | Q6: 67 | R6: 0 | S6: 4hAh(21)1h1h1p | T6: 33 % | U6: 50 % | V6: 0 % | W6: 22 % | X6: 43 % | Y6: 0 | Z6: 0 | AA6: 0 | AB6: 0 | AC6: 50 % | AD6: 0 | AE6: 0 | AF6: 0 | AG6: 0 | AH6: 0 | AI6: 0
A7: C1 Prix Jean Noiret | B7: Ipop Ville | C7: Lajon W. | D7: 6,4 | E7: 4,0 | F7: 7,8 | G7: 0,0 | H7: 6,2 | I7: 7,0 | J7: 3,9 | K7: 2,9 | L7: 0,0 | N7: {=_xlfn._xlws.FILTER(Feuil2!$A$1:$V$398,(Feuil2!$B$1:$B$398=MID(A7,FIND(" ",A7)+1,99))*(Feuil2!$C$1:$C$398=Feuil1!B7),"Données non disponibles")} -> Partants | O7: Prix Jean Noiret | P7: Ipop Ville | Q7: 67 | R7: 0 | S7: 4h3h2h(21)3p4p | T7: 41 % | U7: 0 % | V7: 0 | W7: 34 % | X7: 15 % | Y7: 0 | Z7: 0 | AA7: 0 | AB7: 0 | AC7: 67 % | AD7: 0 | AE7: 0 | AF7: 0 | AG7: 0 | AH7: 0 | AI7: 0
A8: C2 Prix Pelat | B8: Villa Rica | C8: Charron J. | D8: 9,1 | E8: 2,7 | F8: 10 | G8: 2,0 | H8: 10 | I8: 8,2 | J8: 6,0 | K8: 6,7 | L8: 8,8 | N8: {=_xlfn._xlws.FILTER(Feuil2!$A$1:$V$398,(Feuil2!$B$1:$B$398=MID(A8,FIND(" ",A8)+1,99))*(Feuil2!$C$1:$C$398=Feuil1!B8),"Données non disponibles")} -> Partants | O8: Prix Pelat | P8: Villa Rica | Q8: 71 | R8: 0 | S8: 2h1h3h3h5h | T8: 62 % | U8: 67 % | V8: 100 % | W8: 47 % | X8: 31 % | Y8: 0 | Z8: 0 | AA8: 0 | AB8: 0 | AC8: 80 % | AD8: 0 | AE8: 0 | AF8: 100 % | AG8: 0 | AH8: 0 | AI8: 0
A9: C2 Prix Pelat | B9: Cour Supreme | C9: Lefebvre Mr C. | D9: 10 | E9: 9,6 | F9: 8,6 | G9: 4,0 | H9: 1,6 | I9: 10 | J9: 4,7 | K9: 10 | L9: 3,7 | N9: {=_xlfn._xlws.FILTER(Feuil2!$A$1:$V$398,(Feuil2!$B$1:$B$398=MID(A9,FIND(" ",A9)+1,99))*(Feuil2!$C$1:$C$398=Feuil1!B9),"Données non disponibles")} -> Données non disponibles
A10: C2 Prix Pelat | B10: Joika D'Herodiere | C10: Nabet K. | D10: 4,1 | E10: 0,0 | F10: 9,1 | G10: 3,3 | H10: 0,3 | I10: 6,2 | J10: 5,6 | K10: 6,7 | L10: 7,3 | N10: {=_xlfn._xlws.FILTER(Feuil2!$A$1:$V$398,(Feuil2!$B$1:$B$398=MID(A10,FIND(" ",A10)+1,99))*(Feuil2!$C$1:$C$398=Feuil1!B10),"Données non disponibles")} -> Données non disponibles
A11: C2 Prix Pelat | B11: Isaline De Chandou | C11: Reveley J. | D11: 5,0 | E11: 5,5 | F11: 0,9 | G11: 2,5 | H11: 1,1 | I11: 0,3 | J11: 5,0 | K11: 6,7 | L11: 7,8 | N11: {=_xlfn._xlws.FILTER(Feuil2!$A$1:$V$398,(Feuil2!$B$1:$B$398=MID(A11,FIND(" ",A11)+1,99))*(Feuil2!$C$1:$C$398=Feuil1!B11),"Données non disponibles")} -> Partants | O11: Prix Pelat | P11: Isaline de Chandou | Q11: 67 | R11: 0 | S11: 1h2h5h9h | T11: 41 % | U11: 50 % | V11: 0 % | W11: 33 % | X11: 43 % | Y11: 0 | Z11: 0 | AA11: 0 | AB11: 0 | AC11: 50 % | AD11: 0 | AE11: 0 | AF11: 0 | AG11: 0 | AH11: 0 | AI11: 0
A12: C2 Prix Pelat | B12: Najima Star | C12: Re G. | D12: 2,4 | E12: 5,8 | F12: 0,0 | G12: 3,3 | H12: 0,0 | I12: 0,0 | J12: 3,3 | K12: 5,0 | L12: 3,6 | N12: {=_xlfn._xlws.FILTER(Feuil2!$A$1:$V$398,(Feuil2!$B$1:$B$398=MID(A12,FIND(" ",A12)+1,99))*(Feuil2!$C$1:$C$398=Feuil1!B12),"Données non disponibles")} -> Partants | O12: Prix Pelat | P12: Najima Star | Q12: 66 | R12: 0 | S12: 1h8p(21)9p13p10p | T12: 40 % | U12: 100 % | V12: 100 % | W12: 22 % | X12: 26 % | Y12: 0 | Z12: 0 | AA12: 0 | AB12: 0 | AC12: 100 % | AD12: 0 | AE12: 0 | AF12: 0 | AG12: 0 | AH12: 0 | AI12: 0
A13: C2 Prix Pelat | B13: In My Mind | C13: Gauffenic N. | D13: 7,4 | E13: 2,6 | F13: 1,0 | G13: 5,0 | H13: 0,3 | I13: 2,1 | J13: 4,7 | K13: 10 | L13: 9,1 | N13: {=_xlfn._xlws.FILTER(Feuil2!$A$1:$V$398,(Feuil2!$B$1:$B$398=MID(A13,FIND(" ",A13)+1,99))*(Feuil2!$C$1:$C$398=Feuil1!B13),"Données non disponibles")} -> Partants | O13: Prix Pelat | P13: In My Mind | Q13: 66 | R13: 0 | S13: 1h1h4h3p | T13: 53 % | U13: 0 | V13: 0 | W13: 11 % | X13: 26 % | Y13: 0 | Z13: 0 | AA13: 0 | AB13: 0 | AC13: 67 % | AD13: 0 | AE13: 0 | AF13: 100 % | AG13: 0 | AH13: 0 | AI13: 0
A14: C2 Prix Pelat | B14: Sniper Point | C14: Masure G. | D14: 7,9 | E14: 6,5 | F14: 2,9 | G14: 0,0 | H14: 1,3 | I14: 0,2 | J14: 0,0 | K14: 3,3 | L14: 8,9 | N14: {=_xlfn._xlws.FILTER(Feuil2!$A$1:$V$398,(Feuil2!$B$1:$B$398=MID(A14,FIND(" ",A14)+1,99))*(Feuil2!$C$1:$C$398=Feuil1!B14),"Données non disponibles")} -> Partants | O14: Prix Pelat | P14: Sniper Point | Q14: 66 | R14: 0 | S14: 4h4h2h7h2pJh | T14: 0 | U14: 0 | V14: 0 % | W14: 19 % | X14: 39 % | Y14: 0 | Z14: 0 | AA14: 0 | AB14: 0 | AC14: 20 % | AD14: 0 | AE14: 0 | AF14: 0 % | AG14: 0 | AH14: 0 | AI14: 0
A15: C2 Prix Pelat | B15: Namour Has | C15: Chevillard T. | D15: 2,1 | E15: 1,7 | F15: 9,1 | G15: 0,0 | H15: 0,4 | I15: 6,2 | J15: 10 | K15: 3,3 | L15: 9,7 | N15: {=_xlfn._xlws.FILTER(Feuil2!$A$1:$V$398,(Feuil2!$B$1:$B$398=MID(A15,FIND(" ",A15)+1,99))*(Feuil2!$C$1:$C$398=Feuil1!B15),"Données non disponibles")} -> Partants | O15: Prix Pelat | P15: Namour Has | Q15: 66 | R15: 0 | S15: 2h3h | T15: 49 % | U15: 0 | V15: 100 % | W15: 44 % | X15: 37 % | Y15: 0 | Z15: 0 | AA15: 0 | AB15: 0 | AC15: 100 % | AD15: 0 | AE15: 0 | AF15: 100 % | AG15: 0 | AH15: 0 | AI15: 0
A16: C2 Prix Pelat | B16: Pearl Of Wisdom | C16: Zuliani Mr A. | D16: 0,0 | E16: 10 | F16: 9,1 | G16: 10 | H16: 2,5 | I16: 6,2 | J16: 4,7 | K16: 5,0 | L16: 10 | N16: {=_xlfn._xlws.FILTER(Feuil2!$A$1:$V$398,(Feuil2!$B$1:$B$398=MID(A16,FIND(" ",A16)+1,99))*(Feuil2!$C$1:$C$398=Feuil1!B16),"Données non disponibles")} -> Partants | O16: Prix Pelat | P16: Pearl of Wisdom | Q16: 65 | R16: 0 | S16: 1h | T16: 57 % | U16: 100 % | V16: 0 | W16: 44 % | X16: 49 % | Y16: 0 | Z16: 0 | AA16: 0 | AB16: 0 | AC16: 100 % | AD16: 0 | AE16: 0 | AF16: 100 % | AG16: 0 | AH16: 0 | AI16: 0
A17: C2 Prix Pelat | B17: Ishita | C17: Richard G. | D17: 7,1 | E17: 5,6 | F17: 9,1 | G17: 0,0 | H17: 2,0 | I17: 6,2 | J17: 3,3 | K17: 0,0 | L17: 0,0 | N17: {=_xlfn._xlws.FILTER(Feuil2!$A$1:$V$398,(Feuil2!$B$1:$B$398=MID(A17,FIND(" ",A17)+1,99))*(Feuil2!$C$1:$C$398=Feuil1!B17),"Données non disponibles")} -> Partants | O17: Prix Pelat | P17: Ishita | Q17: 65 | R17: 0 | S17: 4h | T17: 54 % | U17: 0 % | V17: 0 % | W17: 44 % | X17: 33 % | Y17: 0 | Z17: 0 | AA17: 0 | AB17: 0 | AC17: 0 % | AD17: 0 | AE17: 0 | AF17: 0 | AG17: 0 | AH17: 0 | AI17: 0
A18: C3 Prix World Citizen | B18: Virgo Celestin | C18: Dubourg Mr K. | D18: 10 | E18: 10 | F18: 10 | G18: 6,7 | H18: 10 | I18: 10 | J18: 10 | K18: 10 | L18: 6,7 | N18: {=_xlfn._xlws.FILTER(Feuil2!$A$1:$V$398,(Feuil2!$B$1:$B$398=MID(A18,FIND(" ",A18)+1,99))*(Feuil2!$C$1:$C$398=Feuil1!B18),"Données non disponibles")} -> Partants | O18: Prix World Citizen | P18: Virgo Celestin | Q18: 72 | R18: 0 | S18: 1s1h1hTs1s(21) | T18: 59 % | U18: 89 % | V18: 0 | W18: 47 % | X18: 37 % | Y18: 0 | Z18: 0 | AA18: 0 | AB18: 50 % | AC18: 91 % | AD18: 0 | AE18: 0 | AF18: 0 % | AG18: 0 | AH18: 0 | AI18: 0
A19: C3 Prix World Citizen | B19: Hey Jude | C19: Zuliani Mr A. | D19: 6,1 | E19: 6,8 | F19: 9,5 | G19: 3,3 | H19: 5,6 | I19: 7,6 | J19: 2,7 | K19: 3,1 | L19: 5,1 | N19: {=_xlfn._xlws.FILTER(Feuil2!$A$1:$V$398,(Feuil2!$B$1:$B$398=MID(A19,FIND(" ",A19)+1,99))*(Feuil2!$C$1:$C$398=Feuil1!B19),"Données non disponibles")} -> Partants | O19: Prix World Citizen | P19: Hey Jude | Q19: 69 | R19: 0 | S19: 1s5h2h(21)1s1s | T19: 57 % | U19: 67 % | V19: 0 | W19: 44 % | X19: 49 % | Y19: 0 | Z19: 0 | AA19: 0 | AB19: 0 | AC19: 78 % | AD19: 0 | AE19: 0 | AF19: 0 | AG19: 0 | AH19: 0 | AI19: 0
A20: C3 Prix World Citizen | B20: Araucarias | C20: Lestrade B. | D20: 7,3 | E20: 5,0 | F20: 9,5 | G20: 4,0 | H20: 4,4 | I20: 7,6 | J20: 2,7 | K20: 5,4 | L20: 7,8 | N20: {=_xlfn._xlws.FILTER(Feuil2!$A$1:$V$398,(Feuil2!$B$1:$B$398=MID(A20,FIND(" ",A20)+1,99))*(Feuil2!$C$1:$C$398=Feuil1!B20),"Données non disponibles")} -> Partants | O20: Prix World Citizen | P20: Araucarias | Q20: 68 | R20: 0 | S20: 6s4s2s1s1s(21) | T20: 55 % | U20: 0 % | V20: 0 % | W20: 44 % | X20: 47 % | Y20: 0 | Z20: 0 | AA20: 0 | AB20: 0 % | AC20: 63 % | AD20: 0 | AE20: 0 | AF20: 33 % | AG20: 0 | AH20: 0 | AI20: 0
A21: C3 Prix World Citizen | B21: Gooaaal | C21: Lefebvre Mr C. | D21: 5,8 | E21: 6,5 | F21: 7,2 | G21: 0,0 | H21: 3,1 | I21: 2,6 | J21: 2,5 | K21: 2,3 | L21: 8,2 | N21: {=_xlfn._xlws.FILTER(Feuil2!$A$1:$V$398,(Feuil2!$B$1:$B$398=MID(A21,FIND(" ",A21)+1,99))*(Feuil2!$C$1:$C$398=Feuil1!B21),"Données non disponibles")} -> Partants | O21: Prix World Citizen | P21: Gooaaal | Q21: 66 | R21: 0 | S21: As2sTs2s(21)2s | T21: 44 % | U21: 25 % | V21: 20 % | W21: 29 % | X21: 31 % | Y21: 0 | Z21: 0 | AA21: 0 | AB21: 29 % | AC21: 40 % | AD21: 0 | AE21: 0 | AF21: 33 % | AG21: 0 | AH21: 0 | AI21: 0
A22: C3 Prix World Citizen | B22: Griffon D'Aubrelle | C22: Alain De Chitray | D22: 5,2 | E22: 4,2 | F22: 9,2 | G22: 10 | H22: 4,1 | I22: 6,4 | J22: 2,7 | K22: 2,3 | L22: 9,6 | N22: {=_xlfn._xlws.FILTER(Feuil2!$A$1:$V$398,(Feuil2!$B$1:$B$398=MID(A22,FIND(" ",A22)+1,99))*(Feuil2!$C$1:$C$398=Feuil1!B22),"Données non disponibles")} -> Partants | O22: Prix World Citizen | P22: Griffon d'Aubrelle | Q22: 66 | R22: 0 | S22: 1s(21)3s(20)3sTs | T22: 42 % | U22: 100 % | V22: 33 % | W22: 27 % | X22: 23 % | Y22: 0 | Z22: 0 | AA22: 0 | AB22: 0 % | AC22: 73 % | AD22: 0 | AE22: 0 | AF22: 75 % | AG22: 0 | AH22: 0 | AI22: 0
A23: C3 Prix World Citizen | B23: Grandioso | C23: Chevillard T. | D23: 3,6 | E23: 0,0 | F23: 7,6 | G23: 1,7 | H23: 0,3 | I23: 2,7 | J23: 0,4 | K23: 0,0 | L23: 0,0 | N23: {=_xlfn._xlws.FILTER(Feuil2!$A$1:$V$398,(Feuil2!$B$1:$B$398=MID(A23,FIND(" ",A23)+1,99))*(Feuil2!$C$1:$C$398=Feuil1!B23),"Données non disponibles")} -> Partants | O23: Prix World Citizen | P23: Grandioso | Q23: 64 | R23: 0 | S23: 5sAs5s5s(21)As | T23: 46 % | U23: 0 | V23: 17 % | W23: 30 % | X23: 37 % | Y23: 0 | Z23: 0 | AA23: 0 | AB23: 0 % | AC23: 21 % | AD23: 0 | AE23: 0 | AF23: 17 % | AG23: 0 | AH23: 0 | AI23: 0
A24: C3 Prix World Citizen | B24: Fleuron D'Arthel | C24: Gauffenic N. | D24: 3,0 | E24: 0,8 | F24: 0,0 | G24: 0,0 | H24: 0,0 | I24: 0,0 | J24: 0,6 | K24: 0,8 | L24: 10 | N24: {=_xlfn._xlws.FILTER(Feuil2!$A$1:$V$398,(Feuil2!$B$1:$B$398=MID(A24,FIND(" ",A24)+1,99))*(Feuil2!$C$1:$C$398=Feuil1!B24),"Données non disponibles")} -> Partants | O24: Prix World Citizen | P24: Fleuron d'Arthel | Q24: 62 | R24: 0 | S24: 4s6s3s(21)3s4s | T24: 0 % | U24: 0 % | V24: 14 % | W24: 0 % | X24: 26 % | Y24: 0 | Z24: 0 | AA24: 0 | AB24: 0 % | AC24: 42 % | AD24: 0 | AE24: 0 | AF24: 17 % | AG24: 0 | AH24: 0 | AI24: 0
A25: C3 Prix World Citizen | B25: Duo D'Enfer | C25: Masure G. | D25: 0,0 | E25: 3,9 | F25: 5,1 | G25: 2,0 | H25: 2,6 | I25: 1,9 | J25: 0,0 | K25: 2,3 | L25: 5,8 | N25: {=_xlfn._xlws.FILTER(Feuil2!$A$1:$V$398,(Feuil2!$B$1:$B$398=MID(A25,FIND(" ",A25)+1,99))*(Feuil2!$C$1:$C$398=Feuil1!B25),"Données non disponibles")} -> Partants | O25: Prix World Citizen | P25: Duo d'Enfer | Q25: 62 | R25: 0 | S25: 7s5s7h10s1h(20) | T25: 50 % | U25: 0 | V25: 29 % | W25: 31 % | X25: 39 % | Y25: 0 | Z25: 0 | AA25: 0 | AB25: 27 % | AC25: 39 % | AD25: 0 | AE25: 0 | AF25: 33 % | AG25: 0 | AH25: 0 | AI25: 0
A26: Quinté de demain | B26: Folly Foot | C26: Reveley J. | D26: 10 | E26: 5,3 | F26: 0,9 | G26: 8,0 | H26: 4,5 | I26: 0,1 | J26: 10 | K26: 10 | L26: 4,6 | N26: {=_xlfn._xlws.FILTER(Feuil2!$A$1:$V$398,(Feuil2!$B$1:$B$398=MID(A26,FIND(" ",A26)+1,99))*(Feuil2!$C$1:$C$398=Feuil1!B26),"Données non disponibles")} -> Données non disponibles
A27: Quinté de demain | B27: Avel De Kerbarh | C27: De Giles F. | D27: 3,0 | E27: 2,5 | F27: 10 | G27: 3,3 | H27: 2,1 | I27: 10 | J27: 1,5 | K27: 3,8 | L27: 10 | N27: {=_xlfn._xlws.FILTER(Feuil2!$A$1:$V$398,(Feuil2!$B$1:$B$398=MID(A27,FIND(" ",A27)+1,99))*(Feuil2!$C$1:$C$398=Feuil1!B27),"Données non disponibles")} -> Données non disponibles
A28: Quinté de demain | B28: Lyon Clermont | C28: Lefebvre Mr C. | D28: 9,3 | E28: 9,3 | F28: 4,2 | G28: 4,0 | H28: 6,2 | I28: 2,7 | J28: 4,5 | K28: 6,3 | L28: 5,5 | N28: {=_xlfn._xlws.FILTER(Feuil2!$A$1:$V$398,(Feuil2!$B$1:$B$398=MID(A28,FIND(" ",A28)+1,99))*(Feuil2!$C$1:$C$398=Feuil1!B28),"Données non disponibles")} -> Données non disponibles
A29: Quinté de demain | B29: Hopi Du Mathan | C29: Masure G. | D29: 5,3 | E29: 6,3 | F29: 8,5 | G29: 4,0 | H29: 5,4 | I29: 7,8 | J29: 0,0 | K29: 5,0 | L29: 5,2 | N29: {=_xlfn._xlws.FILTER(Feuil2!$A$1:$V$398,(Feuil2!$B$1:$B$398=MID(A29,FIND(" ",A29)+1,99))*(Feuil2!$C$1:$C$398=Feuil1!B29),"Données non disponibles")} -> Données non disponibles
A30: Quinté de demain | B30: Golden Witch | C30: Chevillard T. | D30: 8,0 | E30: 1,6 | F30: 0,1 | G30: 0,0 | H30: 1,8 | I30: 0,4 | J30: 4,5 | K30: 1,3 | L30: 7,0 | N30: {=_xlfn._xlws.FILTER(Feuil2!$A$1:$V$398,(Feuil2!$B$1:$B$398=MID(A30,FIND(" ",A30)+1,99))*(Feuil2!$C$1:$C$398=Feuil1!B30),"Données non disponibles")} -> Données non disponibles
A31: Quinté de demain | B31: Halo On Fire | C31: Ubeda D. | D31: 5,3 | E31: 0,6 | F31: 3,1 | G31: 5,0 | H31: 0,0 | I31: 0,6 | J31: 9,1 | K31: 3,8 | L31: 0,0 | N31: {=_xlfn._xlws.FILTER(Feuil2!$A$1:$V$398,(Feuil2!$B$1:$B$398=MID(A31,FIND(" ",A31)+1,99))*(Feuil2!$C$1:$C$398=Feuil1!B31),"Données non disponibles")} -> Données non disponibles
A32: Quinté de demain | B32: Foreign Flower | C32: Nabet K. | D32: 4,3 | E32: 0,0 | F32: 0,0 | G32: 0,0 | H32: 1,1 | I32: 0,0 | J32: 4,7 | K32: 0,0 | L32: 7,5 | N32: {=_xlfn._xlws.FILTER(Feuil2!$A$1:$V$398,(Feuil2!$B$1:$B$398=MID(A32,FIND(" ",A32)+1,99))*(Feuil2!$C$1:$C$398=Feuil1!B32),"Données non disponibles")} -> Données non disponibles
A33: Quinté de demain | B33: Fences | C33: Re G. | D33: 4,3 | E33: 5,6 | F33: 4,8 | G33: 4,0 | H33: 0,1 | I33: 0,2 | J33: 0,0 | K33: 5,0 | L33: 7,4 | N33: {=_xlfn._xlws.FILTER(Feuil2!$A$1:$V$398,(Feuil2!$B$1:$B$398=MID(A33,FIND(" ",A33)+1,99))*(Feuil2!$C$1:$C$398=Feuil1!B33),"Données non disponibles")} -> Données non disponibles
A34: Quinté de demain | B34: Six One | C34: Zuliani Mr A. | D34: 6,3 | E34: 9,7 | F34: 8,4 | G34: 10 | H34: 10 | I34: 7,6 | J34: 4,7 | K34: 3,8 | L34: 3,8 | N34: {=_xlfn._xlws.FILTER(Feuil2!$A$1:$V$398,(Feuil2!$B$1:$B$398=MID(A34,FIND(" ",A34)+1,99))*(Feuil2!$C$1:$C$398=Feuil1!B34),"Données non disponibles")} -> Données non disponibles
A35: Quinté de demain | B35: Dentor Des Obeaux | C35: Jouin O. | D35: 6,0 | E35: 4,6 | F35: 7,0 | G35: 0,0 | H35: 1,4 | I35: 4,9 | J35: 4,7 | K35: 1,3 | L35: 6,1 | N35: {=_xlfn._xlws.FILTER(Feuil2!$A$1:$V$398,(Feuil2!$B$1:$B$398=MID(A35,FIND(" ",A35)+1,99))*(Feuil2!$C$1:$C$398=Feuil1!B35),"Données non disponibles")} -> Données non disponibles
A36: Quinté de demain | B36: Chichi De La Vega | C36: Philipperon L. | D36: 5,3 | E36: 6,3 | F36: 0,0 | G36: 0,0 | H36: 3,7 | I36: 0,0 | J36: 1,5 | K36: 1,3 | L36: 5,7 | N36: {=_xlfn._xlws.FILTER(Feuil2!$A$1:$V$398,(Feuil2!$B$1:$B$398=MID(A36,FIND(" ",A36)+1,99))*(Feuil2!$C$1:$C$398=Feuil1!B36),"Données non disponibles")} -> Données non disponibles
A37: Quinté de demain | B37: Golliath | C37: Mlle Desoutter N. | D37: 6,7 | E37: 6,3 | F37: 0,8 | G37: 10 | H37: 4,7 | I37: 1,8 | J37: 6,8 | K37: 7,5 | L37: 5,4 | N37: {=_xlfn._xlws.FILTER(Feuil2!$A$1:$V$398,(Feuil2!$B$1:$B$398=MID(A37,FIND(" ",A37)+1,99))*(Feuil2!$C$1:$C$398=Feuil1!B37),"Données non disponibles")} -> Données non disponibles
... A52: C6 Prix Cadoudal | B52: Idee Du Choeur | C52: Morin V. | D52: 7,6 | E52: 7,4 | F52: 7,0 | G52: 5,0 | H52: 6,2 | I52: 3,0 | J52: 4,0 | K52: 10 | L52: 9,6 | N52: {=_xlfn._xlws.FILTER(Feuil2!$A$1:$V$398,(Feuil2!$B$1:$B$398=MID(A52,FIND(" ",A52)+1,99))*(Feuil2!$C$1:$C$398=Feuil1!B52),"Données non disponibles")} -> Données non disponibles
A53: C6 Prix Cadoudal | B53: Tanzanite | C53: Lefebvre Mr C. | D53: 3,8 | E53: 10 | F53: 7,9 | G53: 10 | H53: 7,6 | I53: 3,2 | J53: 4,0 | K53: 7,5 | L53: 10 | N53: {=_xlfn._xlws.FILTER(Feuil2!$A$1:$V$398,(Feuil2!$B$1:$B$398=MID(A53,FIND(" ",A53)+1,99))*(Feuil2!$C$1:$C$398=Feuil1!B53),"Données non disponibles")} -> Partants | O53: Prix Cadoudal | P53: Tanzanite | Q53: 67 | R53: 0 | S53: 1h | T53: 44 % | U53: 100 % | V53: 0 | W53: 29 % | X53: 31 % | Y53: 0 | Z53: 0 | AA53: 0 | AB53: 0 | AC53: 100 % | AD53: 0 | AE53: 0 | AF53: 100 % | AG53: 0 | AH53: 0 | AI53: 0
A54: C6 Prix Cadoudal | B54: Iosefa Demonmirail | C54: Dubourg Mr P. | D54: 3,3 | E54: 6,9 | F54: 10 | G54: 0,0 | H54: 10 | I54: 6,9 | J54: 4,0 | K54: 2,5 | L54: 9,3 | N54: {=_xlfn._xlws.FILTER(Feuil2!$A$1:$V$398,(Feuil2!$B$1:$B$398=MID(A54,FIND(" ",A54)+1,99))*(Feuil2!$C$1:$C$398=Feuil1!B54),"Données non disponibles")} -> Partants | O54: Prix Cadoudal | P54: Iosefa Demonmirail | Q54: 67 | R54: 0 | S54: 2h | T54: 45 % | U54: 0 | V54: 0 | W54: 42 % | X54: 42 % | Y54: 0 | Z54: 0 | AA54: 0 | AB54: 0 | AC54: 100 % | AD54: 0 | AE54: 0 | AF54: 100 % | AG54: 0 | AH54: 0 | AI54: 0
...

Sheet Feuil2
A1: Partants | B1: Grand Prix Baron d'Ardeuil AOC Buzet | C1: Darwino | D1: 25 | E1: 2550 | F1: 5a5aDa3DaDm1a | G1: 14 % | H1: 0 % | I1: 0 % | J1: 10 % | K1: 18 % | P1: 20 % | R1: 20 % | S1: 11 % | U1: 23 % | V1: 16 %
A2: Partants | B2: Grand Prix Baron d'Ardeuil AOC Buzet | C2: De Padd | D2: 25 | E2: 2575 | F2: 3a6a8aDa6a15a | G2: 38 % | H2: 40 % | I2: 33 % | J2: 24 % | K2: 33 % | P2: 27 % | R2: 27 % | S2: 26 % | U2: 29 % | V2: 32 %
A3: Partants | B3: Grand Prix Baron d'Ardeuil AOC Buzet | C3: Diabolo | D3: 25 | E3: 2575 | F3: 7a6aDa4a1Dista8a | G3: 37 % | H3: 31 % | I3: 17 % | J3: 29 % | K3: 33 % | P3: 25 % | R3: 25 % | S3: 27 % | U3: 22 % | V3: 16 %
A4: Partants | B4: Grand Prix Baron d'Ardeuil AOC Buzet | C4: Diquem | D4: 25 | E4: 2550 | F4: 3a4a4a5a2aDa | G4: 34 % | I4: 0 % | J4: 10 % | K4: 27 % | P4: 40 % | R4: 40 % | S4: 46 % | U4: 63 % | V4: 40 %
A5: Partants | B5: Grand Prix Baron d'Ardeuil AOC Buzet | C5: Early Somolli | D5: 25 | E5: 2550 | F5: 12a8a5a5a6a7a | G5: 25 % | H5: 0 % | J5: 28 % | K5: 34 % | P5: 27 % | R5: 26 % | S5: 24 % | U5: 14 % | V5: 19 %
A6: Partants | B6: Grand Prix Baron d'Ardeuil AOC Buzet | C6: Embrun d'Herfraie | D6: 25 | E6: 2550 | F6: 9m5a4m5mDa0a | G6: 32 % | J6: 28 % | K6: 31 % | P6: 30 % | R6: 30 % | S6: 30 % | U6: 20 % | V6: 33 %
A7: Partants | B7: Grand Prix Baron d'Ardeuil AOC Buzet | C7: Enivrante | D7: 25 | E7: 2575 | F7: 8aDa1a7a2a1a | G7: 43 % | H7: 78 % | I7: 40 % | J7: 20 % | K7: 24 % | P7: 51 % | R7: 52 % | S7: 45 % | U7: 52 % | V7: 50 %
A8: Partants | B8: Grand Prix Baron d'Ardeuil AOC Buzet | C8: Esbeirit | D8: 25 | E8: 2575 | F8: 6a3a6a14a10aDa | G8: 37 % | H8: 49 % | I8: 50 % | J8: 32 % | K8: 33 % | P8: 48 % | R8: 48 % | S8: 51 % | U8: 51 % | V8: 43 %
A9: Partants | B9: Grand Prix Baron d'Ardeuil AOC Buzet | C9: Fasty du Luot | D9: 25 | E9: 2575 | F9: 14aDa7aDa6mDa | G9: 21 % | I9: 0 % | J9: 22 % | K9: 20 % | P9: 37 % | R9: 37 % | S9: 23 % | U9: 31 % | V9: 36 %
A10: Partants | B10: Grand Prix Baron d'Ardeuil AOC Buzet | C10: Gaya des Brousses | D10: 25 | E10: 2550 | F10: 9a1a5a4a2aDa | G10: 35 % | H10: 33 % | I10: 0 % | J10: 28 % | K10: 23 % | P10: 39 % | R10: 39 % | S10: 36 % | U10: 32 % | V10: 38 %
A11: Partants | B11: Grand Prix Baron d'Ardeuil AOC Buzet | C11: Gemme Castelets | D11: 25 | E11: 2550 | F11: Da1a3a2a2a3a | G11: 22 % | H11: 100 % | J11: 28 % | K11: 50 % | P11: 38 % | R11: 38 % | S11: 40 % | U11: 47 % | V11: 23 %
A12: Partants | B12: Grand Prix Baron d'Ardeuil AOC Buzet | C12: Giada | D12: 25 | E12: 2550 | F12: 2a5a3a1a2a1a | G12: 33 % | I12: 42 % | J12: 32 % | K12: 45 % | P12: 39 % | R12: 39 % | S12: 37 % | U12: 35 % | V12: 41 %
A13: Partants | B13: Grand Prix Baron d'Ardeuil AOC Buzet | C13: Gonna Fly | D13: 25 | E13: 2550 | F13: 7a6a3a3a9a5a | G13: 28 % | H13: 53 % | I13: 50 % | J13: 22 % | K13: 25 % | P13: 38 % | R13: 38 % | S13: 40 % | U13: 50 % | V13: 50 %
A14: Partants | B14: Grand Prix Baron d'Ardeuil AOC Buzet | C14: Good Luck Tit | D14: 25 | E14: 2550 | F14: Da7a6aDaDaDa | G14: 23 % | H14: 37 % | J14: 0 % | K14: 0 % | P14: 40 % | R14: 40 % | S14: 35 % | U14: 47 % | V14: 41 %
A15: Partants | B15: Prix Adara | C15: Idéal d'Attaque | D15: 27 | E15: 2700 | F15: DaDaDa11a5a2a | G15: 21 % | H15: 40 % | I15: 0 % | J15: 7 % | K15: 4 % | P15: 21 % | R15: 21 % | S15: 13 % | U15: 28 %
A16: Partants | B16: Prix Adara | C16: Idéal Deladou | D16: 27 | E16: 2700 | F16: 8a1a3a4aDaDa | G16: 32 % | H16: 56 % | I16: 0 % | J16: 12 % | K16: 12 % | P16: 29 % | R16: 29 % | S16: 31 % | U16: 0 % | V16: 25 %
A17: Partants | B17: Prix Adara | C17: Idéal du Biston | D17: 27 | E17: 2700 | F17: 6a3a3a6aDaDa | G17: 25 % | H17: 35 % | I17: 0 % | J17: 16 % | K17: 13 % | P17: 35 % | R17: 35 % | S17: 33 % | U17: 40 % | V17: 33 %
A18: Partants | B18: Prix Adara | C18: Idéfix du Mans | D18: 27 | E18: 2700 | F18: 2a10a1a1a2a(21) | G18: 36 % | H18: 83 % | J18: 23 % | K18: 22 % | P18: 83 % | R18: 83 % | S18: 80 % | U18: 83 % | V18: 83 %
A19: Partants | B19: Prix Adara | C19: Iermont | D19: 27 | E19: 2700 | F19: 2aDa8aDa7a2a | G19: 40 % | H19: 100 % | I19: 0 % | J19: 20 % | K19: 21 % | P19: 37 % | R19: 37 % | S19: 23 % | U19: 40 % | V19: 33 %
A20: Partants | B20: Prix Adara | C20: Imoko Jibelau | D20: 27 | E20: 2700 | F20: 1a3a1aDa5a2a | G20: 55 % | H20: 100 % | I20: 0 % | J20: 25 % | K20: 23 % | P20: 47 % | R20: 47 % | S20: 55 % | U20: 29 % | V20: 50 %
A21: Partants | B21: Prix Adara | C21: Impact de l'Iton | D21: 27 | E21: 2700 | F21: 1a3a1a1a1a5a | G21: 43 % | H21: 100 % | J21: 21 % | K21: 26 % | P21: 38 % | R21: 38 % | S21: 11 % | U21: 40 % | V21: 100 %
A22: Partants | B22: Prix Adara | C22: Indigo de Fontaine | D22: 27 | E22: 2700 | F22: Da11a1a(21)1a1a | G22: 34 % | H22: 43 % | I22: 50 % | J22: 24 % | K22: 26 % | P22: 50 % | R22: 50 % | S22: 25 % | U22: 57 % | V22: 57 %
A23: Partants | B23: Prix Adara | C23: Instinct de Clercé | D23: 27 | E23: 2700 | F23: 4a9a6a2a10a7a | G23: 33 % | H23: 0 % | I23: 43 % | J23: 18 % | K23: 23 % | P23: 35 % | R23: 35 % | S23: 0 % | U23: 38 % | V23: 33 %
A24: Partants | B24: Prix Adara | C24: Intrépide Béji | D24: 27 | E24: 2700 | F24: 3a2a4a2a3a5a | G24: 14 % | H24: 71 % | J24: 15 % | K24: 11 % | P24: 42 % | R24: 42 % | S24: 50 % | U24: 17 % | V24: 45 %
A25: Partants | B25: Prix Adara | C25: Intrépide des Bois | D25: 27 | E25: 2700 | F25: 1a1a4a6a1a6a | G25: 18 % | H25: 36 % | J25: 22 % | K25: 14 % | P25: 31 % | R25: 31 % | S25: 33 % | U25: 36 % | V25: 60 %
A26: Partants | B26: Prix Adara | C26: Invictus de Hoerdt | D26: 27 | E26: 2700 | F26: 1aDaDa1aAaDa | G26: 25 % | H26: 36 % | I26: 0 % | J26: 19 % | K26: 18 % | P26: 31 % | R26: 31 % | S26: 31 % | U26: 0 % | V26: 33 %
A27: Partants | B27: Prix Adara | C27: Ipso Simardière | D27: 27 | E27: 2700 | F27: 5a7aDaDa3a1a | G27: 36 % | H27: 50 % | I27: 33 % | J27: 23 % | K27: 32 % | P27: 37 % | R27: 37 % | S27: 38 % | U27: 31 % | V27: 31 %
A28: Partants | B28: Prix Adara | C28: Ipsos de Banville | D28: 27 | E28: 2700 | F28: 3a7a3aDa2a2a | G28: 20 % | H28: 50 % | I28: 25 % | J28: 20 % | K28: 21 % | P28: 44 % | R28: 44 % | S28: 47 % | U28: 30 % | V28: 44 %
A29: Partants | B29: Prix Adara | C29: Iron Spirit | D29: 27 | E29: 2700 | F29: Dm13a2a1mDaDa | G29: 28 % | H29: 0 % | I29: 20 % | J29: 14 % | K29: 18 % | P29: 31 % | R29: 31 % | S29: 33 % | U29: 20 % | V29: 36 %
A30: Partants | B30: Prix Adara | C30: Ixtrem d'Ourville | D30: 27 | E30: 2700 | F30: Da2a6a2a9a2a | G30: 40 % | J30: 29 % | K30: 34 % | P30: 44 % | R30: 44 % | S30: 47 % | U30: 25 % | V30: 50 %
A31: Partants | B31: Prix Alfred Lefèvre | C31: Disco des Molands | D31: 28 | E31: 2850 | F31: 5m5m6mDm14a2m | G31: 33 % | H31: 0 % | I31: 37 % | J31: 32 % | K31: 29 % | P31: 38 % | S31: 31 % | U31: 41 % | V31: 33 %
A32: Partants | B32: Prix Alfred Lefèvre | C32: Egao Jénilou | D32: 28 | E32: 2850 | F32: 6m2m5m3m5m1m | G32: 73 % | H32: 100 % | I32: 53 % | J32: 37 % | K32: 33 % | P32: 53 % | S32: 46 % | U32: 54 % | V32: 61 %
A33: Partants | B33: Prix Alfred Lefèvre | C33: Fantaisie | D33: 28 | E33: 2850 | F33: 1m1m1m12m1m(21) | G33: 39 % | H33: 65 % | I33: 50 % | J33: 36 % | K33: 24 % | P33: 67 % | S33: 72 % | U33: 56 % | V33: 88 %
A34: Partants | B34: Prix Alfred Lefèvre | C34: Fly Speed | D34: 28 | E34: 2850 | F34: 7a3m6aDa11a6a | J34: 29 % | K34: 23 % | P34: 100 % | S34: 100 % | U34: 100 % | V34: 100 %
A35: Partants | B35: Prix Alfred Lefèvre | C35: Freyja du Pont | D35: 28 | E35: 2850 | F35: 13a3a4a6a6a2a | G35: 0 % | H35: 0 % | I35: 0 % | J35: 0 % | K35: 32 % | P35: 0 % | S35: 0 % | U35: 0 % | V35: 0 %
A36: Partants | B36: Prix Alfred Lefèvre | C36: Gef de Play | D36: 28 | E36: 2850 | F36: 3m10m(21)5m5m7m | G36: 39 % | H36: 50 % | I36: 48 % | J36: 33 % | K36: 34 % | P36: 47 % | S36: 38 % | U36: 47 % | V36: 14 %
A37: Partants | B37: Prix Alfred Lefèvre | C37: Georgica Gédé | D37: 28 | E37: 2850 | F37: 7m2m1m2m2m1m | G37: 31 % | H37: 0 % | I37: 73 % | J37: 35 % | K37: 30 % | P37: 53 % | S37: 57 % | U37: 59 % | V37: 50 %
A38: Partants | B38: Prix Alfred Lefèvre | C38: Hytte du Terroir | D38: 28 | E38: 2850 | F38: 3m5m9m9m5m4m | G38: 43 % | H38: 38 % | I38: 33 % | J38: 35 % | K38: 37 % | P38: 31 % | S38: 27 % | U38: 31 % | V38: 24 %
A39: Partants | B39: Prix Association Experts Comptables 82 (Prix Bélina Josselyn) | C39: Hannibal Carnois | D39: 24 | E39: 2400 | F39: 2aDa1a3a5a1a | G39: 48 % | H39: 100 % | I39: 100 % | J39: 22 % | K39: 45 % | P39: 39 % | R39: 39 % | S39: 50 % | T39: 47 % | U39: 64 % | V39: 50 %
A40: Partants | B40: Prix Association Experts Comptables 82 (Prix Bélina Josselyn) | C40: Happy Lady | D40: 24 | E40: 2400 | F40: 3aDaDaDa3a2a | G40: 35 % | H40: 50 % | I40: 50 % | J40: 28 % | K40: 23 % | P40: 50 % | R40: 50 % | S40: 62 % | T40: 80 % | U40: 47 % | V40: 50 %
...
