Workbook
Name ChoixDate: 'Power Query'!$C$1

Sheet Base de données
A1: Date | B1: 42373 | C1: 42374 | D1: 42383 | E1: 42454 | F1: 42458 | G1: 42459 | H1: 42460 | I1: 42461 | J1: 42464 | K1: 42465 | L1: 42466 | M1: 42467 | N1: 42468 | O1: 42499 | P1: 42500 | Q1: 42501 | R1: 42502 | S1: 42503 | T1: 42507 | U1: 42508 | V1: 42509 | W1: 42538 | X1: 42541 | Y1: 42737 | Z1: 42738 | AA1: 42739 | AB1: 42740 | AC1: 42741 | AD1: 42744 | AE1: 42745 | AF1: 42746 | AG1: 42747 | AH1: 42748 | AI1: 42751 | AJ1: 42752 | AK1: 42753 | AL1: 42754 | AM1: 42755 | AN1: 42758 | AO1: 42759 | AP1: 42760 | AQ1: 42761 | AR1: 42762 | AS1: 42765 | AT1: 42766 | AU1: 42767 | AV1: 42768 | AW1: 42769 | AX1: 42772 | AY1: 42773 | AZ1: 42774 | BA1: 42775 | BB1: 42776 | BC1: 42779 | BD1: 42780 | BE1: 42801 | BF1: 42802 | BG1: 42803 | BH1: 42804 | BI1: 43160 | BJ1: 43161 | BK1: 43164 | BL1: 43165 | BM1: 43166 | BN1: 43167 | BO1: 43168 | BP1: 43171 | BQ1: 43172 | BR1: 43173 | BS1: 43174 | BT1: 43175 | BU1: 43178 | BV1: 43179 | BW1: 43180 | BX1: 43497 | BY1: 43500 | BZ1: 43501 | CA1: 43502 | CB1: 43503 | CC1: 43504 | CD1: 43507 | CE1: 43508 | CF1: 43509 | CG1: 43510 | CH1: 43511 | CI1: 43514 | CJ1: 43515 | CK1: 43516 | CL1: 43517 | CM1: 43518
A2: PALC | C2: ='Base de données cours'!C2/'Base de données cours'!B2-1 -> 0.009009009 | D2: ='Base de données cours'!D2/'Base de données cours'!C2-1 -> -0.0625 | E2: ='Base de données cours'!E2/'Base de données cours'!D2-1 -> -0.09047619 | F2: ='Base de données cours'!F2/'Base de données cours'!E2-1 -> 0.010471204 | G2: ='Base de données cours'!G2/'Base de données cours'!F2-1 -> -0.015544041 | H2: ='Base de données cours'!H2/'Base de données cours'!G2-1 -> 0 | I2: ='Base de données cours'!I2/'Base de données cours'!H2-1 -> 0 | J2: ='Base de données cours'!J2/'Base de données cours'!I2-1 -> -0.021052632 | ... CM2: ='Base de données cours'!CM2/'Base de données cours'!CL2-1 -> 0
A3: SCRC | C3: ='Base de données cours'!C3/'Base de données cours'!B3-1 -> #DIV/0! | D3: ='Base de données cours'!D3/'Base de données cours'!C3-1 -> #DIV/0! | E3: ='Base de données cours'!E3/'Base de données cours'!D3-1 -> #DIV/0! | F3: ='Base de données cours'!F3/'Base de données cours'!E3-1 -> #DIV/0! | G3: ='Base de données cours'!G3/'Base de données cours'!F3-1 -> #DIV/0! | H3: ='Base de données cours'!H3/'Base de données cours'!G3-1 -> #DIV/0! | I3: ='Base de données cours'!I3/'Base de données cours'!H3-1 -> #DIV/0! | J3: ='Base de données cours'!J3/'Base de données cours'!I3-1 -> #DIV/0! | ... CM3: ='Base de données cours'!CM3/'Base de données cours'!CL3-1 -> 0.011299435
A4: SICC | C4: ='Base de données cours'!C4/'Base de données cours'!B4-1 -> -0.019347037 | D4: ='Base de données cours'!D4/'Base de données cours'!C4-1 -> 0 | E4: ='Base de données cours'!E4/'Base de données cours'!D4-1 -> -0.13686806 | F4: ='Base de données cours'!F4/'Base de données cours'!E4-1 -> 0 | G4: ='Base de données cours'!G4/'Base de données cours'!F4-1 -> 0 | H4: ='Base de données cours'!H4/'Base de données cours'!G4-1 -> -0.071428571 | I4: ='Base de données cours'!I4/'Base de données cours'!H4-1 -> 0.074615385 | J4: ='Base de données cours'!J4/'Base de données cours'!I4-1 -> 0 | ... CM4: ='Base de données cours'!CM4/'Base de données cours'!CL4-1 -> 0
A5: SOGC | C5: ='Base de données cours'!C5/'Base de données cours'!B5-1 -> 0.015625 | D5: ='Base de données cours'!D5/'Base de données cours'!C5-1 -> 0.023076923 | E5: ='Base de données cours'!E5/'Base de données cours'!D5-1 -> 0.12781955 | F5: ='Base de données cours'!F5/'Base de données cours'!E5-1 -> 0.033333333 | G5: ='Base de données cours'!G5/'Base de données cours'!F5-1 -> -0.032258065 | H5: ='Base de données cours'!H5/'Base de données cours'!G5-1 -> 0 | I5: ='Base de données cours'!I5/'Base de données cours'!H5-1 -> -0.046666667 | J5: ='Base de données cours'!J5/'Base de données cours'!I5-1 -> 0.048951049 | ... CM5: ='Base de données cours'!CM5/'Base de données cours'!CL5-1 -> 0.073298429
A6: SPHC | C6: ='Base de données cours'!C6/'Base de données cours'!B6-1 -> 0 | D6: ='Base de données cours'!D6/'Base de données cours'!C6-1 -> 0 | E6: ='Base de données cours'!E6/'Base de données cours'!D6-1 -> -0.017391304 | F6: ='Base de données cours'!F6/'Base de données cours'!E6-1 -> -0.0088495575 | G6: ='Base de données cours'!G6/'Base de données cours'!F6-1 -> 0.026785714 | H6: ='Base de données cours'!H6/'Base de données cours'!G6-1 -> 0.043913043 | I6: ='Base de données cours'!I6/'Base de données cours'!H6-1 -> 0.028738026 | J6: ='Base de données cours'!J6/'Base de données cours'!I6-1 -> 0 | ... CM6: ='Base de données cours'!CM6/'Base de données cours'!CL6-1 -> 0.028787879
A7: BRVM-AGR | C7: ='Base de données cours'!C7/'Base de données cours'!B7-1 -> 0.0074759701 | D7: ='Base de données cours'!D7/'Base de données cours'!C7-1 -> -0.019905771 | E7: ='Base de données cours'!E7/'Base de données cours'!D7-1 -> -0.0083523615 | F7: ='Base de données cours'!F7/'Base de données cours'!E7-1 -> 0.012058414 | G7: ='Base de données cours'!G7/'Base de données cours'!F7-1 -> -0.0088013412 | H7: ='Base de données cours'!H7/'Base de données cours'!G7-1 -> 0.011356086 | I7: ='Base de données cours'!I7/'Base de données cours'!H7-1 -> -0.0047781162 | J7: ='Base de données cours'!J7/'Base de données cours'!I7-1 -> 0.0073216108 | ... CM7: ='Base de données cours'!CM7/'Base de données cours'!CL7-1 -> 0.033207683
A8: STAC | C8: ='Base de données cours'!C8/'Base de données cours'!B8-1 -> 0 | D8: ='Base de données cours'!D8/'Base de données cours'!C8-1 -> -9.486766e-05 | E8: ='Base de données cours'!E8/'Base de données cours'!D8-1 -> -0.070208729 | F8: ='Base de données cours'!F8/'Base de données cours'!E8-1 -> 0 | G8: ='Base de données cours'!G8/'Base de données cours'!F8-1 -> -0.06122449 | H8: ='Base de données cours'!H8/'Base de données cours'!G8-1 -> 0 | I8: ='Base de données cours'!I8/'Base de données cours'!H8-1 -> -0.02173913 | J8: ='Base de données cours'!J8/'Base de données cours'!I8-1 -> 0 | ... CM8: ='Base de données cours'!CM8/'Base de données cours'!CL8-1 -> 0
A9: BRVM-AUT | C9: ='Base de données cours'!C9/'Base de données cours'!B9-1 -> 0 | D9: ='Base de données cours'!D9/'Base de données cours'!C9-1 -> -9.2211225e-05 | E9: ='Base de données cours'!E9/'Base de données cours'!D9-1 -> -0.070209954 | F9: ='Base de données cours'!F9/'Base de données cours'!E9-1 -> 0 | G9: ='Base de données cours'!G9/'Base de données cours'!F9-1 -> -0.061229213 | H9: ='Base de données cours'!H9/'Base de données cours'!G9-1 -> 0 | I9: ='Base de données cours'!I9/'Base de données cours'!H9-1 -> -0.021729178 | J9: ='Base de données cours'!J9/'Base de données cours'!I9-1 -> 0 | ... CM9: ='Base de données cours'!CM9/'Base de données cours'!CL9-1 -> 0
A10: ABJC | C10: ='Base de données cours'!C10/'Base de données cours'!B10-1 -> 0 | D10: ='Base de données cours'!D10/'Base de données cours'!C10-1 -> -0.058823529 | E10: ='Base de données cours'!E10/'Base de données cours'!D10-1 -> 0.0375 | F10: ='Base de données cours'!F10/'Base de données cours'!E10-1 -> -0.0024096386 | G10: ='Base de données cours'!G10/'Base de données cours'!F10-1 -> 0.0024154589 | H10: ='Base de données cours'!H10/'Base de données cours'!G10-1 -> -0.0060240964 | I10: ='Base de données cours'!I10/'Base de données cours'!H10-1 -> 0 | J10: ='Base de données cours'!J10/'Base de données cours'!I10-1 -> 0.0060606061 | ... CM10: ='Base de données cours'!CM10/'Base de données cours'!CL10-1 -> 0
A11: BNBC | C11: ='Base de données cours'!C11/'Base de données cours'!B11-1 -> 0 | D11: ='Base de données cours'!D11/'Base de données cours'!C11-1 -> -0.0050027793 | E11: ='Base de données cours'!E11/'Base de données cours'!D11-1 -> 0.1396648 | F11: ='Base de données cours'!F11/'Base de données cours'!E11-1 -> 0.0049019608 | G11: ='Base de données cours'!G11/'Base de données cours'!F11-1 -> 0 | H11: ='Base de données cours'!H11/'Base de données cours'!G11-1 -> -0.06097561 | I11: ='Base de données cours'!I11/'Base de données cours'!H11-1 -> 0.0077922078 | J11: ='Base de données cours'!J11/'Base de données cours'!I11-1 -> 0 | ... CM11: ='Base de données cours'!CM11/'Base de données cours'!CL11-1 -> 0
A12: CFAC | C12: ='Base de données cours'!C12/'Base de données cours'!B12-1 -> 0 | D12: ='Base de données cours'!D12/'Base de données cours'!C12-1 -> 0 | E12: ='Base de données cours'!E12/'Base de données cours'!D12-1 -> 0.71428571 | F12: ='Base de données cours'!F12/'Base de données cours'!E12-1 -> 0 | G12: ='Base de données cours'!G12/'Base de données cours'!F12-1 -> 0 | H12: ='Base de données cours'!H12/'Base de données cours'!G12-1 -> 0 | I12: ='Base de données cours'!I12/'Base de données cours'!H12-1 -> 0.02 | J12: ='Base de données cours'!J12/'Base de données cours'!I12-1 -> 0 | ... CM12: ='Base de données cours'!CM12/'Base de données cours'!CL12-1 -> 0
A13: PRSC | C13: ='Base de données cours'!C13/'Base de données cours'!B13-1 -> 0 | D13: ='Base de données cours'!D13/'Base de données cours'!C13-1 -> 0.034313725 | E13: ='Base de données cours'!E13/'Base de données cours'!D13-1 -> 0.54093602 | F13: ='Base de données cours'!F13/'Base de données cours'!E13-1 -> 0.019999231 | G13: ='Base de données cours'!G13/'Base de données cours'!F13-1 -> 0.054607406 | H13: ='Base de données cours'!H13/'Base de données cours'!G13-1 -> -0.00071479628 | I13: ='Base de données cours'!I13/'Base de données cours'!H13-1 -> 0 | J13: ='Base de données cours'!J13/'Base de données cours'!I13-1 -> 0 | ... CM13: ='Base de données cours'!CM13/'Base de données cours'!CL13-1 -> 0
... A55: BRVM-C | C55: ='Base de données cours'!C55/'Base de données cours'!B55-1 -> -0.0071421486 | D55: ='Base de données cours'!D55/'Base de données cours'!C55-1 -> -0.010690379 | E55: ='Base de données cours'!E55/'Base de données cours'!D55-1 -> 0.05830472 | F55: ='Base de données cours'!F55/'Base de données cours'!E55-1 -> 0.0052802341 | G55: ='Base de données cours'!G55/'Base de données cours'!F55-1 -> -0.0018352107 | H55: ='Base de données cours'!H55/'Base de données cours'!G55-1 -> -0.003169974 | I55: ='Base de données cours'!I55/'Base de données cours'!H55-1 -> 0.0018126312 | J55: ='Base de données cours'!J55/'Base de données cours'!I55-1 -> 0.0030473288 | ... CM55: ='Base de données cours'!CM55/'Base de données cours'!CL55-1 -> 0.0085891045

Sheet Base de données cours
A1: Date | B1: 04/01/2016 | C1: 05/01/2016 | D1: 14/01/2016 | E1: 25/03/2016 | F1: 29/03/2016 | G1: 30/03/2016 | H1: 31/03/2016 | I1: 01/04/2016 | J1: 04/04/2016 | K1: 05/04/2016 | L1: 06/04/2016 | M1: 07/04/2016 | N1: 08/04/2016 | O1: 09/05/2016 | P1: 10/05/2016 | Q1: 11/05/2016 | R1: 12/05/2016 | S1: 13/05/2016 | T1: 17/05/2016 | U1: 18/05/2016 | V1: 19/05/2016 | W1: 17/06/2016 | X1: 20/06/2016 | Y1: 02/01/2017 | Z1: 03/01/2017 | AA1: 04/01/2017 | AB1: 05/01/2017 | AC1: 06/01/2017 | AD1: 09/01/2017 | AE1: 10/01/2017 | AF1: 11/01/2017 | AG1: 12/01/2017 | AH1: 13/01/2017 | AI1: 16/01/2017 | AJ1: 17/01/2017 | AK1: 18/01/2017 | AL1: 19/01/2017 | AM1: 20/01/2017 | AN1: 23/01/2017 | AO1: 24/01/2017 | AP1: 25/01/2017 | AQ1: 26/01/2017 | AR1: 27/01/2017 | AS1: 30/01/2017 | AT1: 31/01/2017 | AU1: 01/02/2017 | AV1: 02/02/2017 | AW1: 03/02/2017 | AX1: 06/02/2017 | AY1: 07/02/2017 | AZ1: 08/02/2017 | BA1: 09/02/2017 | BB1: 10/02/2017 | BC1: 13/02/2017 | BD1: 14/02/2017 | BE1: 07/03/2017 | BF1: 08/03/2017 | BG1: 09/03/2017 | BH1: 10/03/2017 | BI1: 01/03/2018 | BJ1: 02/03/2018 | BK1: 05/03/2018 | BL1: 06/03/2018 | BM1: 07/03/2018 | BN1: 08/03/2018 | BO1: 09/03/2018 | BP1: 12/03/2018 | BQ1: 13/03/2018 | BR1: 14/03/2018 | BS1: 15/03/2018 | BT1: 16/03/2018 | BU1: 19/03/2018 | BV1: 20/03/2018 | BW1: 21/03/2018 | BX1: 01/02/2019 | BY1: 04/02/2019 | BZ1: 05/02/2019 | CA1: 06/02/2019 | CB1: 07/02/2019 | CC1: 08/02/2019 | CD1: 11/02/2019 | CE1: 12/02/2019 | CF1: 13/02/2019 | CG1: 14/02/2019 | CH1: 15/02/2019 | CI1: 18/02/2019 | CJ1: 19/02/2019 | CK1: 20/02/2019 | CL1: 21/02/2019 | CM1: 22/02/2019
A2: PALC | B2: 11100 | C2: 11200 | D2: 10500 | E2: 9550 | F2: 9650 | G2: 9500 | H2: 9500 | I2: 9500 | J2: 9300 | K2: 9600 | L2: 9305 | M2: 9600 | N2: 9500 | O2: 13220 | P2: 12765 | Q2: 13000 | R2: 12245 | S2: 12500 | T2: 12200 | U2: 12200 | V2: 12000 | W2: 10000 | X2: 9850 | Y2: 13000 | Z2: 13000 | AA2: 13000 | AB2: 13000 | AC2: 13000 | AD2: 12950 | AE2: 13100 | AF2: 12950 | AG2: 12950 | AH2: 12950 | AI2: 12950 | AJ2: 12950 | AK2: 12650 | AL2: 11710 | AM2: 11550 | AN2: 11260 | AO2: 11605 | AP2: 11500 | AQ2: 11505 | AR2: 11600 | AS2: 11700 | AT2: 12475 | AU2: 12975 | AV2: 12500 | AW2: 12500 | AX2: 12975 | AY2: 12800 | AZ2: 12475 | BA2: 12800 | BB2: 13000 | BC2: 12950 | BD2: 12950 | BE2: 13005 | BF2: 13005 | BG2: 13005 | BH2: 13005 | BI2: 7000 | BJ2: 7140 | BK2: 6605 | BL2: 6180 | BM2: 6500 | BN2: 6500 | BO2: 6500 | BP2: 6900 | BQ2: 7255 | BR2: 7400 | BS2: 7500 | BT2: 7500 | BU2: 7495 | BV2: 7400 | BW2: 7300 | BX2: 1690 | BY2: 1620 | BZ2: 1500 | CA2: 1500 | CB2: 1560 | CC2: 1560 | CD2: 1565 | CE2: 1580 | CF2: 1580 | CG2: 1600 | CH2: 1600 | CI2: 1565 | CJ2: 1595 | CK2: 1565 | CL2: 1595 | CM2: 1595
A3: SCRC | Y3: 14495 | Z3: 14000 | AA3: 13995 | AB3: 13700 | AC3: 13500 | AD3: 13000 | AE3: 13000 | AF3: 12800 | AG3: 12845 | AH3: 12050 | AI3: 12050 | AJ3: 12000 | AK3: 11200 | AL3: 11490 | AM3: 11500 | AN3: 11500 | AO3: 11505 | AP3: 11610 | AQ3: 11695 | AR3: 11695 | AS3: 11000 | AT3: 11000 | AU3: 11200 | AV3: 11200 | AW3: 11700 | AX3: 11775 | AY3: 11500 | AZ3: 11310 | BA3: 11310 | BB3: 11300 | BC3: 11100 | BD3: 11390 | BE3: 11350 | BF3: 11010 | BG3: 11000 | BH3: 11000 | BI3: 1705 | BJ3: 1580 | BK3: 1465 | BL3: 1360 | BM3: 1280 | BN3: 1280 | BO3: 1300 | BP3: 1395 | BQ3: 1495 | BR3: 1505 | BS3: 1600 | BT3: 1705 | BU3: 1800 | BV3: 1705 | BW3: 1600 | BX3: 1060 | BY3: 1135 | BZ3: 1215 | CA3: 1125 | CB3: 1050 | CC3: 1050 | CD3: 1050 | CE3: 1050 | CF3: 1050 | CG3: 1050 | CH3: 995 | CI3: 990 | CJ3: 950 | CK3: 895 | CL3: 885 | CM3: 895
A4: SICC | B4: 8270 | C4: 8110 | D4: 8110 | E4: 7000 | F4: 7000 | G4: 7000 | H4: 6500 | I4: 6985 | J4: 6985 | K4: 6845 | L4: 6845 | M4: 6845 | N4: 6845 | O4: 6000 | P4: 6000 | Q4: 6000 | R4: 6000 | S4: 6000 | T4: 6000 | U4: 6000 | V4: 6000 | W4: 6000 | X4: 6000 | Y4: 11000 | Z4: 11000 | AA4: 10900 | AB4: 10850 | AC4: 10795 | AD4: 10795 | AE4: 10795 | AF4: 10795 | AG4: 10790 | AH4: 10790 | AI4: 10790 | AJ4: 10790 | AK4: 10790 | AL4: 10790 | AM4: 10790 | AN4: 10790 | AO4: 10790 | AP4: 9985 | AQ4: 9500 | AR4: 9500 | AS4: 9900 | AT4: 9850 | AU4: 9985 | AV4: 9985 | AW4: 9985 | AX4: 9985 | AY4: 9240 | AZ4: 9240 | BA4: 8550 | BB4: 8000 | BC4: 8000 | BD4: 8000 | BE4: 6500 | BF4: 6500 | BG4: 6500 | BH4: 6500 | BI4: 3850 | BJ4: 3850 | BK4: 3850 | BL4: 3850 | BM4: 3850 | BN4: 3850 | BO4: 3850 | BP4: 3850 | BQ4: 3850 | BR4: 3565 | BS4: 3565 | BT4: 3565 | BU4: 3600 | BV4: 3595 | BW4: 3595 | BX4: 3600 | BY4: 3600 | BZ4: 3600 | CA4: 3600 | CB4: 3605 | CC4: 3605 | CD4: 3605 | CE4: 3605 | CF4: 3605 | CG4: 3605 | CH4: 3605 | CI4: 3605 | CJ4: 3605 | CK4: 3605 | CL4: 3605 | CM4: 3605
A5: SOGC | B5: 25600 | C5: 26000 | D5: 26600 | E5: 30000 | F5: 31000 | G5: 30000 | H5: 30000 | I5: 28600 | J5: 30000 | K5: 30000 | L5: 30000 | M5: 29500 | N5: 29995 | O5: 38000 | P5: 35900 | Q5: 34500 | R5: 34500 | S5: 34605 | T5: 37000 | U5: 35300 | V5: 35300 | W5: 33980 | X5: 34000 | Y5: 33000 | Z5: 31500 | AA5: 31500 | AB5: 31900 | AC5: 31900 | AD5: 31800 | AE5: 33000 | AF5: 33000 | AG5: 33000 | AH5: 34180 | AI5: 34250 | AJ5: 36815 | AK5: 34300 | AL5: 34100 | AM5: 34100 | AN5: 35000 | AO5: 33100 | AP5: 33100 | AQ5: 32500 | AR5: 33000 | AS5: 33100 | AT5: 35500 | AU5: 35505 | AV5: 36000 | AW5: 36000 | AX5: 36500 | AY5: 36500 | AZ5: 36500 | BA5: 36500 | BB5: 36500 | BC5: 36600 | BD5: 36510 | BE5: 34000 | BF5: 34000 | BG5: 34000 | BH5: 34000 | BI5: 5295 | BJ5: 5570 | BK5: 5500 | BL5: 5200 | BM5: 5200 | BN5: 5200 | BO5: 5225 | BP5: 5100 | BQ5: 5350 | BR5: 5495 | BS5: 5500 | BT5: 5250 | BU5: 5300 | BV5: 5200 | BW5: 5590 | BX5: 1900 | BY5: 1850 | BZ5: 1900 | CA5: 1900 | CB5: 1900 | CC5: 1850 | CD5: 1950 | CE5: 2000 | CF5: 1950 | CG5: 1990 | CH5: 2000 | CI5: 2000 | CJ5: 2100 | CK5: 2000 | CL5: 1910 | CM5: 2050
A6: SPHC | B6: 11500 | C6: 11500 | D6: 11500 | E6: 11300 | F6: 11200 | G6: 11500 | H6: 12005 | I6: 12350 | J6: 12350 | K6: 12200 | L6: 12200 | M6: 12200 | N6: 12345 | O6: 13690 | P6: 12705 | Q6: 12800 | R6: 13000 | S6: 13975 | T6: 14000 | U6: 13500 | V6: 14000 | W6: 15100 | X6: 15500 | Y6: 13005 | Z6: 13100 | AA6: 13100 | AB6: 13100 | AC6: 13100 | AD6: 13200 | AE6: 13200 | AF6: 14190 | AG6: 13995 | AH6: 13205 | AI6: 13205 | AJ6: 13200 | AK6: 13200 | AL6: 13500 | AM6: 13505 | AN6: 13990 | AO6: 13500 | AP6: 13200 | AQ6: 13500 | AR6: 13500 | AS6: 13610 | AT6: 14000 | AU6: 14400 | AV6: 14400 | AW6: 14400 | AX6: 14400 | AY6: 14400 | AZ6: 14495 | BA6: 14210 | BB6: 14005 | BC6: 14000 | BD6: 14000 | BE6: 13700 | BF6: 13500 | BG6: 13300 | BH6: 12750 | BI6: 4055 | BJ6: 4055 | BK6: 4355 | BL6: 4360 | BM6: 4360 | BN6: 4360 | BO6: 4000 | BP6: 4200 | BQ6: 4300 | BR6: 4300 | BS6: 4400 | BT6: 4390 | BU6: 4350 | BV6: 4100 | BW6: 4000 | BX6: 3400 | BY6: 3250 | BZ6: 3210 | CA6: 3300 | CB6: 3300 | CC6: 3545 | CD6: 3400 | CE6: 3390 | CF6: 3390 | CG6: 3390 | CH6: 3390 | CI6: 3390 | CJ6: 3300 | CK6: 3300 | CL6: 3300 | CM6: 3395
A7: BRVM-AGR | B7: 168.54 | C7: 169.8 | D7: 166.42 | E7: 165.03 | F7: 167.02 | G7: 165.55 | H7: 167.43 | I7: 166.63 | J7: 167.85 | K7: 169.06 | L7: 167.18 | M7: 168.17 | N7: 169.02 | O7: 212.15 | P7: 201.38 | Q7: 200.78 | R7: 196.82 | S7: 202.73 | T7: 205.19 | U7: 200.06 | V7: 200.89 | W7: 190.45 | X7: 191.22 | Y7: 207.35 | Z7: 203.95 | AA7: 203.9 | AB7: 203.49 | AC7: 202.83 | AD7: 201.16 | AE7: 203.62 | AF7: 205.54 | AG7: 205.03 | AH7: 201.49 | AI7: 201.59 | AJ7: 205.05 | AK7: 197.39 | AL7: 194.28 | AM7: 193.52 | AN7: 194.95 | AO7: 192.38 | AP7: 190.86 | AQ7: 191.12 | AR7: 192.31 | AS7: 191.25 | AT7: 199.88 | AU7: 204.46 | AV7: 202.75 | AW7: 204.36 | AX7: 207.72 | AY7: 205.65 | AZ7: 203.71 | BA7: 204.13 | BB7: 204.21 | BC7: 203.44 | BD7: 204.24 | BE7: 199.24 | BF7: 197.47 | BG7: 196.77 | BH7: 194.92 | BI7: 237.55 | BJ7: 241.26 | BK7: 238.4 | BL7: 228.56 | BM7: 230.78 | BN7: 230.78 | BO7: 225.36 | BP7: 232.22 | BQ7: 242.33 | BR7: 245.87 | BS7: 249.86 | BT7: 247.49 | BU7: 248.72 | BV7: 240.92 | BW7: 242.41 | BX7: 116.17 | BY7: 113.2 | BZ7: 113.04 | CA7: 113.4 | CB7: 113.04 | CC7: 116.44 | CD7: 115.48 | CE7: 116.17 | CF7: 115.46 | CG7: 116.23 | CH7: 115.67 | CI7: 115.25 | CJ7: 114.95 | CK7: 112.52 | CL7: 111.42 | CM7: 115.12
A8: STAC | B8: 52705 | C8: 52705 | D8: 52700 | E8: 49000 | F8: 49000 | G8: 46000 | H8: 46000 | I8: 45000 | J8: 45000 | K8: 46000 | L8: 46000 | M8: 46005 | N8: 46005 | O8: 52010 | P8: 55900 | Q8: 55900 | R8: 55900 | S8: 54000 | T8: 54000 | U8: 54000 | V8: 58000 | W8: 50000 | X8: 46500 | Y8: 35000 | Z8: 35000 | AA8: 35000 | AB8: 35000 | AC8: 35000 | AD8: 35000 | AE8: 35000 | AF8: 35000 | AG8: 35000 | AH8: 35000 | AI8: 35000 | AJ8: 35000 | AK8: 35000 | AL8: 35000 | AM8: 33000 | AN8: 33000 | AO8: 33000 | AP8: 33000 | AQ8: 33000 | AR8: 33000 | AS8: 33000 | AT8: 33000 | AU8: 33000 | AV8: 33000 | AW8: 33000 | AX8: 33000 | AY8: 33000 | AZ8: 33000 | BA8: 33000 | BB8: 33000 | BC8: 30525 | BD8: 30525 | BE8: 26900 | BF8: 26900 | BG8: 27000 | BH8: 27000 | BI8: 180 | BJ8: 190 | BK8: 200 | BL8: 215 | BM8: 230 | BN8: 230 | BO8: 260 | BP8: 275 | BQ8: 295 | BR8: 315 | BS8: 330 | BT8: 350 | BU8: 375 | BV8: 400 | BW8: 430 | BX8: 170 | BY8: 165 | BZ8: 170 | CA8: 170 | CB8: 170 | CC8: 170 | CD8: 165 | CE8: 165 | CF8: 160 | CG8: 150 | CH8: 150 | CI8: 150 | CJ8: 150 | CK8: 150 | CL8: 150 | CM8: 150
A9: BRVM-AUT | B9: 650.68 | C9: 650.68 | D9: 650.62 | E9: 604.94 | F9: 604.94 | G9: 567.9 | H9: 567.9 | I9: 555.56 | J9: 555.56 | K9: 567.9 | L9: 567.9 | M9: 567.96 | N9: 567.96 | O9: 642.1 | P9: 690.12 | Q9: 690.12 | R9: 690.12 | S9: 666.67 | T9: 666.67 | U9: 666.67 | V9: 716.05 | W9: 617.28 | X9: 574.07 | Y9: 432.1 | Z9: 432.1 | AA9: 432.1 | AB9: 432.1 | AC9: 432.1 | AD9: 432.1 | AE9: 432.1 | AF9: 432.1 | AG9: 432.1 | AH9: 432.1 | AI9: 432.1 | AJ9: 432.1 | AK9: 432.1 | AL9: 432.1 | AM9: 407.41 | AN9: 407.41 | AO9: 407.41 | AP9: 407.41 | AQ9: 407.41 | AR9: 407.41 | AS9: 407.41 | AT9: 407.41 | AU9: 407.41 | AV9: 407.41 | AW9: 407.41 | AX9: 407.41 | AY9: 407.41 | AZ9: 407.41 | BA9: 407.41 | BB9: 407.41 | BC9: 376.85 | BD9: 376.85 | BE9: 332.1 | BF9: 332.1 | BG9: 333.33 | BH9: 333.33 | BI9: 222.1 | BJ9: 234.44 | BK9: 246.78 | BL9: 265.28 | BM9: 283.79 | BN9: 283.79 | BO9: 320.81 | BP9: 339.32 | BQ9: 364 | BR9: 388.67 | BS9: 407.18 | BT9: 431.86 | BU9: 462.71 | BV9: 493.55 | BW9: 530.57 | BX9: 209.76 | BY9: 203.59 | BZ9: 209.76 | CA9: 209.76 | CB9: 209.76 | CC9: 209.76 | CD9: 203.59 | CE9: 203.59 | CF9: 197.42 | CG9: 185.08 | CH9: 185.08 | CI9: 185.08 | CJ9: 185.08 | CK9: 185.08 | CL9: 185.08 | CM9: 185.08
A10: ABJC | B10: 85000 | C10: 85000 | D10: 80000 | E10: 83000 | F10: 82800 | G10: 83000 | H10: 82500 | I10: 82500 | J10: 83000 | K10: 84000 | L10: 86000 | M10: 83000 | N10: 83000 | O10: 149000 | P10: 153000 | Q10: 150000 | R10: 149000 | S10: 146000 | T10: 148500 | U10: 149000 | V10: 147000 | W10: 150000 | X10: 150000 | Y10: 5300 | Z10: 5250 | AA10: 5000 | AB10: 5000 | AC10: 5000 | AD10: 5000 | AE10: 4995 | AF10: 4995 | AG10: 4995 | AH10: 4900 | AI10: 4800 | AJ10: 4700 | AK10: 4700 | AL10: 4600 | AM10: 4595 | AN10: 4500 | AO10: 4700 | AP10: 4500 | AQ10: 4500 | AR10: 4700 | AS10: 4555 | AT10: 4560 | AU10: 4895 | AV10: 4895 | AW10: 4805 | AX10: 4600 | AY10: 4700 | AZ10: 4805 | BA10: 4805 | BB10: 4985 | BC10: 4945 | BD10: 4890 | BE10: 3950 | BF10: 3900 | BG10: 3895 | BH10: 3900 | BI10: 1745 | BJ10: 1745 | BK10: 1745 | BL10: 1745 | BM10: 1830 | BN10: 1830 | BO10: 1900 | BP10: 1900 | BQ10: 1900 | BR10: 1830 | BS10: 1800 | BT10: 1700 | BU10: 1800 | BV10: 1800 | BW10: 1800 | BX10: 1160 | BY10: 1100 | BZ10: 1080 | CA10: 1100 | CB10: 1100 | CC10: 1100 | CD10: 1100 | CE10: 1100 | CF10: 1180 | CG10: 1160 | CH10: 1160 | CI10: 1200 | CJ10: 1250 | CK10: 1250 | CL10: 1300 | CM10: 1300
A11: BNBC | B11: 179900 | C11: 179900 | D11: 179000 | E11: 204000 | F11: 205000 | G11: 205000 | H11: 192500 | I11: 194000 | J11: 194000 | K11: 194000 | L11: 194000 | M11: 200000 | N11: 200000 | O11: 205000 | P11: 220375 | Q11: 205100 | R11: 205100 | S11: 206005 | T11: 206005 | U11: 210000 | V11: 210000 | W11: 192080 | X11: 192500 | Y11: 174000 | Z11: 174000 | AA11: 174000 | AB11: 174000 | AC11: 174000 | AD11: 174000 | AE11: 174000 | AF11: 174000 | AG11: 174000 | AH11: 174000 | AI11: 168000 | AJ11: 168000 | AK11: 168000 | AL11: 168000 | AM11: 168000 | AN11: 168000 | AO11: 168000 | AP11: 168000 | AQ11: 168000 | AR11: 168000 | AS11: 168000 | AT11: 156500 | AU11: 154000 | AV11: 154000 | AW11: 154000 | AX11: 154000 | AY11: 154000 | AZ11: 150000 | BA11: 150000 | BB11: 150000 | BC11: 150000 | BD11: 150000 | BE11: 146450 | BF11: 146450 | BG11: 146450 | BH11: 146450 | BI11: 3150 | BJ11: 3200 | BK11: 3140 | BL11: 3100 | BM11: 3000 | BN11: 3000 | BO11: 3000 | BP11: 3000 | BQ11: 3000 | BR11: 3000 | BS11: 3000 | BT11: 2800 | BU11: 3000 | BV11: 2950 | BW11: 2950 | BX11: 1990 | BY11: 1950 | BZ11: 1900 | CA11: 1800 | CB11: 1800 | CC11: 1800 | CD11: 1800 | CE11: 1750 | CF11: 1750 | CG11: 1800 | CH11: 1800 | CI11: 1800 | CJ11: 1900 | CK11: 1900 | CL11: 1820 | CM11: 1820
A12: CFAC | B12: 91000 | C12: 91000 | D12: 91000 | E12: 156000 | F12: 156000 | G12: 156000 | H12: 156000 | I12: 159120 | J12: 159120 | K12: 150000 | L12: 150000 | M12: 145000 | N12: 142500 | O12: 115000 | P12: 115510 | Q12: 115510 | R12: 116500 | S12: 125000 | T12: 134375 | U12: 144450 | V12: 144995 | W12: 117005 | X12: 117005 | Y12: 60000 | Z12: 60000 | AA12: 60000 | AB12: 60000 | AC12: 60000 | AD12: 60000 | AE12: 59000 | AF12: 59000 | AG12: 59000 | AH12: 59000 | AI12: 59000 | AJ12: 59000 | AK12: 59000 | AL12: 57000 | AM12: 60000 | AN12: 59000 | AO12: 58000 | AP12: 60000 | AQ12: 64500 | AR12: 64000 | AS12: 60500 | AT12: 60500 | AU12: 64000 | AV12: 64000 | AW12: 64000 | AX12: 64000 | AY12: 65000 | AZ12: 65000 | BA12: 65000 | BB12: 64500 | BC12: 64005 | BD12: 65000 | BE12: 64005 | BF12: 64500 | BG12: 63500 | BH12: 63500 | BI12: 615 | BJ12: 660 | BK12: 660 | BL12: 615 | BM12: 660 | BN12: 660 | BO12: 705 | BP12: 755 | BQ12: 805 | BR12: 865 | BS12: 810 | BT12: 800 | BU12: 800 | BV12: 790 | BW12: 790 | BX12: 460 | BY12: 490 | BZ12: 525 | CA12: 550 | CB12: 580 | CC12: 610 | CD12: 610 | CE12: 595 | CF12: 595 | CG12: 590 | CH12: 590 | CI12: 580 | CJ12: 580 | CK12: 550 | CL12: 525 | CM12: 525
A13: PRSC | B13: 408000 | C13: 408000 | D13: 422000 | E13: 650275 | F13: 663280 | G13: 699500 | H13: 699000 | I13: 699000 | J13: 699000 | K13: 690000 | L13: 690000 | M13: 690000 | N13: 640000 | O13: 680000 | P13: 679990 | Q13: 679990 | R13: 650000 | S13: 650000 | T13: 650000 | U13: 670000 | V13: 670000 | W13: 554905 | X13: 554905 | Y13: 400000 | Z13: 400000 | AA13: 370500 | AB13: 350000 | AC13: 350000 | AD13: 325000 | AE13: 325000 | AF13: 325000 | AG13: 325000 | AH13: 300625 | AI13: 290000 | AJ13: 290000 | AK13: 290000 | AL13: 290000 | AM13: 290500 | AN13: 290500 | AO13: 300000 | AP13: 300000 | AQ13: 300000 | AR13: 300000 | AS13: 300000 | AT13: 300000 | AU13: 300000 | AV13: 300000 | AW13: 300000 | AX13: 300000 | AY13: 300000 | AZ13: 300000 | BA13: 300000 | BB13: 300000 | BC13: 285000 | BD13: 300000 | BE13: 285000 | BF13: 280000 | BG13: 280000 | BH13: 280000 | BI13: 289000 | BJ13: 289000 | BK13: 289000 | BL13: 289000 | BM13: 267325 | BN13: 267325 | BO13: 250000 | BP13: 250000 | BQ13: 250000 | BR13: 250000 | BS13: 250000 | BT13: 231250 | BU13: 231250 | BV13: 231250 | BW13: 231250 | BX13: 122000 | BY13: 122000 | BZ13: 122000 | CA13: 122000 | CB13: 122000 | CC13: 122000 | CD13: 122000 | CE13: 122000 | CF13: 122000 | CG13: 122000 | CH13: 122000 | CI13: 122000 | CJ13: 122000 | CK13: 122000 | CL13: 122000 | CM13: 122000
A14: SHEC | B14: 69375 | C14: 64175 | D14: 66005 | E14: 120000 | F14: 120000 | G14: 120000 | H14: 111000 | I14: 113220 | J14: 120000 | K14: 111000 | L14: 102675 | M14: 102675 | N14: 94980 | O14: 104000 | P14: 100000 | Q14: 100000 | R14: 100000 | S14: 100000 | T14: 100000 | U14: 100000 | V14: 105995 | W14: 153005 | X14: 150000 | Y14: 2900 | Z14: 2800 | AA14: 2800 | AB14: 2700 | AC14: 2695 | AD14: 2695 | AE14: 2645 | AF14: 2550 | AG14: 2655 | AH14: 2800 | AI14: 3000 | AJ14: 3000 | AK14: 2850 | AL14: 2995 | AM14: 3100 | AN14: 3000 | AO14: 3000 | AP14: 3000 | AQ14: 2790 | AR14: 2900 | AS14: 2705 | AT14: 2600 | AU14: 2600 | AV14: 2500 | AW14: 2600 | AX14: 2500 | AY14: 2500 | AZ14: 2500 | BA14: 2500 | BB14: 2685 | BC14: 2500 | BD14: 2680 | BE14: 1985 | BF14: 1990 | BG14: 1985 | BH14: 1840 | BI14: 1330 | BJ14: 1425 | BK14: 1530 | BL14: 1600 | BM14: 1580 | BN14: 1580 | BO14: 1360 | BP14: 1450 | BQ14: 1490 | BR14: 1450 | BS14: 1345 | BT14: 1395 | BU14: 1400 | BV14: 1395 | BW14: 1300 | BX14: 800 | BY14: 805 | BZ14: 865 | CA14: 870 | CB14: 900 | CC14: 890 | CD14: 895 | CE14: 925 | CF14: 930 | CG14: 925 | CH14: 945 | CI14: 945 | CJ14: 900 | CK14: 900 | CL14: 900 | CM14: 895
A15: TTLC | B15: 19600 | C15: 20000 | D15: 20000 | E15: 18500 | F15: 18700 | G15: 18500 | H15: 18100 | I15: 18000 | J15: 18000 | K15: 18000 | L15: 18000 | M15: 18500 | N15: 18510 | O15: 16995 | P15: 17000 | Q15: 17000 | R15: 17495 | S15: 16510 | T15: 17500 | U15: 17650 | V15: 17650 | W15: 18300 | X15: 18400 | Y15: 18500 | Z15: 19495 | AA15: 18500 | AB15: 18500 | AC15: 18490 | AD15: 18000 | AE15: 18000 | AF15: 18000 | AG15: 18000 | AH15: 18000 | AI15: 17900 | AJ15: 17900 | AK15: 17500 | AL15: 17100 | AM15: 17500 | AN15: 17000 | AO15: 17500 | AP15: 17000 | AQ15: 17000 | AR15: 16900 | AS15: 16015 | AT15: 16000 | AU15: 16300 | AV15: 16450 | AW15: 16000 | AX15: 16450 | AY15: 16500 | AZ15: 16300 | BA15: 16200 | BB15: 16000 | BC15: 16000 | BD15: 16000 | BE15: 16000 | BF15: 16995 | BG15: 16995 | BH15: 17000 | BI15: 2155 | BJ15: 2200 | BK15: 2200 | BL15: 2200 | BM15: 2200 | BN15: 2200 | BO15: 2115 | BP15: 2000 | BQ15: 2000 | BR15: 2150 | BS15: 2100 | BT15: 2100 | BU15: 2100 | BV15: 2190 | BW15: 2350 | BX15: 1275 | BY15: 1275 | BZ15: 1275 | CA15: 1290 | CB15: 1280 | CC15: 1275 | CD15: 1180 | CE15: 1250 | CF15: 1280 | CG15: 1280 | CH15: 1280 | CI15: 1280 | CJ15: 1280 | CK15: 1375 | CL15: 1380 | CM15: 1345
... A21: BOAC | B21: 125000 | C21: 123000 | D21: 131000 | E21: 195000 | F21: 195000 | G21: 195000 | H21: 194000 | I21: 195000 | J21: 186120 | K21: 189995 | L21: 190000 | M21: 190000 | N21: 200000 | O21: 185000 | P21: 183000 | Q21: 183000 | R21: 183000 | S21: 185000 | T21: 190005 | U21: 200000 | V21: 200000 | W21: 204205 | X21: 205000 | Y21: 139000 | Z21: 138990 | AA21: 138000 | AB21: 136000 | AC21: 137500 | AD21: 136010 | AE21: 136010 | AF21: 132005 | AG21: 136500 | AH21: 136000 | AI21: 135000 | AJ21: 135500 | AK21: 134500 | AL21: 135000 | AM21: 135000 | AN21: 133500 | AO21: 135000 | AP21: 134000 | AQ21: 132010 | AR21: 135000 | AS21: 135000 | AT21: 135000 | AU21: 135000 | AV21: 135000 | AW21: 136000 | AX21: 136005 | AY21: 136025 | AZ21: 137000 | BA21: 137000 | BB21: 137000 | BC21: 137000 | BD21: 137000 | BE21: 154500 | BF21: 150000 | BG21: 150000 | BH21: 149750 | BI21: 4900 | BJ21: 4900 | BK21: 4995 | BL21: 5000 | BM21: 5000 | BN21: 5000 | BO21: 4910 | BP21: 4900 | BQ21: 5095 | BR21: 5400 | BS21: 5000 | BT21: 5000 | BU21: 5000 | BV21: 5000 | BW21: 5000 | BX21: 3895 | BY21: 3610 | BZ21: 3400 | CA21: 3200 | CB21: 3035 | CC21: 3050 | CD21: 3275 | CE21: 3300 | CF21: 3300 | CG21: 3350 | CH21: 3315 | CI21: 3500 | CJ21: 3500 | CK21: 3400 | CL21: 3350 | CM21: 3400
A22: BOAM | W22: 61875 | X22: 66515 | Y22: 40000 | Z22: 39995 | AA22: 40000 | AB22: 39000 | AC22: 40000 | AD22: 39990 | AE22: 40000 | AF22: 40000 | AG22: 40000 | AH22: 40000 | AI22: 40000 | AJ22: 40300 | AK22: 40500 | AL22: 41000 | AM22: 44075 | AN22: 42000 | AO22: 42895 | AP22: 43995 | AQ22: 45500 | AR22: 47500 | AS22: 48505 | AT22: 49795 | AU22: 49000 | AV22: 48500 | AW22: 48000 | AX22: 49000 | AY22: 49600 | AZ22: 49700 | BA22: 50000 | BB22: 50000 | BC22: 50000 | BD22: 50000 | BE22: 54000 | BF22: 53500 | BG22: 53000 | BH22: 53000 | BI22: 4315 | BJ22: 4250 | BK22: 4300 | BL22: 4300 | BM22: 4300 | BN22: 4300 | BO22: 4150 | BP22: 4300 | BQ22: 4215 | BR22: 4290 | BS22: 4250 | BT22: 4250 | BU22: 4195 | BV22: 3885 | BW22: 4175 | BX22: 2250 | BY22: 2250 | BZ22: 2200 | CA22: 2200 | CB22: 2100 | CC22: 2000 | CD22: 2100 | CE22: 2050 | CF22: 2050 | CG22: 2050 | CH22: 2050 | CI22: 2010 | CJ22: 2100 | CK22: 2250 | CL22: 2100 | CM22: 2195
A23: BOAN | B23: 85000 | C23: 79000 | D23: 84500 | E23: 109000 | F23: 117000 | G23: 117000 | H23: 114445 | I23: 114700 | J23: 114500 | K23: 112000 | L23: 112000 | M23: 110000 | N23: 110000 | O23: 109000 | P23: 110000 | Q23: 109000 | R23: 109000 | S23: 109000 | T23: 111000 | U23: 110000 | V23: 111500 | W23: 106000 | X23: 105015 | Y23: 90000 | Z23: 89000 | AA23: 88005 | AB23: 88000 | AC23: 87995 | AD23: 88000 | AE23: 87995 | AF23: 86000 | AG23: 87000 | AH23: 88000 | AI23: 86000 | AJ23: 86500 | AK23: 87000 | AL23: 87000 | AM23: 88000 | AN23: 88000 | AO23: 85010 | AP23: 88000 | AQ23: 87000 | AR23: 85000 | AS23: 87000 | AT23: 88000 | AU23: 88000 | AV23: 88000 | AW23: 89000 | AX23: 89500 | AY23: 89000 | AZ23: 89005 | BA23: 89000 | BB23: 89000 | BC23: 89000 | BD23: 90500 | BE23: 97995 | BF23: 96000 | BG23: 97000 | BH23: 95000 | BI23: 5100 | BJ23: 5100 | BK23: 5100 | BL23: 5100 | BM23: 5000 | BN23: 5000 | BO23: 5000 | BP23: 5000 | BQ23: 5180 | BR23: 5190 | BS23: 5000 | BT23: 4900 | BU23: 4805 | BV23: 5000 | BW23: 5000 | BX23: 3795 | BY23: 3795 | BZ23: 3800 | CA23: 4000 | CB23: 4000 | CC23: 3950 | CD23: 3725 | CE23: 3790 | CF23: 4000 | CG23: 3800 | CH23: 3890 | CI23: 3850 | CJ23: 4000 | CK23: 3995 | CL23: 3995 | CM23: 3995
A24: BOAS | B24: 74000 | C24: 74000 | D24: 66500 | E24: 80000 | F24: 80000 | G24: 78000 | H24: 74500 | I24: 75000 | J24: 79000 | K24: 79510 | L24: 80000 | M24: 80000 | N24: 79000 | O24: 74010 | P24: 74500 | Q24: 74010 | R24: 74015 | S24: 75000 | T24: 71000 | U24: 71000 | V24: 69000 | W24: 66000 | X24: 65995 | Y24: 46500 | Z24: 47000 | AA24: 48000 | AB24: 48000 | AC24: 51600 | AD24: 50000 | AE24: 50000 | AF24: 49005 | AG24: 49100 | AH24: 49400 | AI24: 49000 | AJ24: 49500 | AK24: 49500 | AL24: 49505 | AM24: 50000 | AN24: 49505 | AO24: 49500 | AP24: 48000 | AQ24: 48000 | AR24: 48500 | AS24: 49000 | AT24: 49005 | AU24: 49000 | AV24: 49000 | AW24: 48000 | AX24: 49000 | AY24: 49015 | AZ24: 49000 | BA24: 49800 | BB24: 49900 | BC24: 50000 | BD24: 50000 | BE24: 48500 | BF24: 49000 | BG24: 48600 | BH24: 49005 | BI24: 3115 | BJ24: 3200 | BK24: 3250 | BL24: 3010 | BM24: 2900 | BN24: 2900 | BO24: 2795 | BP24: 2890 | BQ24: 3100 | BR24: 2950 | BS24: 2955 | BT24: 3100 | BU24: 3000 | BV24: 2990 | BW24: 2950 | BX24: 1800 | BY24: 1750 | BZ24: 1780 | CA24: 1730 | CB24: 1725 | CC24: 1715 | CD24: 1750 | CE24: 1690 | CF24: 1705 | CG24: 1585 | CH24: 1585 | CI24: 1590 | CJ24: 1700 | CK24: 1785 | CL24: 1800 | CM24: 1800
A25: CBIBF | Y25: 39825 | Z25: 42810 | AA25: 43000 | AB25: 45000 | AC25: 48000 | AD25: 47000 | AE25: 43510 | AF25: 46400 | AG25: 45000 | AH25: 46450 | AI25: 46550 | AJ25: 47000 | AK25: 50000 | AL25: 49995 | AM25: 49000 | AN25: 49000 | AO25: 49000 | AP25: 49000 | AQ25: 48995 | AR25: 49500 | AS25: 49000 | AT25: 50000 | AU25: 50000 | AV25: 50000 | AW25: 49900 | AX25: 50000 | AY25: 49990 | AZ25: 49000 | BA25: 49500 | BB25: 50000 | BC25: 49000 | BD25: 49000 | BE25: 57800 | BF25: 57500 | BG25: 57495 | BH25: 57500 | BI25: 9000 | BJ25: 9000 | BK25: 9000 | BL25: 9000 | BM25: 9000 | BN25: 9000 | BO25: 9000 | BP25: 9000 | BQ25: 9000 | BR25: 9000 | BS25: 9000 | BT25: 9000 | BU25: 9000 | BV25: 9000 | BW25: 9000 | BX25: 7300 | BY25: 7300 | BZ25: 7300 | CA25: 7800 | CB25: 7800 | CC25: 7695 | CD25: 7800 | CE25: 7670 | CF25: 7600 | CG25: 7800 | CH25: 8000 | CI25: 7900 | CJ25: 7900 | CK25: 7645 | CL25: 7500 | CM25: 7350
A26: ECOC | BI26: 25000 | BJ26: 24990 | BK26: 24500 | BL26: 25000 | BM26: 26000 | BN26: 26000 | BO26: 25000 | BP26: 24995 | BQ26: 24995 | BR26: 25900 | BS26: 25000 | BT26: 25000 | BU26: 24995 | BV26: 25495 | BW26: 25150 | BX26: 3600 | BY26: 3800 | BZ26: 3890 | CA26: 3840 | CB26: 3800 | CC26: 3840 | CD26: 3800 | CE26: 4060 | CF26: 3900 | CG26: 4000 | CH26: 3900 | CI26: 3895 | CJ26: 3900 | CK26: 3895 | CL26: 3605 | CM26: 3800
A27: ETIT | B27: 47 | C27: 47 | D27: 50 | E27: 33 | F27: 35 | G27: 37 | H27: 38 | I27: 39 | J27: 39 | K27: 38 | L27: 38 | M27: 38 | N27: 38 | O27: 37 | P27: 38 | Q27: 37 | R27: 36 | S27: 37 | T27: 37 | U27: 39 | V27: 39 | W27: 33 | X27: 35 | Y27: 24 | Z27: 24 | AA27: 24 | AB27: 24 | AC27: 23 | AD27: 24 | AE27: 24 | AF27: 24 | AG27: 24 | AH27: 24 | AI27: 24 | AJ27: 24 | AK27: 23 | AL27: 24 | AM27: 24 | AN27: 24 | AO27: 24 | AP27: 24 | AQ27: 24 | AR27: 24 | AS27: 24 | AT27: 24 | AU27: 23 | AV27: 23 | AW27: 24 | AX27: 23 | AY27: 24 | AZ27: 23 | BA27: 23 | BB27: 24 | BC27: 24 | BD27: 24 | BE27: 22 | BF27: 22 | BG27: 21 | BH27: 22 | BI27: 19 | BJ27: 18 | BK27: 19 | BL27: 19 | BM27: 19 | BN27: 19 | BO27: 19 | BP27: 19 | BQ27: 18 | BR27: 19 | BS27: 20 | BT27: 19 | BU27: 18 | BV27: 17 | BW27: 17 | BX27: 19 | BY27: 19 | BZ27: 19 | CA27: 18 | CB27: 18 | CC27: 19 | CD27: 19 | CE27: 20 | CF27: 19 | CG27: 19 | CH27: 19 | CI27: 19 | CJ27: 19 | CK27: 19 | CL27: 19 | CM27: 19
A28: NSBC | BI28: 8400 | BJ28: 8400 | BK28: 8395 | BL28: 8390 | BM28: 8295 | BN28: 8295 | BO28: 8300 | BP28: 8295 | BQ28: 8125 | BR28: 8295 | BS28: 8295 | BT28: 8295 | BU28: 8290 | BV28: 8290 | BW28: 8200 | BX28: 4750 | BY28: 4750 | BZ28: 4500 | CA28: 4485 | CB28: 4470 | CC28: 4480 | CD28: 4400 | CE28: 4400 | CF28: 4360 | CG28: 4350 | CH28: 4250 | CI28: 4250 | CJ28: 3935 | CK28: 4230 | CL28: 4200 | CM28: 4450
A29: ORGT
A30: SAFC | B30: 33000 | C30: 33000 | D30: 35000 | E30: 26915 | F30: 27000 | G30: 27005 | H30: 27005 | I30: 27005 | J30: 27005 | K30: 27005 | L30: 27005 | M30: 27005 | N30: 27005 | O30: 27600 | P30: 27600 | Q30: 29670 | R30: 29670 | S30: 29670 | T30: 29670 | U30: 29670 | V30: 29670 | W30: 36855 | X30: 39615 | Y30: 23030 | Z30: 23030 | AA30: 23030 | AB30: 23030 | AC30: 23030 | AD30: 23030 | AE30: 23030 | AF30: 23030 | AG30: 23000 | AH30: 23000 | AI30: 21275 | AJ30: 21275 | AK30: 21275 | AL30: 21275 | AM30: 21275 | AN30: 21275 | AO30: 21000 | AP30: 20995 | AQ30: 20995 | AR30: 20995 | AS30: 20995 | AT30: 20995 | AU30: 20995 | AV30: 20995 | AW30: 20995 | AX30: 20995 | AY30: 20995 | AZ30: 20995 | BA30: 20995 | BB30: 20995 | BC30: 19425 | BD30: 20000 | BE30: 24840 | BF30: 24840 | BG30: 24840 | BH30: 24840 | BI30: 9700 | BJ30: 9700 | BK30: 9700 | BL30: 9700 | BM30: 9700 | BN30: 9700 | BO30: 9700 | BP30: 9700 | BQ30: 8975 | BR30: 8975 | BS30: 8305 | BT30: 8000 | BU30: 8000 | BV30: 8000 | BW30: 8000 | BX30: 215 | BY30: 215 | BZ30: 215 | CA30: 215 | CB30: 215 | CC30: 215 | CD30: 215 | CE30: 215 | CF30: 215 | CG30: 215 | CH30: 215 | CI30: 215 | CJ30: 215 | CK30: 215 | CL30: 215 | CM30: 215
A31: SGBC | B31: 133000 | C31: 133000 | D31: 126000 | E31: 155000 | F31: 158995 | G31: 158000 | H31: 155000 | I31: 153000 | J31: 152000 | K31: 152000 | L31: 154900 | M31: 155000 | N31: 155000 | O31: 145000 | P31: 145000 | Q31: 145000 | R31: 145000 | S31: 150000 | T31: 150000 | U31: 155500 | V31: 156000 | W31: 150000 | X31: 149990 | Y31: 138500 | Z31: 138000 | AA31: 138100 | AB31: 138000 | AC31: 136000 | AD31: 138000 | AE31: 136500 | AF31: 136500 | AG31: 138000 | AH31: 138000 | AI31: 137505 | AJ31: 136515 | AK31: 136510 | AL31: 136505 | AM31: 140000 | AN31: 137000 | AO31: 138000 | AP31: 136600 | AQ31: 140000 | AR31: 135025 | AS31: 138000 | AT31: 140000 | AU31: 140000 | AV31: 140005 | AW31: 140000 | AX31: 140000 | AY31: 140000 | AZ31: 140015 | BA31: 145000 | BB31: 145000 | BC31: 145000 | BD31: 141000 | BE31: 150000 | BF31: 150000 | BG31: 150000 | BH31: 150000 | BI31: 14000 | BJ31: 13995 | BK31: 14185 | BL31: 14465 | BM31: 14000 | BN31: 14000 | BO31: 14000 | BP31: 14150 | BQ31: 14000 | BR31: 14460 | BS31: 13980 | BT31: 13900 | BU31: 13980 | BV31: 14395 | BW31: 14490 | BX31: 8600 | BY31: 8495 | BZ31: 8405 | CA31: 8350 | CB31: 8350 | CC31: 8595 | CD31: 8600 | CE31: 8550 | CF31: 8600 | CG31: 8500 | CH31: 8500 | CI31: 8500 | CJ31: 8445 | CK31: 8300 | CL31: 8100 | CM31: 8100
A32: SIBC | Y32: 23500 | Z32: 23400 | AA32: 23395 | AB32: 23105 | AC32: 22700 | AD32: 22700 | AE32: 23000 | AF32: 22600 | AG32: 22960 | AH32: 22300 | AI32: 22980 | AJ32: 22500 | AK32: 22500 | AL32: 22500 | AM32: 22500 | AN32: 22600 | AO32: 22455 | AP32: 22555 | AQ32: 22995 | AR32: 22500 | AS32: 23000 | AT32: 22850 | AU32: 23000 | AV32: 22900 | AW32: 23000 | AX32: 23000 | AY32: 23000 | AZ32: 23200 | BA32: 23000 | BB32: 23500 | BC32: 23500 | BD32: 23495 | BE32: 23900 | BF32: 23995 | BG32: 23900 | BH32: 23800 | BI32: 16995 | BJ32: 17000 | BK32: 16800 | BL32: 16500 | BM32: 16800 | BN32: 16800 | BO32: 16520 | BP32: 16500 | BQ32: 16800 | BR32: 17000 | BS32: 17500 | BT32: 17000 | BU32: 16995 | BV32: 16900 | BW32: 16890 | BX32: 2350 | BY32: 2340 | BZ32: 2500 | CA32: 2400 | CB32: 2420 | CC32: 2550 | CD32: 2550 | CE32: 2550 | CF32: 2575 | CG32: 2550 | CH32: 2550 | CI32: 2510 | CJ32: 2515 | CK32: 2600 | CL32: 2600 | CM32: 2695
A33: BRVM-FIN | B33: 104.97 | C33: 104.46 | D33: 106.05 | E33: 109.2 | F33: 111.12 | G33: 111.32 | H33: 110.47 | I33: 109.99 | J33: 109.58 | K33: 108.14 | L33: 108.17 | M33: 108.78 | N33: 109.06 | O33: 106.34 | P33: 107.9 | Q33: 105.99 | R33: 104.1 | S33: 106.14 | T33: 106.31 | U33: 109.54 | V33: 110.02 | W33: 108.5 | X33: 110.85 | Y33: 95 | Z33: 95.72 | AA33: 95.79 | AB33: 95.92 | AC33: 95.94 | AD33: 96.57 | AE33: 95.56 | AF33: 95.85 | AG33: 95.61 | AH33: 95.75 | AI33: 95.89 | AJ33: 95.72 | AK33: 95.8 | AL33: 96.73 | AM33: 97.27 | AN33: 96.5 | AO33: 96.58 | AP33: 96.45 | AQ33: 97.1 | AR33: 96.83 | AS33: 97.5 | AT33: 98.27 | AU33: 97.51 | AV33: 97.45 | AW33: 98.23 | AX33: 97.72 | AY33: 98.53 | AZ33: 97.38 | BA33: 98.61 | BB33: 99.7 | BC33: 99.42 | BD33: 98.95 | BE33: 105.03 | BF33: 104.56 | BG33: 103.25 | BH33: 103.8 | BI33: 86.93 | BJ33: 86.32 | BK33: 86.82 | BL33: 87.2 | BM33: 86.83 | BN33: 86.83 | BO33: 86.1 | BP33: 86.35 | BQ33: 85.6 | BR33: 87.82 | BS33: 87.26 | BT33: 86.26 | BU33: 85.24 | BV33: 85.27 | BW33: 85.26 | BX33: 62.21 | BY33: 62.17 | BZ33: 62.09 | CA33: 61.34 | CB33: 61.16 | CC33: 62.12 | CD33: 62.17 | CE33: 63.05 | CF33: 62.31 | CG33: 62.5 | CH33: 62.34 | CI33: 62.45 | CJ33: 62.49 | CK33: 62.77 | CL33: 62.05 | CM33: 62.56
A34: CABC | B34: 123500 | C34: 120000 | D34: 123000 | E34: 94990 | F34: 94990 | G34: 90000 | H34: 90000 | I34: 90000 | J34: 90000 | K34: 90000 | L34: 88000 | M34: 88000 | N34: 85000 | O34: 96005 | P34: 101585 | Q34: 101585 | R34: 101585 | S34: 107105 | T34: 107000 | U34: 115000 | V34: 115000 | W34: 115000 | X34: 115000 | Y34: 87500 | Z34: 87500 | AA34: 87500 | AB34: 87500 | AC34: 87500 | AD34: 87500 | AE34: 87500 | AF34: 87500 | AG34: 87500 | AH34: 87500 | AI34: 87500 | AJ34: 85000 | AK34: 85000 | AL34: 85000 | AM34: 85000 | AN34: 79100 | AO34: 79100 | AP34: 79100 | AQ34: 79150 | AR34: 79150 | AS34: 79150 | AT34: 79150 | AU34: 78500 | AV34: 78500 | AW34: 78500 | AX34: 78500 | AY34: 78500 | AZ34: 78500 | BA34: 78500 | BB34: 78000 | BC34: 78000 | BD34: 78000 | BE34: 78000 | BF34: 78000 | BG34: 75000 | BH34: 78000 | BI34: 1895 | BJ34: 1935 | BK34: 1820 | BL34: 1910 | BM34: 1890 | BN34: 1890 | BO34: 1870 | BP34: 1870 | BQ34: 1935 | BR34: 1960 | BS34: 1900 | BT34: 1900 | BU34: 1800 | BV34: 1800 | BW34: 1895 | BX34: 1050 | BY34: 1070 | BZ34: 1150 | CA34: 1160 | CB34: 1155 | CC34: 1155 | CD34: 1140 | CE34: 1140 | CF34: 1200 | CG34: 1250 | CH34: 1335 | CI34: 1330 | CJ34: 1425 | CK34: 1500 | CL34: 1610 | CM34: 1640
A35: FTSC | B35: 30000 | C35: 29505 | D35: 30000 | E35: 29600 | F35: 30000 | G35: 30000 | H35: 30900 | I35: 29600 | J35: 30000 | K35: 30100 | L35: 29600 | M35: 30000 | N35: 29700 | O35: 29000 | P35: 29000 | Q35: 28600 | R35: 28510 | S35: 28900 | T35: 28500 | U35: 28800 | V35: 29175 | W35: 27300 | X35: 27400 | Y35: 23500 | Z35: 23500 | AA35: 22500 | AB35: 22005 | AC35: 22900 | AD35: 22600 | AE35: 22600 | AF35: 22490 | AG35: 22490 | AH35: 20805 | AI35: 20995 | AJ35: 20995 | AK35: 20995 | AL35: 20995 | AM35: 20950 | AN35: 20950 | AO35: 20500 | AP35: 20000 | AQ35: 19500 | AR35: 19500 | AS35: 19005 | AT35: 19495 | AU35: 19000 | AV35: 19000 | AW35: 18995 | AX35: 18995 | AY35: 18990 | AZ35: 18650 | BA35: 18650 | BB35: 19000 | BC35: 17995 | BD35: 18000 | BE35: 17000 | BF35: 17000 | BG35: 16000 | BH35: 16000 | BI35: 4940 | BJ35: 4930 | BK35: 4925 | BL35: 4945 | BM35: 4945 | BN35: 4945 | BO35: 4930 | BP35: 4930 | BQ35: 5000 | BR35: 4995 | BS35: 4995 | BT35: 4985 | BU35: 4995 | BV35: 4995 | BW35: 5200 | BX35: 1715 | BY35: 1700 | BZ35: 1685 | CA35: 1600 | CB35: 1480 | CC35: 1590 | CD35: 1590 | CE35: 1645 | CF35: 1645 | CG35: 1600 | CH35: 1600 | CI35: 1600 | CJ35: 1500 | CK35: 1500 | CL35: 1400 | CM35: 1400
A36: NEIC | B36: 4200 | C36: 4200 | D36: 4095 | E36: 3600 | F36: 3600 | G36: 3600 | H36: 3600 | I36: 3600 | J36: 3600 | K36: 3600 | L36: 3600 | M36: 3800 | N36: 3800 | O36: 4370 | P36: 4370 | Q36: 4370 | R36: 4370 | S36: 4370 | T36: 4370 | U36: 4370 | V36: 4370 | W36: 4370 | X36: 4370 | Y36: 3000 | Z36: 3000 | AA36: 3000 | AB36: 2960 | AC36: 3000 | AD36: 3000 | AE36: 3000 | AF36: 3000 | AG36: 3000 | AH36: 3000 | AI36: 3000 | AJ36: 3000 | AK36: 3000 | AL36: 3000 | AM36: 3000 | AN36: 3000 | AO36: 3000 | AP36: 3000 | AQ36: 3000 | AR36: 3000 | AS36: 3000 | AT36: 3000 | AU36: 3000 | AV36: 3200 | AW36: 3200 | AX36: 3200 | AY36: 3200 | AZ36: 3200 | BA36: 3200 | BB36: 3200 | BC36: 3200 | BD36: 3025 | BE36: 3000 | BF36: 3000 | BG36: 2800 | BH36: 2775 | BI36: 100 | BJ36: 100 | BK36: 105 | BL36: 110 | BM36: 115 | BN36: 115 | BO36: 120 | BP36: 120 | BQ36: 125 | BR36: 130 | BS36: 130 | BT36: 135 | BU36: 145 | BV36: 155 | BW36: 165 | BX36: 195 | BY36: 205 | BZ36: 200 | CA36: 200 | CB36: 200 | CC36: 200 | CD36: 200 | CE36: 200 | CF36: 195 | CG36: 190 | CH36: 190 | CI36: 185 | CJ36: 185 | CK36: 190 | CL36: 190 | CM36: 190
A37: NTLC | B37: 49000 | C37: 50000 | D37: 48400 | E37: 50000 | F37: 51000 | G37: 51005 | H37: 51005 | I37: 52500 | J37: 52500 | K37: 54500 | L37: 52000 | M37: 52000 | N37: 52000 | O37: 47995 | P37: 47100 | Q37: 48000 | R37: 47200 | S37: 48000 | T37: 47100 | U37: 50000 | V37: 50000 | W37: 50000 | X37: 50000 | Y37: 53000 | Z37: 55000 | AA37: 57100 | AB37: 57100 | AC37: 57100 | AD37: 58900 | AE37: 58900 | AF37: 58900 | AG37: 60000 | AH37: 60000 | AI37: 56000 | AJ37: 56000 | AK37: 54485 | AL37: 54485 | AM37: 54485 | AN37: 54485 | AO37: 54485 | AP37: 53000 | AQ37: 53000 | AR37: 54000 | AS37: 56000 | AT37: 56000 | AU37: 56000 | AV37: 56000 | AW37: 56000 | AX37: 56000 | AY37: 56000 | AZ37: 60000 | BA37: 60000 | BB37: 60000 | BC37: 59750 | BD37: 56500 | BE37: 55000 | BF37: 55000 | BG37: 55000 | BH37: 55000 | BI37: 2000 | BJ37: 2000 | BK37: 2010 | BL37: 2010 | BM37: 2050 | BN37: 2050 | BO37: 2100 | BP37: 2100 | BQ37: 2250 | BR37: 2365 | BS37: 2295 | BT37: 2205 | BU37: 2255 | BV37: 2400 | BW37: 2575 | BX37: 880 | BY37: 900 | BZ37: 900 | CA37: 850 | CB37: 885 | CC37: 885 | CD37: 890 | CE37: 855 | CF37: 850 | CG37: 850 | CH37: 850 | CI37: 800 | CJ37: 800 | CK37: 815 | CL37: 815 | CM37: 815
A38: SEMC | B38: 44990 | C38: 44000 | D38: 44000 | E38: 43000 | F38: 43000 | G38: 40000 | H38: 40000 | I38: 38000 | J38: 39000 | K38: 39000 | L38: 40500 | M38: 40500 | N38: 40500 | O38: 55000 | P38: 54000 | Q38: 52000 | R38: 51995 | S38: 50000 | T38: 51995 | U38: 52000 | V38: 52000 | W38: 50000 | X38: 50000 | Y38: 33000 | Z38: 33000 | AA38: 33000 | AB38: 33000 | AC38: 33000 | AD38: 33000 | AE38: 32800 | AF38: 34000 | AG38: 34000 | AH38: 34000 | AI38: 36550 | AJ38: 39290 | AK38: 42235 | AL38: 45400 | AM38: 48805 | AN38: 45400 | AO38: 45400 | AP38: 45400 | AQ38: 41995 | AR38: 41995 | AS38: 41995 | AT38: 41995 | AU38: 41995 | AV38: 41995 | AW38: 41995 | AX38: 41995 | AY38: 38850 | AZ38: 35940 | BA38: 33500 | BB38: 33000 | BC38: 32000 | BD38: 32000 | BE38: 36000 | BF38: 36000 | BG38: 38000 | BH38: 38000 | BI38: 13500 | BJ38: 13500 | BK38: 13500 | BL38: 13500 | BM38: 13500 | BN38: 13500 | BO38: 14510 | BP38: 14510 | BQ38: 14510 | BR38: 14510 | BS38: 14510 | BT38: 14510 | BU38: 14510 | BV38: 14500 | BW38: 14500 | BX38: 290 | BY38: 290 | BZ38: 290 | CA38: 270 | CB38: 265 | CC38: 265 | CD38: 265 | CE38: 265 | CF38: 265 | CG38: 265 | CH38: 265 | CI38: 270 | CJ38: 270 | CK38: 260 | CL38: 260 | CM38: 260
A39: SIVC | B39: 19500 | C39: 19500 | D39: 19500 | E39: 20000 | F39: 20000 | G39: 19600 | H39: 20000 | I39: 20100 | J39: 21000 | K39: 21120 | L39: 21120 | M39: 21005 | N39: 21000 | O39: 21000 | P39: 20490 | Q39: 20490 | R39: 19020 | S39: 19010 | T39: 19000 | U39: 19200 | V39: 19200 | W39: 20000 | X39: 19500 | Y39: 10900 | Z39: 10900 | AA39: 11000 | AB39: 10900 | AC39: 10800 | AD39: 10800 | AE39: 10810 | AF39: 10810 | AG39: 11100 | AH39: 11100 | AI39: 11110 | AJ39: 11200 | AK39: 11200 | AL39: 11300 | AM39: 11100 | AN39: 11930 | AO39: 11500 | AP39: 11000 | AQ39: 11500 | AR39: 11500 | AS39: 11000 | AT39: 11000 | AU39: 11500 | AV39: 11500 | AW39: 11000 | AX39: 11000 | AY39: 10175 | AZ39: 10300 | BA39: 10000 | BB39: 10005 | BC39: 10500 | BD39: 11000 | BE39: 10500 | BF39: 10200 | BG39: 9500 | BH39: 10000 | BI39: 455 | BJ39: 455 | BK39: 485 | BL39: 520 | BM39: 550 | BN39: 550 | BO39: 555 | BP39: 545 | BQ39: 550 | BR39: 585 | BS39: 600 | BT39: 640 | BU39: 660 | BV39: 645 | BW39: 645 | BX39: 505 | BY39: 505 | BZ39: 505 | CA39: 505 | CB39: 500 | CC39: 500 | CD39: 485 | CE39: 450 | CF39: 450 | CG39: 450 | CH39: 450 | CI39: 445 | CJ39: 440 | CK39: 430 | CL39: 425 | CM39: 400
A40: SLBC | B40: 189995 | C40: 189995 | D40: 175000 | E40: 201000 | F40: 205000 | G40: 201000 | H40: 205000 | I40: 205000 | J40: 205015 | K40: 205000 | L40: 205000 | M40: 210000 | N40: 205005 | O40: 214000 | P40: 210000 | Q40: 210000 | R40: 210000 | S40: 210000 | T40: 215000 | U40: 211000 | V40: 210000 | W40: 195000 | X40: 195010 | Y40: 177375 | Z40: 177375 | AA40: 177375 | AB40: 177375 | AC40: 165000 | AD40: 165000 | AE40: 165000 | AF40: 165000 | AG40: 165000 | AH40: 165000 | AI40: 165000 | AJ40: 165000 | AK40: 165000 | AL40: 165000 | AM40: 165000 | AN40: 165000 | AO40: 165000 | AP40: 165000 | AQ40: 165000 | AR40: 165000 | AS40: 165005 | AT40: 165005 | AU40: 165000 | AV40: 165000 | AW40: 165005 | AX40: 165000 | AY40: 165000 | AZ40: 165000 | BA40: 165000 | BB40: 165000 | BC40: 165500 | BD40: 165500 | BE40: 165000 | BF40: 152625 | BG40: 152625 | BH40: 162000 | BI40: 110000 | BJ40: 117000 | BK40: 117000 | BL40: 119000 | BM40: 119000 | BN40: 119000 | BO40: 117500 | BP40: 117500 | BQ40: 117500 | BR40: 118000 | BS40: 118000 | BT40: 126850 | BU40: 118005 | BV40: 118005 | BW40: 117500 | BX40: 57000 | BY40: 57000 | BZ40: 53005 | CA40: 53005 | CB40: 51995 | CC40: 51950 | CD40: 51950 | CE40: 51950 | CF40: 51950 | CG40: 51000 | CH40: 51000 | CI40: 50000 | CJ40: 50000 | CK40: 50000 | CL40: 50000 | CM40: 50000
A41: SMBC | B41: 19000 | C41: 19300 | D41: 19000 | E41: 26500 | F41: 25000 | G41: 26000 | H41: 27000 | I41: 28000 | J41: 30000 | K41: 29500 | L41: 31000 | M41: 32000 | N41: 34200 | O41: 32380 | P41: 32380 | Q41: 34000 | R41: 36550 | S41: 38000 | T41: 38000 | U41: 37985 | V41: 37985 | W41: 31490 | X41: 30950 | Y41: 18500 | Z41: 18000 | AA41: 18500 | AB41: 18500 | AC41: 18500 | AD41: 18500 | AE41: 18500 | AF41: 18000 | AG41: 18000 | AH41: 18000 | AI41: 18500 | AJ41: 18000 | AK41: 18000 | AL41: 18000 | AM41: 18000 | AN41: 18025 | AO41: 18025 | AP41: 18025 | AQ41: 18025 | AR41: 18025 | AS41: 18100 | AT41: 18500 | AU41: 19005 | AV41: 20000 | AW41: 20000 | AX41: 20000 | AY41: 20500 | AZ41: 20550 | BA41: 21300 | BB41: 21300 | BC41: 22000 | BD41: 23000 | BE41: 24500 | BF41: 24000 | BG41: 24300 | BH41: 24300 | BI41: 13600 | BJ41: 13600 | BK41: 12605 | BL41: 13550 | BM41: 13600 | BN41: 13600 | BO41: 14500 | BP41: 15585 | BQ41: 16750 | BR41: 18005 | BS41: 19000 | BT41: 19000 | BU41: 19000 | BV41: 18620 | BW41: 20000 | BX41: 19900 | BY41: 19550 | BZ41: 19550 | CA41: 18085 | CB41: 18085 | CC41: 19395 | CD41: 19295 | CE41: 19280 | CF41: 19280 | CG41: 19155 | CH41: 19155 | CI41: 19155 | CJ41: 19155 | CK41: 19155 | CL41: 18100 | CM41: 18100
A42: STBC | B42: 156000 | C42: 156000 | D42: 160000 | E42: 160000 | F42: 162200 | G42: 165000 | H42: 170000 | I42: 170000 | J42: 168000 | K42: 170000 | L42: 170000 | M42: 168100 | N42: 170000 | O42: 175000 | P42: 175000 | Q42: 170010 | R42: 172200 | S42: 172200 | T42: 172005 | U42: 172005 | V42: 173000 | W42: 170000 | X42: 170000 | Y42: 150000 | Z42: 147000 | AA42: 147000 | AB42: 147000 | AC42: 145000 | AD42: 145000 | AE42: 145000 | AF42: 145000 | AG42: 145000 | AH42: 141000 | AI42: 140000 | AJ42: 140000 | AK42: 140000 | AL42: 140000 | AM42: 140000 | AN42: 140000 | AO42: 140000 | AP42: 140000 | AQ42: 140000 | AR42: 140000 | AS42: 140000 | AT42: 140000 | AU42: 139990 | AV42: 139990 | AW42: 139990 | AX42: 139990 | AY42: 139990 | AZ42: 139990 | BA42: 139985 | BB42: 139985 | BC42: 138900 | BD42: 137000 | BE42: 117495 | BF42: 114000 | BG42: 115000 | BH42: 115000 | BI42: 55000 | BJ42: 54000 | BK42: 53500 | BL42: 55000 | BM42: 55000 | BN42: 55000 | BO42: 53500 | BP42: 53500 | BQ42: 53500 | BR42: 54000 | BS42: 54000 | BT42: 54000 | BU42: 53500 | BV42: 53500 | BW42: 53500 | BX42: 1540 | BY42: 1520 | BZ42: 1520 | CA42: 1520 | CB42: 1410 | CC42: 1305 | CD42: 1305 | CE42: 1305 | CF42: 1305 | CG42: 1305 | CH42: 1210 | CI42: 1210 | CJ42: 1210 | CK42: 1210 | CL42: 1190 | CM42: 1190
A43: UNLC | B43: 25005 | C43: 25005 | D43: 25005 | E43: 22800 | F43: 22800 | G43: 22800 | H43: 22800 | I43: 22800 | J43: 22800 | K43: 22800 | L43: 23500 | M43: 24000 | N43: 24000 | O43: 26370 | P43: 26370 | Q43: 26370 | R43: 27000 | S43: 27000 | T43: 27000 | U43: 28550 | V43: 28550 | W43: 27000 | X43: 27000 | Y43: 18500 | Z43: 18000 | AA43: 18000 | AB43: 18000 | AC43: 18000 | AD43: 18000 | AE43: 18000 | AF43: 18000 | AG43: 18000 | AH43: 18000 | AI43: 18000 | AJ43: 16750 | AK43: 17985 | AL43: 17985 | AM43: 17990 | AN43: 16755 | AO43: 16755 | AP43: 17990 | AQ43: 17990 | AR43: 17795 | AS43: 17795 | AT43: 17795 | AU43: 16755 | AV43: 16755 | AW43: 16500 | AX43: 16500 | AY43: 16500 | AZ43: 16000 | BA43: 16000 | BB43: 16000 | BC43: 16995 | BD43: 17200 | BE43: 15500 | BF43: 15500 | BG43: 15500 | BH43: 15400 | BI43: 7100 | BJ43: 7100 | BK43: 7100 | BL43: 7100 | BM43: 7100 | BN43: 7100 | BO43: 7100 | BP43: 7100 | BQ43: 7100 | BR43: 7100 | BS43: 7500 | BT43: 7600 | BU43: 7600 | BV43: 7600 | BW43: 7600 | BX43: 5700 | BY43: 5700 | BZ43: 5700 | CA43: 5690 | CB43: 5265 | CC43: 5265 | CD43: 5265 | CE43: 5135 | CF43: 5135 | CG43: 5135 | CH43: 5135 | CI43: 5135 | CJ43: 5135 | CK43: 5135 | CL43: 5135 | CM43: 5135
A44: UNXC | B44: 28500 | C44: 28500 | D44: 27500 | E44: 29000 | F44: 28500 | G44: 28500 | H44: 28500 | I44: 28500 | J44: 28750 | K44: 29000 | L44: 29000 | M44: 28900 | N44: 29850 | O44: 27050 | P44: 26510 | Q44: 27000 | R44: 27900 | S44: 28000 | T44: 27500 | U44: 27500 | V44: 27450 | W44: 26995 | X44: 26990 | Y44: 25500 | Z44: 26000 | AA44: 24500 | AB44: 24000 | AC44: 23000 | AD44: 24000 | AE44: 24000 | AF44: 23495 | AG44: 24000 | AH44: 23100 | AI44: 23995 | AJ44: 23000 | AK44: 22500 | AL44: 23500 | AM44: 24000 | AN44: 23500 | AO44: 22000 | AP44: 21705 | AQ44: 22000 | AR44: 22000 | AS44: 22000 | AT44: 22000 | AU44: 22000 | AV44: 22990 | AW44: 22990 | AX44: 22990 | AY44: 23000 | AZ44: 23000 | BA44: 23000 | BB44: 23895 | BC44: 23000 | BD44: 23000 | BE44: 22500 | BF44: 22500 | BG44: 22990 | BH44: 22990 | BI44: 3350 | BJ44: 3305 | BK44: 3450 | BL44: 3550 | BM44: 3300 | BN44: 3300 | BO44: 3550 | BP44: 3400 | BQ44: 3350 | BR44: 3510 | BS44: 3440 | BT44: 3185 | BU44: 3300 | BV44: 3185 | BW44: 3200 | BX44: 2030 | BY44: 2030 | BZ44: 2030 | CA44: 2025 | CB44: 2030 | CC44: 2180 | CD44: 2180 | CE44: 2300 | CF44: 2250 | CG44: 2240 | CH44: 2200 | CI44: 2100 | CJ44: 2000 | CK44: 2050 | CL44: 2150 | CM44: 2100
... A55: BRVM-C | B55: 302.43 | C55: 300.27 | D55: 297.06 | E55: 314.38 | F55: 316.04 | G55: 315.46 | H55: 314.46 | I55: 315.03 | J55: 315.99 | K55: 313.3 | L55: 313.29 | M55: 314.06 | N55: 314.59 | O55: 308.01 | P55: 308.45 | Q55: 307.23 | R55: 306.57 | S55: 308.94 | T55: 310.77 | U55: 315.12 | V55: 315.69 | W55: 309.82 | X55: 311 | Y55: 285.18 | Z55: 283.45 | AA55: 282.83 | AB55: 282.54 | AC55: 280.28 | AD55: 280.93 | AE55: 279.32 | AF55: 281.38 | AG55: 280.68 | AH55: 278.05 | AI55: 279.19 | AJ55: 279.81 | AK55: 278.21 | AL55: 280.21 | AM55: 281.32 | AN55: 278.96 | AO55: 277.59 | AP55: 277.3 | AQ55: 276.98 | AR55: 277.11 | AS55: 276.32 | AT55: 277.66 | AU55: 277.21 | AV55: 278.36 | AW55: 279.63 | AX55: 279.4 | AY55: 280.19 | AZ55: 279.47 | BA55: 279.38 | BB55: 282.16 | BC55: 281.06 | BD55: 281.3 | BE55: 282.98 | BF55: 282.15 | BG55: 280.55 | BH55: 281.85 | BI55: 233.84 | BJ55: 234.75 | BK55: 235.56 | BL55: 235.85 | BM55: 236.36 | BN55: 236.36 | BO55: 237.48 | BP55: 237.52 | BQ55: 237.59 | BR55: 242.02 | BS55: 242.03 | BT55: 240.95 | BU55: 240.03 | BV55: 240.25 | BW55: 241.53 | BX55: 165.42 | BY55: 165.13 | BZ55: 165.12 | CA55: 165.14 | CB55: 168.07 | CC55: 167.23 | CD55: 167.43 | CE55: 168.44 | CF55: 167.92 | CG55: 167.84 | CH55: 167.64 | CI55: 167.56 | CJ55: 167.55 | CK55: 167.82 | CL55: 166.49 | CM55: 167.92

Sheet Min-Max (2)
C1: =TEXT(D1,"mm/aaaa") -> 02/2016 | D1: 42401 | G1: 2016 | H1: 2017 | I1: 2018 | J1: 2019
B2: Min | C2: Max
A3: PALC | B3: =_xlfn.STDEV.S(IF((YEAR('Base de données cours'!$B$1:$CM$1)=$C$1)*('Base de données cours'!$A$2:$A$55=A3),'Base de données cours'!$B$2:$CM$55)) -> #DIV/0! | C3: {=MAX(IF((YEAR('Base de données cours'!$B$1:$CM$1)=$C$1)*('Base de données cours'!$A$2:$A$55=A3),'Base de données cours'!$B$2:$CM$55))} -> 0
A4: SCRC | B4: {=_xlfn.STDEV.S(IF((YEAR('Base de données cours'!$B$1:$CM$1)=$C$1)*('Base de données cours'!$A$2:$A$55=A4),'Base de données cours'!$B$2:$CM$55))} -> #DIV/0! | C4: {=MAX(IF((YEAR('Base de données cours'!$B$1:$CM$1)=$C$1)*('Base de données cours'!$A$2:$A$55=A4),'Base de données cours'!$B$2:$CM$55))} -> 0
A5: SICC | B5: {=MIN(IF((YEAR('Base de données cours'!$B$1:$CM$1)=$C$1)*('Base de données cours'!$A$2:$A$55=A5),'Base de données cours'!$B$2:$CM$55))} -> 0 | C5: {=MAX(IF((YEAR('Base de données cours'!$B$1:$CM$1)=$C$1)*('Base de données cours'!$A$2:$A$55=A5),'Base de données cours'!$B$2:$CM$55))} -> 0
A6: SOGC | B6: {=MIN(IF((YEAR('Base de données cours'!$B$1:$CM$1)=$C$1)*('Base de données cours'!$A$2:$A$55=A6),'Base de données cours'!$B$2:$CM$55))} -> 0 | C6: {=MAX(IF((YEAR('Base de données cours'!$B$1:$CM$1)=$C$1)*('Base de données cours'!$A$2:$A$55=A6),'Base de données cours'!$B$2:$CM$55))} -> 0
A7: SPHC | B7: {=MIN(IF((YEAR('Base de données cours'!$B$1:$CM$1)=$C$1)*('Base de données cours'!$A$2:$A$55=A7),'Base de données cours'!$B$2:$CM$55))} -> 0 | C7: {=MAX(IF((YEAR('Base de données cours'!$B$1:$CM$1)=$C$1)*('Base de données cours'!$A$2:$A$55=A7),'Base de données cours'!$B$2:$CM$55))} -> 0
A8: BRVM-AGR | B8: {=MIN(IF((YEAR('Base de données cours'!$B$1:$CM$1)=$C$1)*('Base de données cours'!$A$2:$A$55=A8),'Base de données cours'!$B$2:$CM$55))} -> 0 | C8: {=MAX(IF((YEAR('Base de données cours'!$B$1:$CM$1)=$C$1)*('Base de données cours'!$A$2:$A$55=A8),'Base de données cours'!$B$2:$CM$55))} -> 0
A9: STAC | B9: {=MIN(IF((YEAR('Base de données cours'!$B$1:$CM$1)=$C$1)*('Base de données cours'!$A$2:$A$55=A9),'Base de données cours'!$B$2:$CM$55))} -> 0 | C9: {=MAX(IF((YEAR('Base de données cours'!$B$1:$CM$1)=$C$1)*('Base de données cours'!$A$2:$A$55=A9),'Base de données cours'!$B$2:$CM$55))} -> 0
A10: BRVM-AUT | B10: {=MIN(IF((YEAR('Base de données cours'!$B$1:$CM$1)=$C$1)*('Base de données cours'!$A$2:$A$55=A10),'Base de données cours'!$B$2:$CM$55))} -> 0 | C10: {=MAX(IF((YEAR('Base de données cours'!$B$1:$CM$1)=$C$1)*('Base de données cours'!$A$2:$A$55=A10),'Base de données cours'!$B$2:$CM$55))} -> 0
A11: ABJC | B11: {=MIN(IF((YEAR('Base de données cours'!$B$1:$CM$1)=$C$1)*('Base de données cours'!$A$2:$A$55=A11),'Base de données cours'!$B$2:$CM$55))} -> 0 | C11: {=MAX(IF((YEAR('Base de données cours'!$B$1:$CM$1)=$C$1)*('Base de données cours'!$A$2:$A$55=A11),'Base de données cours'!$B$2:$CM$55))} -> 0
A12: BNBC | B12: {=MIN(IF((YEAR('Base de données cours'!$B$1:$CM$1)=$C$1)*('Base de données cours'!$A$2:$A$55=A12),'Base de données cours'!$B$2:$CM$55))} -> 0 | C12: {=MAX(IF((YEAR('Base de données cours'!$B$1:$CM$1)=$C$1)*('Base de données cours'!$A$2:$A$55=A12),'Base de données cours'!$B$2:$CM$55))} -> 0
A13: CFAC | B13: {=MIN(IF((YEAR('Base de données cours'!$B$1:$CM$1)=$C$1)*('Base de données cours'!$A$2:$A$55=A13),'Base de données cours'!$B$2:$CM$55))} -> 0 | C13: {=MAX(IF((YEAR('Base de données cours'!$B$1:$CM$1)=$C$1)*('Base de données cours'!$A$2:$A$55=A13),'Base de données cours'!$B$2:$CM$55))} -> 0
A14: PRSC | B14: {=MIN(IF((YEAR('Base de données cours'!$B$1:$CM$1)=$C$1)*('Base de données cours'!$A$2:$A$55=A14),'Base de données cours'!$B$2:$CM$55))} -> 0 | C14: {=MAX(IF((YEAR('Base de données cours'!$B$1:$CM$1)=$C$1)*('Base de données cours'!$A$2:$A$55=A14),'Base de données cours'!$B$2:$CM$55))} -> 0
A15: SHEC | B15: {=MIN(IF((YEAR('Base de données cours'!$B$1:$CM$1)=$C$1)*('Base de données cours'!$A$2:$A$55=A15),'Base de données cours'!$B$2:$CM$55))} -> 0 | C15: {=MAX(IF((YEAR('Base de données cours'!$B$1:$CM$1)=$C$1)*('Base de données cours'!$A$2:$A$55=A15),'Base de données cours'!$B$2:$CM$55))} -> 0
A16: TTLC | B16: {=MIN(IF((YEAR('Base de données cours'!$B$1:$CM$1)=$C$1)*('Base de données cours'!$A$2:$A$55=A16),'Base de données cours'!$B$2:$CM$55))} -> 0 | C16: {=MAX(IF((YEAR('Base de données cours'!$B$1:$CM$1)=$C$1)*('Base de données cours'!$A$2:$A$55=A16),'Base de données cours'!$B$2:$CM$55))} -> 0
... A56: BRVM-C | B56: {=MIN(IF((YEAR('Base de données cours'!$B$1:$CM$1)=$C$1)*('Base de données cours'!$A$2:$A$55=A56),'Base de données cours'!$B$2:$CM$55))} -> 0 | C56: {=MAX(IF((YEAR('Base de données cours'!$B$1:$CM$1)=$C$1)*('Base de données cours'!$A$2:$A$55=A56),'Base de données cours'!$B$2:$CM$55))} -> 0

Sheet Min-Max
C1: =TEXT(D1,"mm/aaaa") -> 03/2016 | D1: 42430
B2: Min | C2: Max
