Workbook
Name clé_filtre: [1]calcul!$DD$2:$DD$6000
Name Col_Resultas: OFFSET(Col_Equipes,,-1)
Name Ligues: [1]!Tableau2[#Headers]
Name NbreRencontres: Feuil1!$D$2
Name NomEquipe: Feuil1!$D$3
Name Plg_NbreM: OFFSET(Plg_ResultM,,1)
Name Prix: '[2]serie joué'!$J$3:$FV$50
Name tb_equipes: [2]!tb_equipes6[Liste équipes]

Sheet Data
B1: Div | C1: Colonne1 | D1: HomeTeam | E1: AwayTeam | F1: Full Time Home Team Goals | G1: Full Time Away Team Goals | H1: FTR | I1: Half Time Home Team Goals | J1: Half Time Away Team Goals | K1: HTR
B2: I1 | D2: Inter | E2: Genoa | F2: 4 | G2: 0 | H2: Victoire | I2: 2 | J2: 0 | K2: Victoire
B3: I1 | D3: Verona | E3: Sassuolo | F3: 2 | G3: 3 | H3: Défaite | I3: 0 | J3: 1 | K3: Défaite
B4: I1 | D4: Empoli | E4: Lazio | F4: 1 | G4: 3 | H4: Défaite | I4: 1 | J4: 3 | K4: Défaite
B5: I1 | D5: Torino | E5: Atalanta | F5: 1 | G5: 2 | H5: Défaite | I5: 0 | J5: 1 | K5: Défaite
B6: I1 | D6: Bologna | E6: Salernitana | F6: 3 | G6: 2 | H6: Victoire | I6: 0 | J6: 0 | K6: Nul
B7: I1 | D7: Udinese | E7: Juventus | F7: 2 | G7: 2 | H7: Nul | I7: 0 | J7: 2 | K7: Défaite
B8: I1 | D8: Napoli | E8: Venezia | F8: 2 | G8: 0 | H8: Victoire | I8: 0 | J8: 0 | K8: Nul
B9: I1 | D9: Roma | E9: Fiorentina | F9: 3 | G9: 1 | H9: Victoire | I9: 1 | J9: 0 | K9: Victoire
B10: I1 | D10: Cagliari | E10: Spezia | F10: 2 | G10: 2 | H10: Nul | I10: 0 | J10: 1 | K10: Défaite
B11: I1 | D11: Sampdoria | E11: Milan | F11: 0 | G11: 1 | H11: Défaite | I11: 0 | J11: 1 | K11: Défaite
B12: I1 | D12: Udinese | E12: Venezia | F12: 3 | G12: 0 | H12: Victoire | I12: 1 | J12: 0 | K12: Victoire
B13: I1 | D13: Verona | E13: Inter | F13: 1 | G13: 3 | H13: Défaite | I13: 1 | J13: 0 | K13: Victoire
... B216: I1 | D216: Fiorentina | E216: Genoa | F216: 6 | G216: 0 | H216: Victoire | I216: 3 | J216: 0 | K216: Victoire

Sheet analyse
B1: Standings
B2: Atalanta | L2: Napoli | Y2: exemple je me base sur les résultat complet qui se traduit ci-dessous
B3: FT | C3: Matches | D3: Win | E3: Draw | F3: Loss | G3: Get | H3: Miss | I3: Pts | J3: Rank | K3: Rate | L3: FT | M3: Matches | N3: Win | O3: Draw | P3: Loss | Q3: Get | R3: Miss | S3: Pts | T3: Rank | U3: Rate | Y3: I1 | AA3: Torino | AB3: Atalanta | AC3: 1 | AD3: 2 | AE3: Défaite
B4: Total | C4: =COUNTIF(Data!D:D,B2)+COUNTIF(Data!E:E,B2) -> 21 | D4: =COUNTIFS(Data!D:D,B2,Data!H:H,"victoire")+COUNTIFS(Data!E:E,B2,Data!H:H,"Défaite") -> 12 | E4: =COUNTIFS(Data!D:D,B2,Data!H:H,"Nul")+COUNTIFS(Data!E:E,B2,Data!H:H,"Nul") -> 6 | F4: =COUNTIFS(Data!D:D,analyse!B2,Data!H:H,"défaite")+COUNTIFS(Data!E:E,B2,Data!H:H,"Victoire") -> 3 | G4: =SUMIF(Data!D:D,B2,Data!F:F)+SUMIF(Data!E:E,B2,Data!G:G) -> 44 | H4: =SUMIF(Data!D:D,B2,Data!G:G)+SUMIF(Data!E:E,B2,Data!F:F) -> 26 | L4: Total | M4: =COUNTIF(Data!D:D,L2)+COUNTIF(Data!E:E,B2) -> 22 | N4: 6 | O4: 4 | P4: 2 | Q4: 19 | R4: 15 | Y4: I1 | AA4: Atalanta | AB4: Bologna | AC4: 0 | AD4: 0 | AE4: Nul
B5: Home | C5: =COUNTIF(Data!D:D,B2) -> 10 | D5: =COUNTIFS(Data!D:D,B2,Data!H:H,"victoire") -> 3 | E5: =COUNTIFS(Data!D:D,B2,Data!H:H,"Nul") -> 4 | F5: =COUNTIFS(Data!D:D,analyse!B2,Data!H:H,"défaite") -> 3 | G5: =SUMIF(Data!D:D,B2,Data!F:F) -> 18 | H5: =SUMIF(Data!D:D,B2,Data!G:G) -> 15 | L5: Home | M5: =COUNTIF(Data!D:D,L2) -> 11 | N5: 5 | O5: 2 | P5: 0 | Q5: 15 | R5: 6 | Y5: I1 | AA5: Atalanta | AB5: Fiorentina | AC5: 1 | AD5: 2 | AE5: Défaite
B6: Away | C6: =COUNTIF(Data!E:E,B2) -> 11 | D6: =COUNTIFS(Data!E:E,B2,Data!H:H,"Défaite") -> 9 | E6: =COUNTIFS(Data!E:E,B2,Data!H:H,"Nul") -> 2 | F6: =COUNTIFS(Data!E:E,B2,Data!H:H,"Victoire") -> 0 | G6: =SUMIF(Data!E:E,B2,Data!G:G) -> 26 | H6: =SUMIF(Data!E:E,B2,Data!F:F) -> 11 | L6: Away | M6: =COUNTIF(Data!E:E,L2) -> 11 | N6: 1 | O6: 2 | P6: 2 | Q6: 4 | R6: 9 | Y6: I1 | AA6: Salernitana | AB6: Atalanta | AC6: 0 | AD6: 1 | AE6: Défaite
B7: Last 6 | C7: 6 | D7: 3 | E7: 2 | F7: 1 | G7: 13 | H7: 9 | L7: Last 6 | M7: 6 | N7: 4 | O7: 2 | P7: 0 | Q7: 12 | R7: 6 | Y7: I1 | AA7: Atalanta | AB7: Sassuolo | AC7: 2 | AD7: 1 | AE7: Victoire
Y8: I1 | AA8: Inter | AB8: Atalanta | AC8: 2 | AD8: 2 | AE8: Nul
B9: ma demande c'est de faire la meme démarche mais en se basant sur les 6 ou 5 dernier match | Y9: I1 | AA9: Atalanta | AB9: Milan | AC9: 2 | AD9: 3 | AE9: Défaite
Y10: I1 | AA10: Empoli | AB10: Atalanta | AC10: 1 | AD10: 4 | AE10: Défaite
Y11: I1 | AA11: Atalanta | AB11: Udinese | AC11: 1 | AD11: 1 | AE11: Nul
Y12: I1 | AA12: Sampdoria | AB12: Atalanta | AC12: 1 | AD12: 3 | AE12: Défaite
A13: equipes | Y13: I1 | AA13: Atalanta | AB13: Lazio | AC13: 2 | AD13: 2 | AE13: Nul
A14: Inter | D14: pour les résultat 6 ,3 2 1,,13, 9 se sont mis manuellement | Y14: I1 | AA14: Cagliari | AB14: Atalanta | AC14: 1 | AD14: 2 | AE14: Défaite
A15: Verona | Y15: I1 | AA15: Atalanta | AB15: Spezia | AC15: 5 | AD15: 2 | AE15: Victoire
A16: Empoli | Y16: I1 | AA16: Juventus | AB16: Atalanta | AC16: 0 | AD16: 1 | AE16: Défaite | AH16: je veux que le calcul se base sur les 5 ou 6 dernier matchs
A17: Torino | Y17: I1 | AA17: Atalanta | AB17: Venezia | AC17: 4 | AD17: 0 | AE17: Victoire
A18: Bologna | Y18: I1 | AA18: Napoli | AB18: Atalanta | AC18: 2 | AD18: 3 | AE18: Défaite | AH18: I1 | AJ18: Napoli | AK18: Atalanta | AL18: 2 | AM18: 3 | AN18: Défaite
A19: Udinese | Y19: I1 | AA19: Verona | AB19: Atalanta | AC19: 1 | AD19: 2 | AE19: Défaite | AH19: I1 | AJ19: Verona | AK19: Atalanta | AL19: 1 | AM19: 2 | AN19: Défaite
A20: Napoli | Y20: I1 | AA20: Atalanta | AB20: Roma | AC20: 1 | AD20: 4 | AE20: Défaite | AH20: I1 | AJ20: Atalanta | AK20: Roma | AL20: 1 | AM20: 4 | AN20: Défaite
A21: Roma | Y21: I1 | AA21: Genoa | AB21: Atalanta | AC21: 0 | AD21: 0 | AE21: Nul | AH21: I1 | AJ21: Genoa | AK21: Atalanta | AL21: 0 | AM21: 0 | AN21: Nul
A22: Cagliari | Y22: I1 | AA22: Udinese | AB22: Atalanta | AC22: 2 | AD22: 6 | AE22: Défaite | AH22: I1 | AJ22: Udinese | AK22: Atalanta | AL22: 2 | AM22: 6 | AN22: Défaite
A23: Sampdoria | Y23: I1 | AA23: Atalanta | AB23: Inter | AC23: 0 | AD23: 0 | AE23: Nul | AH23: I1 | AJ23: Atalanta | AK23: Inter | AL23: 0 | AM23: 0 | AN23: Nul
A24: Atalanta
A25: Lazio
A26: Fiorentina
A27: Juventus
A28: Genoa
A29: Sassuolo
A30: Milan
A31: Salernitana
A32: Spezia
A33: Venezia

Sheet Feuil1
B2: Nbre de rencontres | D2: 6
B3: Equipe | D3: Atalanta
B7: Div | C7: HomeTeam | D7: AwayTeam | E7: Full Time Home Team Goals | F7: Full Time Away Team Goals | G7: FTR
B8: I1 | C8: Napoli | D8: Atalanta | E8: 2 | F8: 3 | G8: Défaite
B9: I1 | C9: Verona | D9: Atalanta | E9: 1 | F9: 2 | G9: Défaite
B10: I1 | C10: Atalanta | D10: Roma | E10: 1 | F10: 4 | G10: Défaite
B11: I1 | C11: Genoa | D11: Atalanta | E11: 0 | F11: 0 | G11: Nul
B12: I1 | C12: Udinese | D12: Atalanta | E12: 2 | F12: 6 | G12: Défaite
B13: I1 | C13: Atalanta | D13: Inter | E13: 0 | F13: 0 | G13: Nul
