Workbook

Sheet Feuil1
C2: 44562
C3: =C2 -> 44562 | D3: =DATE(YEAR(C3),MONTH(C3),DAY(C3)+1) -> 44563 | E3: =DATE(YEAR(D3),MONTH(D3),DAY(D3)+1) -> 44564 | F3: =DATE(YEAR(E3),MONTH(E3),DAY(E3)+1) -> 44565 | G3: =DATE(YEAR(F3),MONTH(F3),DAY(F3)+1) -> 44566 | H3: =DATE(YEAR(G3),MONTH(G3),DAY(G3)+1) -> 44567 | I3: =DATE(YEAR(H3),MONTH(H3),DAY(H3)+1) -> 44568 | J3: =DATE(YEAR(I3),MONTH(I3),DAY(I3)+1) -> 44569 | K3: =DATE(YEAR(J3),MONTH(J3),DAY(J3)+1) -> 44570 | ... AG3: =DATE(YEAR(AF3),MONTH(AF3),DAY(AF3)+1) -> 44592
C4: =IF(COUNTIFS(Feuil2!$E$2:$E$6,Feuil1!C3),"HB","") | D4: =IF(COUNTIFS(Feuil2!$E$2:$E$6,Feuil1!D3),"HB","") | E4: =IF(COUNTIFS(Feuil2!$E$2:$E$6,Feuil1!E3),"HB","") | F4: =IF(COUNTIFS(Feuil2!$E$2:$E$6,Feuil1!F3),"HB","") | G4: =IF(COUNTIFS(Feuil2!$E$2:$E$6,Feuil1!G3),"HB","") | H4: =IF(COUNTIFS(Feuil2!$E$2:$E$6,Feuil1!H3),"HB","") | I4: =IF(COUNTIFS(Feuil2!$E$2:$E$6,Feuil1!I3),"HB","") | J4: =IF(COUNTIFS(Feuil2!$E$2:$E$6,Feuil1!J3),"HB","") | ... AG4: =IF(COUNTIFS(Feuil2!$E$2:$E$6,Feuil1!AG3),"HB","")

Sheet Feuil2
C1: anniversaire (HB) | D1: Date naissance | E1: Anniversaire
C2: laurence | D2: 36917 | E2: =DATE(YEAR(TODAY()),MONTH(D2),DAY(D2)) -> 44587 | G2: 26.01.2001
C3: pascal | D3: 37516 | E3: =DATE(YEAR(TODAY()),MONTH(D3),DAY(D3)) -> 44821 | G3: 17.09.2002
C4: olivier | D4: 37111 | E4: =DATE(YEAR(TODAY()),MONTH(D4),DAY(D4)) -> 44781 | G4: 08.08.2001
C5: christine | D5: 38257 | E5: =DATE(YEAR(TODAY()),MONTH(D5),DAY(D5)) -> 44831 | G5: 27.09.2004
C6: huguette | D6: 37942 | E6: =DATE(YEAR(TODAY()),MONTH(D6),DAY(D6)) -> 44882 | G6: 17.11.2003
