Workbook

Sheet charge cdc pour état
B1: C/charge | C1: Dépa | D1: Article | E1: hrs chrg | F1: O/F | G1: Réf. | H1: Op | I1: Non soldé | J1: Début | K1: Ech OF | L1: Statut | M1: Réglage | N1: Tmp fab
B2: 21006 | C2: G00 | D2: 0UT136A002 | E2: 0.172 | F2: 9230738 | G2: 2460580 | H2: 7 | I2: 10 | J2: 44579 | K2: 44592 | M2: 0.172 | N2: 0
B3: 21006 | C3: G00 | D3: 0UT136A002 | E3: 0.172 | F3: 9230742 | G3: 2460581 | H3: 7 | I3: 10 | J3: 44579 | K3: 44592 | M3: 0.172 | N3: 0
B4: 21006 | C4: G00 | D4: 0UT185-005 | E4: 0.25 | F4: 10033217 | G4: 2490058 | H4: 20 | I4: 20 | J4: 44578 | K4: 44578 | M4: 0.25 | N4: 0
B5: 21006 | C5: G00 | D5: 0UT185-009 | E5: 0.083 | F5: 10033219 | G5: 2490060 | H5: 8 | I5: 10 | J5: 44573 | K5: 44585 | M5: 0.083 | N5: 0
B6: 21006 | C6: G00 | D6: 0UT185-009 | E6: 0.083 | F6: 10033220 | G6: 2490061 | H6: 8 | I6: 10 | J6: 44573 | K6: 44585 | M6: 0.083 | N6: 0
B7: 21006 | C7: G00 | D7: 0UT74-3 | E7: 0.5 | F7: 11073282 | G7: 2578241 | H7: 10 | I7: 200 | J7: 44914 | K7: 44937 | M7: 0.5 | N7: 0
B8: 21006 | C8: G00 | D8: 0UT87-1-008 | E8: 0.85 | F8: 12020708 | G8: 2630072 | H8: 23 | I8: 50 | J8: 44607 | K8: 44627 | M8: 0 | N8: 0.85
B9: 21006 | C9: G00 | D9: 12550-151 | E9: 0.172 | F9: 7050152 | G9: 2295609 | H9: 8 | I9: 21 | J9: 44700 | K9: 44820 | M9: 0.172 | N9: 0
B10: 21006 | C10: G00 | D10: 12550-151 | E10: 0.172 | F10: 7050153 | G10: 2295610 | H10: 8 | I10: 21 | J10: 44845 | K10: 44932 | M10: 0.172 | N10: 0
B11: 21006 | C11: G00 | D11: 12560-151 | E11: 0.138 | F11: 11152198 | G11: 1777060 | H11: 9 | I11: 50 | J11: 44606 | K11: 44693 | M11: 0.138 | N11: 0
B12: 21006 | C12: G00 | D12: 12560-151 | E12: 0.138 | F12: 7050162 | G12: 2295614 | H12: 9 | I12: 50 | J12: 44713 | K12: 44820 | M12: 0.138 | N12: 0
B13: 21006 | C13: G00 | D13: 12560-151 | E13: 0.138 | F13: 7050163 | G13: 2295615 | H13: 9 | I13: 50 | J13: 44881 | K13: 44953 | M13: 0.138 | N13: 0
... B36: 21006 | C36: G00 | D36: 2500-095 | E36: 0.5 | F36: 5286848 | G36: 1318984 | H36: 45 | I36: 25 | J36: 44896 | K36: 44903 | M36: 0.5 | N36: 0
B37: 21006 | C37: G00 | D37: 2505M095 | E37: 1.25 | F37: 8132485 | G37: 1518642 | H37: 45 | I37: 498 | J37: 44574 | K37: 44592 | L37: QUEUE | M37: 1.25 | N37: 0
B38: 21006 | C38: G00 | D38: 2505M095 | E38: 1.25 | F38: 8132488 | G38: 1518643 | H38: 45 | I38: 500 | J38: 44614 | K38: 44630 | M38: 1.25 | N38: 0
B39: 21006 | C39: G00 | D39: 2505M095 | E39: 1.25 | F39: 8132489 | G39: 1518644 | H39: 45 | I39: 500 | J39: 44649 | K39: 44664 | M39: 1.25 | N39: 0
B40: 21006 | C40: G00 | D40: 2505M095 | E40: 1.25 | F40: 1071231 | G40: 1883349 | H40: 45 | I40: 500 | J40: 44684 | K40: 44706 | M40: 1.25 | N40: 0
B41: 21006 | C41: G00 | D41: 2505M095 | E41: 1.25 | F41: 4010981 | G41: 2066214 | H41: 45 | I41: 500 | J41: 44726 | K41: 44743 | M41: 1.25 | N41: 0
B42: 21006 | C42: G00 | D42: 2505M095 | E42: 1.25 | F42: 6221326 | G42: 2258912 | H42: 45 | I42: 500 | J42: 44791 | K42: 44809 | M42: 1.25 | N42: 0
B43: 21006 | C43: G00 | D43: 2505M095 | E43: 1.25 | F43: 8011106 | G43: 2350643 | H43: 45 | I43: 500 | J43: 44845 | K43: 44860 | M43: 1.25 | N43: 0
B44: 21006 | C44: G00 | D44: 2505M095 | E44: 1.25 | F44: 8121617 | G44: 2372849 | H44: 45 | I44: 500 | J44: 44896 | K44: 44914 | M44: 1.25 | N44: 0
B45: 21006 | C45: G00 | D45: 2505U095 | E45: 0.5 | F45: 1171840 | G45: 1909676 | H45: 47 | I45: 250 | J45: 44585 | K45: 44599 | M45: 0.5 | N45: 0
B46: 21006 | C46: G00 | D46: 2505U095 | E46: 0.5 | F46: 2073126 | G46: 1959951 | H46: 47 | I46: 250 | J46: 44622 | K46: 44637 | M46: 0.5 | N46: 0
B47: 21006 | C47: G00 | D47: 2505U095 | E47: 0.5 | F47: 5061122 | G47: 2125608 | H47: 47 | I47: 250 | J47: 44678 | K47: 44692 | M47: 0.5 | N47: 0
B48: 21006 | C48: G00 | D48: 2505U095 | E48: 0.5 | F48: 6063874 | G48: 2198922 | H48: 47 | I48: 250 | J48: 44734 | K48: 44748 | M48: 0.5 | N48: 0
B49: 21006 | C49: G00 | D49: 2505U095 | E49: 0.5 | F49: 6068207 | G49: 2212859 | H49: 47 | I49: 250 | J49: 44802 | K49: 44816 | M49: 0.5 | N49: 0
... B53: 21006 | C53: G00 | D53: 2515-095 | E53: 0.25 | F53: 11181147 | G53: 2600651 | H53: 50 | I53: 158 | J53: 44648 | K53: 44658 | M53: 0.25 | N53: 0
B54: 21006 | C54: G00 | D54: 2515M095 | E54: 0.98875 | F54: 10181425 | G54: 1669804 | H54: 45 | I54: 197 | J54: 44572 | K54: 44581 | L54: QUEUE | M54: 0.25 | N54: 0.73875
B55: 21006 | C55: G00 | D55: 2515M095 | E55: 1 | F55: 12031621 | G55: 1814343 | H55: 45 | I55: 200 | J55: 44637 | K55: 44649 | M55: 0.25 | N55: 0.75
B56: 21006 | C56: G00 | D56: 2515M095 | E56: 1 | F56: 12201470 | G56: 1859323 | H56: 45 | I56: 200 | J56: 44720 | K56: 44732 | M56: 0.25 | N56: 0.75
B57: 21006 | C57: G00 | D57: 2515M095 | E57: 1 | F57: 1280790 | G57: 1937327 | H57: 45 | I57: 200 | J57: 44802 | K57: 44811 | M57: 0.25 | N57: 0.75
B58: 21006 | C58: G00 | D58: 2515M095 | E58: 1 | F58: 3181566 | G58: 2035666 | H58: 45 | I58: 200 | J58: 44858 | K58: 44873 | M58: 0.25 | N58: 0.75
B59: 21006 | C59: G00 | D59: 2515M095 | E59: 1 | F59: 6107825 | G59: 2222112 | H59: 45 | I59: 200 | J59: 44914 | K59: 44930 | M59: 0.25 | N59: 0.75
B60: 21006 | C60: G00 | D60: 2520M095 | E60: 0.01 | F60: 3040365 | G60: 2010849 | H60: 40 | I60: 100 | J60: 44603 | K60: 44620 | M60: 0.01 | N60: 0
B61: 21006 | C61: G00 | D61: 2520M095 | E61: 0.01 | F61: 6170539 | G61: 2250647 | H61: 40 | I61: 200 | J61: 44684 | K61: 44708 | M61: 0.01 | N61: 0
B62: 21006 | C62: G00 | D62: 2520M095 | E62: 0.01 | F62: 10140584 | G62: 2526712 | H62: 40 | I62: 200 | J62: 44771 | K62: 44803 | M62: 0.01 | N62: 0
B63: 21006 | C63: G00 | D63: 2525M095 | E63: 0.5 | F63: 8161991 | G63: 1524598 | H63: 42 | I63: 240 | J63: 44600 | K63: 44609 | M63: 0.5 | N63: 0
B64: 21006 | C64: G00 | D64: 2525M095 | E64: 0.5 | F64: 1072419 | G64: 1884042 | H64: 42 | I64: 240 | J64: 44652 | K64: 44663 | M64: 0.5 | N64: 0
B65: 21006 | C65: G00 | D65: 2525M095 | E65: 0.5 | F65: 1072420 | G65: 1884043 | H65: 42 | I65: 240 | J65: 44694 | K65: 44712 | M65: 0.5 | N65: 0
...

Sheet Feuil1
B1: Charge à venir ebavurage tôlerie | C1: Recherche V | D1: Codes articles dans la charge et connus | E1: Heures de charge | F1: Codes articles dans la charge et passant par tonneau vert | G1: Heures de charge
B2: 0UT136A002 | C2: =VLOOKUP($B2,Feuil2!C:C,1,FALSE) -> #N/A | D2: 0UT185-005 | E2: =INDEX(t_Charge[hrs chrg],MATCH(D2,t_Charge[Article],0)) -> 0.25 | F2: =VLOOKUP($D2,Feuil2!D:D,1,FALSE) -> #N/A
B3: 0UT136A002 | C3: =VLOOKUP($B3,Feuil2!C:C,1,FALSE) -> #N/A | D3: 0UT74-3 | E3: =INDEX(t_Charge[hrs chrg],MATCH(D3,t_Charge[Article],0)) -> 0.5 | F3: =VLOOKUP($D3,Feuil2!D:D,1,FALSE) -> #N/A
B4: 0UT185-005 | C4: =VLOOKUP($B4,Feuil2!C:C,1,FALSE) -> 0UT185-005 | D4: 0UT87-1-008 | E4: =INDEX(t_Charge[hrs chrg],MATCH(D4,t_Charge[Article],0)) -> 0.85 | F4: =VLOOKUP($D4,Feuil2!D:D,1,FALSE) -> #N/A
B5: 0UT185-009 | C5: =VLOOKUP($B5,Feuil2!C:C,1,FALSE) -> #N/A | D5: 12590K311 | E5: =INDEX(t_Charge[hrs chrg],MATCH(D5,t_Charge[Article],0)) -> 0.5 | F5: =VLOOKUP($D5,Feuil2!D:D,1,FALSE) -> #N/A
B6: 0UT185-009 | C6: =VLOOKUP($B6,Feuil2!C:C,1,FALSE) -> #N/A | D6: 1430-251 | E6: =INDEX(t_Charge[hrs chrg],MATCH(D6,t_Charge[Article],0)) -> 0.5 | F6: =VLOOKUP($D6,Feuil2!D:D,1,FALSE) -> #N/A | K6: NB de CA à venir dans la charge : | L6: 1809 | M6: =402/L6 -> 0.22222222
B7: 0UT74-3 | C7: =VLOOKUP($B7,Feuil2!C:C,1,FALSE) -> 0UT74-3 | D7: 1450-075 | E7: =INDEX(t_Charge[hrs chrg],MATCH(D7,t_Charge[Article],0)) -> 0.5 | F7: =VLOOKUP($D7,Feuil2!D:D,1,FALSE) -> 1450-075 | K7: CA dans la charge connus du secteur : | L7: 442
B8: 0UT87-1-008 | C8: =VLOOKUP($B8,Feuil2!C:C,1,FALSE) -> 0UT87-1-008 | D8: 1670-025 | E8: =INDEX(t_Charge[hrs chrg],MATCH(D8,t_Charge[Article],0)) -> 0.112 | F8: =VLOOKUP($D8,Feuil2!D:D,1,FALSE) -> 1670-025 | K8: CA dans la charge dans tonneau vert : | L8: 250
B9: 12550-151 | C9: =VLOOKUP($B9,Feuil2!C:C,1,FALSE) -> #N/A | D9: 1670-025 | E9: =INDEX(t_Charge[hrs chrg],MATCH(D9,t_Charge[Article],0)) -> 0.112 | F9: =VLOOKUP($D9,Feuil2!D:D,1,FALSE) -> 1670-025
B10: 12550-151 | C10: =VLOOKUP($B10,Feuil2!C:C,1,FALSE) -> #N/A | D10: 1670-113 | E10: =INDEX(t_Charge[hrs chrg],MATCH(D10,t_Charge[Article],0)) -> 0.5 | F10: =VLOOKUP($D10,Feuil2!D:D,1,FALSE) -> 1670-113
B11: 12560-151 | C11: =VLOOKUP($B11,Feuil2!C:C,1,FALSE) -> #N/A | D11: 1670-113 | E11: =INDEX(t_Charge[hrs chrg],MATCH(D11,t_Charge[Article],0)) -> 0.5 | F11: =VLOOKUP($D11,Feuil2!D:D,1,FALSE) -> 1670-113
B12: 12560-151 | C12: =VLOOKUP($B12,Feuil2!C:C,1,FALSE) -> #N/A | D12: 2100-135 | E12: =INDEX(t_Charge[hrs chrg],MATCH(D12,t_Charge[Article],0)) -> 0.5 | F12: =VLOOKUP($D12,Feuil2!D:D,1,FALSE) -> #N/A
B13: 12560-151 | C13: =VLOOKUP($B13,Feuil2!C:C,1,FALSE) -> #N/A | D13: 2100-135 | E13: =INDEX(t_Charge[hrs chrg],MATCH(D13,t_Charge[Article],0)) -> 0.5 | F13: =VLOOKUP($D13,Feuil2!D:D,1,FALSE) -> #N/A | K13: Pourcentage de CA connus du secteur passant par le tonneau vert : | L13: =L8/L7 -> 0.56561086
B14: 12570-151 | C14: =VLOOKUP($B14,Feuil2!C:C,1,FALSE) -> #N/A | D14: 21600-064 | E14: =INDEX(t_Charge[hrs chrg],MATCH(D14,t_Charge[Article],0)) -> 0.5 | F14: =VLOOKUP($D14,Feuil2!D:D,1,FALSE) -> #N/A
B15: 12570-151 | C15: =VLOOKUP($B15,Feuil2!C:C,1,FALSE) -> #N/A | D15: 21600-064 | E15: =INDEX(t_Charge[hrs chrg],MATCH(D15,t_Charge[Article],0)) -> 0.5 | F15: =VLOOKUP($D15,Feuil2!D:D,1,FALSE) -> #N/A
B16: 12570-151 | C16: =VLOOKUP($B16,Feuil2!C:C,1,FALSE) -> #N/A | D16: 21600-064 | E16: =INDEX(t_Charge[hrs chrg],MATCH(D16,t_Charge[Article],0)) -> 0.5 | F16: =VLOOKUP($D16,Feuil2!D:D,1,FALSE) -> #N/A
B17: 12570-151 | C17: =VLOOKUP($B17,Feuil2!C:C,1,FALSE) -> #N/A | D17: 21600-064 | E17: =INDEX(t_Charge[hrs chrg],MATCH(D17,t_Charge[Article],0)) -> 0.5 | F17: =VLOOKUP($D17,Feuil2!D:D,1,FALSE) -> #N/A
B18: 12570-151 | C18: =VLOOKUP($B18,Feuil2!C:C,1,FALSE) -> #N/A | D18: 21600-064 | E18: =INDEX(t_Charge[hrs chrg],MATCH(D18,t_Charge[Article],0)) -> 0.5 | F18: =VLOOKUP($D18,Feuil2!D:D,1,FALSE) -> #N/A
B19: 12570-151 | C19: =VLOOKUP($B19,Feuil2!C:C,1,FALSE) -> #N/A | D19: 2500-095 | F19: =VLOOKUP($D19,Feuil2!D:D,1,FALSE) -> 2500-095
B20: 12570-151 | C20: =VLOOKUP($B20,Feuil2!C:C,1,FALSE) -> #N/A | D20: 2500-095 | F20: =VLOOKUP($D20,Feuil2!D:D,1,FALSE) -> 2500-095 | K20: 35986 pièces tout statut confondus | M20: =35986/269 -> 133.77695 | N20: Nb de pièces par jour
B21: 12590K311 | C21: =VLOOKUP($B21,Feuil2!C:C,1,FALSE) -> 12590K311 | D21: 2505M095 | F21: =VLOOKUP($D21,Feuil2!D:D,1,FALSE) -> 2505M095
B22: 1430-251 | C22: =VLOOKUP($B22,Feuil2!C:C,1,FALSE) -> 1430-251 | D22: 2505M095 | F22: =VLOOKUP($D22,Feuil2!D:D,1,FALSE) -> 2505M095
B23: 1450-075 | C23: =VLOOKUP($B23,Feuil2!C:C,1,FALSE) -> 1450-075 | D23: 2505M095 | F23: =VLOOKUP($D23,Feuil2!D:D,1,FALSE) -> 2505M095
B24: 1670-025 | C24: =VLOOKUP($B24,Feuil2!C:C,1,FALSE) -> 1670-025 | D24: 2505M095 | F24: =VLOOKUP($D24,Feuil2!D:D,1,FALSE) -> 2505M095
B25: 1670-025 | C25: =VLOOKUP($B25,Feuil2!C:C,1,FALSE) -> 1670-025 | D25: 2505M095 | F25: =VLOOKUP($D25,Feuil2!D:D,1,FALSE) -> 2505M095
B26: 1670-113 | C26: =VLOOKUP($B26,Feuil2!C:C,1,FALSE) -> 1670-113 | D26: 2505M095 | F26: =VLOOKUP($D26,Feuil2!D:D,1,FALSE) -> 2505M095
B27: 1670-113 | C27: =VLOOKUP($B27,Feuil2!C:C,1,FALSE) -> 1670-113 | D27: 2505M095 | F27: =VLOOKUP($D27,Feuil2!D:D,1,FALSE) -> 2505M095
B28: 2100-135 | C28: =VLOOKUP($B28,Feuil2!C:C,1,FALSE) -> 2100-135 | D28: 2505M095 | F28: =VLOOKUP($D28,Feuil2!D:D,1,FALSE) -> 2505M095
B29: 2100-135 | C29: =VLOOKUP($B29,Feuil2!C:C,1,FALSE) -> 2100-135 | D29: 2505U095 | F29: =VLOOKUP($D29,Feuil2!D:D,1,FALSE) -> 2505U095
B30: 21600-064 | C30: =VLOOKUP($B30,Feuil2!C:C,1,FALSE) -> 21600-064 | D30: 2505U095 | F30: =VLOOKUP($D30,Feuil2!D:D,1,FALSE) -> 2505U095
B31: 21600-064 | C31: =VLOOKUP($B31,Feuil2!C:C,1,FALSE) -> 21600-064 | D31: 2505U095 | F31: =VLOOKUP($D31,Feuil2!D:D,1,FALSE) -> 2505U095
B32: 21600-064 | C32: =VLOOKUP($B32,Feuil2!C:C,1,FALSE) -> 21600-064 | D32: 2505U095 | F32: =VLOOKUP($D32,Feuil2!D:D,1,FALSE) -> 2505U095
... B443: CL2196 | C443: =VLOOKUP($B443,Feuil2!C:C,1,FALSE) -> #N/A | D443: ZZ1235 | F443: =VLOOKUP($D443,Feuil2!D:D,1,FALSE) -> #N/A
B444: CL2197 | C444: =VLOOKUP($B444,Feuil2!C:C,1,FALSE) -> CL2197
B445: CL2197 | C445: =VLOOKUP($B445,Feuil2!C:C,1,FALSE) -> CL2197
B446: CL2198 | C446: =VLOOKUP($B446,Feuil2!C:C,1,FALSE) -> CL2198
B447: CL2198 | C447: =VLOOKUP($B447,Feuil2!C:C,1,FALSE) -> CL2198
B448: CL2199 | C448: =VLOOKUP($B448,Feuil2!C:C,1,FALSE) -> CL2199
B449: CL2199 | C449: =VLOOKUP($B449,Feuil2!C:C,1,FALSE) -> CL2199
B450: CL2199 | C450: =VLOOKUP($B450,Feuil2!C:C,1,FALSE) -> CL2199
...

Sheet Feuil2
C1: CODE ARTICLE EBAVURAGE TONNEAU | D1: CODES ARTICLES TONNEAU VERT
C2: 2069188 | D2: 1410-018
C3: 00DF1 | D3: 1420-086
C4: 0-310-017 | D4: 1420-151
C5: 0UT180-08 | D5: 1440-074
C6: 0UT185-005 | D6: 1440-082
C7: 0UT57A-004 | D7: 1440-151
C8: 0UT74-3 | D8: 1450-051
C9: 0UT87-1-008 | D9: 1450-075
C10: 0UT93-005 | D10: 1480-086
C11: 1-2141-213 | D11: 1670-025
C12: 1235-062 | D12: 1670-113
C13: 1235-064 | D13: 1910-037
C14: 12590K311 | D14: 21600-135
... C119: 21600-171 | D119: CZ0000159Y
C120: 21601-032 | D120: 2069188
C121: 21601-034 | D121: ZS021226Y00
C122: 21607-014
C123: 21700-022
C124: 21700-095
C125: 21700F025
C126: 220B1-055
C127: 2220-111
C128: 222C055-03
C129: 222C055-04
C130: 222C055-05
C131: 2-251-045
C132: 22550-088
C133: 230-029-15
... C1179: ZZ1235

Sheet Feuil3
C2: CA Uniques | D2: Correspondance
C3: 0UT136A002 | D3: =VLOOKUP($C3,Feuil2!C:C,1,FALSE) -> #N/A
C4: 0UT185-005 | D4: =VLOOKUP($C4,Feuil2!C:C,1,FALSE) -> 0UT185-005
C5: 0UT185-009 | D5: =VLOOKUP($C5,Feuil2!C:C,1,FALSE) -> #N/A | G5: =101/682 -> 0.14809384
C6: 0UT74-3 | D6: =VLOOKUP($C6,Feuil2!C:C,1,FALSE) -> 0UT74-3
C7: 0UT87-1-008 | D7: =VLOOKUP($C7,Feuil2!C:C,1,FALSE) -> 0UT87-1-008
C8: 12550-151 | D8: =VLOOKUP($C8,Feuil2!C:C,1,FALSE) -> #N/A
C9: 12560-151 | D9: =VLOOKUP($C9,Feuil2!C:C,1,FALSE) -> #N/A
C10: 12570-151 | D10: =VLOOKUP($C10,Feuil2!C:C,1,FALSE) -> #N/A
C11: 12590K311 | D11: =VLOOKUP($C11,Feuil2!C:C,1,FALSE) -> 12590K311
C12: 1430-251 | D12: =VLOOKUP($C12,Feuil2!C:C,1,FALSE) -> 1430-251
C13: 1450-075 | D13: =VLOOKUP($C13,Feuil2!C:C,1,FALSE) -> 1450-075
C14: 1670-025 | D14: =VLOOKUP($C14,Feuil2!C:C,1,FALSE) -> 1670-025
C15: 1670-113 | D15: =VLOOKUP($C15,Feuil2!C:C,1,FALSE) -> 1670-113
C16: 2100-135 | D16: =VLOOKUP($C16,Feuil2!C:C,1,FALSE) -> 2100-135
C17: 21600-064 | D17: =VLOOKUP($C17,Feuil2!C:C,1,FALSE) -> 21600-064
... C684: ZZ1235 | D684: =VLOOKUP($C684,Feuil2!C:C,1,FALSE) -> ZZ1235
