Workbook
Name __bookmark_1: #REF!
Name __bookmark_2: #REF!
Name Action: #REF!
Name B_PERIOD: [8]DATAMART!$F$2
Name BFC_OEM: [9]I!$H$1:$I$29
Name Data_M3: #REF!
Name HY_aging_range: #REF!
Name HYAging: #REF!
Name HypDateTimeFormat: "dd/mm/yy"
Name HypIntgFormat: "#,##0"
Name HypRealFormat: "0.#####"
Name Item_Group: [9]I!$A$2:$B$9
Name Item_Grp: [11]I!$A$2:$B$9
Name OKCFC6_Dim_5: [9]I!$L$2:$N$521
Name PBH_Listing: [9]I!$D$4:$D$16
Name PIC: #REF!

Sheet Présentation
C3: Previous ROFO | G3: Actual + ROFO 3 mois | I3: Actual | J3: NEW ROFO | N3: YTD | O3: YTD | S3: Actu3
B4: External Sales | C4: November | D4: December | E4: janv.22 | I4: November | J4: Décembre | K4: 44562 | L4: Fév.22 | N4: November | O4: Total 2021 | P4: Janv&Fév 22
B6: SME | C6: =+(Data!#REF!+Data!#REF!)/#REF! -> #REF! | D6: =+(Data!#REF!+Data!#REF!)/#REF! -> #REF! | E6: =+(Data!#REF!+Data!#REF!)/#REF! -> #REF! | G6: =(SUM(Data!C4:L5)+SUM(Data!#REF!))/Présentation!G14 -> #REF! | I6: =+(Data!M4+Data!M5)/#REF! -> #REF! | J6: =+(Data!#REF!+Data!#REF!)/#REF! -> #REF! | K6: =+(Data!#REF!+Data!#REF!)/#REF! -> #REF! | L6: =+(Data!#REF!+Data!#REF!)/#REF! -> #REF! | N6: =+(Data!#REF!+Data!#REF!)/N14 -> #REF! | O6: =N6+J6 -> #REF! | P6: =SUM(K6:L6) -> #REF! | S6: 22685
B7: SES | C7: =+(#REF!+#REF!) -> #REF! | D7: =+(#REF!+#REF!) -> #REF! | E7: =+(#REF!+#REF!) -> #REF! | G7: =SUM(#REF!)+SUM(#REF!) -> #REF! | I7: =+(#REF!+#REF!) -> #REF! | J7: =+(#REF!+#REF!) -> #REF! | K7: =+(#REF!+#REF!) -> #REF! | L7: =+(#REF!+#REF!) -> #REF! | N7: =+(#REF!+#REF!) -> #REF! | O7: =N7+J7 -> #REF! | P7: =SUM(K7:L7) -> #REF! | S7: 121452
B8: SAK | C8: =+(#REF!+#REF!)/$C$14 -> #REF! | D8: =+(#REF!+#REF!)/$C$14 -> #REF! | E8: =+(#REF!+#REF!)/$C$14 -> #REF! | G8: =(SUM(#REF!)+SUM(#REF!))/Présentation!G14 -> #REF! | I8: =+(#REF!+#REF!)/#REF! -> #REF! | J8: =+(#REF!+#REF!)/#REF! -> #REF! | K8: =+(#REF!+#REF!)/#REF! -> #REF! | L8: =+(#REF!+#REF!)/#REF! -> #REF! | N8: =+(#REF!+#REF!)/N14 -> #REF! | O8: =N8+J8 -> #REF! | P8: =SUM(K8:L8) -> #REF! | S8: 26220
B9: SSS | C9: =+(#REF!+#REF!)/$C$14 -> #REF! | D9: =+(#REF!+#REF!)/$C$14 -> #REF! | E9: =+(#REF!+#REF!)/$C$14 -> #REF! | G9: =(SUM(#REF!)+SUM(#REF!))/Présentation!G14 -> #REF! | I9: =+(#REF!+#REF!)/#REF! -> #REF! | J9: =+(#REF!+#REF!)/#REF! -> #REF! | K9: =+(#REF!+#REF!)/#REF! -> #REF! | L9: =+(#REF!+#REF!)/#REF! -> #REF! | N9: =+(#REF!+#REF!)/N14 -> #REF! | O9: =N9+J9 -> #REF! | P9: =SUM(K9:L9) -> #REF! | S9: 72562
B10: SAU | C10: =+(#REF!+#REF!)/$C$14 -> #REF! | D10: =+(#REF!+#REF!)/$C$14 -> #REF! | E10: =+(#REF!+#REF!)/$C$14 -> #REF! | G10: =(SUM(#REF!)+SUM(#REF!))/Présentation!G14 -> #REF! | I10: =+(#REF!+#REF!)/#REF! -> #REF! | J10: =+(#REF!+#REF!)/#REF! -> #REF! | K10: =+(#REF!+#REF!)/#REF! -> #REF! | L10: =+(#REF!+#REF!)/#REF! -> #REF! | N10: =+(#REF!+#REF!)/N14 -> #REF! | O10: =N10+J10 -> #REF! | P10: =SUM(K10:L10) -> #REF! | S10: 128362
B11: TSRV | C11: =+(#REF!+#REF!) -> #REF! | D11: =+(#REF!+#REF!) -> #REF! | E11: =+(#REF!+#REF!) -> #REF! | G11: =SUM(#REF!)+SUM(#REF!) -> #REF! | I11: =+(#REF!+#REF!) -> #REF! | J11: =+(#REF!+#REF!) -> #REF! | K11: =+(#REF!+#REF!) -> #REF! | L11: =+(#REF!+#REF!) -> #REF! | N11: =+(#REF!+#REF!) -> #REF! | O11: =N11+J11 -> #REF! | P11: =SUM(K11:L11) -> #REF!
B13: Total | C13: =SUM(C6:C11) -> #REF! | D13: =SUM(D6:D11) -> #REF! | E13: =SUM(E6:E11) -> #REF! | G13: =SUM(G6:G11) -> #REF! | I13: =+I6+I7+I8+I9+I10+I11 -> #REF! | J13: =+J6+J7+J8+J9+J10+J11 -> #REF! | K13: =+K6+K7+K8+K9+K10+K11 -> #REF! | L13: =+L6+L7+L8+L9+L10+L11 -> #REF! | N13: =+N6+N7+N8+N9+N10+N11 -> #REF! | O13: =+O6+O7+O8+O9+O10+O11 -> #REF! | P13: =+P6+P7+P8+P9+P10+P11 -> #REF! | S13: =SUM(S6:S11) -> 371281
C14: 1.16006 | D14: 1.16006 | E14: 1.16006 | G14: 1.16 | I14: 1.16006 | J14: 1.16006 | K14: 1.16006 | L14: 1.16006 | N14: 1.1606 | O14: 1.16 | P14: 1.16 | S14: 1.16
B16: Iso taux | C16: =+(C6+C8+C9+C10)*C14/I14+C7 -> #REF! | D16: =+(D6+D8+D9+D10)*D14/J14+D7 -> #REF! | E16: =+(E6+E8+E9+E10)*E14/K14+E7 -> #REF! | I16: =+I13-C16 -> #REF! | J16: =+J13-D16 -> #REF! | K16: =+K13-E16 -> #REF!
C18: Previous ROFO | G18: Actual + ROFO 3 mois | I18: Actual | J18: NEW ROFO | N18: YTD | O18: YTD | S18: Actu3
B19: EBIT provided | C19: November | D19: December | E19: janv.22 | I19: November | J19: Décembre | K19: 44562 | L19: Fév.22 | N19: November | O19: Total 2021 | P19: Janv&Fév 22
B21: SME | C21: 59.139 | D21: -533.951 | E21: =Data!#REF!/#REF! -> #REF! | G21: =(SUM(Data!C29:L29)+SUM(Data!#REF!))/$G$14 -> #REF! | I21: =Data!M29/#REF! -> #REF! | J21: =+Data!#REF!/#REF! -> #REF! | K21: =+Data!#REF!/#REF! -> #REF! | L21: =+Data!#REF!/#REF! -> #REF! | N21: =SUM(Data!#REF!)/N14 -> #REF! | O21: =N21+J21 -> #REF! | P21: =SUM(K21:L21) -> #REF! | S21: -226
B22: SES | C22: 215.7 | D22: -1629.799 | E22: =#REF! -> #REF! | G22: =SUM(#REF!)+SUM(#REF!) -> #REF! | I22: =#REF! -> #REF! | J22: =+#REF! -> #REF! | K22: =+#REF! -> #REF! | L22: =+#REF! -> #REF! | N22: =#REF! -> #REF! | O22: =N22+J22 -> #REF! | P22: =SUM(K22:L22) -> #REF! | S22: -7911
B23: of which FX inv SES | C23: =#REF! -> #REF! | D23: =#REF! -> #REF! | E23: =#REF! -> #REF! | G23: =SUM(#REF!)+SUM(#REF!) -> #REF! | I23: =#REF! -> #REF! | J23: =+#REF! -> #REF! | K23: =+#REF! -> #REF! | L23: =+#REF! -> #REF! | N23: =#REF! -> #REF! | O23: =N23+J23 -> #REF! | P23: =SUM(K23:L23) -> #REF! | S23: =#REF! -> #REF!
B24: SAK | C24: -114.54 | D24: -126.85 | E24: =#REF!/#REF! -> #REF! | G24: =(SUM(#REF!)+SUM(#REF!))/$G$14 -> #REF! | I24: =#REF!/#REF! -> #REF! | J24: =+#REF!/#REF! -> #REF! | K24: =+#REF!/#REF! -> #REF! | L24: =+#REF!/#REF! -> #REF! | N24: =#REF!/N14 -> #REF! | O24: =N24+J24 -> #REF! | P24: =SUM(K24:L24) -> #REF! | S24: -645
B25: SSS | C25: 217.08 | D25: 214.037 | E25: =#REF!/#REF! -> #REF! | G25: =(SUM(#REF!)+SUM(#REF!))/$G$14 -> #REF! | I25: =#REF!/#REF! -> #REF! | J25: =+#REF!/#REF! -> #REF! | K25: =+#REF!/#REF! -> #REF! | L25: =+#REF!/#REF! -> #REF! | N25: =#REF!/N14 -> #REF! | O25: =N25+J25 -> #REF! | P25: =SUM(K25:L25) -> #REF! | S25: 1876
B26: SAU | C26: 393 | D26: 674.47 | E26: =#REF!/#REF! -> #REF! | G26: =(SUM(#REF!)+SUM(#REF!))/$G$14 -> #REF! | I26: =#REF!/#REF! -> #REF! | J26: =+#REF!/#REF! -> #REF! | K26: =+#REF!/#REF! -> #REF! | L26: =+#REF!/#REF! -> #REF! | N26: =#REF!/N14 -> #REF! | O26: =N26+J26 -> #REF! | P26: =SUM(K26:L26) -> #REF! | S26: 1383
B27: TSRV | C27: 450 | D27: -110 | E27: 200 | G27: =SUM(#REF!)+SUM(#REF!) -> #REF! | I27: =#REF! -> #REF! | J27: =+#REF! -> #REF! | K27: =+#REF! -> #REF! | L27: =+#REF! -> #REF! | N27: 0 | O27: =N27+J27 -> #REF! | P27: =SUM(K27:L27) -> #REF! | S27: -1511
B29: Total | C29: =C21+C22+C24+C25+C26+C27 -> 1220.379 | D29: =D21+D22+D24+D25+D26+D27 -> -1512.093 | E29: =E21+E22+E24+E25+E26+E27 -> #REF! | G29: =G21+G22+G24+G25+G26+G27 -> #REF! | I29: =+I21+I22+I24+I25+I26+I27 -> #REF! | J29: =+J21+J22+J24+J25+J26+J27 -> #REF! | K29: =+K21+K22+K24+K25+K26+K27 -> #REF! | L29: =+L21+L22+L24+L25+L26+L27 -> #REF! | N29: =+N21+N22+N24+N25+N26+N27 -> #REF! | O29: =+O21+O22+O24+O25+O26+O27 -> #REF! | P29: =+P21+P22+P24+P25+P26+P27 -> #REF! | S29: =S21+S22+S24+S25+S26+S27 -> -7034
E33: Revoir DSRV …

Sheet Feuil1
B1: Selectionnez un "mois" | C1: $ | N1: Mois | O1: Taux | Y1: January
B2: June | C2: SME | N2: January | O2: 1.22 | Y2: February
B3: TEST | E3: Résultat attendu pour June: | N3: February | O3: 1.21 | Y3: March
B4: ESS | C4: =INDEX(Data!$B3:$N$31,MATCH(Feuil1!$B$4,Data!$B$3:$B$31,0),MATCH(Feuil1!$B$2,Data!$B$3:$N$3,0)) / INDEX($O$2:$O$12,MATCH($B$2,$N$2:$N$12,0)) -> 92.966889 | E4: =C4/$O$7 -> 77.168236 | N4: March | O4: 1.193 | Y4: April
B5: EMRO | C5: =INDEX(Data!$B4:$N$31,MATCH(Feuil1!$B$4,Data!$B$3:$B$31,0),MATCH(Feuil1!$B$2,Data!$B$3:$N$3,0)) / INDEX($O$2:$O$12,MATCH($B$2,$N$2:$N$12,0)) -> 276.41048 | E5: =C5/$O$7 -> 229.4377 | N5: April | O5: 1.1975 | Y5: May
B6: SIS | C6: =INDEX(Data!$B5:$N$31,MATCH(Feuil1!$B$4,Data!$B$3:$B$31,0),MATCH(Feuil1!$B$2,Data!$B$3:$N$3,0)) / INDEX($O$2:$O$12,MATCH($B$2,$N$2:$N$12,0)) -> 92.966889 | E6: =C6/$O$7 -> 77.168236 | N6: May | O6: 1.2146 | Y6: June
B7: SG | C7: =INDEX(Data!$B6:$N$31,MATCH(Feuil1!$B$4,Data!$B$3:$B$31,0),MATCH(Feuil1!$B$2,Data!$B$3:$N$3,0)) / INDEX($O$2:$O$12,MATCH($B$2,$N$2:$N$12,0)) -> 92.966889 | E7: =C7/$O$7 -> 77.168236 | N7: June | O7: 1.20473 | Y7: NA
N8: NA | Y8: July + August
B9: Total Sales | C9: =INDEX(Data!$B8:$N$31,MATCH(Feuil1!$B$4,Data!$B$3:$B$31,0),MATCH(Feuil1!$B$2,Data!$B$3:$N$3,0)) -> 669 | E9: =C9/$O$7 -> 555.31115 | N9: July + August | O9: 1.18 | Y9: September
B10: Dont piece | C10: =INDEX(Data!$B9:$N$31,MATCH(Feuil1!$B$4,Data!$B$3:$B$31,0),MATCH(Feuil1!$B$2,Data!$B$3:$N$3,0)) -> 112 | E10: =C10/$O$7 -> 92.966889 | N10: September | O10: 1.17694 | Y10: October
B11: Dont Rep | C11: =INDEX(Data!$B10:$N$31,MATCH(Feuil1!$B$4,Data!$B$3:$B$31,0),MATCH(Feuil1!$B$2,Data!$B$3:$N$3,0)) -> 112 | E11: =C11/$O$7 -> 92.966889 | N11: October | O11: 1.16006 | Y11: November
B12: Dont SS | C12: =INDEX(Data!$B11:$N$31,MATCH(Feuil1!$B$4,Data!$B$3:$B$31,0),MATCH(Feuil1!$B$2,Data!$B$3:$N$3,0)) -> 545 | E12: =C12/$O$7 -> 452.38352 | N12: November | O12: 1.16006
B13: Dont TT | C13: =INDEX(Data!$B12:$N$31,MATCH(Feuil1!$B$4,Data!$B$3:$B$31,0),MATCH(Feuil1!$B$2,Data!$B$3:$N$3,0)) -> 112 | E13: =C13/$O$7 -> 92.966889
B15: ESM | C15: =INDEX(Data!$B14:$N$31,MATCH(Feuil1!$B$4,Data!$B$3:$B$31,0),MATCH(Feuil1!$B$2,Data!$B$3:$N$3,0)) -> 112 | E15: =C15/$O$7 -> 92.966889
B16: % marge | C16: =IFERROR(+C15/C4,"0") -> 1.20473
B17: EMM | C17: =INDEX(Data!$B16:$N$31,MATCH(Feuil1!$B$4,Data!$B$3:$B$31,0),MATCH(Feuil1!$B$2,Data!$B$3:$N$3,0)) -> 112 | E17: =C17/$O$7 -> 92.966889
B18: % marge | C18: =+C17/C5 -> 0.40519447
B19: ISM | C19: =INDEX(Data!$B18:$N$31,MATCH(Feuil1!$B$4,Data!$B$3:$B$31,0),MATCH(Feuil1!$B$2,Data!$B$3:$N$3,0)) -> 112 | E19: =C19/$O$7 -> 92.966889
B20: % marge | C20: =+C19/C6 -> 1.20473
B21: GOS | C21: =INDEX(Data!$B20:$N$31,MATCH(Feuil1!$B$4,Data!$B$3:$B$31,0),MATCH(Feuil1!$B$2,Data!$B$3:$N$3,0)) -> 112 | E21: =C21/$O$7 -> 92.966889
B22: % marge | C22: =+C21/C7 -> 1.20473
B23: Total Gross Margin on COGs | C23: =C15+C17+C19+C21 -> 448 | E23: =C23/$O$7 -> 371.86756
B25: Frais | C25: =INDEX(Data!$B24:$N$31,MATCH(Feuil1!$B$4,Data!$B$3:$B$31,0),MATCH(Feuil1!$B$2,Data!$B$3:$N$3,0)) -> 112 | E25: =C25/$O$7 -> 92.966889
B26: Autres | C26: =INDEX(Data!$B25:$N$31,MATCH(Feuil1!$B$4,Data!$B$3:$B$31,0),MATCH(Feuil1!$B$2,Data!$B$3:$N$3,0)) -> 112 | E26: =C26/$O$7 -> 92.966889
B27: Non prod | C27: =INDEX(Data!$B26:$N$31,MATCH(Feuil1!$B$4,Data!$B$3:$B$31,0),MATCH(Feuil1!$B$2,Data!$B$3:$N$3,0)) -> 112 | E27: =C27/$O$7 -> 92.966889
B28: Autres | C28: =INDEX(Data!$B27:$N$31,MATCH(Feuil1!$B$4,Data!$B$3:$B$31,0),MATCH(Feuil1!$B$2,Data!$B$3:$N$3,0)) -> 112 | E28: =C28/$O$7 -> 92.966889
B29: EBIT | C29: =INDEX(Data!$B28:$N$31,MATCH(Feuil1!$B$4,Data!$B$3:$B$31,0),MATCH(Feuil1!$B$2,Data!$B$3:$N$3,0)) -> 896 | E29: =C29/$O$7 -> 743.73511
B31: Inventory | C31: =INDEX(Data!$B$3:$M$30,MATCH(Feuil1!$B$31,Data!$B$3:$B$30,0),MATCH(Feuil1!$B$2,Data!$B$3:$M$3,0)) -> #N/A
B35: Bonjour à tous,
B37: ﻿Après recherche sur le forum, je n'ai pas trouvé la réponse à ma question. Du coup, je vous sollicite pour une petite aide dans ma fonction.
B39: Sur l'onglet "Feuil1", une formule Index Equiv va chercher dans l'onglet data des valeurs.
B41: Je souhaite ajouter une formule pour utiliser un "taux devise" en fonction du mois sélectionner.
B43: Exemple: lorsque je clique sur la cellule B2 pour sélectionner le mois, la formule doit utiliser le taux du mois en divisant le taux de la matrice en (N1:012)

Sheet Data
B2: TEST | C2: Actual
B3: TEST | C3: January | D3: February | E3: March | F3: April | G3: May | H3: June | I3: NA | J3: July + August | K3: September | L3: October | M3: November
B4: ESS | C4: 100 | D4: 110 | E4: 105 | F4: 102 | G4: 88 | H4: 112 | J4: 210 | K4: 151 | L4: 100
B5: EMRO | C5: 111 | D5: 222 | E5: 333 | F5: 111 | G5: 222 | H5: 333 | J5: 555 | K5: 333 | L5: 200
B6: SIS | C6: 100 | D6: 110 | E6: 105 | F6: 102 | G6: 88 | H6: 112 | J6: 210 | K6: 151 | L6: 300
B7: SG | C7: 100 | D7: 110 | E7: 105 | F7: 102 | G7: 88 | H7: 112 | J7: 210 | K7: 151 | L7: 400
B9: Total Sales | C9: =C4+C5+C6+C7 -> 411 | D9: =D4+D5+D6+D7 -> 552 | E9: =E4+E5+E6+E7 -> 648 | F9: =F4+F5+F6+F7 -> 417 | G9: =G4+G5+G6+G7 -> 486 | H9: =H4+H5+H6+H7 -> 669 | I9: =I4+I5+I6+I7 -> 0 | J9: =J4+J5+J6+J7 -> 1185 | ... M9: =M4+M5+M6+M7 -> 0
B10: Dont piece | C10: 100 | D10: 110 | E10: 105 | F10: 102 | G10: 88 | H10: 112 | J10: 210 | K10: 151 | L10: 100
B11: Dont Rep | C11: 100 | D11: 110 | E11: 105 | F11: 102 | G11: 88 | H11: 112 | J11: 210 | K11: 151 | L11: 200
B12: Dont SS | C12: 100 | D12: 55 | E12: 222 | F12: 102 | G12: 88 | H12: 545 | J12: 210 | K12: 121 | L12: 300
B13: Dont TT | C13: 100 | D13: 110 | E13: 105 | F13: 102 | G13: 88 | H13: 112 | J13: 210 | K13: 151 | L13: 400
B15: ESM | C15: 100 | D15: 110 | E15: 105 | F15: 102 | G15: 88 | H15: 112 | J15: 210 | K15: 151 | L15: 100
B16: % marge | C16: =+C15/C4 -> 1 | D16: =+D15/D4 -> 1 | E16: =+E15/E4 -> 1 | F16: =+F15/F4 -> 1 | G16: =+G15/G4 -> 1 | H16: =+H15/H4 -> 1 | I16: =IFERROR(+I15/I4,"0") -> 0 | J16: =+J15/J4 -> 1 | K16: =IFERROR(+K15/K4,"0") -> 1 | L16: =IFERROR(+L15/L4,"0") -> 1 | M16: =IFERROR(+M15/M4,"0") -> 0
B17: EMM | C17: 100 | D17: 110 | E17: 105 | F17: 102 | G17: 88 | H17: 112 | J17: 210 | K17: 151 | L17: 200
B18: % marge | C18: =+C17/C5 -> 0.9009009 | D18: =+D17/D5 -> 0.4954955 | E18: =+E17/E5 -> 0.31531532 | F18: =+F17/F5 -> 0.91891892 | G18: =+G17/G5 -> 0.3963964 | H18: =+H17/H5 -> 0.33633634 | I18: =IFERROR(+I17/I5,"0") -> 0 | J18: =+J17/J5 -> 0.37837838 | K18: =+K17/K5 -> 0.45345345 | L18: =+L17/L5 -> 1 | M18: =+M17/M5 -> #DIV/0!
B19: ISM | C19: 100 | D19: 110 | E19: 105 | F19: 102 | G19: 88 | H19: 112 | J19: 210 | K19: 151 | L19: 300
B20: % marge | C20: =+C19/C6 -> 1 | D20: =+D19/D6 -> 1 | E20: =+E19/E6 -> 1 | F20: =+F19/F6 -> 1 | G20: =+G19/G6 -> 1 | H20: =+H19/H6 -> 1 | I20: =IFERROR(+I19/I6,"0") -> 0 | J20: =+J19/J6 -> 1 | K20: =+K19/K6 -> 1 | L20: =+L19/L6 -> 1 | M20: =+M19/M6 -> #DIV/0!
B21: GOS | C21: 100 | D21: 110 | E21: 105 | F21: 102 | G21: 88 | H21: 112 | J21: 210 | K21: 151 | L21: 400
B22: % marge | C22: =+C21/C7 -> 1 | D22: =+D21/D7 -> 1 | E22: =+E21/E7 -> 1 | F22: =+F21/F7 -> 1 | G22: =+G21/G7 -> 1 | H22: =+H21/H7 -> 1 | I22: =IFERROR(+I21/I7,"0") -> 0 | J22: =+J21/J7 -> 1 | K22: =+K21/K7 -> 1 | L22: =+L21/L7 -> 1 | M22: =+M21/M7 -> #DIV/0!
B23: Total Gross Margin on COGs | C23: =+C15+C17+C19+C21 -> 400 | D23: =+D15+D17+D19+D21 -> 440 | E23: =+E15+E17+E19+E21 -> 420 | F23: =+F15+F17+F19+F21 -> 408 | G23: =+G15+G17+G19+G21 -> 352 | H23: =+H15+H17+H19+H21 -> 448 | I23: =+I15+I17+I19+I21 -> 0 | J23: =+J15+J17+J19+J21 -> 840 | ... M23: =+M15+M17+M19+M21 -> 0
B25: Frais | C25: 100 | D25: 110 | E25: 105 | F25: 102 | G25: 88 | H25: 112 | J25: 210 | K25: 151 | L25: 100
B26: Autres | C26: 100 | D26: 110 | E26: 105 | F26: 102 | G26: 88 | H26: 112 | J26: 210 | K26: 151 | L26: 200
B27: Non prod | C27: 100 | D27: 110 | E27: 105 | F27: 102 | G27: 88 | H27: 112 | J27: 210 | K27: 151 | L27: 300
B28: Autres | C28: 100 | D28: 110 | E28: 105 | F28: 102 | G28: 88 | H28: 112 | J28: 210 | K28: 151 | L28: 400
B29: EBIT | C29: =+C23+C25+C26+C27+C28 -> 800 | D29: =+D23+D25+D26+D27+D28 -> 880 | E29: =+E23+E25+E26+E27+E28 -> 840 | F29: =+F23+F25+F26+F27+F28 -> 816 | G29: =+G23+G25+G26+G27+G28 -> 704 | H29: =+H23+H25+H26+H27+H28 -> 896 | I29: =+I23+I25+I26+I27+I28 -> 0 | J29: =+J23+J25+J26+J27+J28 -> 1680 | ... M29: =+M23+M25+M26+M27+M28 -> 0
N100: =N95/N90 -> #DIV/0! | O100: =+O98+O99 -> 0

Sheet Commentaires
C1: SME | D1: SES | E1: SAK | F1: SSS | G1: SAU | H1: DSRV
A2: ROFO & ACTU3 | E2: Miguel
A3: Date réception | E3: 44475
