Workbook

Sheet BASE
A1: Réf produit | B1: UVC/Colis | C1: Lot | D1: Colis | E1: UVC
A2: Réf 1 | B2: 10 | C2: 21274 | D2: 10 | E2: =D2*B2 -> 100
A3: Réf 2 | B3: 6 | C3: 21274 | D3: 20 | E3: =D3*B3 -> 120 | H3: {=_xlfn.UNIQUE(A2:A9)} -> Réf 1 | I3: {=MIN(IF(A2:A9=H3,C2:C9,""))} -> 21234
A4: Réf 3 | B4: 10 | C4: 21164 | D4: 42 | E4: =D4*B4 -> 420 | H4: Réf 2 | I4: {=MIN(IF(A3:A10=H4,C3:C10,""))} -> 21231
A5: Réf 4 | B5: 12 | C5: 21291 | D5: 13 | E5: =D5*B5 -> 156 | H5: Réf 3 | I5: {=MIN(IF(A4:A11=H5,C4:C11,""))} -> 21164
A6: Réf 2 | B6: 6 | C6: 21231 | D6: 15 | E6: =D6*B6 -> 90 | H6: Réf 4 | I6: {=MIN(IF(A5:A12=H6,C5:C12,""))} -> 21250
A7: Réf 4 | B7: 12 | C7: 21250 | D7: 12 | E7: =D7*B7 -> 144 | H7: Réf 5 | I7: {=MIN(IF(A6:A13=H7,C6:C13,""))} -> 21258
A8: Réf 5 | B8: 8 | C8: 21258 | D8: 24 | E8: =D8*B8 -> 192
A9: Réf 1 | B9: 10 | C9: 21234 | D9: 17 | E9: =D9*B9 -> 170
A10: … | B10: … | C10: … | D10: … | E10: …

Sheet SYNTHESE
A1: Réf produit | B1: Colis | C1: UVC | D1: Lot FIFO | F1: Mise en stock | G1: Réf produit : | H1: Y
A2: Réf 1 | B2: =SUMPRODUCT((BASE!$A$2:$A$9=SYNTHESE!A2)*BASE!$D$2:$D$9) -> 27 | C2: =B2*VLOOKUP(A2,BASE!$A$2:$B$9,2,FALSE) -> 270 | D2: {=MIN(IF(BASE!A2:A9=A2,BASE!C2:C9,""))} -> 21234 | G2: Nombre de colis : | H2: X
A3: Réf 2 | B3: =SUMPRODUCT((BASE!$A$2:$A$9=SYNTHESE!A3)*BASE!$D$2:$D$9) -> 35 | C3: =B3*VLOOKUP(A3,BASE!$A$2:$B$9,2,FALSE) -> 210 | D3: {=MIN(IF(BASE!A3:A10=A3,BASE!C3:C10,""))} -> 21231 | G3: Lot du jour : | H3: Z
A4: Réf 3 | B4: =SUMPRODUCT((BASE!$A$2:$A$9=SYNTHESE!A4)*BASE!$D$2:$D$9) -> 42 | C4: =B4*VLOOKUP(A4,BASE!$A$2:$B$9,2,FALSE) -> 420 | D4: {=MIN(IF(BASE!A4:A11=A4,BASE!C4:C11,""))} -> 21164
A5: Réf 4 | B5: =SUMPRODUCT((BASE!$A$2:$A$9=SYNTHESE!A5)*BASE!$D$2:$D$9) -> 25 | C5: =B5*VLOOKUP(A5,BASE!$A$2:$B$9,2,FALSE) -> 300 | D5: {=MIN(IF(BASE!A5:A12=A5,BASE!C5:C12,""))} -> 21250
A6: Réf 5 | B6: =SUMPRODUCT((BASE!$A$2:$A$9=SYNTHESE!A6)*BASE!$D$2:$D$9) -> 24 | C6: =B6*VLOOKUP(A6,BASE!$A$2:$B$9,2,FALSE) -> 192 | D6: {=MIN(IF(BASE!A6:A13=A6,BASE!C6:C13,""))} -> 21258 | F6: Sortie de stock | G6: Réf produit : | H6: Y'
A7: … | B7: … | C7: … | D7: … | G7: Nombre de colis : | H7: X'
G8: Lot sorti : | H8: Z'
D15: Doit contenir une formule qui pour chaque réf renvoie le lot le plus ancien (donc le plus petit) présent dans le stock
