Workbook
Name AnneeEnCours: Paramètres!$D$2
Name Clôture: [1]Feuil2!$C$3
Name DATE_CLOTURE: DATE(AnneeEnCours,MONTH(1&MoisClôture)+1,1)-1
Name MoisClôture: Feuil1!$C$3

Sheet Feuil1
C2: Mois de clôture
C3: Septembre
H5: CCA restantes - calcul prorata en nombre de jours
H6: =SUM(Feuil1!H$8:H$30) -> 6182 | J6: =SUM(Feuil1!J$8:J$30) -> 4773 | K6: =SUM(Feuil1!K$8:K$30) -> 1409 | M6: =SUM(Feuil1!M$8:M$30) -> 16241.741 | N6: =SUM(Feuil1!N$8:N$30) -> 32228.928 | O6: =SUM(Feuil1!O$8:O$30) -> 32228.928 | P6: =SUM(Feuil1!P$8:P$30) -> 32228.928 | Q6: =SUM(Feuil1!Q$8:Q$30) -> 32228.928 | R6: =SUM(Feuil1!R$8:R$30) -> 38653.928 | S6: =SUM(Feuil1!S$8:S$30) -> 49310.569 | T6: =SUM(Feuil1!T$8:T$30) -> 49342.073 | ... XFD6: =SUM(Feuil1!XFD$8:XFD$30) -> 0
B7: Nom du Fournisseur | C7: Libellé | D7: Montant en euro | E7: Type | F7: Période facture Debut | G7: Période facture Fin | H7: Total | I7: Mois | J7: {="CCA consommées au " & TEXT(DATE_CLOTURE,"jj/mm/aa")} -> CCA consommées au 30/09/21 | K7: {="CCA restantes au " &TEXT(DATE_CLOTURE,"jj/mm/aa")} -> CCA restantes au 30/09/21 | L7: Mois restant | M7: =DATE(AnneeEnCours,1,1) -> 44197 | N7: =EDATE(M7,1) -> 44228 | O7: =EDATE(N7,1) -> 44256 | P7: =EDATE(O7,1) -> 44287 | Q7: =EDATE(P7,1) -> 44317 | R7: =EDATE(Q7,1) -> 44348 | S7: =EDATE(R7,1) -> 44378 | T7: =EDATE(S7,1) -> 44409 | U7: =EDATE(T7,1) -> 44440 | ... X7: =EDATE(W7,1) -> 44531
D8: 11000 | E8: Type 1 | F8: 44197 | G8: 44561 | H8: =IF(D8,G8-$F8+1,0) -> 365 | I8: =DATEDIF(F8,G8,"m")+1 -> 12 | J8: =MIN(DATE_CLOTURE,G8)-F8+1 -> 273 | K8: =IF(G8>DATE_CLOTURE,G8-DATE_CLOTURE,0) -> 92 | L8: =IF(G8>DATE_CLOTURE,DATEDIF(DATE_CLOTURE,G8,"m"),0) -> 3 | M8: =IF(MEDIAN(M$7,$F8,MIN($G8,DATE_CLOTURE))=M$7,$D8/DATEDIF($F8,$G8+1,"m"),0) -> 916.66667 | N8: =IF(MEDIAN(N$7,$F8,MIN($G8,DATE_CLOTURE))=N$7,$D8/DATEDIF($F8,$G8+1,"m"),0) -> 916.66667 | O8: =IF(MEDIAN(O$7,$F8,MIN($G8,DATE_CLOTURE))=O$7,$D8/DATEDIF($F8,$G8+1,"m"),0) -> 916.66667 | P8: =IF(MEDIAN(P$7,$F8,MIN($G8,DATE_CLOTURE))=P$7,$D8/DATEDIF($F8,$G8+1,"m"),0) -> 916.66667 | Q8: =IF(MEDIAN(Q$7,$F8,MIN($G8,DATE_CLOTURE))=Q$7,$D8/DATEDIF($F8,$G8+1,"m"),0) -> 916.66667 | R8: =IF(MEDIAN(R$7,$F8,MIN($G8,DATE_CLOTURE))=R$7,$D8/DATEDIF($F8,$G8+1,"m"),0) -> 916.66667 | S8: =IF(MEDIAN(S$7,$F8,MIN($G8,DATE_CLOTURE))=S$7,$D8/DATEDIF($F8,$G8+1,"m"),0) -> 916.66667 | T8: =IF(MEDIAN(T$7,$F8,MIN($G8,DATE_CLOTURE))=T$7,$D8/DATEDIF($F8,$G8+1,"m"),0) -> 916.66667 | ... X8: =IF(MEDIAN(X$7,$F8,MIN($G8,DATE_CLOTURE))=X$7,$D8/DATEDIF($F8,$G8+1,"m"),0) -> 0
D9: 2636.21 | E9: Type 2 | F9: 44378 | G9: 44469 | H9: =IF(D9,G9-$F9+1,0) -> 92 | I9: =DATEDIF(F9,G9,"m")+1 -> 3 | J9: =MIN(DATE_CLOTURE,G9)-F9+1 -> 92 | K9: =IF(G9>DATE_CLOTURE,G9-DATE_CLOTURE,0) -> 0 | L9: =IF(G9>DATE_CLOTURE,DATEDIF(DATE_CLOTURE,G9,"m"),0) -> 0 | M9: =IF(MEDIAN(M$7,$F9,MIN($G9,DATE_CLOTURE))=M$7,$D9/DATEDIF($F9,$G9+1,"m"),0) -> 0 | N9: =IF(MEDIAN(N$7,$F9,MIN($G9,DATE_CLOTURE))=N$7,$D9/DATEDIF($F9,$G9+1,"m"),0) -> 0 | O9: =IF(MEDIAN(O$7,$F9,MIN($G9,DATE_CLOTURE))=O$7,$D9/DATEDIF($F9,$G9+1,"m"),0) -> 0 | P9: =IF(MEDIAN(P$7,$F9,MIN($G9,DATE_CLOTURE))=P$7,$D9/DATEDIF($F9,$G9+1,"m"),0) -> 0 | Q9: =IF(MEDIAN(Q$7,$F9,MIN($G9,DATE_CLOTURE))=Q$7,$D9/DATEDIF($F9,$G9+1,"m"),0) -> 0 | R9: =IF(MEDIAN(R$7,$F9,MIN($G9,DATE_CLOTURE))=R$7,$D9/DATEDIF($F9,$G9+1,"m"),0) -> 0 | S9: =IF(MEDIAN(S$7,$F9,MIN($G9,DATE_CLOTURE))=S$7,$D9/DATEDIF($F9,$G9+1,"m"),0) -> 878.73667 | T9: =IF(MEDIAN(T$7,$F9,MIN($G9,DATE_CLOTURE))=T$7,$D9/DATEDIF($F9,$G9+1,"m"),0) -> 878.73667 | ... X9: =IF(MEDIAN(X$7,$F9,MIN($G9,DATE_CLOTURE))=X$7,$D9/DATEDIF($F9,$G9+1,"m"),0) -> 0
D10: 2403.52 | E10: Type 3 | F10: 44378 | G10: 44469 | H10: =IF(D10,G10-$F10+1,0) -> 92 | I10: =DATEDIF(F10,G10,"m")+1 -> 3 | J10: =MIN(DATE_CLOTURE,G10)-F10+1 -> 92 | K10: =IF(G10>DATE_CLOTURE,G10-DATE_CLOTURE,0) -> 0 | L10: =IF(G10>DATE_CLOTURE,DATEDIF(DATE_CLOTURE,G10,"m"),0) -> 0 | M10: =IF(MEDIAN(M$7,$F10,MIN($G10,DATE_CLOTURE))=M$7,$D10/DATEDIF($F10,$G10+1,"m"),0) -> 0 | N10: =IF(MEDIAN(N$7,$F10,MIN($G10,DATE_CLOTURE))=N$7,$D10/DATEDIF($F10,$G10+1,"m"),0) -> 0 | O10: =IF(MEDIAN(O$7,$F10,MIN($G10,DATE_CLOTURE))=O$7,$D10/DATEDIF($F10,$G10+1,"m"),0) -> 0 | P10: =IF(MEDIAN(P$7,$F10,MIN($G10,DATE_CLOTURE))=P$7,$D10/DATEDIF($F10,$G10+1,"m"),0) -> 0 | Q10: =IF(MEDIAN(Q$7,$F10,MIN($G10,DATE_CLOTURE))=Q$7,$D10/DATEDIF($F10,$G10+1,"m"),0) -> 0 | R10: =IF(MEDIAN(R$7,$F10,MIN($G10,DATE_CLOTURE))=R$7,$D10/DATEDIF($F10,$G10+1,"m"),0) -> 0 | S10: =IF(MEDIAN(S$7,$F10,MIN($G10,DATE_CLOTURE))=S$7,$D10/DATEDIF($F10,$G10+1,"m"),0) -> 801.17333 | T10: =IF(MEDIAN(T$7,$F10,MIN($G10,DATE_CLOTURE))=T$7,$D10/DATEDIF($F10,$G10+1,"m"),0) -> 801.17333 | ... X10: =IF(MEDIAN(X$7,$F10,MIN($G10,DATE_CLOTURE))=X$7,$D10/DATEDIF($F10,$G10+1,"m"),0) -> 0
D11: 6375.13 | E11: Type 4 | F11: 44378 | G11: 44469 | H11: =IF(D11,G11-$F11+1,0) -> 92 | I11: =DATEDIF(F11,G11,"m")+1 -> 3 | J11: =MIN(DATE_CLOTURE,G11)-F11+1 -> 92 | K11: =IF(G11>DATE_CLOTURE,G11-DATE_CLOTURE,0) -> 0 | L11: =IF(G11>DATE_CLOTURE,DATEDIF(DATE_CLOTURE,G11,"m"),0) -> 0 | M11: =IF(MEDIAN(M$7,$F11,MIN($G11,DATE_CLOTURE))=M$7,$D11/DATEDIF($F11,$G11+1,"m"),0) -> 0 | N11: =IF(MEDIAN(N$7,$F11,MIN($G11,DATE_CLOTURE))=N$7,$D11/DATEDIF($F11,$G11+1,"m"),0) -> 0 | O11: =IF(MEDIAN(O$7,$F11,MIN($G11,DATE_CLOTURE))=O$7,$D11/DATEDIF($F11,$G11+1,"m"),0) -> 0 | P11: =IF(MEDIAN(P$7,$F11,MIN($G11,DATE_CLOTURE))=P$7,$D11/DATEDIF($F11,$G11+1,"m"),0) -> 0 | Q11: =IF(MEDIAN(Q$7,$F11,MIN($G11,DATE_CLOTURE))=Q$7,$D11/DATEDIF($F11,$G11+1,"m"),0) -> 0 | R11: =IF(MEDIAN(R$7,$F11,MIN($G11,DATE_CLOTURE))=R$7,$D11/DATEDIF($F11,$G11+1,"m"),0) -> 0 | S11: =IF(MEDIAN(S$7,$F11,MIN($G11,DATE_CLOTURE))=S$7,$D11/DATEDIF($F11,$G11+1,"m"),0) -> 2125.0433 | T11: =IF(MEDIAN(T$7,$F11,MIN($G11,DATE_CLOTURE))=T$7,$D11/DATEDIF($F11,$G11+1,"m"),0) -> 2125.0433 | ... X11: =IF(MEDIAN(X$7,$F11,MIN($G11,DATE_CLOTURE))=X$7,$D11/DATEDIF($F11,$G11+1,"m"),0) -> 0
D12: 756.66 | E12: Type 5 | F12: 44378 | G12: 44469 | H12: =IF(D12,G12-$F12+1,0) -> 92 | I12: =DATEDIF(F12,G12,"m")+1 -> 3 | J12: =MIN(DATE_CLOTURE,G12)-F12+1 -> 92 | K12: =IF(G12>DATE_CLOTURE,G12-DATE_CLOTURE,0) -> 0 | L12: =IF(G12>DATE_CLOTURE,DATEDIF(DATE_CLOTURE,G12,"m"),0) -> 0 | M12: =IF(MEDIAN(M$7,$F12,MIN($G12,DATE_CLOTURE))=M$7,$D12/DATEDIF($F12,$G12+1,"m"),0) -> 0 | N12: =IF(MEDIAN(N$7,$F12,MIN($G12,DATE_CLOTURE))=N$7,$D12/DATEDIF($F12,$G12+1,"m"),0) -> 0 | O12: =IF(MEDIAN(O$7,$F12,MIN($G12,DATE_CLOTURE))=O$7,$D12/DATEDIF($F12,$G12+1,"m"),0) -> 0 | P12: =IF(MEDIAN(P$7,$F12,MIN($G12,DATE_CLOTURE))=P$7,$D12/DATEDIF($F12,$G12+1,"m"),0) -> 0 | Q12: =IF(MEDIAN(Q$7,$F12,MIN($G12,DATE_CLOTURE))=Q$7,$D12/DATEDIF($F12,$G12+1,"m"),0) -> 0 | R12: =IF(MEDIAN(R$7,$F12,MIN($G12,DATE_CLOTURE))=R$7,$D12/DATEDIF($F12,$G12+1,"m"),0) -> 0 | S12: =IF(MEDIAN(S$7,$F12,MIN($G12,DATE_CLOTURE))=S$7,$D12/DATEDIF($F12,$G12+1,"m"),0) -> 252.22 | T12: =IF(MEDIAN(T$7,$F12,MIN($G12,DATE_CLOTURE))=T$7,$D12/DATEDIF($F12,$G12+1,"m"),0) -> 252.22 | ... X12: =IF(MEDIAN(X$7,$F12,MIN($G12,DATE_CLOTURE))=X$7,$D12/DATEDIF($F12,$G12+1,"m"),0) -> 0
D13: 9825 | E13: Type 6 | F13: 44378 | G13: 44469 | H13: =IF(D13,G13-$F13+1,0) -> 92 | I13: =DATEDIF(F13,G13,"m")+1 -> 3 | J13: =MIN(DATE_CLOTURE,G13)-F13+1 -> 92 | K13: =IF(G13>DATE_CLOTURE,G13-DATE_CLOTURE,0) -> 0 | L13: =IF(G13>DATE_CLOTURE,DATEDIF(DATE_CLOTURE,G13,"m"),0) -> 0 | M13: =IF(MEDIAN(M$7,$F13,MIN($G13,DATE_CLOTURE))=M$7,$D13/DATEDIF($F13,$G13+1,"m"),0) -> 0 | N13: =IF(MEDIAN(N$7,$F13,MIN($G13,DATE_CLOTURE))=N$7,$D13/DATEDIF($F13,$G13+1,"m"),0) -> 0 | O13: =IF(MEDIAN(O$7,$F13,MIN($G13,DATE_CLOTURE))=O$7,$D13/DATEDIF($F13,$G13+1,"m"),0) -> 0 | P13: =IF(MEDIAN(P$7,$F13,MIN($G13,DATE_CLOTURE))=P$7,$D13/DATEDIF($F13,$G13+1,"m"),0) -> 0 | Q13: =IF(MEDIAN(Q$7,$F13,MIN($G13,DATE_CLOTURE))=Q$7,$D13/DATEDIF($F13,$G13+1,"m"),0) -> 0 | R13: =IF(MEDIAN(R$7,$F13,MIN($G13,DATE_CLOTURE))=R$7,$D13/DATEDIF($F13,$G13+1,"m"),0) -> 0 | S13: =IF(MEDIAN(S$7,$F13,MIN($G13,DATE_CLOTURE))=S$7,$D13/DATEDIF($F13,$G13+1,"m"),0) -> 3275 | T13: =IF(MEDIAN(T$7,$F13,MIN($G13,DATE_CLOTURE))=T$7,$D13/DATEDIF($F13,$G13+1,"m"),0) -> 3275 | ... X13: =IF(MEDIAN(X$7,$F13,MIN($G13,DATE_CLOTURE))=X$7,$D13/DATEDIF($F13,$G13+1,"m"),0) -> 0
D14: 6300 | E14: Type 7 | F14: 44378 | G14: 44469 | H14: =IF(D14,G14-$F14+1,0) -> 92 | I14: =DATEDIF(F14,G14,"m")+1 -> 3 | J14: =MIN(DATE_CLOTURE,G14)-F14+1 -> 92 | K14: =IF(G14>DATE_CLOTURE,G14-DATE_CLOTURE,0) -> 0 | L14: =IF(G14>DATE_CLOTURE,DATEDIF(DATE_CLOTURE,G14,"m"),0) -> 0 | M14: =IF(MEDIAN(M$7,$F14,MIN($G14,DATE_CLOTURE))=M$7,$D14/DATEDIF($F14,$G14+1,"m"),0) -> 0 | N14: =IF(MEDIAN(N$7,$F14,MIN($G14,DATE_CLOTURE))=N$7,$D14/DATEDIF($F14,$G14+1,"m"),0) -> 0 | O14: =IF(MEDIAN(O$7,$F14,MIN($G14,DATE_CLOTURE))=O$7,$D14/DATEDIF($F14,$G14+1,"m"),0) -> 0 | P14: =IF(MEDIAN(P$7,$F14,MIN($G14,DATE_CLOTURE))=P$7,$D14/DATEDIF($F14,$G14+1,"m"),0) -> 0 | Q14: =IF(MEDIAN(Q$7,$F14,MIN($G14,DATE_CLOTURE))=Q$7,$D14/DATEDIF($F14,$G14+1,"m"),0) -> 0 | R14: =IF(MEDIAN(R$7,$F14,MIN($G14,DATE_CLOTURE))=R$7,$D14/DATEDIF($F14,$G14+1,"m"),0) -> 0 | S14: =IF(MEDIAN(S$7,$F14,MIN($G14,DATE_CLOTURE))=S$7,$D14/DATEDIF($F14,$G14+1,"m"),0) -> 2100 | T14: =IF(MEDIAN(T$7,$F14,MIN($G14,DATE_CLOTURE))=T$7,$D14/DATEDIF($F14,$G14+1,"m"),0) -> 2100 | ... X14: =IF(MEDIAN(X$7,$F14,MIN($G14,DATE_CLOTURE))=X$7,$D14/DATEDIF($F14,$G14+1,"m"),0) -> 0
D15: 4862.38 | E15: Type 8 | F15: 43988 | G15: 44353 | H15: =IF(D15,G15-$F15+1,0) -> 366 | I15: =DATEDIF(F15,G15,"m")+1 -> 13 | J15: =MIN(DATE_CLOTURE,G15)-F15+1 -> 366 | K15: =IF(G15>DATE_CLOTURE,G15-DATE_CLOTURE,0) -> 0 | L15: =IF(G15>DATE_CLOTURE,DATEDIF(DATE_CLOTURE,G15,"m"),0) -> 0 | M15: =IF(MEDIAN(M$7,$F15,MIN($G15,DATE_CLOTURE))=M$7,$D15/DATEDIF($F15,$G15+1,"m"),0) -> 405.19833 | N15: =IF(MEDIAN(N$7,$F15,MIN($G15,DATE_CLOTURE))=N$7,$D15/DATEDIF($F15,$G15+1,"m"),0) -> 405.19833 | O15: =IF(MEDIAN(O$7,$F15,MIN($G15,DATE_CLOTURE))=O$7,$D15/DATEDIF($F15,$G15+1,"m"),0) -> 405.19833 | P15: =IF(MEDIAN(P$7,$F15,MIN($G15,DATE_CLOTURE))=P$7,$D15/DATEDIF($F15,$G15+1,"m"),0) -> 405.19833 | Q15: =IF(MEDIAN(Q$7,$F15,MIN($G15,DATE_CLOTURE))=Q$7,$D15/DATEDIF($F15,$G15+1,"m"),0) -> 405.19833 | R15: =IF(MEDIAN(R$7,$F15,MIN($G15,DATE_CLOTURE))=R$7,$D15/DATEDIF($F15,$G15+1,"m"),0) -> 405.19833 | S15: =IF(MEDIAN(S$7,$F15,MIN($G15,DATE_CLOTURE))=S$7,$D15/DATEDIF($F15,$G15+1,"m"),0) -> 0 | T15: =IF(MEDIAN(T$7,$F15,MIN($G15,DATE_CLOTURE))=T$7,$D15/DATEDIF($F15,$G15+1,"m"),0) -> 0 | ... X15: =IF(MEDIAN(X$7,$F15,MIN($G15,DATE_CLOTURE))=X$7,$D15/DATEDIF($F15,$G15+1,"m"),0) -> 0
D16: 19275 | E16: Type 9 | F16: 44348 | G16: 44439 | H16: =IF(D16,G16-$F16+1,0) -> 92 | I16: =DATEDIF(F16,G16,"m")+1 -> 3 | J16: =MIN(DATE_CLOTURE,G16)-F16+1 -> 92 | K16: =IF(G16>DATE_CLOTURE,G16-DATE_CLOTURE,0) -> 0 | L16: =IF(G16>DATE_CLOTURE,DATEDIF(DATE_CLOTURE,G16,"m"),0) -> 0 | M16: =IF(MEDIAN(M$7,$F16,MIN($G16,DATE_CLOTURE))=M$7,$D16/DATEDIF($F16,$G16+1,"m"),0) -> 0 | N16: =IF(MEDIAN(N$7,$F16,MIN($G16,DATE_CLOTURE))=N$7,$D16/DATEDIF($F16,$G16+1,"m"),0) -> 0 | O16: =IF(MEDIAN(O$7,$F16,MIN($G16,DATE_CLOTURE))=O$7,$D16/DATEDIF($F16,$G16+1,"m"),0) -> 0 | P16: =IF(MEDIAN(P$7,$F16,MIN($G16,DATE_CLOTURE))=P$7,$D16/DATEDIF($F16,$G16+1,"m"),0) -> 0 | Q16: =IF(MEDIAN(Q$7,$F16,MIN($G16,DATE_CLOTURE))=Q$7,$D16/DATEDIF($F16,$G16+1,"m"),0) -> 0 | R16: =IF(MEDIAN(R$7,$F16,MIN($G16,DATE_CLOTURE))=R$7,$D16/DATEDIF($F16,$G16+1,"m"),0) -> 6425 | S16: =IF(MEDIAN(S$7,$F16,MIN($G16,DATE_CLOTURE))=S$7,$D16/DATEDIF($F16,$G16+1,"m"),0) -> 6425 | T16: =IF(MEDIAN(T$7,$F16,MIN($G16,DATE_CLOTURE))=T$7,$D16/DATEDIF($F16,$G16+1,"m"),0) -> 6425 | ... X16: =IF(MEDIAN(X$7,$F16,MIN($G16,DATE_CLOTURE))=X$7,$D16/DATEDIF($F16,$G16+1,"m"),0) -> 0
D17: 12501 | E17: Type 10 | F17: 44025 | G17: 44389 | H17: =IF(D17,G17-$F17+1,0) -> 365 | I17: =DATEDIF(F17,G17,"m")+1 -> 12 | J17: =MIN(DATE_CLOTURE,G17)-F17+1 -> 365 | K17: =IF(G17>DATE_CLOTURE,G17-DATE_CLOTURE,0) -> 0 | L17: =IF(G17>DATE_CLOTURE,DATEDIF(DATE_CLOTURE,G17,"m"),0) -> 0 | M17: =IF(MEDIAN(M$7,$F17,MIN($G17,DATE_CLOTURE))=M$7,$D17/DATEDIF($F17,$G17+1,"m"),0) -> 1041.75 | N17: =IF(MEDIAN(N$7,$F17,MIN($G17,DATE_CLOTURE))=N$7,$D17/DATEDIF($F17,$G17+1,"m"),0) -> 1041.75 | O17: =IF(MEDIAN(O$7,$F17,MIN($G17,DATE_CLOTURE))=O$7,$D17/DATEDIF($F17,$G17+1,"m"),0) -> 1041.75 | P17: =IF(MEDIAN(P$7,$F17,MIN($G17,DATE_CLOTURE))=P$7,$D17/DATEDIF($F17,$G17+1,"m"),0) -> 1041.75 | Q17: =IF(MEDIAN(Q$7,$F17,MIN($G17,DATE_CLOTURE))=Q$7,$D17/DATEDIF($F17,$G17+1,"m"),0) -> 1041.75 | R17: =IF(MEDIAN(R$7,$F17,MIN($G17,DATE_CLOTURE))=R$7,$D17/DATEDIF($F17,$G17+1,"m"),0) -> 1041.75 | S17: =IF(MEDIAN(S$7,$F17,MIN($G17,DATE_CLOTURE))=S$7,$D17/DATEDIF($F17,$G17+1,"m"),0) -> 1041.75 | T17: =IF(MEDIAN(T$7,$F17,MIN($G17,DATE_CLOTURE))=T$7,$D17/DATEDIF($F17,$G17+1,"m"),0) -> 0 | ... X17: =IF(MEDIAN(X$7,$F17,MIN($G17,DATE_CLOTURE))=X$7,$D17/DATEDIF($F17,$G17+1,"m"),0) -> 0
D18: 11805.79 | E18: Type 11 | F18: 44409 | G18: 44743 | H18: =IF(D18,G18-$F18+1,0) -> 335 | I18: =DATEDIF(F18,G18,"m")+1 -> 12 | J18: =MIN(DATE_CLOTURE,G18)-F18+1 -> 61 | K18: =IF(G18>DATE_CLOTURE,G18-DATE_CLOTURE,0) -> 274 | L18: =IF(G18>DATE_CLOTURE,DATEDIF(DATE_CLOTURE,G18,"m"),0) -> 9 | M18: =IF(MEDIAN(M$7,$F18,MIN($G18,DATE_CLOTURE))=M$7,$D18/DATEDIF($F18,$G18+1,"m"),0) -> 0 | N18: =IF(MEDIAN(N$7,$F18,MIN($G18,DATE_CLOTURE))=N$7,$D18/DATEDIF($F18,$G18+1,"m"),0) -> 0 | O18: =IF(MEDIAN(O$7,$F18,MIN($G18,DATE_CLOTURE))=O$7,$D18/DATEDIF($F18,$G18+1,"m"),0) -> 0 | P18: =IF(MEDIAN(P$7,$F18,MIN($G18,DATE_CLOTURE))=P$7,$D18/DATEDIF($F18,$G18+1,"m"),0) -> 0 | Q18: =IF(MEDIAN(Q$7,$F18,MIN($G18,DATE_CLOTURE))=Q$7,$D18/DATEDIF($F18,$G18+1,"m"),0) -> 0 | R18: =IF(MEDIAN(R$7,$F18,MIN($G18,DATE_CLOTURE))=R$7,$D18/DATEDIF($F18,$G18+1,"m"),0) -> 0 | S18: =IF(MEDIAN(S$7,$F18,MIN($G18,DATE_CLOTURE))=S$7,$D18/DATEDIF($F18,$G18+1,"m"),0) -> 0 | T18: =IF(MEDIAN(T$7,$F18,MIN($G18,DATE_CLOTURE))=T$7,$D18/DATEDIF($F18,$G18+1,"m"),0) -> 1073.2536 | ... X18: =IF(MEDIAN(X$7,$F18,MIN($G18,DATE_CLOTURE))=X$7,$D18/DATEDIF($F18,$G18+1,"m"),0) -> 0
D19: 2538.39 | E19: Type 12 | F19: 44197 | G19: 44561 | H19: =IF(D19,G19-$F19+1,0) -> 365 | I19: =DATEDIF(F19,G19,"m")+1 -> 12 | J19: =MIN(DATE_CLOTURE,G19)-F19+1 -> 273 | K19: =IF(G19>DATE_CLOTURE,G19-DATE_CLOTURE,0) -> 92 | L19: =IF(G19>DATE_CLOTURE,DATEDIF(DATE_CLOTURE,G19,"m"),0) -> 3 | M19: =IF(MEDIAN(M$7,$F19,MIN($G19,DATE_CLOTURE))=M$7,$D19/DATEDIF($F19,$G19+1,"m"),0) -> 211.5325 | N19: =IF(MEDIAN(N$7,$F19,MIN($G19,DATE_CLOTURE))=N$7,$D19/DATEDIF($F19,$G19+1,"m"),0) -> 211.5325 | O19: =IF(MEDIAN(O$7,$F19,MIN($G19,DATE_CLOTURE))=O$7,$D19/DATEDIF($F19,$G19+1,"m"),0) -> 211.5325 | P19: =IF(MEDIAN(P$7,$F19,MIN($G19,DATE_CLOTURE))=P$7,$D19/DATEDIF($F19,$G19+1,"m"),0) -> 211.5325 | Q19: =IF(MEDIAN(Q$7,$F19,MIN($G19,DATE_CLOTURE))=Q$7,$D19/DATEDIF($F19,$G19+1,"m"),0) -> 211.5325 | R19: =IF(MEDIAN(R$7,$F19,MIN($G19,DATE_CLOTURE))=R$7,$D19/DATEDIF($F19,$G19+1,"m"),0) -> 211.5325 | S19: =IF(MEDIAN(S$7,$F19,MIN($G19,DATE_CLOTURE))=S$7,$D19/DATEDIF($F19,$G19+1,"m"),0) -> 211.5325 | T19: =IF(MEDIAN(T$7,$F19,MIN($G19,DATE_CLOTURE))=T$7,$D19/DATEDIF($F19,$G19+1,"m"),0) -> 211.5325 | ... X19: =IF(MEDIAN(X$7,$F19,MIN($G19,DATE_CLOTURE))=X$7,$D19/DATEDIF($F19,$G19+1,"m"),0) -> 0
... D30: 14697.5 | E30: Type 23 | F30: 44197 | G30: 44561 | H30: =IF(D30,G30-$F30+1,0) -> 365 | I30: =DATEDIF(F30,G30,"m")+1 -> 12 | J30: =MIN(DATE_CLOTURE,G30)-F30+1 -> 273 | K30: =IF(G30>DATE_CLOTURE,G30-DATE_CLOTURE,0) -> 92 | L30: =IF(G30>DATE_CLOTURE,DATEDIF(DATE_CLOTURE,G30,"m"),0) -> 3 | M30: =IF(MEDIAN(M$7,$F30,MIN($G30,DATE_CLOTURE))=M$7,$D30/DATEDIF($F30,$G30+1,"m"),0) -> 1224.7917 | N30: =IF(MEDIAN(N$7,$F30,MIN($G30,DATE_CLOTURE))=N$7,$D30/DATEDIF($F30,$G30+1,"m"),0) -> 1224.7917 | O30: =IF(MEDIAN(O$7,$F30,MIN($G30,DATE_CLOTURE))=O$7,$D30/DATEDIF($F30,$G30+1,"m"),0) -> 1224.7917 | P30: =IF(MEDIAN(P$7,$F30,MIN($G30,DATE_CLOTURE))=P$7,$D30/DATEDIF($F30,$G30+1,"m"),0) -> 1224.7917 | Q30: =IF(MEDIAN(Q$7,$F30,MIN($G30,DATE_CLOTURE))=Q$7,$D30/DATEDIF($F30,$G30+1,"m"),0) -> 1224.7917 | R30: =IF(MEDIAN(R$7,$F30,MIN($G30,DATE_CLOTURE))=R$7,$D30/DATEDIF($F30,$G30+1,"m"),0) -> 1224.7917 | S30: =IF(MEDIAN(S$7,$F30,MIN($G30,DATE_CLOTURE))=S$7,$D30/DATEDIF($F30,$G30+1,"m"),0) -> 1224.7917 | T30: =IF(MEDIAN(T$7,$F30,MIN($G30,DATE_CLOTURE))=T$7,$D30/DATEDIF($F30,$G30+1,"m"),0) -> 1224.7917 | ... X30: =IF(MEDIAN(X$7,$F30,MIN($G30,DATE_CLOTURE))=X$7,$D30/DATEDIF($F30,$G30+1,"m"),0) -> 0

Sheet Paramètres
A1: MoisClôture | D1: Année en cours
A2: Janvier | D2: 2021
A3: Février
A4: Mars
A5: Avril
A6: Mai
A7: Juin
A8: Juillet
A9: Août
A10: Septembre
A11: Octobre
A12: Novembre
A13: Décembre

Sheet Remarques
A2: En-têtes de tableau
B3: Excel considère le contenu comme du texte. Les formules ne sont donc plus opérantes. Idem pour les dates.
B4: J'ai donc supprimé votre tableau afin de rétablir les dates réelles.
A7: Date de clôture
B8: Calculée par rapport à l'année en cours (Feuille "Paramètres") et le mois de clôture
