Workbook
Name Segment_Groupe_rem._article: #N/A
Name Segment_Niveau_réel: #N/A
Name Segment_Type_Ligne_Richel: #N/A

Sheet Afficher - Détail ligne vente 
N1: 0 | O1: =SUMIFS(Tableau2[MLP],Tableau2[Niveau réel],"2") -> 56307.951 | P1: =SUMIFS(Tableau2[MLD],Tableau2[Type Ligne Richel],"Détail") -> 56307.951
A2: N° ligne | B2: Parent | C2: Niveau | D2: Niveau réel | E2: nb sous niveau | F2: Type Ligne Richel | G2: N° | H2: Désignation | I2: Désignation 2 | J2: Information technique | K2: Quantité Totale | L2: Prix unitaire HT | M2: % remise ligne | N2: comm | O2: MLP | P2: MLD | Q2: Prix | R2: Groupe rem. article | S2: Poids Net Unitaire | T2: Poids Net Total
A3: 1000000 | B3: Oui | C3: 0 | D3: =IF(Tableau2[[#This Row],[Parent]]="oui",Tableau2[[#This Row],[Niveau]]+1,IF(B2="oui",Tableau2[[#This Row],[Niveau]]+1,D2)) -> 1 | E3: {=MIN(IFERROR(IF(D3-{0;1;2;3;4;5;6;7}>=0,MATCH(D3-{0;1;2;3;4;5;6;7},D4:D$828,0)-1,""),""))} -> 0 | F3: Chapitre | G3: PC_960MRH400_OV90 | H3: Chapelle 9m60 MRH 400 OV90 | K3: 1 | L3: 112797.58 | M3: =IFERROR(_xlfn.XLOOKUP(Tableau2[[#This Row],[Groupe rem. article]],remises!$B$2:$B$5,remises!$C$2:$C$5),0) -> 0 | N3: =$N$1 -> 0 | O3: =IFERROR(SUM(OFFSET(Tableau2[[#This Row],[MLP]],1,1,Tableau2[[#This Row],[nb sous niveau]],1)),"") | P3: =IF(Tableau2[[#This Row],[Type Ligne Richel]]="détail",Tableau2[[#This Row],[Quantité Totale]]*Tableau2[[#This Row],[Prix unitaire HT]]*(1-Tableau2[[#This Row],[% remise ligne]])*(1+Tableau2[[#This Row],[comm]]),"") | Q3: {=IFERROR( IF(Tableau2[[#This Row],[Type Ligne Richel]]="Chapitre",SUM(_xlfn._xlws.FILTER(OFFSET(Tableau2[[#This Row],[Prix]],1,0,Tableau2[[#This Row],[nb sous niveau]]+1,1),OFFSET(Tableau2[[#This Row],[Type Ligne Richel]],1,0,Tableau2[[#This Row],[nb sous niveau]]+1,1)="Détail")),0)+ IF(Tableau2[[#This Row],[Type Ligne Richel]]="Kit",SUM(OFFSET(Tableau2[[#This Row],[Prix]],1,0,Tableau2[[#This Row],[nb sous niveau]],1)),0)+ IF(Tableau2[[#This Row],[Type Ligne Richel]]="Détail",Tableau2[[#This Row],[Quantité Totale]]*Tableau2[[#This Row],[Prix unitaire HT]]*(1-Tableau2[[#This Row],[% remise ligne]])*(1+Tableau2[[#This Row],[comm]]),0),0)} -> 0 | S3: 1166.3372 | T3: 13680.002
A4: 5000000 | B4: Oui | C4: 1 | D4: =IF(Tableau2[[#This Row],[Parent]]="oui",Tableau2[[#This Row],[Niveau]]+1,IF(#REF!="oui",Tableau2[[#This Row],[Niveau]]+1,#REF!)) -> 2 | E4: {=MIN(IFERROR(IF(D4-{0;1;2;3;4;5;6;7}>=0,MATCH(D4-{0;1;2;3;4;5;6;7},D5:D$828,0)-1,""),""))} -> 215 | F4: Chapitre | H4: OSSATURE DE LA SERRE | K4: 1 | L4: 36519.55 | M4: =IFERROR(_xlfn.XLOOKUP(Tableau2[[#This Row],[Groupe rem. article]],remises!$B$2:$B$5,remises!$C$2:$C$5),0) -> 0 | N4: =$N$1 -> 0 | O4: =IFERROR(SUM(OFFSET(Tableau2[[#This Row],[MLP]],1,1,Tableau2[[#This Row],[nb sous niveau]],1)),"") -> 15749.969 | P4: =IF(Tableau2[[#This Row],[Type Ligne Richel]]="détail",Tableau2[[#This Row],[Quantité Totale]]*Tableau2[[#This Row],[Prix unitaire HT]]*(1-Tableau2[[#This Row],[% remise ligne]])*(1+Tableau2[[#This Row],[comm]]),"") | Q4: {=IFERROR( IF(Tableau2[[#This Row],[Type Ligne Richel]]="Chapitre",SUM(_xlfn._xlws.FILTER(OFFSET(Tableau2[[#This Row],[Prix]],1,0,Tableau2[[#This Row],[nb sous niveau]]+1,1),OFFSET(Tableau2[[#This Row],[Type Ligne Richel]],1,0,Tableau2[[#This Row],[nb sous niveau]]+1,1)="Détail")),0)+ IF(Tableau2[[#This Row],[Type Ligne Richel]]="Kit",SUM(OFFSET(Tableau2[[#This Row],[Prix]],1,0,Tableau2[[#This Row],[nb sous niveau]],1)),0)+ IF(Tableau2[[#This Row],[Type Ligne Richel]]="Détail",Tableau2[[#This Row],[Quantité Totale]]*Tableau2[[#This Row],[Prix unitaire HT]]*(1-Tableau2[[#This Row],[% remise ligne]])*(1+Tableau2[[#This Row],[comm]]),0),0)} -> 15749.969 | S4: 374.5995 | T4: 5000.0108
A5: 6000000 | B5: Oui | C5: 2 | D5: =IF(Tableau2[[#This Row],[Parent]]="oui",Tableau2[[#This Row],[Niveau]]+1,IF(B4="oui",Tableau2[[#This Row],[Niveau]]+1,D4)) -> 3 | E5: {=MIN(IFERROR(IF(D5-{0;1;2;3;4;5;6;7}>=0,MATCH(D5-{0;1;2;3;4;5;6;7},D6:D$828,0)-1,""),""))} -> 214 | F5: Chapitre | H5: ARMATURE | K5: 1 | L5: 36519.55 | M5: =IFERROR(_xlfn.XLOOKUP(Tableau2[[#This Row],[Groupe rem. article]],remises!$B$2:$B$5,remises!$C$2:$C$5),0) -> 0 | N5: =$N$1 -> 0 | O5: =IFERROR(SUM(OFFSET(Tableau2[[#This Row],[MLP]],1,1,Tableau2[[#This Row],[nb sous niveau]],1)),"") -> 15749.969 | P5: =IF(Tableau2[[#This Row],[Type Ligne Richel]]="détail",Tableau2[[#This Row],[Quantité Totale]]*Tableau2[[#This Row],[Prix unitaire HT]]*(1-Tableau2[[#This Row],[% remise ligne]])*(1+Tableau2[[#This Row],[comm]]),"") | Q5: {=IFERROR( IF(Tableau2[[#This Row],[Type Ligne Richel]]="Chapitre",SUM(_xlfn._xlws.FILTER(OFFSET(Tableau2[[#This Row],[Prix]],1,0,Tableau2[[#This Row],[nb sous niveau]]+1,1),OFFSET(Tableau2[[#This Row],[Type Ligne Richel]],1,0,Tableau2[[#This Row],[nb sous niveau]]+1,1)="Détail")),0)+ IF(Tableau2[[#This Row],[Type Ligne Richel]]="Kit",SUM(OFFSET(Tableau2[[#This Row],[Prix]],1,0,Tableau2[[#This Row],[nb sous niveau]],1)),0)+ IF(Tableau2[[#This Row],[Type Ligne Richel]]="Détail",Tableau2[[#This Row],[Quantité Totale]]*Tableau2[[#This Row],[Prix unitaire HT]]*(1-Tableau2[[#This Row],[% remise ligne]])*(1+Tableau2[[#This Row],[comm]]),0),0)} -> 15749.969 | S5: 374.5995 | T5: 5000.0108
A6: 7000000 | B6: Oui | C6: 3 | D6: =IF(Tableau2[[#This Row],[Parent]]="oui",Tableau2[[#This Row],[Niveau]]+1,IF(B5="oui",Tableau2[[#This Row],[Niveau]]+1,D5)) -> 4 | E6: {=MIN(IFERROR(IF(D6-{0;1;2;3;4;5;6;7}>=0,MATCH(D6-{0;1;2;3;4;5;6;7},D7:D$828,0)-1,""),""))} -> 18 | F6: Kit | G6: B30145 | H6: 960MRH400/90 N0 C0 BASE 4m | K6: 1 | L6: 1196.04 | M6: =IFERROR(_xlfn.XLOOKUP(Tableau2[[#This Row],[Groupe rem. article]],remises!$B$2:$B$5,remises!$C$2:$C$5),0) -> 0.58 | N6: =$N$1 -> 0 | O6: =IFERROR(SUM(OFFSET(Tableau2[[#This Row],[MLP]],1,1,Tableau2[[#This Row],[nb sous niveau]],1)),"") -> 513.53271 | P6: =IF(Tableau2[[#This Row],[Type Ligne Richel]]="détail",Tableau2[[#This Row],[Quantité Totale]]*Tableau2[[#This Row],[Prix unitaire HT]]*(1-Tableau2[[#This Row],[% remise ligne]])*(1+Tableau2[[#This Row],[comm]]),"") | Q6: {=IFERROR( IF(Tableau2[[#This Row],[Type Ligne Richel]]="Chapitre",SUM(_xlfn._xlws.FILTER(OFFSET(Tableau2[[#This Row],[Prix]],1,0,Tableau2[[#This Row],[nb sous niveau]]+1,1),OFFSET(Tableau2[[#This Row],[Type Ligne Richel]],1,0,Tableau2[[#This Row],[nb sous niveau]]+1,1)="Détail")),0)+ IF(Tableau2[[#This Row],[Type Ligne Richel]]="Kit",SUM(OFFSET(Tableau2[[#This Row],[Prix]],1,0,Tableau2[[#This Row],[nb sous niveau]],1)),0)+ IF(Tableau2[[#This Row],[Type Ligne Richel]]="Détail",Tableau2[[#This Row],[Quantité Totale]]*Tableau2[[#This Row],[Prix unitaire HT]]*(1-Tableau2[[#This Row],[% remise ligne]])*(1+Tableau2[[#This Row],[comm]]),0),0)} -> 513.53271 | R6: CHARPENTE | S6: 51.227 | T6: 174.6103
A7: 7010000 | B7: Non | C7: 4 | D7: =IF(Tableau2[[#This Row],[Parent]]="oui",Tableau2[[#This Row],[Niveau]]+1,IF(B6="oui",Tableau2[[#This Row],[Niveau]]+1,D6)) -> 5 | E7: {=MIN(IFERROR(IF(D7-{0;1;2;3;4;5;6;7}>=0,MATCH(D7-{0;1;2;3;4;5;6;7},D8:D$828,0)-1,""),""))} -> 0 | F7: Détail | G7: P190002 | H7: FAITAGE CHAPELLE 1280 OV 90 | K7: 2 | L7: 60.79 | M7: =IFERROR(_xlfn.XLOOKUP(Tableau2[[#This Row],[Groupe rem. article]],remises!$B$2:$B$5,remises!$C$2:$C$5),0) -> 0.58 | N7: =$N$1 -> 0 | O7: =IFERROR(SUM(OFFSET(Tableau2[[#This Row],[MLP]],1,1,Tableau2[[#This Row],[nb sous niveau]],1)),"") | P7: =IF(Tableau2[[#This Row],[Type Ligne Richel]]="détail",Tableau2[[#This Row],[Quantité Totale]]*Tableau2[[#This Row],[Prix unitaire HT]]*(1-Tableau2[[#This Row],[% remise ligne]])*(1+Tableau2[[#This Row],[comm]]),"") -> 51.0636 | Q7: {=IFERROR( IF(Tableau2[[#This Row],[Type Ligne Richel]]="Chapitre",SUM(_xlfn._xlws.FILTER(OFFSET(Tableau2[[#This Row],[Prix]],1,0,Tableau2[[#This Row],[nb sous niveau]]+1,1),OFFSET(Tableau2[[#This Row],[Type Ligne Richel]],1,0,Tableau2[[#This Row],[nb sous niveau]]+1,1)="Détail")),0)+ IF(Tableau2[[#This Row],[Type Ligne Richel]]="Kit",SUM(OFFSET(Tableau2[[#This Row],[Prix]],1,0,Tableau2[[#This Row],[nb sous niveau]],1)),0)+ IF(Tableau2[[#This Row],[Type Ligne Richel]]="Détail",Tableau2[[#This Row],[Quantité Totale]]*Tableau2[[#This Row],[Prix unitaire HT]]*(1-Tableau2[[#This Row],[% remise ligne]])*(1+Tableau2[[#This Row],[comm]]),0),0)} -> 51.0636 | R7: CHARPENTE | S7: 8.414 | T7: 16.828
A8: 7020000 | B8: Non | C8: 4 | D8: =IF(Tableau2[[#This Row],[Parent]]="oui",Tableau2[[#This Row],[Niveau]]+1,IF(B7="oui",Tableau2[[#This Row],[Niveau]]+1,D7)) -> 5 | E8: {=MIN(IFERROR(IF(D8-{0;1;2;3;4;5;6;7}>=0,MATCH(D8-{0;1;2;3;4;5;6;7},D9:D$828,0)-1,""),""))} -> 0 | F8: Détail | G8: P190003 | H8: CINTRE CHAPELLE 960 OV 90 | K8: 4 | L8: 73.47 | M8: =IFERROR(_xlfn.XLOOKUP(Tableau2[[#This Row],[Groupe rem. article]],remises!$B$2:$B$5,remises!$C$2:$C$5),0) -> 0.58 | N8: =$N$1 -> 0 | O8: =IFERROR(SUM(OFFSET(Tableau2[[#This Row],[MLP]],1,1,Tableau2[[#This Row],[nb sous niveau]],1)),"") | P8: =IF(Tableau2[[#This Row],[Type Ligne Richel]]="détail",Tableau2[[#This Row],[Quantité Totale]]*Tableau2[[#This Row],[Prix unitaire HT]]*(1-Tableau2[[#This Row],[% remise ligne]])*(1+Tableau2[[#This Row],[comm]]),"") -> 123.4296 | Q8: {=IFERROR( IF(Tableau2[[#This Row],[Type Ligne Richel]]="Chapitre",SUM(_xlfn._xlws.FILTER(OFFSET(Tableau2[[#This Row],[Prix]],1,0,Tableau2[[#This Row],[nb sous niveau]]+1,1),OFFSET(Tableau2[[#This Row],[Type Ligne Richel]],1,0,Tableau2[[#This Row],[nb sous niveau]]+1,1)="Détail")),0)+ IF(Tableau2[[#This Row],[Type Ligne Richel]]="Kit",SUM(OFFSET(Tableau2[[#This Row],[Prix]],1,0,Tableau2[[#This Row],[nb sous niveau]],1)),0)+ IF(Tableau2[[#This Row],[Type Ligne Richel]]="Détail",Tableau2[[#This Row],[Quantité Totale]]*Tableau2[[#This Row],[Prix unitaire HT]]*(1-Tableau2[[#This Row],[% remise ligne]])*(1+Tableau2[[#This Row],[comm]]),0),0)} -> 123.4296 | R8: CHARPENTE | S8: 11.295 | T8: 45.18
A9: 7030000 | B9: Non | C9: 4 | D9: =IF(Tableau2[[#This Row],[Parent]]="oui",Tableau2[[#This Row],[Niveau]]+1,IF(B8="oui",Tableau2[[#This Row],[Niveau]]+1,D8)) -> 5 | E9: {=MIN(IFERROR(IF(D9-{0;1;2;3;4;5;6;7}>=0,MATCH(D9-{0;1;2;3;4;5;6;7},D10:D$828,0)-1,""),""))} -> 0 | F9: Détail | G9: P330090 | H9: CHENEAU ADV 4m LP | K9: 2 | L9: 127.95 | M9: =IFERROR(_xlfn.XLOOKUP(Tableau2[[#This Row],[Groupe rem. article]],remises!$B$2:$B$5,remises!$C$2:$C$5),0) -> 0.58 | N9: =$N$1 -> 0 | O9: =IFERROR(SUM(OFFSET(Tableau2[[#This Row],[MLP]],1,1,Tableau2[[#This Row],[nb sous niveau]],1)),"") | P9: =IF(Tableau2[[#This Row],[Type Ligne Richel]]="détail",Tableau2[[#This Row],[Quantité Totale]]*Tableau2[[#This Row],[Prix unitaire HT]]*(1-Tableau2[[#This Row],[% remise ligne]])*(1+Tableau2[[#This Row],[comm]]),"") -> 107.478 | Q9: {=IFERROR( IF(Tableau2[[#This Row],[Type Ligne Richel]]="Chapitre",SUM(_xlfn._xlws.FILTER(OFFSET(Tableau2[[#This Row],[Prix]],1,0,Tableau2[[#This Row],[nb sous niveau]]+1,1),OFFSET(Tableau2[[#This Row],[Type Ligne Richel]],1,0,Tableau2[[#This Row],[nb sous niveau]]+1,1)="Détail")),0)+ IF(Tableau2[[#This Row],[Type Ligne Richel]]="Kit",SUM(OFFSET(Tableau2[[#This Row],[Prix]],1,0,Tableau2[[#This Row],[nb sous niveau]],1)),0)+ IF(Tableau2[[#This Row],[Type Ligne Richel]]="Détail",Tableau2[[#This Row],[Quantité Totale]]*Tableau2[[#This Row],[Prix unitaire HT]]*(1-Tableau2[[#This Row],[% remise ligne]])*(1+Tableau2[[#This Row],[comm]]),0),0)} -> 107.478 | R9: CHARPENTE | S9: 21.45 | T9: 42.9
A10: 7040000 | B10: Non | C10: 4 | D10: =IF(Tableau2[[#This Row],[Parent]]="oui",Tableau2[[#This Row],[Niveau]]+1,IF(B9="oui",Tableau2[[#This Row],[Niveau]]+1,D9)) -> 5 | E10: {=MIN(IFERROR(IF(D10-{0;1;2;3;4;5;6;7}>=0,MATCH(D10-{0;1;2;3;4;5;6;7},D11:D$828,0)-1,""),""))} -> 0 | F10: Détail | G10: P710042 | H10: ECROU FREIN H M10 CL8 ZN | K10: 8 | L10: 0.21 | M10: =IFERROR(_xlfn.XLOOKUP(Tableau2[[#This Row],[Groupe rem. article]],remises!$B$2:$B$5,remises!$C$2:$C$5),0) -> 0.53 | N10: =$N$1 -> 0 | O10: =IFERROR(SUM(OFFSET(Tableau2[[#This Row],[MLP]],1,1,Tableau2[[#This Row],[nb sous niveau]],1)),"") | P10: =IF(Tableau2[[#This Row],[Type Ligne Richel]]="détail",Tableau2[[#This Row],[Quantité Totale]]*Tableau2[[#This Row],[Prix unitaire HT]]*(1-Tableau2[[#This Row],[% remise ligne]])*(1+Tableau2[[#This Row],[comm]]),"") -> 0.7896 | Q10: {=IFERROR( IF(Tableau2[[#This Row],[Type Ligne Richel]]="Chapitre",SUM(_xlfn._xlws.FILTER(OFFSET(Tableau2[[#This Row],[Prix]],1,0,Tableau2[[#This Row],[nb sous niveau]]+1,1),OFFSET(Tableau2[[#This Row],[Type Ligne Richel]],1,0,Tableau2[[#This Row],[nb sous niveau]]+1,1)="Détail")),0)+ IF(Tableau2[[#This Row],[Type Ligne Richel]]="Kit",SUM(OFFSET(Tableau2[[#This Row],[Prix]],1,0,Tableau2[[#This Row],[nb sous niveau]],1)),0)+ IF(Tableau2[[#This Row],[Type Ligne Richel]]="Détail",Tableau2[[#This Row],[Quantité Totale]]*Tableau2[[#This Row],[Prix unitaire HT]]*(1-Tableau2[[#This Row],[% remise ligne]])*(1+Tableau2[[#This Row],[comm]]),0),0)} -> 0.7896 | R10: ACCESSOIRE | S10: 0.01 | T10: 0.08
A11: 7050000 | B11: Non | C11: 4 | D11: =IF(Tableau2[[#This Row],[Parent]]="oui",Tableau2[[#This Row],[Niveau]]+1,IF(B10="oui",Tableau2[[#This Row],[Niveau]]+1,D10)) -> 5 | E11: {=MIN(IFERROR(IF(D11-{0;1;2;3;4;5;6;7}>=0,MATCH(D11-{0;1;2;3;4;5;6;7},D12:D$828,0)-1,""),""))} -> 0 | F11: Détail | G11: P710002 | H11: VIS H M8x20/20 CL 8.8 GEO | K11: 36 | L11: 0.17 | M11: =IFERROR(_xlfn.XLOOKUP(Tableau2[[#This Row],[Groupe rem. article]],remises!$B$2:$B$5,remises!$C$2:$C$5),0) -> 0.53 | N11: =$N$1 -> 0 | O11: =IFERROR(SUM(OFFSET(Tableau2[[#This Row],[MLP]],1,1,Tableau2[[#This Row],[nb sous niveau]],1)),"") | P11: =IF(Tableau2[[#This Row],[Type Ligne Richel]]="détail",Tableau2[[#This Row],[Quantité Totale]]*Tableau2[[#This Row],[Prix unitaire HT]]*(1-Tableau2[[#This Row],[% remise ligne]])*(1+Tableau2[[#This Row],[comm]]),"") -> 2.8764 | Q11: {=IFERROR( IF(Tableau2[[#This Row],[Type Ligne Richel]]="Chapitre",SUM(_xlfn._xlws.FILTER(OFFSET(Tableau2[[#This Row],[Prix]],1,0,Tableau2[[#This Row],[nb sous niveau]]+1,1),OFFSET(Tableau2[[#This Row],[Type Ligne Richel]],1,0,Tableau2[[#This Row],[nb sous niveau]]+1,1)="Détail")),0)+ IF(Tableau2[[#This Row],[Type Ligne Richel]]="Kit",SUM(OFFSET(Tableau2[[#This Row],[Prix]],1,0,Tableau2[[#This Row],[nb sous niveau]],1)),0)+ IF(Tableau2[[#This Row],[Type Ligne Richel]]="Détail",Tableau2[[#This Row],[Quantité Totale]]*Tableau2[[#This Row],[Prix unitaire HT]]*(1-Tableau2[[#This Row],[% remise ligne]])*(1+Tableau2[[#This Row],[comm]]),0),0)} -> 2.8764 | R11: ACCESSOIRE | S11: 0.015 | T11: 0.54
A12: 7060000 | B12: Non | C12: 4 | D12: =IF(Tableau2[[#This Row],[Parent]]="oui",Tableau2[[#This Row],[Niveau]]+1,IF(B11="oui",Tableau2[[#This Row],[Niveau]]+1,D11)) -> 5 | E12: {=MIN(IFERROR(IF(D12-{0;1;2;3;4;5;6;7}>=0,MATCH(D12-{0;1;2;3;4;5;6;7},D13:D$828,0)-1,""),""))} -> 0 | F12: Détail | G12: P730003 | H12: RONDELLE PLASTIQUE | K12: 36 | L12: 0.12 | M12: =IFERROR(_xlfn.XLOOKUP(Tableau2[[#This Row],[Groupe rem. article]],remises!$B$2:$B$5,remises!$C$2:$C$5),0) -> 0.53 | N12: =$N$1 -> 0 | O12: =IFERROR(SUM(OFFSET(Tableau2[[#This Row],[MLP]],1,1,Tableau2[[#This Row],[nb sous niveau]],1)),"") | P12: =IF(Tableau2[[#This Row],[Type Ligne Richel]]="détail",Tableau2[[#This Row],[Quantité Totale]]*Tableau2[[#This Row],[Prix unitaire HT]]*(1-Tableau2[[#This Row],[% remise ligne]])*(1+Tableau2[[#This Row],[comm]]),"") -> 2.0304 | Q12: {=IFERROR( IF(Tableau2[[#This Row],[Type Ligne Richel]]="Chapitre",SUM(_xlfn._xlws.FILTER(OFFSET(Tableau2[[#This Row],[Prix]],1,0,Tableau2[[#This Row],[nb sous niveau]]+1,1),OFFSET(Tableau2[[#This Row],[Type Ligne Richel]],1,0,Tableau2[[#This Row],[nb sous niveau]]+1,1)="Détail")),0)+ IF(Tableau2[[#This Row],[Type Ligne Richel]]="Kit",SUM(OFFSET(Tableau2[[#This Row],[Prix]],1,0,Tableau2[[#This Row],[nb sous niveau]],1)),0)+ IF(Tableau2[[#This Row],[Type Ligne Richel]]="Détail",Tableau2[[#This Row],[Quantité Totale]]*Tableau2[[#This Row],[Prix unitaire HT]]*(1-Tableau2[[#This Row],[% remise ligne]])*(1+Tableau2[[#This Row],[comm]]),0),0)} -> 2.0304 | R12: ACCESSOIRE | S12: 0.003 | T12: 0.108
A13: 7070000 | B13: Non | C13: 4 | D13: =IF(Tableau2[[#This Row],[Parent]]="oui",Tableau2[[#This Row],[Niveau]]+1,IF(B12="oui",Tableau2[[#This Row],[Niveau]]+1,D12)) -> 5 | E13: {=MIN(IFERROR(IF(D13-{0;1;2;3;4;5;6;7}>=0,MATCH(D13-{0;1;2;3;4;5;6;7},D14:D$828,0)-1,""),""))} -> 0 | F13: Détail | G13: P710011 | H13: RONDELLE M8x24x2 ZN | K13: 12 | L13: 0.16 | M13: =IFERROR(_xlfn.XLOOKUP(Tableau2[[#This Row],[Groupe rem. article]],remises!$B$2:$B$5,remises!$C$2:$C$5),0) -> 0.53 | N13: =$N$1 -> 0 | O13: =IFERROR(SUM(OFFSET(Tableau2[[#This Row],[MLP]],1,1,Tableau2[[#This Row],[nb sous niveau]],1)),"") | P13: =IF(Tableau2[[#This Row],[Type Ligne Richel]]="détail",Tableau2[[#This Row],[Quantité Totale]]*Tableau2[[#This Row],[Prix unitaire HT]]*(1-Tableau2[[#This Row],[% remise ligne]])*(1+Tableau2[[#This Row],[comm]]),"") -> 0.9024 | Q13: {=IFERROR( IF(Tableau2[[#This Row],[Type Ligne Richel]]="Chapitre",SUM(_xlfn._xlws.FILTER(OFFSET(Tableau2[[#This Row],[Prix]],1,0,Tableau2[[#This Row],[nb sous niveau]]+1,1),OFFSET(Tableau2[[#This Row],[Type Ligne Richel]],1,0,Tableau2[[#This Row],[nb sous niveau]]+1,1)="Détail")),0)+ IF(Tableau2[[#This Row],[Type Ligne Richel]]="Kit",SUM(OFFSET(Tableau2[[#This Row],[Prix]],1,0,Tableau2[[#This Row],[nb sous niveau]],1)),0)+ IF(Tableau2[[#This Row],[Type Ligne Richel]]="Détail",Tableau2[[#This Row],[Quantité Totale]]*Tableau2[[#This Row],[Prix unitaire HT]]*(1-Tableau2[[#This Row],[% remise ligne]])*(1+Tableau2[[#This Row],[comm]]),0),0)} -> 0.9024 | R13: ACCESSOIRE | S13: 0.007 | T13: 0.084
A14: 7080000 | B14: Non | C14: 4 | D14: =IF(Tableau2[[#This Row],[Parent]]="oui",Tableau2[[#This Row],[Niveau]]+1,IF(B13="oui",Tableau2[[#This Row],[Niveau]]+1,D13)) -> 5 | E14: {=MIN(IFERROR(IF(D14-{0;1;2;3;4;5;6;7}>=0,MATCH(D14-{0;1;2;3;4;5;6;7},D15:D$828,0)-1,""),""))} -> 0 | F14: Détail | G14: P730069 | H14: CARTOUCHE MASTIC | K14: 1.02 | L14: 7.32 | M14: =IFERROR(_xlfn.XLOOKUP(Tableau2[[#This Row],[Groupe rem. article]],remises!$B$2:$B$5,remises!$C$2:$C$5),0) -> 0.53 | N14: =$N$1 -> 0 | O14: =IFERROR(SUM(OFFSET(Tableau2[[#This Row],[MLP]],1,1,Tableau2[[#This Row],[nb sous niveau]],1)),"") | P14: =IF(Tableau2[[#This Row],[Type Ligne Richel]]="détail",Tableau2[[#This Row],[Quantité Totale]]*Tableau2[[#This Row],[Prix unitaire HT]]*(1-Tableau2[[#This Row],[% remise ligne]])*(1+Tableau2[[#This Row],[comm]]),"") -> 3.509208 | Q14: {=IFERROR( IF(Tableau2[[#This Row],[Type Ligne Richel]]="Chapitre",SUM(_xlfn._xlws.FILTER(OFFSET(Tableau2[[#This Row],[Prix]],1,0,Tableau2[[#This Row],[nb sous niveau]]+1,1),OFFSET(Tableau2[[#This Row],[Type Ligne Richel]],1,0,Tableau2[[#This Row],[nb sous niveau]]+1,1)="Détail")),0)+ IF(Tableau2[[#This Row],[Type Ligne Richel]]="Kit",SUM(OFFSET(Tableau2[[#This Row],[Prix]],1,0,Tableau2[[#This Row],[nb sous niveau]],1)),0)+ IF(Tableau2[[#This Row],[Type Ligne Richel]]="Détail",Tableau2[[#This Row],[Quantité Totale]]*Tableau2[[#This Row],[Prix unitaire HT]]*(1-Tableau2[[#This Row],[% remise ligne]])*(1+Tableau2[[#This Row],[comm]]),0),0)} -> 3.509208 | R14: ACCESSOIRE | S14: 0.565 | T14: 0.5763
A15: 7090000 | B15: Non | C15: 4 | D15: =IF(Tableau2[[#This Row],[Parent]]="oui",Tableau2[[#This Row],[Niveau]]+1,IF(B14="oui",Tableau2[[#This Row],[Niveau]]+1,D14)) -> 5 | E15: {=MIN(IFERROR(IF(D15-{0;1;2;3;4;5;6;7}>=0,MATCH(D15-{0;1;2;3;4;5;6;7},D16:D$828,0)-1,""),""))} -> 0 | F15: Détail | G15: P620528 | H15: CACHE PIED ARBALETRIER CH960RC | K15: 2 | L15: 11.84 | M15: =IFERROR(_xlfn.XLOOKUP(Tableau2[[#This Row],[Groupe rem. article]],remises!$B$2:$B$5,remises!$C$2:$C$5),0) -> 0.53 | N15: =$N$1 -> 0 | O15: =IFERROR(SUM(OFFSET(Tableau2[[#This Row],[MLP]],1,1,Tableau2[[#This Row],[nb sous niveau]],1)),"") | P15: =IF(Tableau2[[#This Row],[Type Ligne Richel]]="détail",Tableau2[[#This Row],[Quantité Totale]]*Tableau2[[#This Row],[Prix unitaire HT]]*(1-Tableau2[[#This Row],[% remise ligne]])*(1+Tableau2[[#This Row],[comm]]),"") -> 11.1296 | Q15: {=IFERROR( IF(Tableau2[[#This Row],[Type Ligne Richel]]="Chapitre",SUM(_xlfn._xlws.FILTER(OFFSET(Tableau2[[#This Row],[Prix]],1,0,Tableau2[[#This Row],[nb sous niveau]]+1,1),OFFSET(Tableau2[[#This Row],[Type Ligne Richel]],1,0,Tableau2[[#This Row],[nb sous niveau]]+1,1)="Détail")),0)+ IF(Tableau2[[#This Row],[Type Ligne Richel]]="Kit",SUM(OFFSET(Tableau2[[#This Row],[Prix]],1,0,Tableau2[[#This Row],[nb sous niveau]],1)),0)+ IF(Tableau2[[#This Row],[Type Ligne Richel]]="Détail",Tableau2[[#This Row],[Quantité Totale]]*Tableau2[[#This Row],[Prix unitaire HT]]*(1-Tableau2[[#This Row],[% remise ligne]])*(1+Tableau2[[#This Row],[comm]]),0),0)} -> 11.1296 | R15: ACCESSOIRE | S15: 0.25 | T15: 0.5
A16: 7100000 | B16: Non | C16: 4 | D16: =IF(Tableau2[[#This Row],[Parent]]="oui",Tableau2[[#This Row],[Niveau]]+1,IF(B15="oui",Tableau2[[#This Row],[Niveau]]+1,D15)) -> 5 | E16: {=MIN(IFERROR(IF(D16-{0;1;2;3;4;5;6;7}>=0,MATCH(D16-{0;1;2;3;4;5;6;7},D17:D$828,0)-1,""),""))} -> 0 | F16: Détail | G16: P710182 | H16: VIS H M10x65/26 CL 10.9 GEO | K16: 4 | L16: 0.84 | M16: =IFERROR(_xlfn.XLOOKUP(Tableau2[[#This Row],[Groupe rem. article]],remises!$B$2:$B$5,remises!$C$2:$C$5),0) -> 0.53 | N16: =$N$1 -> 0 | O16: =IFERROR(SUM(OFFSET(Tableau2[[#This Row],[MLP]],1,1,Tableau2[[#This Row],[nb sous niveau]],1)),"") | P16: =IF(Tableau2[[#This Row],[Type Ligne Richel]]="détail",Tableau2[[#This Row],[Quantité Totale]]*Tableau2[[#This Row],[Prix unitaire HT]]*(1-Tableau2[[#This Row],[% remise ligne]])*(1+Tableau2[[#This Row],[comm]]),"") -> 1.5792 | Q16: {=IFERROR( IF(Tableau2[[#This Row],[Type Ligne Richel]]="Chapitre",SUM(_xlfn._xlws.FILTER(OFFSET(Tableau2[[#This Row],[Prix]],1,0,Tableau2[[#This Row],[nb sous niveau]]+1,1),OFFSET(Tableau2[[#This Row],[Type Ligne Richel]],1,0,Tableau2[[#This Row],[nb sous niveau]]+1,1)="Détail")),0)+ IF(Tableau2[[#This Row],[Type Ligne Richel]]="Kit",SUM(OFFSET(Tableau2[[#This Row],[Prix]],1,0,Tableau2[[#This Row],[nb sous niveau]],1)),0)+ IF(Tableau2[[#This Row],[Type Ligne Richel]]="Détail",Tableau2[[#This Row],[Quantité Totale]]*Tableau2[[#This Row],[Prix unitaire HT]]*(1-Tableau2[[#This Row],[% remise ligne]])*(1+Tableau2[[#This Row],[comm]]),0),0)} -> 1.5792 | R16: ACCESSOIRE | S16: 0.045 | T16: 0.18
A17: 7110000 | B17: Non | C17: 4 | D17: =IF(Tableau2[[#This Row],[Parent]]="oui",Tableau2[[#This Row],[Niveau]]+1,IF(B16="oui",Tableau2[[#This Row],[Niveau]]+1,D16)) -> 5 | E17: {=MIN(IFERROR(IF(D17-{0;1;2;3;4;5;6;7}>=0,MATCH(D17-{0;1;2;3;4;5;6;7},D18:D$828,0)-1,""),""))} -> 0 | F17: Détail | G17: P130070 | H17: RENFORT 45AD20 L 4470 | K17: 8 | L17: 47.09 | M17: =IFERROR(_xlfn.XLOOKUP(Tableau2[[#This Row],[Groupe rem. article]],remises!$B$2:$B$5,remises!$C$2:$C$5),0) -> 0.58 | N17: =$N$1 -> 0 | O17: =IFERROR(SUM(OFFSET(Tableau2[[#This Row],[MLP]],1,1,Tableau2[[#This Row],[nb sous niveau]],1)),"") | P17: =IF(Tableau2[[#This Row],[Type Ligne Richel]]="détail",Tableau2[[#This Row],[Quantité Totale]]*Tableau2[[#This Row],[Prix unitaire HT]]*(1-Tableau2[[#This Row],[% remise ligne]])*(1+Tableau2[[#This Row],[comm]]),"") -> 158.2224 | Q17: {=IFERROR( IF(Tableau2[[#This Row],[Type Ligne Richel]]="Chapitre",SUM(_xlfn._xlws.FILTER(OFFSET(Tableau2[[#This Row],[Prix]],1,0,Tableau2[[#This Row],[nb sous niveau]]+1,1),OFFSET(Tableau2[[#This Row],[Type Ligne Richel]],1,0,Tableau2[[#This Row],[nb sous niveau]]+1,1)="Détail")),0)+ IF(Tableau2[[#This Row],[Type Ligne Richel]]="Kit",SUM(OFFSET(Tableau2[[#This Row],[Prix]],1,0,Tableau2[[#This Row],[nb sous niveau]],1)),0)+ IF(Tableau2[[#This Row],[Type Ligne Richel]]="Détail",Tableau2[[#This Row],[Quantité Totale]]*Tableau2[[#This Row],[Prix unitaire HT]]*(1-Tableau2[[#This Row],[% remise ligne]])*(1+Tableau2[[#This Row],[comm]]),0),0)} -> 158.2224 | R17: CHARPENTE | S17: 7.575 | T17: 60.6
... A135: 12290000 | B135: Non | C135: 4 | D135: =IF(Tableau2[[#This Row],[Parent]]="oui",Tableau2[[#This Row],[Niveau]]+1,IF(B134="oui",Tableau2[[#This Row],[Niveau]]+1,D134)) -> 5 | E135: {=MIN(IFERROR(IF(D135-{0;1;2;3;4;5;6;7}>=0,MATCH(D135-{0;1;2;3;4;5;6;7},D136:D$828,0)-1,""),""))} -> 0 | F135: Détail | G135: P710182 | H135: VIS H M10x65/26 CL 10.9 GEO | K135: 8 | L135: 0.84 | M135: =IFERROR(_xlfn.XLOOKUP(Tableau2[[#This Row],[Groupe rem. article]],remises!$B$2:$B$5,remises!$C$2:$C$5),0) -> 0.53 | N135: =$N$1 -> 0 | O135: =IFERROR(SUM(OFFSET(Tableau2[[#This Row],[MLP]],1,1,Tableau2[[#This Row],[nb sous niveau]],1)),"") | P135: =IF(Tableau2[[#This Row],[Type Ligne Richel]]="détail",Tableau2[[#This Row],[Quantité Totale]]*Tableau2[[#This Row],[Prix unitaire HT]]*(1-Tableau2[[#This Row],[% remise ligne]])*(1+Tableau2[[#This Row],[comm]]),"") -> 3.1584 | Q135: {=IFERROR( IF(Tableau2[[#This Row],[Type Ligne Richel]]="Chapitre",SUM(_xlfn._xlws.FILTER(OFFSET(Tableau2[[#This Row],[Prix]],1,0,Tableau2[[#This Row],[nb sous niveau]]+1,1),OFFSET(Tableau2[[#This Row],[Type Ligne Richel]],1,0,Tableau2[[#This Row],[nb sous niveau]]+1,1)="Détail")),0)+ IF(Tableau2[[#This Row],[Type Ligne Richel]]="Kit",SUM(OFFSET(Tableau2[[#This Row],[Prix]],1,0,Tableau2[[#This Row],[nb sous niveau]],1)),0)+ IF(Tableau2[[#This Row],[Type Ligne Richel]]="Détail",Tableau2[[#This Row],[Quantité Totale]]*Tableau2[[#This Row],[Prix unitaire HT]]*(1-Tableau2[[#This Row],[% remise ligne]])*(1+Tableau2[[#This Row],[comm]]),0),0)} -> 3.1584 | R135: ACCESSOIRE | S135: 0.045 | T135: 0.36
A136: 13000000 | B136: Oui | C136: 3 | D136: =IF(Tableau2[[#This Row],[Parent]]="oui",Tableau2[[#This Row],[Niveau]]+1,IF(B135="oui",Tableau2[[#This Row],[Niveau]]+1,D135)) -> 4 | E136: {=MIN(IFERROR(IF(D136-{0;1;2;3;4;5;6;7}>=0,MATCH(D136-{0;1;2;3;4;5;6;7},D137:D$828,0)-1,""),""))} -> 4 | F136: Kit | G136: B25032 | H136: POT 90 80x80x1.5 H400 PIG | K136: 4 | L136: 130.23 | M136: =IFERROR(_xlfn.XLOOKUP(Tableau2[[#This Row],[Groupe rem. article]],remises!$B$2:$B$5,remises!$C$2:$C$5),0) -> 0 | N136: =$N$1 -> 0 | O136: =IFERROR(SUM(OFFSET(Tableau2[[#This Row],[MLP]],1,1,Tableau2[[#This Row],[nb sous niveau]],1)),"") -> 223.1504 | P136: =IF(Tableau2[[#This Row],[Type Ligne Richel]]="détail",Tableau2[[#This Row],[Quantité Totale]]*Tableau2[[#This Row],[Prix unitaire HT]]*(1-Tableau2[[#This Row],[% remise ligne]])*(1+Tableau2[[#This Row],[comm]]),"") | Q136: {=IFERROR( IF(Tableau2[[#This Row],[Type Ligne Richel]]="Chapitre",SUM(_xlfn._xlws.FILTER(OFFSET(Tableau2[[#This Row],[Prix]],1,0,Tableau2[[#This Row],[nb sous niveau]]+1,1),OFFSET(Tableau2[[#This Row],[Type Ligne Richel]],1,0,Tableau2[[#This Row],[nb sous niveau]]+1,1)="Détail")),0)+ IF(Tableau2[[#This Row],[Type Ligne Richel]]="Kit",SUM(OFFSET(Tableau2[[#This Row],[Prix]],1,0,Tableau2[[#This Row],[nb sous niveau]],1)),0)+ IF(Tableau2[[#This Row],[Type Ligne Richel]]="Détail",Tableau2[[#This Row],[Quantité Totale]]*Tableau2[[#This Row],[Prix unitaire HT]]*(1-Tableau2[[#This Row],[% remise ligne]])*(1+Tableau2[[#This Row],[comm]]),0),0)} -> 223.1504 | S136: 17.085 | T136: 73.08
A137: 13010000 | B137: Non | C137: 4 | D137: =IF(Tableau2[[#This Row],[Parent]]="oui",Tableau2[[#This Row],[Niveau]]+1,IF(B136="oui",Tableau2[[#This Row],[Niveau]]+1,D136)) -> 5 | E137: {=MIN(IFERROR(IF(D137-{0;1;2;3;4;5;6;7}>=0,MATCH(D137-{0;1;2;3;4;5;6;7},D138:D$828,0)-1,""),""))} -> 0 | F137: Détail | G137: P620668 | H137: EGOUT ARTICULE OV 90 | K137: 8 | L137: 10.32 | M137: =IFERROR(_xlfn.XLOOKUP(Tableau2[[#This Row],[Groupe rem. article]],remises!$B$2:$B$5,remises!$C$2:$C$5),0) -> 0.53 | N137: =$N$1 -> 0 | O137: =IFERROR(SUM(OFFSET(Tableau2[[#This Row],[MLP]],1,1,Tableau2[[#This Row],[nb sous niveau]],1)),"") | P137: =IF(Tableau2[[#This Row],[Type Ligne Richel]]="détail",Tableau2[[#This Row],[Quantité Totale]]*Tableau2[[#This Row],[Prix unitaire HT]]*(1-Tableau2[[#This Row],[% remise ligne]])*(1+Tableau2[[#This Row],[comm]]),"") -> 38.8032 | Q137: {=IFERROR( IF(Tableau2[[#This Row],[Type Ligne Richel]]="Chapitre",SUM(_xlfn._xlws.FILTER(OFFSET(Tableau2[[#This Row],[Prix]],1,0,Tableau2[[#This Row],[nb sous niveau]]+1,1),OFFSET(Tableau2[[#This Row],[Type Ligne Richel]],1,0,Tableau2[[#This Row],[nb sous niveau]]+1,1)="Détail")),0)+ IF(Tableau2[[#This Row],[Type Ligne Richel]]="Kit",SUM(OFFSET(Tableau2[[#This Row],[Prix]],1,0,Tableau2[[#This Row],[nb sous niveau]],1)),0)+ IF(Tableau2[[#This Row],[Type Ligne Richel]]="Détail",Tableau2[[#This Row],[Quantité Totale]]*Tableau2[[#This Row],[Prix unitaire HT]]*(1-Tableau2[[#This Row],[% remise ligne]])*(1+Tableau2[[#This Row],[comm]]),0),0)} -> 38.8032 | R137: ACCESSOIRE | S137: 1.14 | T137: 9.12
A138: 13020000 | B138: Non | C138: 4 | D138: =IF(Tableau2[[#This Row],[Parent]]="oui",Tableau2[[#This Row],[Niveau]]+1,IF(B137="oui",Tableau2[[#This Row],[Niveau]]+1,D137)) -> 5 | E138: {=MIN(IFERROR(IF(D138-{0;1;2;3;4;5;6;7}>=0,MATCH(D138-{0;1;2;3;4;5;6;7},D139:D$828,0)-1,""),""))} -> 0 | F138: Détail | G138: P710062 | H138: VIS H M8x100/100 CL 10.9 GEO | K138: 8 | L138: 0.5 | M138: =IFERROR(_xlfn.XLOOKUP(Tableau2[[#This Row],[Groupe rem. article]],remises!$B$2:$B$5,remises!$C$2:$C$5),0) -> 0.53 | N138: =$N$1 -> 0 | O138: =IFERROR(SUM(OFFSET(Tableau2[[#This Row],[MLP]],1,1,Tableau2[[#This Row],[nb sous niveau]],1)),"") | P138: =IF(Tableau2[[#This Row],[Type Ligne Richel]]="détail",Tableau2[[#This Row],[Quantité Totale]]*Tableau2[[#This Row],[Prix unitaire HT]]*(1-Tableau2[[#This Row],[% remise ligne]])*(1+Tableau2[[#This Row],[comm]]),"") -> 1.88 | Q138: {=IFERROR( IF(Tableau2[[#This Row],[Type Ligne Richel]]="Chapitre",SUM(_xlfn._xlws.FILTER(OFFSET(Tableau2[[#This Row],[Prix]],1,0,Tableau2[[#This Row],[nb sous niveau]]+1,1),OFFSET(Tableau2[[#This Row],[Type Ligne Richel]],1,0,Tableau2[[#This Row],[nb sous niveau]]+1,1)="Détail")),0)+ IF(Tableau2[[#This Row],[Type Ligne Richel]]="Kit",SUM(OFFSET(Tableau2[[#This Row],[Prix]],1,0,Tableau2[[#This Row],[nb sous niveau]],1)),0)+ IF(Tableau2[[#This Row],[Type Ligne Richel]]="Détail",Tableau2[[#This Row],[Quantité Totale]]*Tableau2[[#This Row],[Prix unitaire HT]]*(1-Tableau2[[#This Row],[% remise ligne]])*(1+Tableau2[[#This Row],[comm]]),0),0)} -> 1.88 | R138: ACCESSOIRE | S138: 0.04 | T138: 0.32
A139: 13030000 | B139: Non | C139: 4 | D139: =IF(Tableau2[[#This Row],[Parent]]="oui",Tableau2[[#This Row],[Niveau]]+1,IF(B138="oui",Tableau2[[#This Row],[Niveau]]+1,D138)) -> 5 | E139: {=MIN(IFERROR(IF(D139-{0;1;2;3;4;5;6;7}>=0,MATCH(D139-{0;1;2;3;4;5;6;7},D140:D$828,0)-1,""),""))} -> 0 | F139: Détail | G139: P280058 | H139: POTEAU CV 80x80x1.5 LG4300 | K139: 4 | L139: 108.41 | M139: =IFERROR(_xlfn.XLOOKUP(Tableau2[[#This Row],[Groupe rem. article]],remises!$B$2:$B$5,remises!$C$2:$C$5),0) -> 0.58 | N139: =$N$1 -> 0 | O139: =IFERROR(SUM(OFFSET(Tableau2[[#This Row],[MLP]],1,1,Tableau2[[#This Row],[nb sous niveau]],1)),"") | P139: =IF(Tableau2[[#This Row],[Type Ligne Richel]]="détail",Tableau2[[#This Row],[Quantité Totale]]*Tableau2[[#This Row],[Prix unitaire HT]]*(1-Tableau2[[#This Row],[% remise ligne]])*(1+Tableau2[[#This Row],[comm]]),"") -> 182.1288 | Q139: {=IFERROR( IF(Tableau2[[#This Row],[Type Ligne Richel]]="Chapitre",SUM(_xlfn._xlws.FILTER(OFFSET(Tableau2[[#This Row],[Prix]],1,0,Tableau2[[#This Row],[nb sous niveau]]+1,1),OFFSET(Tableau2[[#This Row],[Type Ligne Richel]],1,0,Tableau2[[#This Row],[nb sous niveau]]+1,1)="Détail")),0)+ IF(Tableau2[[#This Row],[Type Ligne Richel]]="Kit",SUM(OFFSET(Tableau2[[#This Row],[Prix]],1,0,Tableau2[[#This Row],[nb sous niveau]],1)),0)+ IF(Tableau2[[#This Row],[Type Ligne Richel]]="Détail",Tableau2[[#This Row],[Quantité Totale]]*Tableau2[[#This Row],[Prix unitaire HT]]*(1-Tableau2[[#This Row],[% remise ligne]])*(1+Tableau2[[#This Row],[comm]]),0),0)} -> 182.1288 | R139: CHARPENTE | S139: 15.9 | T139: 63.6
A140: 13040000 | B140: Non | C140: 4 | D140: =IF(Tableau2[[#This Row],[Parent]]="oui",Tableau2[[#This Row],[Niveau]]+1,IF(B139="oui",Tableau2[[#This Row],[Niveau]]+1,D139)) -> 5 | E140: {=MIN(IFERROR(IF(D140-{0;1;2;3;4;5;6;7}>=0,MATCH(D140-{0;1;2;3;4;5;6;7},D141:D$828,0)-1,""),""))} -> 0 | F140: Détail | G140: P710014 | H140: ECROU FREIN H M8 CL8 ZN | K140: 8 | L140: 0.09 | M140: =IFERROR(_xlfn.XLOOKUP(Tableau2[[#This Row],[Groupe rem. article]],remises!$B$2:$B$5,remises!$C$2:$C$5),0) -> 0.53 | N140: =$N$1 -> 0 | O140: =IFERROR(SUM(OFFSET(Tableau2[[#This Row],[MLP]],1,1,Tableau2[[#This Row],[nb sous niveau]],1)),"") | P140: =IF(Tableau2[[#This Row],[Type Ligne Richel]]="détail",Tableau2[[#This Row],[Quantité Totale]]*Tableau2[[#This Row],[Prix unitaire HT]]*(1-Tableau2[[#This Row],[% remise ligne]])*(1+Tableau2[[#This Row],[comm]]),"") -> 0.3384 | Q140: {=IFERROR( IF(Tableau2[[#This Row],[Type Ligne Richel]]="Chapitre",SUM(_xlfn._xlws.FILTER(OFFSET(Tableau2[[#This Row],[Prix]],1,0,Tableau2[[#This Row],[nb sous niveau]]+1,1),OFFSET(Tableau2[[#This Row],[Type Ligne Richel]],1,0,Tableau2[[#This Row],[nb sous niveau]]+1,1)="Détail")),0)+ IF(Tableau2[[#This Row],[Type Ligne Richel]]="Kit",SUM(OFFSET(Tableau2[[#This Row],[Prix]],1,0,Tableau2[[#This Row],[nb sous niveau]],1)),0)+ IF(Tableau2[[#This Row],[Type Ligne Richel]]="Détail",Tableau2[[#This Row],[Quantité Totale]]*Tableau2[[#This Row],[Prix unitaire HT]]*(1-Tableau2[[#This Row],[% remise ligne]])*(1+Tableau2[[#This Row],[comm]]),0),0)} -> 0.3384 | R140: ACCESSOIRE | S140: 0.005 | T140: 0.04
A141: 14000000 | B141: Oui | C141: 3 | D141: =IF(Tableau2[[#This Row],[Parent]]="oui",Tableau2[[#This Row],[Niveau]]+1,IF(B140="oui",Tableau2[[#This Row],[Niveau]]+1,D140)) -> 4 | E141: {=MIN(IFERROR(IF(D141-{0;1;2;3;4;5;6;7}>=0,MATCH(D141-{0;1;2;3;4;5;6;7},D142:D$828,0)-1,""),""))} -> 4 | F141: Kit | G141: B30153 | H141: POT 80x40x1.5 LG4300 PERC SIMPLE CENT | K141: 22 | L141: 101.92 | M141: =IFERROR(_xlfn.XLOOKUP(Tableau2[[#This Row],[Groupe rem. article]],remises!$B$2:$B$5,remises!$C$2:$C$5),0) -> 0.58 | N141: =$N$1 -> 0 | O141: =IFERROR(SUM(OFFSET(Tableau2[[#This Row],[MLP]],1,1,Tableau2[[#This Row],[nb sous niveau]],1)),"") -> 965.7428 | P141: =IF(Tableau2[[#This Row],[Type Ligne Richel]]="détail",Tableau2[[#This Row],[Quantité Totale]]*Tableau2[[#This Row],[Prix unitaire HT]]*(1-Tableau2[[#This Row],[% remise ligne]])*(1+Tableau2[[#This Row],[comm]]),"") | Q141: {=IFERROR( IF(Tableau2[[#This Row],[Type Ligne Richel]]="Chapitre",SUM(_xlfn._xlws.FILTER(OFFSET(Tableau2[[#This Row],[Prix]],1,0,Tableau2[[#This Row],[nb sous niveau]]+1,1),OFFSET(Tableau2[[#This Row],[Type Ligne Richel]],1,0,Tableau2[[#This Row],[nb sous niveau]]+1,1)="Détail")),0)+ IF(Tableau2[[#This Row],[Type Ligne Richel]]="Kit",SUM(OFFSET(Tableau2[[#This Row],[Prix]],1,0,Tableau2[[#This Row],[nb sous niveau]],1)),0)+ IF(Tableau2[[#This Row],[Type Ligne Richel]]="Détail",Tableau2[[#This Row],[Quantité Totale]]*Tableau2[[#This Row],[Prix unitaire HT]]*(1-Tableau2[[#This Row],[% remise ligne]])*(1+Tableau2[[#This Row],[comm]]),0),0)} -> 965.7428 | R141: CHARPENTE | S141: 13.185 | T141: 316.14
A142: 14010000 | B142: Non | C142: 4 | D142: =IF(Tableau2[[#This Row],[Parent]]="oui",Tableau2[[#This Row],[Niveau]]+1,IF(B141="oui",Tableau2[[#This Row],[Niveau]]+1,D141)) -> 5 | E142: {=MIN(IFERROR(IF(D142-{0;1;2;3;4;5;6;7}>=0,MATCH(D142-{0;1;2;3;4;5;6;7},D143:D$828,0)-1,""),""))} -> 0 | F142: Détail | G142: P620668 | H142: EGOUT ARTICULE OV 90 | K142: 44 | L142: 10.32 | M142: =IFERROR(_xlfn.XLOOKUP(Tableau2[[#This Row],[Groupe rem. article]],remises!$B$2:$B$5,remises!$C$2:$C$5),0) -> 0.53 | N142: =$N$1 -> 0 | O142: =IFERROR(SUM(OFFSET(Tableau2[[#This Row],[MLP]],1,1,Tableau2[[#This Row],[nb sous niveau]],1)),"") | P142: =IF(Tableau2[[#This Row],[Type Ligne Richel]]="détail",Tableau2[[#This Row],[Quantité Totale]]*Tableau2[[#This Row],[Prix unitaire HT]]*(1-Tableau2[[#This Row],[% remise ligne]])*(1+Tableau2[[#This Row],[comm]]),"") -> 213.4176 | Q142: {=IFERROR( IF(Tableau2[[#This Row],[Type Ligne Richel]]="Chapitre",SUM(_xlfn._xlws.FILTER(OFFSET(Tableau2[[#This Row],[Prix]],1,0,Tableau2[[#This Row],[nb sous niveau]]+1,1),OFFSET(Tableau2[[#This Row],[Type Ligne Richel]],1,0,Tableau2[[#This Row],[nb sous niveau]]+1,1)="Détail")),0)+ IF(Tableau2[[#This Row],[Type Ligne Richel]]="Kit",SUM(OFFSET(Tableau2[[#This Row],[Prix]],1,0,Tableau2[[#This Row],[nb sous niveau]],1)),0)+ IF(Tableau2[[#This Row],[Type Ligne Richel]]="Détail",Tableau2[[#This Row],[Quantité Totale]]*Tableau2[[#This Row],[Prix unitaire HT]]*(1-Tableau2[[#This Row],[% remise ligne]])*(1+Tableau2[[#This Row],[comm]]),0),0)} -> 213.4176 | R142: ACCESSOIRE | S142: 1.14 | T142: 50.16
A143: 14020000 | B143: Non | C143: 4 | D143: =IF(Tableau2[[#This Row],[Parent]]="oui",Tableau2[[#This Row],[Niveau]]+1,IF(B142="oui",Tableau2[[#This Row],[Niveau]]+1,D142)) -> 5 | E143: {=MIN(IFERROR(IF(D143-{0;1;2;3;4;5;6;7}>=0,MATCH(D143-{0;1;2;3;4;5;6;7},D144:D$828,0)-1,""),""))} -> 0 | F143: Détail | G143: P710062 | H143: VIS H M8x100/100 CL 10.9 GEO | K143: 44 | L143: 0.5 | M143: =IFERROR(_xlfn.XLOOKUP(Tableau2[[#This Row],[Groupe rem. article]],remises!$B$2:$B$5,remises!$C$2:$C$5),0) -> 0.53 | N143: =$N$1 -> 0 | O143: =IFERROR(SUM(OFFSET(Tableau2[[#This Row],[MLP]],1,1,Tableau2[[#This Row],[nb sous niveau]],1)),"") | P143: =IF(Tableau2[[#This Row],[Type Ligne Richel]]="détail",Tableau2[[#This Row],[Quantité Totale]]*Tableau2[[#This Row],[Prix unitaire HT]]*(1-Tableau2[[#This Row],[% remise ligne]])*(1+Tableau2[[#This Row],[comm]]),"") -> 10.34 | Q143: {=IFERROR( IF(Tableau2[[#This Row],[Type Ligne Richel]]="Chapitre",SUM(_xlfn._xlws.FILTER(OFFSET(Tableau2[[#This Row],[Prix]],1,0,Tableau2[[#This Row],[nb sous niveau]]+1,1),OFFSET(Tableau2[[#This Row],[Type Ligne Richel]],1,0,Tableau2[[#This Row],[nb sous niveau]]+1,1)="Détail")),0)+ IF(Tableau2[[#This Row],[Type Ligne Richel]]="Kit",SUM(OFFSET(Tableau2[[#This Row],[Prix]],1,0,Tableau2[[#This Row],[nb sous niveau]],1)),0)+ IF(Tableau2[[#This Row],[Type Ligne Richel]]="Détail",Tableau2[[#This Row],[Quantité Totale]]*Tableau2[[#This Row],[Prix unitaire HT]]*(1-Tableau2[[#This Row],[% remise ligne]])*(1+Tableau2[[#This Row],[comm]]),0),0)} -> 10.34 | R143: ACCESSOIRE | S143: 0.04 | T143: 1.76
A144: 14030000 | B144: Non | C144: 4 | D144: =IF(Tableau2[[#This Row],[Parent]]="oui",Tableau2[[#This Row],[Niveau]]+1,IF(B143="oui",Tableau2[[#This Row],[Niveau]]+1,D143)) -> 5 | E144: {=MIN(IFERROR(IF(D144-{0;1;2;3;4;5;6;7}>=0,MATCH(D144-{0;1;2;3;4;5;6;7},D145:D$828,0)-1,""),""))} -> 0 | F144: Détail | G144: P265093 | H144: POTEAU CV 80x40x1.5 Lg4300 PERCAGE SIMPLE | K144: 22 | L144: 80.1 | M144: =IFERROR(_xlfn.XLOOKUP(Tableau2[[#This Row],[Groupe rem. article]],remises!$B$2:$B$5,remises!$C$2:$C$5),0) -> 0.58 | N144: =$N$1 -> 0 | O144: =IFERROR(SUM(OFFSET(Tableau2[[#This Row],[MLP]],1,1,Tableau2[[#This Row],[nb sous niveau]],1)),"") | P144: =IF(Tableau2[[#This Row],[Type Ligne Richel]]="détail",Tableau2[[#This Row],[Quantité Totale]]*Tableau2[[#This Row],[Prix unitaire HT]]*(1-Tableau2[[#This Row],[% remise ligne]])*(1+Tableau2[[#This Row],[comm]]),"") -> 740.124 | Q144: {=IFERROR( IF(Tableau2[[#This Row],[Type Ligne Richel]]="Chapitre",SUM(_xlfn._xlws.FILTER(OFFSET(Tableau2[[#This Row],[Prix]],1,0,Tableau2[[#This Row],[nb sous niveau]]+1,1),OFFSET(Tableau2[[#This Row],[Type Ligne Richel]],1,0,Tableau2[[#This Row],[nb sous niveau]]+1,1)="Détail")),0)+ IF(Tableau2[[#This Row],[Type Ligne Richel]]="Kit",SUM(OFFSET(Tableau2[[#This Row],[Prix]],1,0,Tableau2[[#This Row],[nb sous niveau]],1)),0)+ IF(Tableau2[[#This Row],[Type Ligne Richel]]="Détail",Tableau2[[#This Row],[Quantité Totale]]*Tableau2[[#This Row],[Prix unitaire HT]]*(1-Tableau2[[#This Row],[% remise ligne]])*(1+Tableau2[[#This Row],[comm]]),0),0)} -> 740.124 | R144: CHARPENTE | S144: 12 | T144: 264
A145: 14040000 | B145: Non | C145: 4 | D145: =IF(Tableau2[[#This Row],[Parent]]="oui",Tableau2[[#This Row],[Niveau]]+1,IF(B144="oui",Tableau2[[#This Row],[Niveau]]+1,D144)) -> 5 | E145: {=MIN(IFERROR(IF(D145-{0;1;2;3;4;5;6;7}>=0,MATCH(D145-{0;1;2;3;4;5;6;7},D146:D$828,0)-1,""),""))} -> 0 | F145: Détail | G145: P710014 | H145: ECROU FREIN H M8 CL8 ZN | K145: 44 | L145: 0.09 | M145: =IFERROR(_xlfn.XLOOKUP(Tableau2[[#This Row],[Groupe rem. article]],remises!$B$2:$B$5,remises!$C$2:$C$5),0) -> 0.53 | N145: =$N$1 -> 0 | O145: =IFERROR(SUM(OFFSET(Tableau2[[#This Row],[MLP]],1,1,Tableau2[[#This Row],[nb sous niveau]],1)),"") | P145: =IF(Tableau2[[#This Row],[Type Ligne Richel]]="détail",Tableau2[[#This Row],[Quantité Totale]]*Tableau2[[#This Row],[Prix unitaire HT]]*(1-Tableau2[[#This Row],[% remise ligne]])*(1+Tableau2[[#This Row],[comm]]),"") -> 1.8612 | Q145: {=IFERROR( IF(Tableau2[[#This Row],[Type Ligne Richel]]="Chapitre",SUM(_xlfn._xlws.FILTER(OFFSET(Tableau2[[#This Row],[Prix]],1,0,Tableau2[[#This Row],[nb sous niveau]]+1,1),OFFSET(Tableau2[[#This Row],[Type Ligne Richel]],1,0,Tableau2[[#This Row],[nb sous niveau]]+1,1)="Détail")),0)+ IF(Tableau2[[#This Row],[Type Ligne Richel]]="Kit",SUM(OFFSET(Tableau2[[#This Row],[Prix]],1,0,Tableau2[[#This Row],[nb sous niveau]],1)),0)+ IF(Tableau2[[#This Row],[Type Ligne Richel]]="Détail",Tableau2[[#This Row],[Quantité Totale]]*Tableau2[[#This Row],[Prix unitaire HT]]*(1-Tableau2[[#This Row],[% remise ligne]])*(1+Tableau2[[#This Row],[comm]]),0),0)} -> 1.8612 | R145: ACCESSOIRE | S145: 0.005 | T145: 0.22
A146: 15000000 | B146: Oui | C146: 3 | D146: =IF(Tableau2[[#This Row],[Parent]]="oui",Tableau2[[#This Row],[Niveau]]+1,IF(B145="oui",Tableau2[[#This Row],[Niveau]]+1,D145)) -> 4 | E146: {=MIN(IFERROR(IF(D146-{0;1;2;3;4;5;6;7}>=0,MATCH(D146-{0;1;2;3;4;5;6;7},D147:D$828,0)-1,""),""))} -> 5 | F146: Kit | G146: B18717 | H146: INSERT POTEAU 80*80 | K146: 30 | L146: 29.47 | M146: =IFERROR(_xlfn.XLOOKUP(Tableau2[[#This Row],[Groupe rem. article]],remises!$B$2:$B$5,remises!$C$2:$C$5),0) -> 0 | N146: =$N$1 -> 0 | O146: =IFERROR(SUM(OFFSET(Tableau2[[#This Row],[MLP]],1,1,Tableau2[[#This Row],[nb sous niveau]],1)),"") -> 373.227 | P146: =IF(Tableau2[[#This Row],[Type Ligne Richel]]="détail",Tableau2[[#This Row],[Quantité Totale]]*Tableau2[[#This Row],[Prix unitaire HT]]*(1-Tableau2[[#This Row],[% remise ligne]])*(1+Tableau2[[#This Row],[comm]]),"") | Q146: {=IFERROR( IF(Tableau2[[#This Row],[Type Ligne Richel]]="Chapitre",SUM(_xlfn._xlws.FILTER(OFFSET(Tableau2[[#This Row],[Prix]],1,0,Tableau2[[#This Row],[nb sous niveau]]+1,1),OFFSET(Tableau2[[#This Row],[Type Ligne Richel]],1,0,Tableau2[[#This Row],[nb sous niveau]]+1,1)="Détail")),0)+ IF(Tableau2[[#This Row],[Type Ligne Richel]]="Kit",SUM(OFFSET(Tableau2[[#This Row],[Prix]],1,0,Tableau2[[#This Row],[nb sous niveau]],1)),0)+ IF(Tableau2[[#This Row],[Type Ligne Richel]]="Détail",Tableau2[[#This Row],[Quantité Totale]]*Tableau2[[#This Row],[Prix unitaire HT]]*(1-Tableau2[[#This Row],[% remise ligne]])*(1+Tableau2[[#This Row],[comm]]),0),0)} -> 373.227 | S146: 4.016 | T146: 120.69
A147: 15010000 | B147: Non | C147: 4 | D147: =IF(Tableau2[[#This Row],[Parent]]="oui",Tableau2[[#This Row],[Niveau]]+1,IF(B146="oui",Tableau2[[#This Row],[Niveau]]+1,D146)) -> 5 | E147: {=MIN(IFERROR(IF(D147-{0;1;2;3;4;5;6;7}>=0,MATCH(D147-{0;1;2;3;4;5;6;7},D148:D$828,0)-1,""),""))} -> 0 | F147: Détail | G147: P710011 | H147: RONDELLE M8x24x2 ZN | K147: 60 | L147: 0.16 | M147: =IFERROR(_xlfn.XLOOKUP(Tableau2[[#This Row],[Groupe rem. article]],remises!$B$2:$B$5,remises!$C$2:$C$5),0) -> 0.53 | N147: =$N$1 -> 0 | O147: =IFERROR(SUM(OFFSET(Tableau2[[#This Row],[MLP]],1,1,Tableau2[[#This Row],[nb sous niveau]],1)),"") | P147: =IF(Tableau2[[#This Row],[Type Ligne Richel]]="détail",Tableau2[[#This Row],[Quantité Totale]]*Tableau2[[#This Row],[Prix unitaire HT]]*(1-Tableau2[[#This Row],[% remise ligne]])*(1+Tableau2[[#This Row],[comm]]),"") -> 4.512 | Q147: {=IFERROR( IF(Tableau2[[#This Row],[Type Ligne Richel]]="Chapitre",SUM(_xlfn._xlws.FILTER(OFFSET(Tableau2[[#This Row],[Prix]],1,0,Tableau2[[#This Row],[nb sous niveau]]+1,1),OFFSET(Tableau2[[#This Row],[Type Ligne Richel]],1,0,Tableau2[[#This Row],[nb sous niveau]]+1,1)="Détail")),0)+ IF(Tableau2[[#This Row],[Type Ligne Richel]]="Kit",SUM(OFFSET(Tableau2[[#This Row],[Prix]],1,0,Tableau2[[#This Row],[nb sous niveau]],1)),0)+ IF(Tableau2[[#This Row],[Type Ligne Richel]]="Détail",Tableau2[[#This Row],[Quantité Totale]]*Tableau2[[#This Row],[Prix unitaire HT]]*(1-Tableau2[[#This Row],[% remise ligne]])*(1+Tableau2[[#This Row],[comm]]),0),0)} -> 4.512 | R147: ACCESSOIRE | S147: 0.007 | T147: 0.42
A148: 15020000 | B148: Non | C148: 4 | D148: =IF(Tableau2[[#This Row],[Parent]]="oui",Tableau2[[#This Row],[Niveau]]+1,IF(B147="oui",Tableau2[[#This Row],[Niveau]]+1,D147)) -> 5 | E148: {=MIN(IFERROR(IF(D148-{0;1;2;3;4;5;6;7}>=0,MATCH(D148-{0;1;2;3;4;5;6;7},D149:D$828,0)-1,""),""))} -> 0 | F148: Détail | G148: P271000 | H148: INSERT 70*70*1.5 LG 1200 | K148: 30 | L148: 28.2 | M148: =IFERROR(_xlfn.XLOOKUP(Tableau2[[#This Row],[Groupe rem. article]],remises!$B$2:$B$5,remises!$C$2:$C$5),0) -> 0.58 | N148: =$N$1 -> 0 | O148: =IFERROR(SUM(OFFSET(Tableau2[[#This Row],[MLP]],1,1,Tableau2[[#This Row],[nb sous niveau]],1)),"") | P148: =IF(Tableau2[[#This Row],[Type Ligne Richel]]="détail",Tableau2[[#This Row],[Quantité Totale]]*Tableau2[[#This Row],[Prix unitaire HT]]*(1-Tableau2[[#This Row],[% remise ligne]])*(1+Tableau2[[#This Row],[comm]]),"") -> 355.32 | Q148: {=IFERROR( IF(Tableau2[[#This Row],[Type Ligne Richel]]="Chapitre",SUM(_xlfn._xlws.FILTER(OFFSET(Tableau2[[#This Row],[Prix]],1,0,Tableau2[[#This Row],[nb sous niveau]]+1,1),OFFSET(Tableau2[[#This Row],[Type Ligne Richel]],1,0,Tableau2[[#This Row],[nb sous niveau]]+1,1)="Détail")),0)+ IF(Tableau2[[#This Row],[Type Ligne Richel]]="Kit",SUM(OFFSET(Tableau2[[#This Row],[Prix]],1,0,Tableau2[[#This Row],[nb sous niveau]],1)),0)+ IF(Tableau2[[#This Row],[Type Ligne Richel]]="Détail",Tableau2[[#This Row],[Quantité Totale]]*Tableau2[[#This Row],[Prix unitaire HT]]*(1-Tableau2[[#This Row],[% remise ligne]])*(1+Tableau2[[#This Row],[comm]]),0),0)} -> 355.32 | R148: CHARPENTE | S148: 3.876 | T148: 116.28
A149: 15030000 | B149: Non | C149: 4 | D149: =IF(Tableau2[[#This Row],[Parent]]="oui",Tableau2[[#This Row],[Niveau]]+1,IF(B148="oui",Tableau2[[#This Row],[Niveau]]+1,D148)) -> 5 | E149: {=MIN(IFERROR(IF(D149-{0;1;2;3;4;5;6;7}>=0,MATCH(D149-{0;1;2;3;4;5;6;7},D150:D$828,0)-1,""),""))} -> 0 | F149: Détail | G149: P620484 | H149: FER A BETON DIA 8 HA LG 250 | K149: 30 | L149: 0.36 | M149: =IFERROR(_xlfn.XLOOKUP(Tableau2[[#This Row],[Groupe rem. article]],remises!$B$2:$B$5,remises!$C$2:$C$5),0) -> 0.53 | N149: =$N$1 -> 0 | O149: =IFERROR(SUM(OFFSET(Tableau2[[#This Row],[MLP]],1,1,Tableau2[[#This Row],[nb sous niveau]],1)),"") | P149: =IF(Tableau2[[#This Row],[Type Ligne Richel]]="détail",Tableau2[[#This Row],[Quantité Totale]]*Tableau2[[#This Row],[Prix unitaire HT]]*(1-Tableau2[[#This Row],[% remise ligne]])*(1+Tableau2[[#This Row],[comm]]),"") -> 5.076 | Q149: {=IFERROR( IF(Tableau2[[#This Row],[Type Ligne Richel]]="Chapitre",SUM(_xlfn._xlws.FILTER(OFFSET(Tableau2[[#This Row],[Prix]],1,0,Tableau2[[#This Row],[nb sous niveau]]+1,1),OFFSET(Tableau2[[#This Row],[Type Ligne Richel]],1,0,Tableau2[[#This Row],[nb sous niveau]]+1,1)="Détail")),0)+ IF(Tableau2[[#This Row],[Type Ligne Richel]]="Kit",SUM(OFFSET(Tableau2[[#This Row],[Prix]],1,0,Tableau2[[#This Row],[nb sous niveau]],1)),0)+ IF(Tableau2[[#This Row],[Type Ligne Richel]]="Détail",Tableau2[[#This Row],[Quantité Totale]]*Tableau2[[#This Row],[Prix unitaire HT]]*(1-Tableau2[[#This Row],[% remise ligne]])*(1+Tableau2[[#This Row],[comm]]),0),0)} -> 5.076 | R149: ACCESSOIRE | S149: 0.088 | T149: 2.64
A150: 15040000 | B150: Non | C150: 4 | D150: =IF(Tableau2[[#This Row],[Parent]]="oui",Tableau2[[#This Row],[Niveau]]+1,IF(B149="oui",Tableau2[[#This Row],[Niveau]]+1,D149)) -> 5 | E150: {=MIN(IFERROR(IF(D150-{0;1;2;3;4;5;6;7}>=0,MATCH(D150-{0;1;2;3;4;5;6;7},D151:D$828,0)-1,""),""))} -> 0 | F150: Détail | G150: P710062 | H150: VIS H M8x100/100 CL 10.9 GEO | K150: 30 | L150: 0.5 | M150: =IFERROR(_xlfn.XLOOKUP(Tableau2[[#This Row],[Groupe rem. article]],remises!$B$2:$B$5,remises!$C$2:$C$5),0) -> 0.53 | N150: =$N$1 -> 0 | O150: =IFERROR(SUM(OFFSET(Tableau2[[#This Row],[MLP]],1,1,Tableau2[[#This Row],[nb sous niveau]],1)),"") | P150: =IF(Tableau2[[#This Row],[Type Ligne Richel]]="détail",Tableau2[[#This Row],[Quantité Totale]]*Tableau2[[#This Row],[Prix unitaire HT]]*(1-Tableau2[[#This Row],[% remise ligne]])*(1+Tableau2[[#This Row],[comm]]),"") -> 7.05 | Q150: {=IFERROR( IF(Tableau2[[#This Row],[Type Ligne Richel]]="Chapitre",SUM(_xlfn._xlws.FILTER(OFFSET(Tableau2[[#This Row],[Prix]],1,0,Tableau2[[#This Row],[nb sous niveau]]+1,1),OFFSET(Tableau2[[#This Row],[Type Ligne Richel]],1,0,Tableau2[[#This Row],[nb sous niveau]]+1,1)="Détail")),0)+ IF(Tableau2[[#This Row],[Type Ligne Richel]]="Kit",SUM(OFFSET(Tableau2[[#This Row],[Prix]],1,0,Tableau2[[#This Row],[nb sous niveau]],1)),0)+ IF(Tableau2[[#This Row],[Type Ligne Richel]]="Détail",Tableau2[[#This Row],[Quantité Totale]]*Tableau2[[#This Row],[Prix unitaire HT]]*(1-Tableau2[[#This Row],[% remise ligne]])*(1+Tableau2[[#This Row],[comm]]),0),0)} -> 7.05 | R150: ACCESSOIRE | S150: 0.04 | T150: 1.2
A151: 15050000 | B151: Non | C151: 4 | D151: =IF(Tableau2[[#This Row],[Parent]]="oui",Tableau2[[#This Row],[Niveau]]+1,IF(B150="oui",Tableau2[[#This Row],[Niveau]]+1,D150)) -> 5 | E151: {=MIN(IFERROR(IF(D151-{0;1;2;3;4;5;6;7}>=0,MATCH(D151-{0;1;2;3;4;5;6;7},D152:D$828,0)-1,""),""))} -> 0 | F151: Détail | G151: P710014 | H151: ECROU FREIN H M8 CL8 ZN | K151: 30 | L151: 0.09 | M151: =IFERROR(_xlfn.XLOOKUP(Tableau2[[#This Row],[Groupe rem. article]],remises!$B$2:$B$5,remises!$C$2:$C$5),0) -> 0.53 | N151: =$N$1 -> 0 | O151: =IFERROR(SUM(OFFSET(Tableau2[[#This Row],[MLP]],1,1,Tableau2[[#This Row],[nb sous niveau]],1)),"") | P151: =IF(Tableau2[[#This Row],[Type Ligne Richel]]="détail",Tableau2[[#This Row],[Quantité Totale]]*Tableau2[[#This Row],[Prix unitaire HT]]*(1-Tableau2[[#This Row],[% remise ligne]])*(1+Tableau2[[#This Row],[comm]]),"") -> 1.269 | Q151: {=IFERROR( IF(Tableau2[[#This Row],[Type Ligne Richel]]="Chapitre",SUM(_xlfn._xlws.FILTER(OFFSET(Tableau2[[#This Row],[Prix]],1,0,Tableau2[[#This Row],[nb sous niveau]]+1,1),OFFSET(Tableau2[[#This Row],[Type Ligne Richel]],1,0,Tableau2[[#This Row],[nb sous niveau]]+1,1)="Détail")),0)+ IF(Tableau2[[#This Row],[Type Ligne Richel]]="Kit",SUM(OFFSET(Tableau2[[#This Row],[Prix]],1,0,Tableau2[[#This Row],[nb sous niveau]],1)),0)+ IF(Tableau2[[#This Row],[Type Ligne Richel]]="Détail",Tableau2[[#This Row],[Quantité Totale]]*Tableau2[[#This Row],[Prix unitaire HT]]*(1-Tableau2[[#This Row],[% remise ligne]])*(1+Tableau2[[#This Row],[comm]]),0),0)} -> 1.269 | R151: ACCESSOIRE | S151: 0.005 | T151: 0.15
A152: 16000000 | B152: Oui | C152: 3 | D152: =IF(Tableau2[[#This Row],[Parent]]="oui",Tableau2[[#This Row],[Niveau]]+1,IF(B151="oui",Tableau2[[#This Row],[Niveau]]+1,D151)) -> 4 | E152: {=MIN(IFERROR(IF(D152-{0;1;2;3;4;5;6;7}>=0,MATCH(D152-{0;1;2;3;4;5;6;7},D153:D$828,0)-1,""),""))} -> 5 | F152: Kit | G152: B18718 | H152: INSERT POTEAU 80*40 | K152: 22 | L152: 23.61 | M152: =IFERROR(_xlfn.XLOOKUP(Tableau2[[#This Row],[Groupe rem. article]],remises!$B$2:$B$5,remises!$C$2:$C$5),0) -> 0 | N152: =$N$1 -> 0 | O152: =IFERROR(SUM(OFFSET(Tableau2[[#This Row],[MLP]],1,1,Tableau2[[#This Row],[nb sous niveau]],1)),"") -> 219.3884 | P152: =IF(Tableau2[[#This Row],[Type Ligne Richel]]="détail",Tableau2[[#This Row],[Quantité Totale]]*Tableau2[[#This Row],[Prix unitaire HT]]*(1-Tableau2[[#This Row],[% remise ligne]])*(1+Tableau2[[#This Row],[comm]]),"") | Q152: {=IFERROR( IF(Tableau2[[#This Row],[Type Ligne Richel]]="Chapitre",SUM(_xlfn._xlws.FILTER(OFFSET(Tableau2[[#This Row],[Prix]],1,0,Tableau2[[#This Row],[nb sous niveau]]+1,1),OFFSET(Tableau2[[#This Row],[Type Ligne Richel]],1,0,Tableau2[[#This Row],[nb sous niveau]]+1,1)="Détail")),0)+ IF(Tableau2[[#This Row],[Type Ligne Richel]]="Kit",SUM(OFFSET(Tableau2[[#This Row],[Prix]],1,0,Tableau2[[#This Row],[nb sous niveau]],1)),0)+ IF(Tableau2[[#This Row],[Type Ligne Richel]]="Détail",Tableau2[[#This Row],[Quantité Totale]]*Tableau2[[#This Row],[Prix unitaire HT]]*(1-Tableau2[[#This Row],[% remise ligne]])*(1+Tableau2[[#This Row],[comm]]),0),0)} -> 219.3884 | S152: 3.0225 | T152: 66.649
A153: 16010000 | B153: Non | C153: 4 | D153: =IF(Tableau2[[#This Row],[Parent]]="oui",Tableau2[[#This Row],[Niveau]]+1,IF(B152="oui",Tableau2[[#This Row],[Niveau]]+1,D152)) -> 5 | E153: {=MIN(IFERROR(IF(D153-{0;1;2;3;4;5;6;7}>=0,MATCH(D153-{0;1;2;3;4;5;6;7},D154:D$828,0)-1,""),""))} -> 0 | F153: Détail | G153: P710011 | H153: RONDELLE M8x24x2 ZN | K153: 44 | L153: 0.16 | M153: =IFERROR(_xlfn.XLOOKUP(Tableau2[[#This Row],[Groupe rem. article]],remises!$B$2:$B$5,remises!$C$2:$C$5),0) -> 0.53 | N153: =$N$1 -> 0 | O153: =IFERROR(SUM(OFFSET(Tableau2[[#This Row],[MLP]],1,1,Tableau2[[#This Row],[nb sous niveau]],1)),"") | P153: =IF(Tableau2[[#This Row],[Type Ligne Richel]]="détail",Tableau2[[#This Row],[Quantité Totale]]*Tableau2[[#This Row],[Prix unitaire HT]]*(1-Tableau2[[#This Row],[% remise ligne]])*(1+Tableau2[[#This Row],[comm]]),"") -> 3.3088 | Q153: {=IFERROR( IF(Tableau2[[#This Row],[Type Ligne Richel]]="Chapitre",SUM(_xlfn._xlws.FILTER(OFFSET(Tableau2[[#This Row],[Prix]],1,0,Tableau2[[#This Row],[nb sous niveau]]+1,1),OFFSET(Tableau2[[#This Row],[Type Ligne Richel]],1,0,Tableau2[[#This Row],[nb sous niveau]]+1,1)="Détail")),0)+ IF(Tableau2[[#This Row],[Type Ligne Richel]]="Kit",SUM(OFFSET(Tableau2[[#This Row],[Prix]],1,0,Tableau2[[#This Row],[nb sous niveau]],1)),0)+ IF(Tableau2[[#This Row],[Type Ligne Richel]]="Détail",Tableau2[[#This Row],[Quantité Totale]]*Tableau2[[#This Row],[Prix unitaire HT]]*(1-Tableau2[[#This Row],[% remise ligne]])*(1+Tableau2[[#This Row],[comm]]),0),0)} -> 3.3088 | R153: ACCESSOIRE | S153: 0.007 | T153: 0.308
A154: 16020000 | B154: Non | C154: 4 | D154: =IF(Tableau2[[#This Row],[Parent]]="oui",Tableau2[[#This Row],[Niveau]]+1,IF(B153="oui",Tableau2[[#This Row],[Niveau]]+1,D153)) -> 5 | E154: {=MIN(IFERROR(IF(D154-{0;1;2;3;4;5;6;7}>=0,MATCH(D154-{0;1;2;3;4;5;6;7},D155:D$828,0)-1,""),""))} -> 0 | F154: Détail | G154: P270019 | H154: INSERT 70*35*1.5 LG 1200 | K154: 22 | L154: 22.49 | M154: =IFERROR(_xlfn.XLOOKUP(Tableau2[[#This Row],[Groupe rem. article]],remises!$B$2:$B$5,remises!$C$2:$C$5),0) -> 0.58 | N154: =$N$1 -> 0 | O154: =IFERROR(SUM(OFFSET(Tableau2[[#This Row],[MLP]],1,1,Tableau2[[#This Row],[nb sous niveau]],1)),"") | P154: =IF(Tableau2[[#This Row],[Type Ligne Richel]]="détail",Tableau2[[#This Row],[Quantité Totale]]*Tableau2[[#This Row],[Prix unitaire HT]]*(1-Tableau2[[#This Row],[% remise ligne]])*(1+Tableau2[[#This Row],[comm]]),"") -> 207.8076 | Q154: {=IFERROR( IF(Tableau2[[#This Row],[Type Ligne Richel]]="Chapitre",SUM(_xlfn._xlws.FILTER(OFFSET(Tableau2[[#This Row],[Prix]],1,0,Tableau2[[#This Row],[nb sous niveau]]+1,1),OFFSET(Tableau2[[#This Row],[Type Ligne Richel]],1,0,Tableau2[[#This Row],[nb sous niveau]]+1,1)="Détail")),0)+ IF(Tableau2[[#This Row],[Type Ligne Richel]]="Kit",SUM(OFFSET(Tableau2[[#This Row],[Prix]],1,0,Tableau2[[#This Row],[nb sous niveau]],1)),0)+ IF(Tableau2[[#This Row],[Type Ligne Richel]]="Détail",Tableau2[[#This Row],[Quantité Totale]]*Tableau2[[#This Row],[Prix unitaire HT]]*(1-Tableau2[[#This Row],[% remise ligne]])*(1+Tableau2[[#This Row],[comm]]),0),0)} -> 207.8076 | R154: CHARPENTE | S154: 2.8975 | T154: 63.745
A155: 16030000 | B155: Non | C155: 4 | D155: =IF(Tableau2[[#This Row],[Parent]]="oui",Tableau2[[#This Row],[Niveau]]+1,IF(B154="oui",Tableau2[[#This Row],[Niveau]]+1,D154)) -> 5 | E155: {=MIN(IFERROR(IF(D155-{0;1;2;3;4;5;6;7}>=0,MATCH(D155-{0;1;2;3;4;5;6;7},D156:D$828,0)-1,""),""))} -> 0 | F155: Détail | G155: P620484 | H155: FER A BETON DIA 8 HA LG 250 | K155: 22 | L155: 0.36 | M155: =IFERROR(_xlfn.XLOOKUP(Tableau2[[#This Row],[Groupe rem. article]],remises!$B$2:$B$5,remises!$C$2:$C$5),0) -> 0.53 | N155: =$N$1 -> 0 | O155: =IFERROR(SUM(OFFSET(Tableau2[[#This Row],[MLP]],1,1,Tableau2[[#This Row],[nb sous niveau]],1)),"") | P155: =IF(Tableau2[[#This Row],[Type Ligne Richel]]="détail",Tableau2[[#This Row],[Quantité Totale]]*Tableau2[[#This Row],[Prix unitaire HT]]*(1-Tableau2[[#This Row],[% remise ligne]])*(1+Tableau2[[#This Row],[comm]]),"") -> 3.7224 | Q155: {=IFERROR( IF(Tableau2[[#This Row],[Type Ligne Richel]]="Chapitre",SUM(_xlfn._xlws.FILTER(OFFSET(Tableau2[[#This Row],[Prix]],1,0,Tableau2[[#This Row],[nb sous niveau]]+1,1),OFFSET(Tableau2[[#This Row],[Type Ligne Richel]],1,0,Tableau2[[#This Row],[nb sous niveau]]+1,1)="Détail")),0)+ IF(Tableau2[[#This Row],[Type Ligne Richel]]="Kit",SUM(OFFSET(Tableau2[[#This Row],[Prix]],1,0,Tableau2[[#This Row],[nb sous niveau]],1)),0)+ IF(Tableau2[[#This Row],[Type Ligne Richel]]="Détail",Tableau2[[#This Row],[Quantité Totale]]*Tableau2[[#This Row],[Prix unitaire HT]]*(1-Tableau2[[#This Row],[% remise ligne]])*(1+Tableau2[[#This Row],[comm]]),0),0)} -> 3.7224 | R155: ACCESSOIRE | S155: 0.088 | T155: 1.936
A156: 16040000 | B156: Non | C156: 4 | D156: =IF(Tableau2[[#This Row],[Parent]]="oui",Tableau2[[#This Row],[Niveau]]+1,IF(B155="oui",Tableau2[[#This Row],[Niveau]]+1,D155)) -> 5 | E156: {=MIN(IFERROR(IF(D156-{0;1;2;3;4;5;6;7}>=0,MATCH(D156-{0;1;2;3;4;5;6;7},D157:D$828,0)-1,""),""))} -> 0 | F156: Détail | G156: P710006 | H156: VIS H M8x60/60 CL 8.8 GEO | K156: 22 | L156: 0.35 | M156: =IFERROR(_xlfn.XLOOKUP(Tableau2[[#This Row],[Groupe rem. article]],remises!$B$2:$B$5,remises!$C$2:$C$5),0) -> 0.53 | N156: =$N$1 -> 0 | O156: =IFERROR(SUM(OFFSET(Tableau2[[#This Row],[MLP]],1,1,Tableau2[[#This Row],[nb sous niveau]],1)),"") | P156: =IF(Tableau2[[#This Row],[Type Ligne Richel]]="détail",Tableau2[[#This Row],[Quantité Totale]]*Tableau2[[#This Row],[Prix unitaire HT]]*(1-Tableau2[[#This Row],[% remise ligne]])*(1+Tableau2[[#This Row],[comm]]),"") -> 3.619 | Q156: {=IFERROR( IF(Tableau2[[#This Row],[Type Ligne Richel]]="Chapitre",SUM(_xlfn._xlws.FILTER(OFFSET(Tableau2[[#This Row],[Prix]],1,0,Tableau2[[#This Row],[nb sous niveau]]+1,1),OFFSET(Tableau2[[#This Row],[Type Ligne Richel]],1,0,Tableau2[[#This Row],[nb sous niveau]]+1,1)="Détail")),0)+ IF(Tableau2[[#This Row],[Type Ligne Richel]]="Kit",SUM(OFFSET(Tableau2[[#This Row],[Prix]],1,0,Tableau2[[#This Row],[nb sous niveau]],1)),0)+ IF(Tableau2[[#This Row],[Type Ligne Richel]]="Détail",Tableau2[[#This Row],[Quantité Totale]]*Tableau2[[#This Row],[Prix unitaire HT]]*(1-Tableau2[[#This Row],[% remise ligne]])*(1+Tableau2[[#This Row],[comm]]),0),0)} -> 3.619 | R156: ACCESSOIRE | S156: 0.025 | T156: 0.55
A157: 16050000 | B157: Non | C157: 4 | D157: =IF(Tableau2[[#This Row],[Parent]]="oui",Tableau2[[#This Row],[Niveau]]+1,IF(B156="oui",Tableau2[[#This Row],[Niveau]]+1,D156)) -> 5 | E157: {=MIN(IFERROR(IF(D157-{0;1;2;3;4;5;6;7}>=0,MATCH(D157-{0;1;2;3;4;5;6;7},D158:D$828,0)-1,""),""))} -> 0 | F157: Détail | G157: P710014 | H157: ECROU FREIN H M8 CL8 ZN | K157: 22 | L157: 0.09 | M157: =IFERROR(_xlfn.XLOOKUP(Tableau2[[#This Row],[Groupe rem. article]],remises!$B$2:$B$5,remises!$C$2:$C$5),0) -> 0.53 | N157: =$N$1 -> 0 | O157: =IFERROR(SUM(OFFSET(Tableau2[[#This Row],[MLP]],1,1,Tableau2[[#This Row],[nb sous niveau]],1)),"") | P157: =IF(Tableau2[[#This Row],[Type Ligne Richel]]="détail",Tableau2[[#This Row],[Quantité Totale]]*Tableau2[[#This Row],[Prix unitaire HT]]*(1-Tableau2[[#This Row],[% remise ligne]])*(1+Tableau2[[#This Row],[comm]]),"") -> 0.9306 | Q157: {=IFERROR( IF(Tableau2[[#This Row],[Type Ligne Richel]]="Chapitre",SUM(_xlfn._xlws.FILTER(OFFSET(Tableau2[[#This Row],[Prix]],1,0,Tableau2[[#This Row],[nb sous niveau]]+1,1),OFFSET(Tableau2[[#This Row],[Type Ligne Richel]],1,0,Tableau2[[#This Row],[nb sous niveau]]+1,1)="Détail")),0)+ IF(Tableau2[[#This Row],[Type Ligne Richel]]="Kit",SUM(OFFSET(Tableau2[[#This Row],[Prix]],1,0,Tableau2[[#This Row],[nb sous niveau]],1)),0)+ IF(Tableau2[[#This Row],[Type Ligne Richel]]="Détail",Tableau2[[#This Row],[Quantité Totale]]*Tableau2[[#This Row],[Prix unitaire HT]]*(1-Tableau2[[#This Row],[% remise ligne]])*(1+Tableau2[[#This Row],[comm]]),0),0)} -> 0.9306 | R157: ACCESSOIRE | S157: 0.005 | T157: 0.11
...

Sheet remises
B2: accessoire | C2: 0.53
B3: charpente | C3: 0.58
B4: couverture | C4: 0.25
B5: equipement | C5: 0.25

Sheet Feuil5
A3: Niveau réel | B3: Désignation | C3: Somme de MLP | D3: Somme de MLD
A4: 2 | B4: OSSATURE DE LA SERRE | C4: 15749.969 | D4: 0
