Workbook

Sheet Feuil1
C1: N° | D1: Colonne4 | E1: Colonne3 | F1: Colonne1 | G1: Colonne13 | H1: Colonne12 | I1: Colonne2
C2: 1 | F2: gfd | I2: rdfghg
C3: 1 | F3: hdfgh | I3: shsvbv
C4: 2 | F4: gfgfds | I4: gfhdgfq
C5: 2 | F5: jhgnn | I5: wxcvwx
C6: 3 | F6: qsdfdsq | I6: hghdfg
C7: 3 | F7: cxvbs | I7: gndfg
C8: 4 | F8: fbgdsgh | I8: qsdfgezhg
C9: 4 | F9: sdfgsf | I9: dfbvxq
C10: 5 | F10: qsdfgh | I10: qsdvw
C11: 5 | F11: bdfqqdsfg | I11: bxcvdfg
C12: 6 | F12: qeraz | I12: wcvdfg
C13: 6 | F13: gsdfhdfgjhdf | I13: wxcvsfqds
... C17: 8 | F17: xbvcbfg | I17: shgf

Sheet Feuil1 (2)
B2: Essai | G2: Résultat souhaité | K2: Vérification | M2: Formule | N2: Vérification
B3: Colonne1 | C3: Colonne2 | G3: Colonne1 | H3: Colonne2
B4: 1 | C4: =IF(VLOOKUP(B4,t_37[#All],4,FALSE)<>C3,VLOOKUP(B4,t_37[#All],4,FALSE),VLOOKUP(B4,t_37[#All],7,FALSE)) -> gfd | G4: 1 | H4: gfd | K4: =EXACT(Tableau15[[#This Row],[Colonne2]],Tableau136[[#This Row],[Colonne2]]) -> TRUE | M4: =OFFSET(Feuil1!$C$1,MATCH(G4,t_37[N°],0)+INT((COUNTIF($G$4:G4,G4))/3),3+(3*MOD(COUNTIF($G$4:G4,G4)-1,2))) -> gfd | N4: =Tableau136[[#This Row],[Colonne2]]=M4 -> TRUE
B5: 1 | C5: =IF(VLOOKUP(B5,t_37[#All],4,FALSE)<>C4,VLOOKUP(B5,t_37[#All],4,FALSE),VLOOKUP(B5,t_37[#All],7,FALSE)) -> rdfghg | G5: 1 | H5: rdfghg | K5: =EXACT(Tableau15[[#This Row],[Colonne2]],Tableau136[[#This Row],[Colonne2]]) -> TRUE | M5: =OFFSET(Feuil1!$C$1,MATCH(G5,t_37[N°],0)+INT((COUNTIF($G$4:G5,G5))/3),3+(3*MOD(COUNTIF($G$4:G5,G5)-1,2))) -> rdfghg | N5: =Tableau136[[#This Row],[Colonne2]]=M5 -> TRUE
B6: 1 | C6: =IF(VLOOKUP(B6,t_37[#All],4,FALSE)<>C5,VLOOKUP(B6,t_37[#All],4,FALSE),VLOOKUP(B6,t_37[#All],7,FALSE)) -> gfd | G6: 1 | H6: hdfgh | K6: =EXACT(Tableau15[[#This Row],[Colonne2]],Tableau136[[#This Row],[Colonne2]]) -> FALSE | M6: =OFFSET(Feuil1!$C$1,MATCH(G6,t_37[N°],0)+INT((COUNTIF($G$4:G6,G6))/3),3+(3*MOD(COUNTIF($G$4:G6,G6)-1,2))) -> hdfgh | N6: =Tableau136[[#This Row],[Colonne2]]=M6 -> TRUE
B7: 1 | C7: =IF(VLOOKUP(B7,t_37[#All],4,FALSE)<>C6,VLOOKUP(B7,t_37[#All],4,FALSE),VLOOKUP(B7,t_37[#All],7,FALSE)) -> rdfghg | G7: 1 | H7: shsvbv | K7: =EXACT(Tableau15[[#This Row],[Colonne2]],Tableau136[[#This Row],[Colonne2]]) -> FALSE | M7: =OFFSET(Feuil1!$C$1,MATCH(G7,t_37[N°],0)+INT((COUNTIF($G$4:G7,G7))/3),3+(3*MOD(COUNTIF($G$4:G7,G7)-1,2))) -> shsvbv | N7: =Tableau136[[#This Row],[Colonne2]]=M7 -> TRUE
B8: 2 | C8: =IF(VLOOKUP(B8,t_37[#All],4,FALSE)<>C7,VLOOKUP(B8,t_37[#All],4,FALSE),VLOOKUP(B8,t_37[#All],7,FALSE)) -> gfgfds | G8: 2 | H8: gfgfds | K8: =EXACT(Tableau15[[#This Row],[Colonne2]],Tableau136[[#This Row],[Colonne2]]) -> TRUE | M8: =OFFSET(Feuil1!$C$1,MATCH(G8,t_37[N°],0)+INT((COUNTIF($G$4:G8,G8))/3),3+(3*MOD(COUNTIF($G$4:G8,G8)-1,2))) -> gfgfds | N8: =Tableau136[[#This Row],[Colonne2]]=M8 -> TRUE
B9: 2 | C9: =IF(VLOOKUP(B9,t_37[#All],4,FALSE)<>C8,VLOOKUP(B9,t_37[#All],4,FALSE),VLOOKUP(B9,t_37[#All],7,FALSE)) -> gfhdgfq | G9: 2 | H9: gfhdgfq | K9: =EXACT(Tableau15[[#This Row],[Colonne2]],Tableau136[[#This Row],[Colonne2]]) -> TRUE | M9: =OFFSET(Feuil1!$C$1,MATCH(G9,t_37[N°],0)+INT((COUNTIF($G$4:G9,G9))/3),3+(3*MOD(COUNTIF($G$4:G9,G9)-1,2))) -> gfhdgfq | N9: =Tableau136[[#This Row],[Colonne2]]=M9 -> TRUE
B10: 2 | C10: =IF(VLOOKUP(B10,t_37[#All],4,FALSE)<>C9,VLOOKUP(B10,t_37[#All],4,FALSE),VLOOKUP(B10,t_37[#All],7,FALSE)) -> gfgfds | G10: 2 | H10: jhgnn | K10: =EXACT(Tableau15[[#This Row],[Colonne2]],Tableau136[[#This Row],[Colonne2]]) -> FALSE | M10: =OFFSET(Feuil1!$C$1,MATCH(G10,t_37[N°],0)+INT((COUNTIF($G$4:G10,G10))/3),3+(3*MOD(COUNTIF($G$4:G10,G10)-1,2))) -> jhgnn | N10: =Tableau136[[#This Row],[Colonne2]]=M10 -> TRUE
B11: 2 | C11: =IF(VLOOKUP(B11,t_37[#All],4,FALSE)<>C10,VLOOKUP(B11,t_37[#All],4,FALSE),VLOOKUP(B11,t_37[#All],7,FALSE)) -> gfhdgfq | G11: 2 | H11: wxcvwx | K11: =EXACT(Tableau15[[#This Row],[Colonne2]],Tableau136[[#This Row],[Colonne2]]) -> FALSE | M11: =OFFSET(Feuil1!$C$1,MATCH(G11,t_37[N°],0)+INT((COUNTIF($G$4:G11,G11))/3),3+(3*MOD(COUNTIF($G$4:G11,G11)-1,2))) -> wxcvwx | N11: =Tableau136[[#This Row],[Colonne2]]=M11 -> TRUE
B12: 3 | C12: =IF(VLOOKUP(B12,t_37[#All],4,FALSE)<>C11,VLOOKUP(B12,t_37[#All],4,FALSE),VLOOKUP(B12,t_37[#All],7,FALSE)) -> qsdfdsq | G12: 3 | H12: qsdfdsq | K12: =EXACT(Tableau15[[#This Row],[Colonne2]],Tableau136[[#This Row],[Colonne2]]) -> TRUE | M12: =OFFSET(Feuil1!$C$1,MATCH(G12,t_37[N°],0)+INT((COUNTIF($G$4:G12,G12))/3),3+(3*MOD(COUNTIF($G$4:G12,G12)-1,2))) -> qsdfdsq | N12: =Tableau136[[#This Row],[Colonne2]]=M12 -> TRUE
B13: 3 | C13: =IF(VLOOKUP(B13,t_37[#All],4,FALSE)<>C12,VLOOKUP(B13,t_37[#All],4,FALSE),VLOOKUP(B13,t_37[#All],7,FALSE)) -> hghdfg | G13: 3 | H13: hghdfg | K13: =EXACT(Tableau15[[#This Row],[Colonne2]],Tableau136[[#This Row],[Colonne2]]) -> TRUE | M13: =OFFSET(Feuil1!$C$1,MATCH(G13,t_37[N°],0)+INT((COUNTIF($G$4:G13,G13))/3),3+(3*MOD(COUNTIF($G$4:G13,G13)-1,2))) -> hghdfg | N13: =Tableau136[[#This Row],[Colonne2]]=M13 -> TRUE
B14: 3 | C14: =IF(VLOOKUP(B14,t_37[#All],4,FALSE)<>C13,VLOOKUP(B14,t_37[#All],4,FALSE),VLOOKUP(B14,t_37[#All],7,FALSE)) -> qsdfdsq | G14: 3 | H14: cxvbs | K14: =EXACT(Tableau15[[#This Row],[Colonne2]],Tableau136[[#This Row],[Colonne2]]) -> FALSE | M14: =OFFSET(Feuil1!$C$1,MATCH(G14,t_37[N°],0)+INT((COUNTIF($G$4:G14,G14))/3),3+(3*MOD(COUNTIF($G$4:G14,G14)-1,2))) -> cxvbs | N14: =Tableau136[[#This Row],[Colonne2]]=M14 -> TRUE
B15: 3 | C15: =IF(VLOOKUP(B15,t_37[#All],4,FALSE)<>C14,VLOOKUP(B15,t_37[#All],4,FALSE),VLOOKUP(B15,t_37[#All],7,FALSE)) -> hghdfg | G15: 3 | H15: gndfg | K15: =EXACT(Tableau15[[#This Row],[Colonne2]],Tableau136[[#This Row],[Colonne2]]) -> FALSE | M15: =OFFSET(Feuil1!$C$1,MATCH(G15,t_37[N°],0)+INT((COUNTIF($G$4:G15,G15))/3),3+(3*MOD(COUNTIF($G$4:G15,G15)-1,2))) -> gndfg | N15: =Tableau136[[#This Row],[Colonne2]]=M15 -> TRUE
... B35: 8 | C35: =IF(VLOOKUP(B35,t_37[#All],4,FALSE)<>C34,VLOOKUP(B35,t_37[#All],4,FALSE),VLOOKUP(B35,t_37[#All],7,FALSE)) -> bfgh | G35: 8 | H35: shgf | K35: =EXACT(Tableau15[[#This Row],[Colonne2]],Tableau136[[#This Row],[Colonne2]]) -> FALSE | M35: =OFFSET(Feuil1!$C$1,MATCH(G35,t_37[N°],0)+INT((COUNTIF($G$4:G35,G35))/3),3+(3*MOD(COUNTIF($G$4:G35,G35)-1,2))) -> shgf | N35: =Tableau136[[#This Row],[Colonne2]]=M35 -> TRUE
