Workbook
Name Nom: '[1]Demi-Fond'!$B$5:$B$25

Sheet LISTE CLASSE
A1: Classe | B1: 3B
A2: Nom | B2: Prénom | C2: NOM Prénom
A3: A | B3: Toto | C3: =A3&" "&B3 -> A Toto
A4: B | B4: Tata | C4: =A4&" "&B4 -> B Tata
A5: C | B5: Riri | C5: =A5&" "&B5 -> C Riri
A6: D | B6: Fifi | C6: =A6&" "&B6 -> D Fifi
A7: E | B7: Loulou | C7: =A7&" "&B7 -> E Loulou
A8: F | B8: Jaja | C8: =A8&" "&B8 -> F Jaja
A9: G | B9: Juju | C9: =A9&" "&B9 -> G Juju
A10: H | B10: Nono | C10: =A10&" "&B10 -> H Nono
A11: I | B11: Flo | C11: =A11&" "&B11 -> I Flo
C12: =A12&" "&B12
C13: =A13&" "&B13
C14: =A14&" "&B14
C15: =A15&" "&B15
C16: =A16&" "&B16
C17: =A17&" "&B17
C18: =A18&" "&B18
C19: =A19&" "&B19
C20: =A20&" "&B20
C21: =A21&" "&B21
C22: =A22&" "&B22
C23: =A23&" "&B23
... C27: =A27&" "&B27

Sheet BILAN SC
B2: NOM
B3: Prénom | C3: =LOOKUP(C2,'LISTE CLASSE'!A3:A27,'LISTE CLASSE'!B3:B27) -> #N/A
A5: Socle Commun | B5: Composantes du Socle Commun | C5: Eléments signifiants | D5: CA1: Produire une performance optimale | F5: CA2: Adapter ses déplacements | H5: CA3: S'exprimer devant les autres | J5: CA4: Conduire un affrontement | N5: BILAN
D6: Demi-Fond | H6: Gymnastique | J6: Volleyball | L6: Badminton | AX6: =LOOKUP('[1]Bilan SC'!C2,Nom,MATCH("X",'[1]Demi-Fond'!I5:M5,5)) -> #REF!
D7: Elément évalué | E7: NM | F7: Elément évalué | G7: NM | H7: Elément évalué | I7: NM | J7: Elément évalué | K7: NM | L7: Elément évalué | M7: NM | N7: Niveau de Maitrise
A8: Domaine 1 | B8: D1.4 | C8: Pratiquer des activités physiques et sportives | E8: =LOOKUP($C$2,'Demi-Fond'!$B$6:$B$35,'Demi-Fond'!$AM$6:$AM$35) -> #N/A | I8: =LOOKUP($C$2,Acrosport!$B$6:$B$35,Acrosport!$AM$6:$AM$35) -> #N/A | K8: =LOOKUP($C$2,Volleyball!$B$6:$B$35,Volleyball!$AM$6:$AM$35) -> #N/A | M8: =LOOKUP($C$2,Badminton!$B$6:$B$35,Badminton!$AM$6:$AM$35) -> #N/A | N8: =AVERAGE(E8,I8,M8,K8) -> #N/A
A9: Domaine 2 | B9: D2 | C9: Organiser son travail personnel | E9: =LOOKUP($C$2,'Demi-Fond'!$B$6:$B$35,'Demi-Fond'!$AN$6:$AN$35) -> #N/A | N9: =AVERAGE(E9) -> #N/A
C10: Coopérer et réaliser des projets | I10: =LOOKUP($C$2,Acrosport!$B$6:$B$35,Acrosport!$AN$6:$AN$35) -> #N/A | K10: =LOOKUP($C$2,Volleyball!$B$6:$B$35,Volleyball!$AN$6:$AN$35) -> #N/A | M10: =LOOKUP($C$2,Badminton!$B$6:$B$35,Badminton!$AN$6:$AN$35) -> #N/A | N10: =AVERAGE(I10,M10,K10) -> #N/A
C11: Mobiliser des outils numériques pour apprendre, échanger, communiquer | N11: =AVERAGE(I11) -> #DIV/0!
A12: Domaine 3 | B12: D3 | C12: Maîtriser l’expression de sa sensibilité et de ses opinions, respecter celles des autres | N12: =AVERAGE(M12) -> #DIV/0!
C13: Connaitre et comprendre la règle et le droit | M13: =LOOKUP($C$2,Badminton!$B$6:$B$35,Badminton!$AO$6:$AO$35) -> #N/A | N13: =AVERAGE(M13) -> #N/A
C14: Exercer son esprit critique, faire preuve de réflexion et de discernement | I14: =LOOKUP($C$2,Acrosport!$B$6:$B$35,Acrosport!$AO$6:$AO$35) -> #N/A | N14: =AVERAGE(I14) -> #N/A
C15: Faire preuve de responsabilité, respecter les règles de la vie collective, s’engager et prendre des initiatives | E15: =LOOKUP($C$2,'Demi-Fond'!$B$6:$B$35,'Demi-Fond'!$AO$6:$AO$35) -> #N/A | K15: =LOOKUP($C$2,Volleyball!$B$6:$B$35,Volleyball!$AO$6:$AO$35) -> #N/A | N15: =AVERAGE(E15,K15) -> #N/A
A16: Domaine 4 | B16: D4 | C16: Identifier des règles et des principes de responsabilité individuelle et collective dans les domaines de la santé, de la sécurité, de l’environnement | N16: =AVERAGE(E16,I16,M16,G16) -> #DIV/0!
A17: Domaine 5 | B17: D5 | N17: =AVERAGE(E17,I17,M17,G17) -> #DIV/0!

Sheet Base de données
A1: Acrosport | B1: D1.4 | E1: D2 | G1: D3
A2: Compétences | B2: PRATIQUER DES ACTIVITES PHYSIQUES ET SPORTIVES | E2: COOPERER ET REALISER DES PROJETS | G2: EXERCER SON ESPRIT CRITIQUE, FAIRE PREUVE DE REFLEXION ET DE DISCERNEMENT
A3: Attendus de fin de cycle | B3: Mobiliser ses capacités pour imaginer, composer et interpréter un enchainement | E3: Participer activement à l’élaboration et à la formalisation d’un projet d’enchainement | G3: Observer et apprécier ma prestation personnelle et celle de mes camarades
A4: Rôle | B4: Le Gymnaste | E4: Le Chorégraphe | G4: Le Spectateur critique
A5: Acquisitions visées | B5: Construire et réaliser des pyramides variées et codifiées en optimisant le rapport risque/ maîtrise. | C5: Construire et réaliser des liaisons originales (éléments gymniques, pyramides dynamiques…) | D5: Combiner les pyramides et les liaisons afin de réaliser un enchainement dynamique sans temps mort | E5: Elaborer collectivement à l’élaboration des pyramides, des liaisons. Utiliser le support numérique pour recueillir, analyser et faire évoluer les prestations du groupe. | G5: Identifier et juger les caractéristiques de l’enchainement sur la base de critères multiples et conseiller un camarade.
A7: Badminton | B7: D1.4 | E7: D2 | G7: D3
A8: Compétences | B8: PRATIQUER DES ACTIVITES PHYSIQUES ET SPORTIVES | E8: COOPERER ET REALISER DES PROJETS | G8: CONNAITRE ET COMPRENDRE LA REGLE ET LE DROIT
A9: Attendus de fin de cycle | B9: Réaliser des actions décisives en situation favorable afin de faire basculer le rapport de force en sa faveur | E9: Accepter le résultat de ses actions et savoir l’analyser | G9: Être solidaire de ses partenaires et respectueux de son adversaire et de l’arbitre
A10: Rôle | B10: Le Badiste | E10: L’Observateur/Coach | G10: L’Arbitre
A11: Acquisitions visées | B11: Mettre son adversaire en difficulté dès le service | C11: Varier ses frappes en puissance (fort/amorti) et en précision (profondeur/largeur) afin de créer la rupture de l’échange | D11: Rechercher la rupture de l’échange en exploitant chaque volant favorable | E11: Utiliser des outils d’observation et recueillir des données. | F11: Analyser les données pour conseiller et progresser. | G11: Assumer des responsabilités. | H11: Prendre des décisions objectives et pertinentes.
A13: Volley-Ball | B13: D1.4 | E13: D2 | G13: D3
A14: Compétences | B14: PRATIQUER DES ACTIVITES PHYSIQUES ET SPORTIVES | E14: COOPERER ET REALISER DES PROJETS | G14: CONNAITRE ET COMPRENDRE LA REGLE ET LE DROIT
A15: Attendus de fin de cycle | B15: Réaliser des actions décisives en situation favorable afin de faire basculer le rapport de force en sa faveur | E15: Accepter le résultat de ses actions et savoir l’analyser | G15: Être solidaire de ses partenaires et respectueux de son adversaire et de l’arbitre
A16: Rôle | B16: Le Volleyeur | E16: L’Observateur/Coach | G16: L’Arbitre
A17: Acquisitions visées | B17: Être mobile et s’engager activement dans les différents rôles (réceptionneur, non-réceptionneur, passeur, attaquant) | C17: Bonifier les ballons et mettre en difficulté l’équipe adverse par des balles placées ou accélérées. | D17: Bonifier les ballons et mettre en difficulté l’équipe adverse par des balles placées ou accélérées. | E17: Utiliser des outils d’observation et recueillir des données. | F17: Analyser les données pour conseiller et progresser. | G17: Assumer des responsabilités. | H17: Favoriser l’entraide entre coéquipiers.
A19: Demi-Fond | B19: D1.4 | E19: D2 | G19: D3
A20: Compétences | B20: PRATIQUER DES ACTIVITES PHYSIQUES ET SPORTIVES | E20: ORGANISER SON TRAAIL PERSONNEL | G20: FAIRE PREUVE DE RESPONSABILITE, RESPECTER LES REGLES DE LA VIE COLLECTIVE,
A21: Attendus de fin de cycle | B21: Gérer son effort, faire des choix pour réaliser la meilleure performance | E21: Accepter le résultat de ses actions et savoir l’analyser | G21: Être solidaire de ses partenaires et respectueux de son adversaire et de l’arbitre
A22: Rôle | B22: L'athlète | E22: Le Stratège | G22: Le Coach / L’Observateur
A23: Acquisitions visées | B23: S’échauffer avant un effort | C23: S’engager dans un projet de performance maximale | D23: Construire des repères sur soi et des repères extérieurs. Être capable de réaliser son projet de course | E23: S’investir dans son projet de course. | F23: Maitriser les différentes notions clés (VMA, % de VMA, nombre de plots). | G23: Observer, apprécier et conseiller son camarade. | H23: S‘impliquer dans les rôles d’observateur, coach et aide.

Sheet Demi-Fond
E2: Compétence visée | J2: Dimension Motrice | Y2: Dimension M & S | AJ2: Socle Commun
J3: S'organiser tactiquement pour gagner le match | Y3: D2 | AD3: D3
A4: APSA | B4: Demi-Fond | E4: Item 1 | J4: Echauffement | O4: Projet de perf maximale | T4: Repères et réalisation | Y4: Le stratège | AD4: Le coach/ l'observateur | AJ4: Valeurs brutes | AQ4: Valeurs arrondies | AT4: Moyenne proposée | AU4: Positonnement
A5: Classe | B5: Nom | C5: Prénom | D5: Nom Prénom | E5: 0 | F5: 1 | G5: 2 | H5: 3 | I5: 4 | J5: 0 | K5: 1 | L5: 2 | M5: 3 | N5: 4 | O5: 0 | P5: 1 | Q5: 2 | R5: 3 | S5: 4 | T5: 0 | U5: 1 | V5: 2 | W5: 3 | X5: 4 | Y5: 0 | Z5: 1 | AA5: 2 | AB5: 3 | AC5: 4 | AD5: 0 | AE5: 1 | AF5: 2 | AG5: 3 | AH5: 4 | AJ5: Résultats | AM5: D1.4 | AN5: D2 | AO5: D3 | AQ5: D1.4 | AR5: D2 | AS5: D3
A6: ='LISTE CLASSE'!$B$1 -> 3B | B6: ='LISTE CLASSE'!A3 -> A | C6: ='LISTE CLASSE'!B3 -> Toto | D6: ='LISTE CLASSE'!C3 -> A Toto | H6: X | M6: X | S6: X | X6: X | AB6: X | AH6: X | AJ6: =MATCH("x",K6:N6,4) -> 3 | AK6: =MATCH("x",P6:S6,4) -> 4 | AL6: =MATCH("x",U6:X6,4) -> 4 | AM6: =AVERAGE(AJ6:AL6) -> 3.6666667 | AN6: =MATCH("x",Z6:AC6,4) -> 3 | AO6: =MATCH("x",AE6:AH6,4) -> 4 | AQ6: =ROUND(AM6,0) -> 4 | AR6: =ROUND(AN6,0) -> 3 | AS6: =ROUND(AO6,0) -> 4 | AT6: =AVERAGE(AQ6:AS6) -> 3.6666667 | AU6: 3
A7: ='LISTE CLASSE'!$B$1 -> 3B | B7: ='LISTE CLASSE'!A4 -> B | C7: ='LISTE CLASSE'!B4 -> Tata | D7: ='LISTE CLASSE'!C4 -> B Tata | H7: X | M7: X | Q7: X | X7: X | AB7: X | AG7: X | AJ7: =MATCH("x",K7:N7,4) -> 3 | AK7: =MATCH("x",P7:S7,4) -> 2 | AL7: =MATCH("x",U7:X7,4) -> 4 | AM7: =AVERAGE(AJ7:AL7) -> 3 | AN7: =MATCH("x",Z7:AC7,4) -> 3 | AO7: =MATCH("x",AE7:AH7,4) -> 3 | AQ7: =ROUND(AM7,0) -> 3 | AR7: =ROUND(AN7,0) -> 3 | AS7: =ROUND(AO7,0) -> 3 | AT7: =AVERAGE(AQ7:AS7) -> 3 | AU7: 3
A8: ='LISTE CLASSE'!$B$1 -> 3B | B8: ='LISTE CLASSE'!A5 -> C | C8: ='LISTE CLASSE'!B5 -> Riri | D8: ='LISTE CLASSE'!C5 -> C Riri | G8: X | L8: X | P8: X | W8: X | AB8: X | AG8: X | AJ8: =MATCH("x",K8:N8,4) -> 2 | AK8: =MATCH("x",P8:S8,4) -> 1 | AL8: =MATCH("x",U8:X8,4) -> 3 | AM8: =AVERAGE(AJ8:AL8) -> 2 | AN8: =MATCH("x",Z8:AC8,4) -> 3 | AO8: =MATCH("x",AE8:AH8,4) -> 3 | AQ8: =ROUND(AM8,0) -> 2 | AR8: =ROUND(AN8,0) -> 3 | AS8: =ROUND(AO8,0) -> 3 | AT8: =AVERAGE(AQ8:AS8) -> 2.6666667 | AU8: 2
A9: ='LISTE CLASSE'!$B$1 -> 3B | B9: ='LISTE CLASSE'!A6 -> D | C9: ='LISTE CLASSE'!B6 -> Fifi | D9: ='LISTE CLASSE'!C6 -> D Fifi | I9: X | M9: X | S9: X | X9: X | AC9: X | AH9: X | AJ9: =MATCH("x",K9:N9,4) -> 3 | AK9: =MATCH("x",P9:S9,4) -> 4 | AL9: =MATCH("x",U9:X9,4) -> 4 | AM9: =AVERAGE(AJ9:AL9) -> 3.6666667 | AN9: =MATCH("x",Z9:AC9,4) -> 4 | AO9: =MATCH("x",AE9:AH9,4) -> 4 | AQ9: =ROUND(AM9,0) -> 4 | AR9: =ROUND(AN9,0) -> 4 | AS9: =ROUND(AO9,0) -> 4 | AT9: =AVERAGE(AQ9:AS9) -> 4
A10: ='LISTE CLASSE'!$B$1 -> 3B | B10: ='LISTE CLASSE'!A7 -> E | C10: ='LISTE CLASSE'!B7 -> Loulou | D10: ='LISTE CLASSE'!C7 -> E Loulou | H10: X | M10: X | Q10: X | W10: X | AB10: X | AG10: X | AJ10: =MATCH("x",K10:N10,4) -> 3 | AK10: =MATCH("x",P10:S10,4) -> 2 | AL10: =MATCH("x",U10:X10,4) -> 3 | AM10: =AVERAGE(AJ10:AL10) -> 2.6666667 | AN10: =MATCH("x",Z10:AC10,4) -> 3 | AO10: =MATCH("x",AE10:AH10,4) -> 3 | AQ10: =ROUND(AM10,0) -> 3 | AR10: =ROUND(AN10,0) -> 3 | AS10: =ROUND(AO10,0) -> 3 | AT10: =AVERAGE(AQ10:AS10) -> 3
A11: ='LISTE CLASSE'!$B$1 -> 3B | B11: ='LISTE CLASSE'!A8 -> F | C11: ='LISTE CLASSE'!B8 -> Jaja | D11: ='LISTE CLASSE'!C8 -> F Jaja | H11: X | M11: X | R11: X | V11: X | AC11: X | AH11: X | AJ11: =MATCH("x",K11:N11,4) -> 3 | AK11: =MATCH("x",P11:S11,4) -> 3 | AL11: =MATCH("x",U11:X11,4) -> 2 | AM11: =AVERAGE(AJ11:AL11) -> 2.6666667 | AN11: =MATCH("x",Z11:AC11,4) -> 4 | AO11: =MATCH("x",AE11:AH11,4) -> 4 | AQ11: =ROUND(AM11,0) -> 3 | AR11: =ROUND(AN11,0) -> 4 | AS11: =ROUND(AO11,0) -> 4 | AT11: =AVERAGE(AQ11:AS11) -> 3.6666667
A12: ='LISTE CLASSE'!$B$1 -> 3B | B12: ='LISTE CLASSE'!A9 -> G | C12: ='LISTE CLASSE'!B9 -> Juju | D12: ='LISTE CLASSE'!C9 -> G Juju | H12: X | M12: X | S12: X | W12: X | AC12: X | AH12: X | AJ12: =MATCH("x",K12:N12,4) -> 3 | AK12: =MATCH("x",P12:S12,4) -> 4 | AL12: =MATCH("x",U12:X12,4) -> 3 | AM12: =AVERAGE(AJ12:AL12) -> 3.3333333 | AN12: =MATCH("x",Z12:AC12,4) -> 4 | AO12: =MATCH("x",AE12:AH12,4) -> 4 | AQ12: =ROUND(AM12,0) -> 3 | AR12: =ROUND(AN12,0) -> 4 | AS12: =ROUND(AO12,0) -> 4 | AT12: =AVERAGE(AQ12:AS12) -> 3.6666667
A13: ='LISTE CLASSE'!$B$1 -> 3B | B13: ='LISTE CLASSE'!A10 -> H | C13: ='LISTE CLASSE'!B10 -> Nono | D13: ='LISTE CLASSE'!C10 -> H Nono | H13: X | M13: X | R13: X | U13: X | AB13: X | AG13: X | AJ13: =MATCH("x",K13:N13,4) -> 3 | AK13: =MATCH("x",P13:S13,4) -> 3 | AL13: =MATCH("x",U13:X13,4) -> 1 | AM13: =AVERAGE(AJ13:AL13) -> 2.3333333 | AN13: =MATCH("x",Z13:AC13,4) -> 3 | AO13: =MATCH("x",AE13:AH13,4) -> 3 | AQ13: =ROUND(AM13,0) -> 2 | AR13: =ROUND(AN13,0) -> 3 | AS13: =ROUND(AO13,0) -> 3 | AT13: =AVERAGE(AQ13:AS13) -> 2.6666667
A14: ='LISTE CLASSE'!$B$1 -> 3B | B14: ='LISTE CLASSE'!A11 -> I | C14: ='LISTE CLASSE'!B11 -> Flo | D14: ='LISTE CLASSE'!C11 -> I Flo | H14: X | M14: X | R14: X | W14: X | AB14: X | AG14: X | AJ14: =MATCH("x",K14:N14,4) -> 3 | AK14: =MATCH("x",P14:S14,4) -> 3 | AL14: =MATCH("x",U14:X14,4) -> 3 | AM14: =AVERAGE(AJ14:AL14) -> 3 | AN14: =MATCH("x",Z14:AC14,4) -> 3 | AO14: =MATCH("x",AE14:AH14,4) -> 3 | AQ14: =ROUND(AM14,0) -> 3 | AR14: =ROUND(AN14,0) -> 3 | AS14: =ROUND(AO14,0) -> 3 | AT14: =AVERAGE(AQ14:AS14) -> 3
A15: ='LISTE CLASSE'!$B$1 -> 3B | B15: ='LISTE CLASSE'!A12 -> 0 | C15: ='LISTE CLASSE'!B12 -> 0 | D15: ='LISTE CLASSE'!C12 | H15: X | M15: X | R15: X | W15: X | AB15: X | AG15: X | AJ15: =MATCH("x",K15:N15,4) -> 3 | AK15: =MATCH("x",P15:S15,4) -> 3 | AL15: =MATCH("x",U15:X15,4) -> 3 | AM15: =AVERAGE(AJ15:AL15) -> 3 | AN15: =MATCH("x",Z15:AC15,4) -> 3 | AO15: =MATCH("x",AE15:AH15,4) -> 3 | AQ15: =ROUND(AM15,0) -> 3 | AR15: =ROUND(AN15,0) -> 3 | AS15: =ROUND(AO15,0) -> 3 | AT15: =AVERAGE(AQ15:AS15) -> 3
A16: ='LISTE CLASSE'!$B$1 -> 3B | B16: ='LISTE CLASSE'!A13 -> 0 | C16: ='LISTE CLASSE'!B13 -> 0 | D16: ='LISTE CLASSE'!C13 | H16: X | M16: X | Q16: X | X16: X | AB16: X | AH16: X | AJ16: =MATCH("x",K16:N16,4) -> 3 | AK16: =MATCH("x",P16:S16,4) -> 2 | AL16: =MATCH("x",U16:X16,4) -> 4 | AM16: =AVERAGE(AJ16:AL16) -> 3 | AN16: =MATCH("x",Z16:AC16,4) -> 3 | AO16: =MATCH("x",AE16:AH16,4) -> 4 | AQ16: =ROUND(AM16,0) -> 3 | AR16: =ROUND(AN16,0) -> 3 | AS16: =ROUND(AO16,0) -> 4 | AT16: =AVERAGE(AQ16:AS16) -> 3.3333333
A17: ='LISTE CLASSE'!$B$1 -> 3B | B17: ='LISTE CLASSE'!A14 -> 0 | C17: ='LISTE CLASSE'!B14 -> 0 | D17: ='LISTE CLASSE'!C14 | G17: X | M17: X | P17: X | V17: X | AB17: X | AH17: X | AJ17: =MATCH("x",K17:N17,4) -> 3 | AK17: =MATCH("x",P17:S17,4) -> 1 | AL17: =MATCH("x",U17:X17,4) -> 2 | AM17: =AVERAGE(AJ17:AL17) -> 2 | AN17: =MATCH("x",Z17:AC17,4) -> 3 | AO17: =MATCH("x",AE17:AH17,4) -> 4 | AQ17: =ROUND(AM17,0) -> 2 | AR17: =ROUND(AN17,0) -> 3 | AS17: =ROUND(AO17,0) -> 4 | AT17: =AVERAGE(AQ17:AS17) -> 3
A18: ='LISTE CLASSE'!$B$1 -> 3B | B18: ='LISTE CLASSE'!A15 -> 0 | C18: ='LISTE CLASSE'!B15 -> 0 | D18: ='LISTE CLASSE'!C15 | H18: X | M18: X | S18: X | X18: X | AB18: X | AG18: X | AJ18: =MATCH("x",K18:N18,4) -> 3 | AK18: =MATCH("x",P18:S18,4) -> 4 | AL18: =MATCH("x",U18:X18,4) -> 4 | AM18: =AVERAGE(AJ18:AL18) -> 3.6666667 | AN18: =MATCH("x",Z18:AC18,4) -> 3 | AO18: =MATCH("x",AE18:AH18,4) -> 3 | AQ18: =ROUND(AM18,0) -> 4 | AR18: =ROUND(AN18,0) -> 3 | AS18: =ROUND(AO18,0) -> 3 | AT18: =AVERAGE(AQ18:AS18) -> 3.3333333
A19: ='LISTE CLASSE'!$B$1 -> 3B | B19: ='LISTE CLASSE'!A16 -> 0 | C19: ='LISTE CLASSE'!B16 -> 0 | D19: ='LISTE CLASSE'!C16 | E19: X | J19: X | O19: X | T19: X | AB19: X | AH19: X | AJ19: =MATCH("x",K19:N19,4) -> #N/A | AK19: =MATCH("x",P19:S19,4) -> #N/A | AL19: =MATCH("x",U19:X19,4) -> #N/A | AM19: =AVERAGE(AJ19:AL19) -> #N/A | AN19: =MATCH("x",Z19:AC19,4) -> 3 | AO19: =MATCH("x",AE19:AH19,4) -> 4 | AQ19: =ROUND(AM19,0) -> #N/A | AR19: =ROUND(AN19,0) -> 3 | AS19: =ROUND(AO19,0) -> 4 | AT19: =AVERAGE(AQ19:AS19) -> #N/A
A20: ='LISTE CLASSE'!$B$1 -> 3B | B20: ='LISTE CLASSE'!A17 -> 0 | C20: ='LISTE CLASSE'!B17 -> 0 | D20: ='LISTE CLASSE'!C17 | I20: X | M20: X | S20: X | X20: X | AC20: X | AH20: X | AJ20: =MATCH("x",K20:N20,4) -> 3 | AK20: =MATCH("x",P20:S20,4) -> 4 | AL20: =MATCH("x",U20:X20,4) -> 4 | AM20: =AVERAGE(AJ20:AL20) -> 3.6666667 | AN20: =MATCH("x",Z20:AC20,4) -> 4 | AO20: =MATCH("x",AE20:AH20,4) -> 4 | AQ20: =ROUND(AM20,0) -> 4 | AR20: =ROUND(AN20,0) -> 4 | AS20: =ROUND(AO20,0) -> 4 | AT20: =AVERAGE(AQ20:AS20) -> 4
A21: ='LISTE CLASSE'!$B$1 -> 3B | B21: ='LISTE CLASSE'!A18 -> 0 | C21: ='LISTE CLASSE'!B18 -> 0 | D21: ='LISTE CLASSE'!C18 | H21: X | M21: X | R21: X | U21: X | AC21: X | AH21: X | AJ21: =MATCH("x",K21:N21,4) -> 3 | AK21: =MATCH("x",P21:S21,4) -> 3 | AL21: =MATCH("x",U21:X21,4) -> 1 | AM21: =AVERAGE(AJ21:AL21) -> 2.3333333 | AN21: =MATCH("x",Z21:AC21,4) -> 4 | AO21: =MATCH("x",AE21:AH21,4) -> 4 | AQ21: =ROUND(AM21,0) -> 2 | AR21: =ROUND(AN21,0) -> 4 | AS21: =ROUND(AO21,0) -> 4 | AT21: =AVERAGE(AQ21:AS21) -> 3.3333333
A22: ='LISTE CLASSE'!$B$1 -> 3B | B22: ='LISTE CLASSE'!A19 -> 0 | C22: ='LISTE CLASSE'!B19 -> 0 | D22: ='LISTE CLASSE'!C19 | H22: X | M22: X | S22: X | W22: X | AC22: X | AH22: X | AJ22: =MATCH("x",K22:N22,4) -> 3 | AK22: =MATCH("x",P22:S22,4) -> 4 | AL22: =MATCH("x",U22:X22,4) -> 3 | AM22: =AVERAGE(AJ22:AL22) -> 3.3333333 | AN22: =MATCH("x",Z22:AC22,4) -> 4 | AO22: =MATCH("x",AE22:AH22,4) -> 4 | AQ22: =ROUND(AM22,0) -> 3 | AR22: =ROUND(AN22,0) -> 4 | AS22: =ROUND(AO22,0) -> 4 | AT22: =AVERAGE(AQ22:AS22) -> 3.6666667
A23: ='LISTE CLASSE'!$B$1 -> 3B | B23: ='LISTE CLASSE'!A20 -> 0 | C23: ='LISTE CLASSE'!B20 -> 0 | D23: ='LISTE CLASSE'!C20 | H23: X | M23: X | Q23: X | X23: X | AB23: X | AH23: X | AJ23: =MATCH("x",K23:N23,4) -> 3 | AK23: =MATCH("x",P23:S23,4) -> 2 | AL23: =MATCH("x",U23:X23,4) -> 4 | AM23: =AVERAGE(AJ23:AL23) -> 3 | AN23: =MATCH("x",Z23:AC23,4) -> 3 | AO23: =MATCH("x",AE23:AH23,4) -> 4 | AQ23: =ROUND(AM23,0) -> 3 | AR23: =ROUND(AN23,0) -> 3 | AS23: =ROUND(AO23,0) -> 4 | AT23: =AVERAGE(AQ23:AS23) -> 3.3333333
A24: ='LISTE CLASSE'!$B$1 -> 3B | B24: ='LISTE CLASSE'!A21 -> 0 | C24: ='LISTE CLASSE'!B21 -> 0 | D24: ='LISTE CLASSE'!C21 | G24: X | M24: X | P24: X | V24: X | AB24: X | AG24: X | AJ24: =MATCH("x",K24:N24,4) -> 3 | AK24: =MATCH("x",P24:S24,4) -> 1 | AL24: =MATCH("x",U24:X24,4) -> 2 | AM24: =AVERAGE(AJ24:AL24) -> 2 | AN24: =MATCH("x",Z24:AC24,4) -> 3 | AO24: =MATCH("x",AE24:AH24,4) -> 3 | AQ24: =ROUND(AM24,0) -> 2 | AR24: =ROUND(AN24,0) -> 3 | AS24: =ROUND(AO24,0) -> 3 | AT24: =AVERAGE(AQ24:AS24) -> 2.6666667
A25: ='LISTE CLASSE'!$B$1 -> 3B | B25: ='LISTE CLASSE'!A22 -> 0 | C25: ='LISTE CLASSE'!B22 -> 0 | D25: ='LISTE CLASSE'!C22 | F25: X | M25: X | P25: X | U25: X | AA25: X | AF25: X | AJ25: =MATCH("x",K25:N25,4) -> 3 | AK25: =MATCH("x",P25:S25,4) -> 1 | AL25: =MATCH("x",U25:X25,4) -> 1 | AM25: =AVERAGE(AJ25:AL25) -> 1.6666667 | AN25: =MATCH("x",Z25:AC25,4) -> 2 | AO25: =MATCH("x",AE25:AH25,4) -> 2 | AQ25: =ROUND(AM25,0) -> 2 | AR25: =ROUND(AN25,0) -> 2 | AS25: =ROUND(AO25,0) -> 2 | AT25: =AVERAGE(AQ25:AS25) -> 2
A26: ='LISTE CLASSE'!$B$1 -> 3B | B26: ='LISTE CLASSE'!A23 -> 0 | C26: ='LISTE CLASSE'!B23 -> 0 | D26: ='LISTE CLASSE'!C23 | H26: X | M26: X | Q26: X | X26: X | AB26: X | AG26: X | AJ26: =MATCH("x",K26:N26,4) -> 3 | AK26: =MATCH("x",P26:S26,4) -> 2 | AL26: =MATCH("x",U26:X26,4) -> 4 | AM26: =AVERAGE(AJ26:AL26) -> 3 | AN26: =MATCH("x",Z26:AC26,4) -> 3 | AO26: =MATCH("x",AE26:AH26,4) -> 3 | AQ26: =ROUND(AM26,0) -> 3 | AR26: =ROUND(AN26,0) -> 3 | AS26: =ROUND(AO26,0) -> 3 | AT26: =AVERAGE(AQ26:AS26) -> 3
A27: ='LISTE CLASSE'!$B$1 -> 3B | B27: ='LISTE CLASSE'!A24 -> 0 | C27: ='LISTE CLASSE'!B24 -> 0 | D27: ='LISTE CLASSE'!C24 | H27: X | M27: X | R27: X | X27: X | AB27: X | AG27: X | AJ27: =MATCH("x",K27:N27,4) -> 3 | AK27: =MATCH("x",P27:S27,4) -> 3 | AL27: =MATCH("x",U27:X27,4) -> 4 | AM27: =AVERAGE(AJ27:AL27) -> 3.3333333 | AN27: =MATCH("x",Z27:AC27,4) -> 3 | AO27: =MATCH("x",AE27:AH27,4) -> 3 | AQ27: =ROUND(AM27,0) -> 3 | AR27: =ROUND(AN27,0) -> 3 | AS27: =ROUND(AO27,0) -> 3 | AT27: =AVERAGE(AQ27:AS27) -> 3
A28: ='LISTE CLASSE'!$B$1 -> 3B | B28: ='LISTE CLASSE'!A25 -> 0 | C28: ='LISTE CLASSE'!B25 -> 0 | D28: ='LISTE CLASSE'!C25 | H28: X | M28: X | R28: X | X28: X | AC28: X | AH28: X | AJ28: =MATCH("x",K28:N28,4) -> 3 | AK28: =MATCH("x",P28:S28,4) -> 3 | AL28: =MATCH("x",U28:X28,4) -> 4 | AM28: =AVERAGE(AJ28:AL28) -> 3.3333333 | AN28: =MATCH("x",Z28:AC28,4) -> 4 | AO28: =MATCH("x",AE28:AH28,4) -> 4 | AQ28: =ROUND(AM28,0) -> 3 | AR28: =ROUND(AN28,0) -> 4 | AS28: =ROUND(AO28,0) -> 4 | AT28: =AVERAGE(AQ28:AS28) -> 3.6666667
A29: ='LISTE CLASSE'!$B$1 -> 3B | B29: ='LISTE CLASSE'!A26 -> 0 | C29: ='LISTE CLASSE'!B26 -> 0 | D29: ='LISTE CLASSE'!C26 | H29: X | M29: X | Q29: X | X29: X | AB29: X | AG29: X | AJ29: =MATCH("x",K29:N29,4) -> 3 | AK29: =MATCH("x",P29:S29,4) -> 2 | AL29: =MATCH("x",U29:X29,4) -> 4 | AM29: =AVERAGE(AJ29:AL29) -> 3 | AN29: =MATCH("x",Z29:AC29,4) -> 3 | AO29: =MATCH("x",AE29:AH29,4) -> 3 | AQ29: =ROUND(AM29,0) -> 3 | AR29: =ROUND(AN29,0) -> 3 | AS29: =ROUND(AO29,0) -> 3 | AT29: =AVERAGE(AQ29:AS29) -> 3
A30: ='LISTE CLASSE'!$B$1 -> 3B | B30: ='LISTE CLASSE'!A27 -> 0 | C30: ='LISTE CLASSE'!B27 -> 0 | D30: ='LISTE CLASSE'!C27 | G30: X | M30: X | Q30: X | V30: X | AB30: X | AG30: X | AJ30: =MATCH("x",K30:N30,4) -> 3 | AK30: =MATCH("x",P30:S30,4) -> 2 | AL30: =MATCH("x",U30:X30,4) -> 2 | AM30: =AVERAGE(AJ30:AL30) -> 2.3333333 | AN30: =MATCH("x",Z30:AC30,4) -> 3 | AO30: =MATCH("x",AE30:AH30,4) -> 3 | AQ30: =ROUND(AM30,0) -> 2 | AR30: =ROUND(AN30,0) -> 3 | AS30: =ROUND(AO30,0) -> 3 | AT30: =AVERAGE(AQ30:AS30) -> 2.6666667
A31: ='LISTE CLASSE'!$B$1 -> 3B | B31: ='LISTE CLASSE'!A28 -> 0 | C31: ='LISTE CLASSE'!B28 -> 0 | D31: ='LISTE CLASSE'!C28 -> 0 | AJ31: =MATCH("x",K31:N31,4) -> #N/A | AK31: =MATCH("x",P31:S31,4) -> #N/A | AL31: =MATCH("x",U31:X31,4) -> #N/A | AM31: =AVERAGE(AJ31:AL31) -> #N/A | AN31: =MATCH("x",Z31:AC31,4) -> #N/A | AO31: =MATCH("x",AE31:AH31,4) -> #N/A | AQ31: =ROUND(AM31,0) -> #N/A | AR31: =ROUND(AN31,0) -> #N/A | AS31: =ROUND(AO31,0) -> #N/A | AT31: =AVERAGE(AQ31:AS31) -> #N/A
A32: ='LISTE CLASSE'!$B$1 -> 3B | B32: ='LISTE CLASSE'!A29 -> 0 | C32: ='LISTE CLASSE'!B29 -> 0 | D32: ='LISTE CLASSE'!C29 -> 0 | AJ32: =MATCH("x",K32:N32,4) -> #N/A | AK32: =MATCH("x",P32:S32,4) -> #N/A | AL32: =MATCH("x",U32:X32,4) -> #N/A | AM32: =AVERAGE(AJ32:AL32) -> #N/A | AN32: =MATCH("x",Z32:AC32,4) -> #N/A | AO32: =MATCH("x",AE32:AH32,4) -> #N/A | AQ32: =ROUND(AM32,0) -> #N/A | AR32: =ROUND(AN32,0) -> #N/A | AS32: =ROUND(AO32,0) -> #N/A | AT32: =AVERAGE(AQ32:AS32) -> #N/A
A33: ='LISTE CLASSE'!$B$1 -> 3B | B33: ='LISTE CLASSE'!A30 -> 0 | C33: ='LISTE CLASSE'!B30 -> 0 | D33: ='LISTE CLASSE'!C30 -> 0 | AJ33: =MATCH("x",K33:N33,4) -> #N/A | AK33: =MATCH("x",P33:S33,4) -> #N/A | AL33: =MATCH("x",U33:X33,4) -> #N/A | AM33: =AVERAGE(AJ33:AL33) -> #N/A | AN33: =MATCH("x",Z33:AC33,4) -> #N/A | AO33: =MATCH("x",AE33:AH33,4) -> #N/A | AQ33: =ROUND(AM33,0) -> #N/A | AR33: =ROUND(AN33,0) -> #N/A | AS33: =ROUND(AO33,0) -> #N/A | AT33: =AVERAGE(AQ33:AS33) -> #N/A
A34: ='LISTE CLASSE'!$B$1 -> 3B | B34: ='LISTE CLASSE'!A31 -> 0 | C34: ='LISTE CLASSE'!B31 -> 0 | D34: ='LISTE CLASSE'!C31 -> 0 | AJ34: =MATCH("x",K34:N34,4) -> #N/A | AK34: =MATCH("x",P34:S34,4) -> #N/A | AL34: =MATCH("x",U34:X34,4) -> #N/A | AM34: =AVERAGE(AJ34:AL34) -> #N/A | AN34: =MATCH("x",Z34:AC34,4) -> #N/A | AO34: =MATCH("x",AE34:AH34,4) -> #N/A | AQ34: =ROUND(AM34,0) -> #N/A | AR34: =ROUND(AN34,0) -> #N/A | AS34: =ROUND(AO34,0) -> #N/A | AT34: =AVERAGE(AQ34:AS34) -> #N/A

Sheet Volleyball
E2: Compétence visée | J2: Dimension Motrice | AJ2: Socle Commun
J3: S'organiser tactiquement pour gagner le match | Y3: D2 | AD3: D3
A4: APSA | B4: Volley-Ball | E4: Item 1 | J4: Roles et actions | O4: Attaques placées et accélérées | T4: S'organiser pour défendre et attaquer | Y4: L'observateur | AD4: L'observateur/ L'arbitre | AJ4: Valeurs brutes | AQ4: Valeurs arrondies | AT4: Moyenne proposée | AU4: Positonnement
A5: Classe | B5: Nom | C5: Prénom | D5: Nom Prénom | E5: 0 | F5: 1 | G5: 2 | H5: 3 | I5: 4 | J5: 0 | K5: 1 | L5: 2 | M5: 3 | N5: 4 | O5: 0 | P5: 1 | Q5: 2 | R5: 3 | S5: 4 | T5: 0 | U5: 1 | V5: 2 | W5: 3 | X5: 4 | Y5: 0 | Z5: 1 | AA5: 2 | AB5: 3 | AC5: 4 | AD5: 0 | AE5: 1 | AF5: 2 | AG5: 3 | AH5: 4 | AJ5: Résultats | AM5: D1.4 | AN5: D2 | AO5: D3 | AQ5: D1.4 | AR5: D2 | AS5: D3
A6: ='LISTE CLASSE'!$B$1 -> 3B | B6: ='LISTE CLASSE'!A3 -> A | C6: ='LISTE CLASSE'!B3 -> Toto | D6: ='LISTE CLASSE'!C3 -> A Toto | K6: X | AJ6: =MATCH("x",K6:N6,4) -> 1 | AK6: =MATCH("x",P6:S6,4) -> #N/A | AL6: =MATCH("x",U6:X6,4) -> #N/A | AM6: =AVERAGE(AJ6:AL6) -> #N/A | AN6: =MATCH("x",Z6:AC6,4) -> #N/A | AO6: =MATCH("x",AE6:AH6,4) -> #N/A | AQ6: =ROUND(AM6,0) -> #N/A | AR6: =ROUND(AN6,0) -> #N/A | AS6: =ROUND(AO6,0) -> #N/A | AT6: =AVERAGE(AQ6:AS6) -> #N/A
A7: ='LISTE CLASSE'!$B$1 -> 3B | B7: ='LISTE CLASSE'!A4 -> B | C7: ='LISTE CLASSE'!B4 -> Tata | D7: ='LISTE CLASSE'!C4 -> B Tata | AJ7: =MATCH("x",K7:N7,4) -> #N/A | AK7: =MATCH("x",P7:S7,4) -> #N/A | AL7: =MATCH("x",U7:X7,4) -> #N/A | AM7: =AVERAGE(AJ7:AL7) -> #N/A | AN7: =MATCH("x",Z7:AC7,4) -> #N/A | AO7: =MATCH("x",AE7:AH7,4) -> #N/A | AQ7: =ROUND(AM7,0) -> #N/A | AR7: =ROUND(AN7,0) -> #N/A | AS7: =ROUND(AO7,0) -> #N/A | AT7: =AVERAGE(AQ7:AS7) -> #N/A
A8: ='LISTE CLASSE'!$B$1 -> 3B | B8: ='LISTE CLASSE'!A5 -> C | C8: ='LISTE CLASSE'!B5 -> Riri | D8: ='LISTE CLASSE'!C5 -> C Riri | AJ8: =MATCH("x",K8:N8,4) -> #N/A | AK8: =MATCH("x",P8:S8,4) -> #N/A | AL8: =MATCH("x",U8:X8,4) -> #N/A | AM8: =AVERAGE(AJ8:AL8) -> #N/A | AN8: =MATCH("x",Z8:AC8,4) -> #N/A | AO8: =MATCH("x",AE8:AH8,4) -> #N/A | AQ8: =ROUND(AM8,0) -> #N/A | AR8: =ROUND(AN8,0) -> #N/A | AS8: =ROUND(AO8,0) -> #N/A | AT8: =AVERAGE(AQ8:AS8) -> #N/A
A9: ='LISTE CLASSE'!$B$1 -> 3B | B9: ='LISTE CLASSE'!A6 -> D | C9: ='LISTE CLASSE'!B6 -> Fifi | D9: ='LISTE CLASSE'!C6 -> D Fifi | AJ9: =MATCH("x",K9:N9,4) -> #N/A | AK9: =MATCH("x",P9:S9,4) -> #N/A | AL9: =MATCH("x",U9:X9,4) -> #N/A | AM9: =AVERAGE(AJ9:AL9) -> #N/A | AN9: =MATCH("x",Z9:AC9,4) -> #N/A | AO9: =MATCH("x",AE9:AH9,4) -> #N/A | AQ9: =ROUND(AM9,0) -> #N/A | AR9: =ROUND(AN9,0) -> #N/A | AS9: =ROUND(AO9,0) -> #N/A | AT9: =AVERAGE(AQ9:AS9) -> #N/A
A10: ='LISTE CLASSE'!$B$1 -> 3B | B10: ='LISTE CLASSE'!A7 -> E | C10: ='LISTE CLASSE'!B7 -> Loulou | D10: ='LISTE CLASSE'!C7 -> E Loulou | AJ10: =MATCH("x",K10:N10,4) -> #N/A | AK10: =MATCH("x",P10:S10,4) -> #N/A | AL10: =MATCH("x",U10:X10,4) -> #N/A | AM10: =AVERAGE(AJ10:AL10) -> #N/A | AN10: =MATCH("x",Z10:AC10,4) -> #N/A | AO10: =MATCH("x",AE10:AH10,4) -> #N/A | AQ10: =ROUND(AM10,0) -> #N/A | AR10: =ROUND(AN10,0) -> #N/A | AS10: =ROUND(AO10,0) -> #N/A | AT10: =AVERAGE(AQ10:AS10) -> #N/A
A11: ='LISTE CLASSE'!$B$1 -> 3B | B11: ='LISTE CLASSE'!A8 -> F | C11: ='LISTE CLASSE'!B8 -> Jaja | D11: ='LISTE CLASSE'!C8 -> F Jaja | AJ11: =MATCH("x",K11:N11,4) -> #N/A | AK11: =MATCH("x",P11:S11,4) -> #N/A | AL11: =MATCH("x",U11:X11,4) -> #N/A | AM11: =AVERAGE(AJ11:AL11) -> #N/A | AN11: =MATCH("x",Z11:AC11,4) -> #N/A | AO11: =MATCH("x",AE11:AH11,4) -> #N/A | AQ11: =ROUND(AM11,0) -> #N/A | AR11: =ROUND(AN11,0) -> #N/A | AS11: =ROUND(AO11,0) -> #N/A | AT11: =AVERAGE(AQ11:AS11) -> #N/A
A12: ='LISTE CLASSE'!$B$1 -> 3B | B12: ='LISTE CLASSE'!A9 -> G | C12: ='LISTE CLASSE'!B9 -> Juju | D12: ='LISTE CLASSE'!C9 -> G Juju | AJ12: =MATCH("x",K12:N12,4) -> #N/A | AK12: =MATCH("x",P12:S12,4) -> #N/A | AL12: =MATCH("x",U12:X12,4) -> #N/A | AM12: =AVERAGE(AJ12:AL12) -> #N/A | AN12: =MATCH("x",Z12:AC12,4) -> #N/A | AO12: =MATCH("x",AE12:AH12,4) -> #N/A | AQ12: =ROUND(AM12,0) -> #N/A | AR12: =ROUND(AN12,0) -> #N/A | AS12: =ROUND(AO12,0) -> #N/A | AT12: =AVERAGE(AQ12:AS12) -> #N/A
A13: ='LISTE CLASSE'!$B$1 -> 3B | B13: ='LISTE CLASSE'!A10 -> H | C13: ='LISTE CLASSE'!B10 -> Nono | D13: ='LISTE CLASSE'!C10 -> H Nono | AJ13: =MATCH("x",K13:N13,4) -> #N/A | AK13: =MATCH("x",P13:S13,4) -> #N/A | AL13: =MATCH("x",U13:X13,4) -> #N/A | AM13: =AVERAGE(AJ13:AL13) -> #N/A | AN13: =MATCH("x",Z13:AC13,4) -> #N/A | AO13: =MATCH("x",AE13:AH13,4) -> #N/A | AQ13: =ROUND(AM13,0) -> #N/A | AR13: =ROUND(AN13,0) -> #N/A | AS13: =ROUND(AO13,0) -> #N/A | AT13: =AVERAGE(AQ13:AS13) -> #N/A
A14: ='LISTE CLASSE'!$B$1 -> 3B | B14: ='LISTE CLASSE'!A11 -> I | C14: ='LISTE CLASSE'!B11 -> Flo | D14: ='LISTE CLASSE'!C11 -> I Flo | AJ14: =MATCH("x",K14:N14,4) -> #N/A | AK14: =MATCH("x",P14:S14,4) -> #N/A | AL14: =MATCH("x",U14:X14,4) -> #N/A | AM14: =AVERAGE(AJ14:AL14) -> #N/A | AN14: =MATCH("x",Z14:AC14,4) -> #N/A | AO14: =MATCH("x",AE14:AH14,4) -> #N/A | AQ14: =ROUND(AM14,0) -> #N/A | AR14: =ROUND(AN14,0) -> #N/A | AS14: =ROUND(AO14,0) -> #N/A | AT14: =AVERAGE(AQ14:AS14) -> #N/A
A15: ='LISTE CLASSE'!$B$1 -> 3B | B15: ='LISTE CLASSE'!A12 -> 0 | C15: ='LISTE CLASSE'!B12 -> 0 | D15: ='LISTE CLASSE'!C12 | AJ15: =MATCH("x",K15:N15,4) -> #N/A | AK15: =MATCH("x",P15:S15,4) -> #N/A | AL15: =MATCH("x",U15:X15,4) -> #N/A | AM15: =AVERAGE(AJ15:AL15) -> #N/A | AN15: =MATCH("x",Z15:AC15,4) -> #N/A | AO15: =MATCH("x",AE15:AH15,4) -> #N/A | AQ15: =ROUND(AM15,0) -> #N/A | AR15: =ROUND(AN15,0) -> #N/A | AS15: =ROUND(AO15,0) -> #N/A | AT15: =AVERAGE(AQ15:AS15) -> #N/A
A16: ='LISTE CLASSE'!$B$1 -> 3B | B16: ='LISTE CLASSE'!A13 -> 0 | C16: ='LISTE CLASSE'!B13 -> 0 | D16: ='LISTE CLASSE'!C13 | AJ16: =MATCH("x",K16:N16,4) -> #N/A | AK16: =MATCH("x",P16:S16,4) -> #N/A | AL16: =MATCH("x",U16:X16,4) -> #N/A | AM16: =AVERAGE(AJ16:AL16) -> #N/A | AN16: =MATCH("x",Z16:AC16,4) -> #N/A | AO16: =MATCH("x",AE16:AH16,4) -> #N/A | AQ16: =ROUND(AM16,0) -> #N/A | AR16: =ROUND(AN16,0) -> #N/A | AS16: =ROUND(AO16,0) -> #N/A | AT16: =AVERAGE(AQ16:AS16) -> #N/A
A17: ='LISTE CLASSE'!$B$1 -> 3B | B17: ='LISTE CLASSE'!A14 -> 0 | C17: ='LISTE CLASSE'!B14 -> 0 | D17: ='LISTE CLASSE'!C14 | AJ17: =MATCH("x",K17:N17,4) -> #N/A | AK17: =MATCH("x",P17:S17,4) -> #N/A | AL17: =MATCH("x",U17:X17,4) -> #N/A | AM17: =AVERAGE(AJ17:AL17) -> #N/A | AN17: =MATCH("x",Z17:AC17,4) -> #N/A | AO17: =MATCH("x",AE17:AH17,4) -> #N/A | AQ17: =ROUND(AM17,0) -> #N/A | AR17: =ROUND(AN17,0) -> #N/A | AS17: =ROUND(AO17,0) -> #N/A | AT17: =AVERAGE(AQ17:AS17) -> #N/A
A18: ='LISTE CLASSE'!$B$1 -> 3B | B18: ='LISTE CLASSE'!A15 -> 0 | C18: ='LISTE CLASSE'!B15 -> 0 | D18: ='LISTE CLASSE'!C15 | AJ18: =MATCH("x",K18:N18,4) -> #N/A | AK18: =MATCH("x",P18:S18,4) -> #N/A | AL18: =MATCH("x",U18:X18,4) -> #N/A | AM18: =AVERAGE(AJ18:AL18) -> #N/A | AN18: =MATCH("x",Z18:AC18,4) -> #N/A | AO18: =MATCH("x",AE18:AH18,4) -> #N/A | AQ18: =ROUND(AM18,0) -> #N/A | AR18: =ROUND(AN18,0) -> #N/A | AS18: =ROUND(AO18,0) -> #N/A | AT18: =AVERAGE(AQ18:AS18) -> #N/A
... A34: ='LISTE CLASSE'!$B$1 -> 3B | B34: ='LISTE CLASSE'!A31 -> 0 | C34: ='LISTE CLASSE'!B31 -> 0 | D34: ='LISTE CLASSE'!C31 -> 0 | AJ34: =MATCH("x",K34:N34,4) -> #N/A | AK34: =MATCH("x",P34:S34,4) -> #N/A | AL34: =MATCH("x",U34:X34,4) -> #N/A | AM34: =AVERAGE(AJ34:AL34) -> #N/A | AN34: =MATCH("x",Z34:AC34,4) -> #N/A | AO34: =MATCH("x",AE34:AH34,4) -> #N/A | AQ34: =ROUND(AM34,0) -> #N/A | AR34: =ROUND(AN34,0) -> #N/A | AS34: =ROUND(AO34,0) -> #N/A | AT34: =AVERAGE(AQ34:AS34) -> #N/A

Sheet Acrosport
E2: Compétence visée | J2: Dimension Motrice | Y2: Dimension M & S | AJ2: Socle Commun
J3: S'organiser tactiquement pour gagner le match | Y3: D2 | AD3: D3
A4: APSA | B4: Acrosport | E4: Item 1 | J4: Pyramides variées et codifiées | O4: Liaisons originales | T4: Enchainement dynamique | Y4: Le spectateur critique | AD4: Le chorégraphe | AJ4: Valeurs brutes | AQ4: Valeurs arrondies | AT4: Moyenne proposée | AU4: Positonnement
A5: Classe | B5: Nom | C5: Prénom | D5: Nom Prénom | E5: 0 | F5: 1 | G5: 2 | H5: 3 | I5: 4 | J5: 0 | K5: 1 | L5: 2 | M5: 3 | N5: 4 | O5: 0 | P5: 1 | Q5: 2 | R5: 3 | S5: 4 | T5: 0 | U5: 1 | V5: 2 | W5: 3 | X5: 4 | Y5: 0 | Z5: 1 | AA5: 2 | AB5: 3 | AC5: 4 | AD5: 0 | AE5: 1 | AF5: 2 | AG5: 3 | AH5: 4 | AJ5: Résultats | AM5: D1.4 | AN5: D2 | AO5: D2 | AQ5: D1.4 | AR5: D2 | AS5: D2
A6: ='LISTE CLASSE'!$B$1 -> 3B | B6: ='LISTE CLASSE'!A3 -> A | C6: ='LISTE CLASSE'!B3 -> Toto | D6: ='LISTE CLASSE'!C3 -> A Toto | H6: X | N6: X | R6: X | W6: X | AC6: X | AG6: X | AJ6: =MATCH("x",K6:N6,4) -> 4 | AK6: =MATCH("x",P6:S6,4) -> 3 | AL6: =MATCH("x",U6:X6,4) -> 3 | AM6: =AVERAGE(AJ6:AL6) -> 3.3333333 | AN6: =MATCH("x",Z6:AC6,4) -> 4 | AO6: =MATCH("x",AE6:AH6,4) -> 3 | AQ6: =ROUND(AM6,0) -> 3 | AR6: =ROUND(AN6,0) -> 4 | AS6: =ROUND(AO6,0) -> 3 | AT6: =AVERAGE(AQ6:AS6) -> 3.3333333 | AU6: 2
A7: ='LISTE CLASSE'!$B$1 -> 3B | B7: ='LISTE CLASSE'!A4 -> B | C7: ='LISTE CLASSE'!B4 -> Tata | D7: ='LISTE CLASSE'!C4 -> B Tata | H7: X | N7: X | R7: X | W7: X | Y7: X | AG7: X | AJ7: =MATCH("x",K7:N7,4) -> 4 | AK7: =MATCH("x",P7:S7,4) -> 3 | AL7: =MATCH("x",U7:X7,4) -> 3 | AM7: =AVERAGE(AJ7:AL7) -> 3.3333333 | AN7: =MATCH("x",Z7:AC7,4) -> #N/A | AO7: =MATCH("x",AE7:AH7,4) -> 3 | AQ7: =ROUND(AM7,0) -> 3 | AR7: =ROUND(AN7,0) -> #N/A | AS7: =ROUND(AO7,0) -> 3 | AT7: =AVERAGE(AQ7:AS7) -> #N/A
A8: ='LISTE CLASSE'!$B$1 -> 3B | B8: ='LISTE CLASSE'!A5 -> C | C8: ='LISTE CLASSE'!B5 -> Riri | D8: ='LISTE CLASSE'!C5 -> C Riri | H8: X | M8: X | Q8: X | X8: X | Y8: X | AF8: X | AJ8: =MATCH("x",K8:N8,4) -> 3 | AK8: =MATCH("x",P8:S8,4) -> 2 | AL8: =MATCH("x",U8:X8,4) -> 4 | AM8: =AVERAGE(AJ8:AL8) -> 3 | AN8: =MATCH("x",Z8:AC8,4) -> #N/A | AO8: =MATCH("x",AE8:AH8,4) -> 2 | AQ8: =ROUND(AM8,0) -> 3 | AR8: =ROUND(AN8,0) -> #N/A | AS8: =ROUND(AO8,0) -> 2 | AT8: =AVERAGE(AQ8:AS8) -> #N/A
A9: ='LISTE CLASSE'!$B$1 -> 3B | B9: ='LISTE CLASSE'!A6 -> D | C9: ='LISTE CLASSE'!B6 -> Fifi | D9: ='LISTE CLASSE'!C6 -> D Fifi | I9: X | N9: X | S9: X | X9: X | Y9: X | AG9: X | AJ9: =MATCH("x",K9:N9,4) -> 4 | AK9: =MATCH("x",P9:S9,4) -> 4 | AL9: =MATCH("x",U9:X9,4) -> 4 | AM9: =AVERAGE(AJ9:AL9) -> 4 | AN9: =MATCH("x",Z9:AC9,4) -> #N/A | AO9: =MATCH("x",AE9:AH9,4) -> 3 | AQ9: =ROUND(AM9,0) -> 4 | AR9: =ROUND(AN9,0) -> #N/A | AS9: =ROUND(AO9,0) -> 3 | AT9: =AVERAGE(AQ9:AS9) -> #N/A
A10: ='LISTE CLASSE'!$B$1 -> 3B | B10: ='LISTE CLASSE'!A7 -> E | C10: ='LISTE CLASSE'!B7 -> Loulou | D10: ='LISTE CLASSE'!C7 -> E Loulou | H10: X | M10: X | R10: X | V10: X | Y10: X | AG10: X | AJ10: =MATCH("x",K10:N10,4) -> 3 | AK10: =MATCH("x",P10:S10,4) -> 3 | AL10: =MATCH("x",U10:X10,4) -> 2 | AM10: =AVERAGE(AJ10:AL10) -> 2.6666667 | AN10: =MATCH("x",Z10:AC10,4) -> #N/A | AO10: =MATCH("x",AE10:AH10,4) -> 3 | AQ10: =ROUND(AM10,0) -> 3 | AR10: =ROUND(AN10,0) -> #N/A | AS10: =ROUND(AO10,0) -> 3 | AT10: =AVERAGE(AQ10:AS10) -> #N/A
A11: ='LISTE CLASSE'!$B$1 -> 3B | B11: ='LISTE CLASSE'!A8 -> F | C11: ='LISTE CLASSE'!B8 -> Jaja | D11: ='LISTE CLASSE'!C8 -> F Jaja | H11: X | N11: X | R11: X | W11: X | Y11: X | AG11: X | AJ11: =MATCH("x",K11:N11,4) -> 4 | AK11: =MATCH("x",P11:S11,4) -> 3 | AL11: =MATCH("x",U11:X11,4) -> 3 | AM11: =AVERAGE(AJ11:AL11) -> 3.3333333 | AN11: =MATCH("x",Z11:AC11,4) -> #N/A | AO11: =MATCH("x",AE11:AH11,4) -> 3 | AQ11: =ROUND(AM11,0) -> 3 | AR11: =ROUND(AN11,0) -> #N/A | AS11: =ROUND(AO11,0) -> 3 | AT11: =AVERAGE(AQ11:AS11) -> #N/A
A12: ='LISTE CLASSE'!$B$1 -> 3B | B12: ='LISTE CLASSE'!A9 -> G | C12: ='LISTE CLASSE'!B9 -> Juju | D12: ='LISTE CLASSE'!C9 -> G Juju | I12: X | N12: X | R12: X | X12: X | Y12: X | AG12: X | AJ12: =MATCH("x",K12:N12,4) -> 4 | AK12: =MATCH("x",P12:S12,4) -> 3 | AL12: =MATCH("x",U12:X12,4) -> 4 | AM12: =AVERAGE(AJ12:AL12) -> 3.6666667 | AN12: =MATCH("x",Z12:AC12,4) -> #N/A | AO12: =MATCH("x",AE12:AH12,4) -> 3 | AQ12: =ROUND(AM12,0) -> 4 | AR12: =ROUND(AN12,0) -> #N/A | AS12: =ROUND(AO12,0) -> 3 | AT12: =AVERAGE(AQ12:AS12) -> #N/A
A13: ='LISTE CLASSE'!$B$1 -> 3B | B13: ='LISTE CLASSE'!A10 -> H | C13: ='LISTE CLASSE'!B10 -> Nono | D13: ='LISTE CLASSE'!C10 -> H Nono | G13: X | M13: X | Q13: X | V13: X | Y13: X | AG13: X | AJ13: =MATCH("x",K13:N13,4) -> 3 | AK13: =MATCH("x",P13:S13,4) -> 2 | AL13: =MATCH("x",U13:X13,4) -> 2 | AM13: =AVERAGE(AJ13:AL13) -> 2.3333333 | AN13: =MATCH("x",Z13:AC13,4) -> #N/A | AO13: =MATCH("x",AE13:AH13,4) -> 3 | AQ13: =ROUND(AM13,0) -> 2 | AR13: =ROUND(AN13,0) -> #N/A | AS13: =ROUND(AO13,0) -> 3 | AT13: =AVERAGE(AQ13:AS13) -> #N/A
A14: ='LISTE CLASSE'!$B$1 -> 3B | B14: ='LISTE CLASSE'!A11 -> I | C14: ='LISTE CLASSE'!B11 -> Flo | D14: ='LISTE CLASSE'!C11 -> I Flo | G14: X | L14: X | Q14: X | W14: X | Y14: X | AG14: X | AJ14: =MATCH("x",K14:N14,4) -> 2 | AK14: =MATCH("x",P14:S14,4) -> 2 | AL14: =MATCH("x",U14:X14,4) -> 3 | AM14: =AVERAGE(AJ14:AL14) -> 2.3333333 | AN14: =MATCH("x",Z14:AC14,4) -> #N/A | AO14: =MATCH("x",AE14:AH14,4) -> 3 | AQ14: =ROUND(AM14,0) -> 2 | AR14: =ROUND(AN14,0) -> #N/A | AS14: =ROUND(AO14,0) -> 3 | AT14: =AVERAGE(AQ14:AS14) -> #N/A | AU14: 3
A15: ='LISTE CLASSE'!$B$1 -> 3B | B15: ='LISTE CLASSE'!A12 -> 0 | C15: ='LISTE CLASSE'!B12 -> 0 | D15: ='LISTE CLASSE'!C12 | H15: X | N15: X | R15: X | X15: X | Y15: X | AG15: X | AJ15: =MATCH("x",K15:N15,4) -> 4 | AK15: =MATCH("x",P15:S15,4) -> 3 | AL15: =MATCH("x",U15:X15,4) -> 4 | AM15: =AVERAGE(AJ15:AL15) -> 3.6666667 | AN15: =MATCH("x",Z15:AC15,4) -> #N/A | AO15: =MATCH("x",AE15:AH15,4) -> 3 | AQ15: =ROUND(AM15,0) -> 4 | AR15: =ROUND(AN15,0) -> #N/A | AS15: =ROUND(AO15,0) -> 3 | AT15: =AVERAGE(AQ15:AS15) -> #N/A
A16: ='LISTE CLASSE'!$B$1 -> 3B | B16: ='LISTE CLASSE'!A13 -> 0 | C16: ='LISTE CLASSE'!B13 -> 0 | D16: ='LISTE CLASSE'!C13 | H16: X | N16: X | R16: X | W16: X | Y16: X | AG16: X | AJ16: =MATCH("x",K16:N16,4) -> 4 | AK16: =MATCH("x",P16:S16,4) -> 3 | AL16: =MATCH("x",U16:X16,4) -> 3 | AM16: =AVERAGE(AJ16:AL16) -> 3.3333333 | AN16: =MATCH("x",Z16:AC16,4) -> #N/A | AO16: =MATCH("x",AE16:AH16,4) -> 3 | AQ16: =ROUND(AM16,0) -> 3 | AR16: =ROUND(AN16,0) -> #N/A | AS16: =ROUND(AO16,0) -> 3 | AT16: =AVERAGE(AQ16:AS16) -> #N/A
A17: ='LISTE CLASSE'!$B$1 -> 3B | B17: ='LISTE CLASSE'!A14 -> 0 | C17: ='LISTE CLASSE'!B14 -> 0 | D17: ='LISTE CLASSE'!C14 | G17: X | M17: X | Q17: X | W17: X | Y17: X | AG17: X | AJ17: =MATCH("x",K17:N17,4) -> 3 | AK17: =MATCH("x",P17:S17,4) -> 2 | AL17: =MATCH("x",U17:X17,4) -> 3 | AM17: =AVERAGE(AJ17:AL17) -> 2.6666667 | AN17: =MATCH("x",Z17:AC17,4) -> #N/A | AO17: =MATCH("x",AE17:AH17,4) -> 3 | AQ17: =ROUND(AM17,0) -> 3 | AR17: =ROUND(AN17,0) -> #N/A | AS17: =ROUND(AO17,0) -> 3 | AT17: =AVERAGE(AQ17:AS17) -> #N/A
A18: ='LISTE CLASSE'!$B$1 -> 3B | B18: ='LISTE CLASSE'!A15 -> 0 | C18: ='LISTE CLASSE'!B15 -> 0 | D18: ='LISTE CLASSE'!C15 | H18: X | N18: X | R18: X | W18: X | Y18: X | AG18: X | AJ18: =MATCH("x",K18:N18,4) -> 4 | AK18: =MATCH("x",P18:S18,4) -> 3 | AL18: =MATCH("x",U18:X18,4) -> 3 | AM18: =AVERAGE(AJ18:AL18) -> 3.3333333 | AN18: =MATCH("x",Z18:AC18,4) -> #N/A | AO18: =MATCH("x",AE18:AH18,4) -> 3 | AQ18: =ROUND(AM18,0) -> 3 | AR18: =ROUND(AN18,0) -> #N/A | AS18: =ROUND(AO18,0) -> 3 | AT18: =AVERAGE(AQ18:AS18) -> #N/A
A19: ='LISTE CLASSE'!$B$1 -> 3B | B19: ='LISTE CLASSE'!A16 -> 0 | C19: ='LISTE CLASSE'!B16 -> 0 | D19: ='LISTE CLASSE'!C16 | H19: X | L19: X | Q19: X | W19: X | Y19: X | AG19: X | AJ19: =MATCH("x",K19:N19,4) -> 2 | AK19: =MATCH("x",P19:S19,4) -> 2 | AL19: =MATCH("x",U19:X19,4) -> 3 | AM19: =AVERAGE(AJ19:AL19) -> 2.3333333 | AN19: =MATCH("x",Z19:AC19,4) -> #N/A | AO19: =MATCH("x",AE19:AH19,4) -> 3 | AQ19: =ROUND(AM19,0) -> 2 | AR19: =ROUND(AN19,0) -> #N/A | AS19: =ROUND(AO19,0) -> 3 | AT19: =AVERAGE(AQ19:AS19) -> #N/A
A20: ='LISTE CLASSE'!$B$1 -> 3B | B20: ='LISTE CLASSE'!A17 -> 0 | C20: ='LISTE CLASSE'!B17 -> 0 | D20: ='LISTE CLASSE'!C17 | H20: X | N20: X | R20: X | W20: X | Y20: X | AG20: X | AJ20: =MATCH("x",K20:N20,4) -> 4 | AK20: =MATCH("x",P20:S20,4) -> 3 | AL20: =MATCH("x",U20:X20,4) -> 3 | AM20: =AVERAGE(AJ20:AL20) -> 3.3333333 | AN20: =MATCH("x",Z20:AC20,4) -> #N/A | AO20: =MATCH("x",AE20:AH20,4) -> 3 | AQ20: =ROUND(AM20,0) -> 3 | AR20: =ROUND(AN20,0) -> #N/A | AS20: =ROUND(AO20,0) -> 3 | AT20: =AVERAGE(AQ20:AS20) -> #N/A
A21: ='LISTE CLASSE'!$B$1 -> 3B | B21: ='LISTE CLASSE'!A18 -> 0 | C21: ='LISTE CLASSE'!B18 -> 0 | D21: ='LISTE CLASSE'!C18 | H21: X | N21: X | R21: X | W21: X | Y21: X | AG21: X | AJ21: =MATCH("x",K21:N21,4) -> 4 | AK21: =MATCH("x",P21:S21,4) -> 3 | AL21: =MATCH("x",U21:X21,4) -> 3 | AM21: =AVERAGE(AJ21:AL21) -> 3.3333333 | AN21: =MATCH("x",Z21:AC21,4) -> #N/A | AO21: =MATCH("x",AE21:AH21,4) -> 3 | AQ21: =ROUND(AM21,0) -> 3 | AR21: =ROUND(AN21,0) -> #N/A | AS21: =ROUND(AO21,0) -> 3 | AT21: =AVERAGE(AQ21:AS21) -> #N/A
A22: ='LISTE CLASSE'!$B$1 -> 3B | B22: ='LISTE CLASSE'!A19 -> 0 | C22: ='LISTE CLASSE'!B19 -> 0 | D22: ='LISTE CLASSE'!C19 | H22: X | N22: X | R22: X | X22: X | Y22: X | AG22: X | AJ22: =MATCH("x",K22:N22,4) -> 4 | AK22: =MATCH("x",P22:S22,4) -> 3 | AL22: =MATCH("x",U22:X22,4) -> 4 | AM22: =AVERAGE(AJ22:AL22) -> 3.6666667 | AN22: =MATCH("x",Z22:AC22,4) -> #N/A | AO22: =MATCH("x",AE22:AH22,4) -> 3 | AQ22: =ROUND(AM22,0) -> 4 | AR22: =ROUND(AN22,0) -> #N/A | AS22: =ROUND(AO22,0) -> 3 | AT22: =AVERAGE(AQ22:AS22) -> #N/A
A23: ='LISTE CLASSE'!$B$1 -> 3B | B23: ='LISTE CLASSE'!A20 -> 0 | C23: ='LISTE CLASSE'!B20 -> 0 | D23: ='LISTE CLASSE'!C20 | H23: X | N23: X | R23: X | X23: X | Y23: X | AG23: X | AJ23: =MATCH("x",K23:N23,4) -> 4 | AK23: =MATCH("x",P23:S23,4) -> 3 | AL23: =MATCH("x",U23:X23,4) -> 4 | AM23: =AVERAGE(AJ23:AL23) -> 3.6666667 | AN23: =MATCH("x",Z23:AC23,4) -> #N/A | AO23: =MATCH("x",AE23:AH23,4) -> 3 | AQ23: =ROUND(AM23,0) -> 4 | AR23: =ROUND(AN23,0) -> #N/A | AS23: =ROUND(AO23,0) -> 3 | AT23: =AVERAGE(AQ23:AS23) -> #N/A
A24: ='LISTE CLASSE'!$B$1 -> 3B | B24: ='LISTE CLASSE'!A21 -> 0 | C24: ='LISTE CLASSE'!B21 -> 0 | D24: ='LISTE CLASSE'!C21 | G24: X | L24: X | Q24: X | V24: X | Y24: X | AF24: X | AJ24: =MATCH("x",K24:N24,4) -> 2 | AK24: =MATCH("x",P24:S24,4) -> 2 | AL24: =MATCH("x",U24:X24,4) -> 2 | AM24: =AVERAGE(AJ24:AL24) -> 2 | AN24: =MATCH("x",Z24:AC24,4) -> #N/A | AO24: =MATCH("x",AE24:AH24,4) -> 2 | AQ24: =ROUND(AM24,0) -> 2 | AR24: =ROUND(AN24,0) -> #N/A | AS24: =ROUND(AO24,0) -> 2 | AT24: =AVERAGE(AQ24:AS24) -> #N/A
A25: ='LISTE CLASSE'!$B$1 -> 3B | B25: ='LISTE CLASSE'!A22 -> 0 | C25: ='LISTE CLASSE'!B22 -> 0 | D25: ='LISTE CLASSE'!C22 | G25: X | M25: X | Q25: X | V25: X | Y25: X | AF25: X | AJ25: =MATCH("x",K25:N25,4) -> 3 | AK25: =MATCH("x",P25:S25,4) -> 2 | AL25: =MATCH("x",U25:X25,4) -> 2 | AM25: =AVERAGE(AJ25:AL25) -> 2.3333333 | AN25: =MATCH("x",Z25:AC25,4) -> #N/A | AO25: =MATCH("x",AE25:AH25,4) -> 2 | AQ25: =ROUND(AM25,0) -> 2 | AR25: =ROUND(AN25,0) -> #N/A | AS25: =ROUND(AO25,0) -> 2 | AT25: =AVERAGE(AQ25:AS25) -> #N/A
A26: ='LISTE CLASSE'!$B$1 -> 3B | B26: ='LISTE CLASSE'!A23 -> 0 | C26: ='LISTE CLASSE'!B23 -> 0 | D26: ='LISTE CLASSE'!C23 | F26: X | K26: X | P26: X | V26: X | Y26: X | AF26: X | AJ26: =MATCH("x",K26:N26,4) -> 1 | AK26: =MATCH("x",P26:S26,4) -> 1 | AL26: =MATCH("x",U26:X26,4) -> 2 | AM26: =AVERAGE(AJ26:AL26) -> 1.3333333 | AN26: =MATCH("x",Z26:AC26,4) -> #N/A | AO26: =MATCH("x",AE26:AH26,4) -> 2 | AQ26: =ROUND(AM26,0) -> 1 | AR26: =ROUND(AN26,0) -> #N/A | AS26: =ROUND(AO26,0) -> 2 | AT26: =AVERAGE(AQ26:AS26) -> #N/A
A27: ='LISTE CLASSE'!$B$1 -> 3B | B27: ='LISTE CLASSE'!A24 -> 0 | C27: ='LISTE CLASSE'!B24 -> 0 | D27: ='LISTE CLASSE'!C24 | H27: X | N27: X | Q27: X | W27: X | Y27: X | AG27: X | AJ27: =MATCH("x",K27:N27,4) -> 4 | AK27: =MATCH("x",P27:S27,4) -> 2 | AL27: =MATCH("x",U27:X27,4) -> 3 | AM27: =AVERAGE(AJ27:AL27) -> 3 | AN27: =MATCH("x",Z27:AC27,4) -> #N/A | AO27: =MATCH("x",AE27:AH27,4) -> 3 | AQ27: =ROUND(AM27,0) -> 3 | AR27: =ROUND(AN27,0) -> #N/A | AS27: =ROUND(AO27,0) -> 3 | AT27: =AVERAGE(AQ27:AS27) -> #N/A
A28: ='LISTE CLASSE'!$B$1 -> 3B | B28: ='LISTE CLASSE'!A25 -> 0 | C28: ='LISTE CLASSE'!B25 -> 0 | D28: ='LISTE CLASSE'!C25 | H28: X | N28: X | R28: X | X28: X | Y28: X | AG28: X | AJ28: =MATCH("x",K28:N28,4) -> 4 | AK28: =MATCH("x",P28:S28,4) -> 3 | AL28: =MATCH("x",U28:X28,4) -> 4 | AM28: =AVERAGE(AJ28:AL28) -> 3.6666667 | AN28: =MATCH("x",Z28:AC28,4) -> #N/A | AO28: =MATCH("x",AE28:AH28,4) -> 3 | AQ28: =ROUND(AM28,0) -> 4 | AR28: =ROUND(AN28,0) -> #N/A | AS28: =ROUND(AO28,0) -> 3 | AT28: =AVERAGE(AQ28:AS28) -> #N/A
A29: ='LISTE CLASSE'!$B$1 -> 3B | B29: ='LISTE CLASSE'!A26 -> 0 | C29: ='LISTE CLASSE'!B26 -> 0 | D29: ='LISTE CLASSE'!C26 | F29: X | K29: X | P29: X | U29: X | Y29: X | AF29: X | AJ29: =MATCH("x",K29:N29,4) -> 1 | AK29: =MATCH("x",P29:S29,4) -> 1 | AL29: =MATCH("x",U29:X29,4) -> 1 | AM29: =AVERAGE(AJ29:AL29) -> 1 | AN29: =MATCH("x",Z29:AC29,4) -> #N/A | AO29: =MATCH("x",AE29:AH29,4) -> 2 | AQ29: =ROUND(AM29,0) -> 1 | AR29: =ROUND(AN29,0) -> #N/A | AS29: =ROUND(AO29,0) -> 2 | AT29: =AVERAGE(AQ29:AS29) -> #N/A
A30: ='LISTE CLASSE'!$B$1 -> 3B | B30: ='LISTE CLASSE'!A27 -> 0 | C30: ='LISTE CLASSE'!B27 -> 0 | D30: ='LISTE CLASSE'!C27 | H30: X | N30: X | R30: X | W30: X | Y30: X | AG30: X | AJ30: =MATCH("x",K30:N30,4) -> 4 | AK30: =MATCH("x",P30:S30,4) -> 3 | AL30: =MATCH("x",U30:X30,4) -> 3 | AM30: =AVERAGE(AJ30:AL30) -> 3.3333333 | AN30: =MATCH("x",Z30:AC30,4) -> #N/A | AO30: =MATCH("x",AE30:AH30,4) -> 3 | AQ30: =ROUND(AM30,0) -> 3 | AR30: =ROUND(AN30,0) -> #N/A | AS30: =ROUND(AO30,0) -> 3 | AT30: =AVERAGE(AQ30:AS30) -> #N/A
A31: ='LISTE CLASSE'!$B$1 -> 3B | B31: ='LISTE CLASSE'!A28 -> 0 | C31: ='LISTE CLASSE'!B28 -> 0 | D31: ='LISTE CLASSE'!C28 -> 0 | AJ31: =MATCH("x",K31:N31,4) -> #N/A | AK31: =MATCH("x",P31:S31,4) -> #N/A | AL31: =MATCH("x",U31:X31,4) -> #N/A | AM31: =AVERAGE(AJ31:AL31) -> #N/A | AN31: =MATCH("x",Z31:AC31,4) -> #N/A | AO31: =MATCH("x",AE31:AH31,4) -> #N/A | AQ31: =ROUND(AM31,0) -> #N/A | AR31: =ROUND(AN31,0) -> #N/A | AS31: =ROUND(AO31,0) -> #N/A | AT31: =AVERAGE(AQ31:AS31) -> #N/A
A32: ='LISTE CLASSE'!$B$1 -> 3B | B32: ='LISTE CLASSE'!A29 -> 0 | C32: ='LISTE CLASSE'!B29 -> 0 | D32: ='LISTE CLASSE'!C29 -> 0 | AJ32: =MATCH("x",K32:N32,4) -> #N/A | AK32: =MATCH("x",P32:S32,4) -> #N/A | AL32: =MATCH("x",U32:X32,4) -> #N/A | AM32: =AVERAGE(AJ32:AL32) -> #N/A | AN32: =MATCH("x",Z32:AC32,4) -> #N/A | AO32: =MATCH("x",AE32:AH32,4) -> #N/A | AQ32: =ROUND(AM32,0) -> #N/A | AR32: =ROUND(AN32,0) -> #N/A | AS32: =ROUND(AO32,0) -> #N/A | AT32: =AVERAGE(AQ32:AS32) -> #N/A
A33: ='LISTE CLASSE'!$B$1 -> 3B | B33: ='LISTE CLASSE'!A30 -> 0 | C33: ='LISTE CLASSE'!B30 -> 0 | D33: ='LISTE CLASSE'!C30 -> 0 | AJ33: =MATCH("x",K33:N33,4) -> #N/A | AK33: =MATCH("x",P33:S33,4) -> #N/A | AL33: =MATCH("x",U33:X33,4) -> #N/A | AM33: =AVERAGE(AJ33:AL33) -> #N/A | AN33: =MATCH("x",Z33:AC33,4) -> #N/A | AO33: =MATCH("x",AE33:AH33,4) -> #N/A | AQ33: =ROUND(AM33,0) -> #N/A | AR33: =ROUND(AN33,0) -> #N/A | AS33: =ROUND(AO33,0) -> #N/A | AT33: =AVERAGE(AQ33:AS33) -> #N/A
A34: ='LISTE CLASSE'!$B$1 -> 3B | B34: ='LISTE CLASSE'!A31 -> 0 | C34: ='LISTE CLASSE'!B31 -> 0 | D34: ='LISTE CLASSE'!C31 -> 0 | AJ34: =MATCH("x",K34:N34,4) -> #N/A | AK34: =MATCH("x",P34:S34,4) -> #N/A | AL34: =MATCH("x",U34:X34,4) -> #N/A | AM34: =AVERAGE(AJ34:AL34) -> #N/A | AN34: =MATCH("x",Z34:AC34,4) -> #N/A | AO34: =MATCH("x",AE34:AH34,4) -> #N/A | AQ34: =ROUND(AM34,0) -> #N/A | AR34: =ROUND(AN34,0) -> #N/A | AS34: =ROUND(AO34,0) -> #N/A | AT34: =AVERAGE(AQ34:AS34) -> #N/A

Sheet Badminton
E2: Compétence visée | J2: Dimension Motrice | AJ2: Socle Commun
J3: S'organiser tactiquement pour gagner le match | Y3: D2 | AD3: D3
A4: APSA | B4: Badminton | E4: Item 1 | J4: Mettre en difficulté dès le service | O4: Frappes variées force et précision | T4: Rupture de l'échange | Y4: L'observateur/ccoach | AD4: L'arbitre | AJ4: Valeurs brutes | AQ4: Valeurs arrondies | AT4: Moyenne proposée | AU4: Positonnement
A5: Classe | B5: Nom | C5: Prénom | D5: Nom Prénom | E5: 0 | F5: 1 | G5: 2 | H5: 3 | I5: 4 | J5: 0 | K5: 1 | L5: 2 | M5: 3 | N5: 4 | O5: 0 | P5: 1 | Q5: 2 | R5: 3 | S5: 4 | T5: 0 | U5: 1 | V5: 2 | W5: 3 | X5: 4 | Y5: 0 | Z5: 1 | AA5: 2 | AB5: 3 | AC5: 4 | AD5: 0 | AE5: 1 | AF5: 2 | AG5: 3 | AH5: 4 | AJ5: Résultats | AM5: D1.4 | AN5: D2 | AO5: D3 | AQ5: D1.4 | AR5: D2 | AS5: D3
A6: ='LISTE CLASSE'!$B$1 -> 3B | B6: ='LISTE CLASSE'!A3 -> A | C6: ='LISTE CLASSE'!B3 -> Toto | D6: ='LISTE CLASSE'!C3 -> A Toto | L6: X | AJ6: =MATCH("x",K6:N6,4) -> 2 | AK6: =MATCH("x",P6:S6,4) -> #N/A | AL6: =MATCH("x",U6:X6,4) -> #N/A | AM6: =AVERAGE(AJ6:AL6) -> #N/A | AN6: =MATCH("x",Z6:AC6,4) -> #N/A | AO6: =MATCH("x",AE6:AH6,4) -> #N/A | AQ6: =ROUND(AM6,0) -> #N/A | AR6: =ROUND(AN6,0) -> #N/A | AS6: =ROUND(AO6,0) -> #N/A | AT6: =AVERAGE(AQ6:AS6) -> #N/A
A7: ='LISTE CLASSE'!$B$1 -> 3B | B7: ='LISTE CLASSE'!A4 -> B | C7: ='LISTE CLASSE'!B4 -> Tata | D7: ='LISTE CLASSE'!C4 -> B Tata | AJ7: =MATCH("x",K7:N7,4) -> #N/A | AK7: =MATCH("x",P7:S7,4) -> #N/A | AL7: =MATCH("x",U7:X7,4) -> #N/A | AM7: =AVERAGE(AJ7:AL7) -> #N/A | AN7: =MATCH("x",Z7:AC7,4) -> #N/A | AO7: =MATCH("x",AE7:AH7,4) -> #N/A | AQ7: =ROUND(AM7,0) -> #N/A | AR7: =ROUND(AN7,0) -> #N/A | AS7: =ROUND(AO7,0) -> #N/A | AT7: =AVERAGE(AQ7:AS7) -> #N/A
A8: ='LISTE CLASSE'!$B$1 -> 3B | B8: ='LISTE CLASSE'!A5 -> C | C8: ='LISTE CLASSE'!B5 -> Riri | D8: ='LISTE CLASSE'!C5 -> C Riri | AJ8: =MATCH("x",K8:N8,4) -> #N/A | AK8: =MATCH("x",P8:S8,4) -> #N/A | AL8: =MATCH("x",U8:X8,4) -> #N/A | AM8: =AVERAGE(AJ8:AL8) -> #N/A | AN8: =MATCH("x",Z8:AC8,4) -> #N/A | AO8: =MATCH("x",AE8:AH8,4) -> #N/A | AQ8: =ROUND(AM8,0) -> #N/A | AR8: =ROUND(AN8,0) -> #N/A | AS8: =ROUND(AO8,0) -> #N/A | AT8: =AVERAGE(AQ8:AS8) -> #N/A
A9: ='LISTE CLASSE'!$B$1 -> 3B | B9: ='LISTE CLASSE'!A6 -> D | C9: ='LISTE CLASSE'!B6 -> Fifi | D9: ='LISTE CLASSE'!C6 -> D Fifi | AJ9: =MATCH("x",K9:N9,4) -> #N/A | AK9: =MATCH("x",P9:S9,4) -> #N/A | AL9: =MATCH("x",U9:X9,4) -> #N/A | AM9: =AVERAGE(AJ9:AL9) -> #N/A | AN9: =MATCH("x",Z9:AC9,4) -> #N/A | AO9: =MATCH("x",AE9:AH9,4) -> #N/A | AQ9: =ROUND(AM9,0) -> #N/A | AR9: =ROUND(AN9,0) -> #N/A | AS9: =ROUND(AO9,0) -> #N/A | AT9: =AVERAGE(AQ9:AS9) -> #N/A
A10: ='LISTE CLASSE'!$B$1 -> 3B | B10: ='LISTE CLASSE'!A7 -> E | C10: ='LISTE CLASSE'!B7 -> Loulou | D10: ='LISTE CLASSE'!C7 -> E Loulou | AJ10: =MATCH("x",K10:N10,4) -> #N/A | AK10: =MATCH("x",P10:S10,4) -> #N/A | AL10: =MATCH("x",U10:X10,4) -> #N/A | AM10: =AVERAGE(AJ10:AL10) -> #N/A | AN10: =MATCH("x",Z10:AC10,4) -> #N/A | AO10: =MATCH("x",AE10:AH10,4) -> #N/A | AQ10: =ROUND(AM10,0) -> #N/A | AR10: =ROUND(AN10,0) -> #N/A | AS10: =ROUND(AO10,0) -> #N/A | AT10: =AVERAGE(AQ10:AS10) -> #N/A
A11: ='LISTE CLASSE'!$B$1 -> 3B | B11: ='LISTE CLASSE'!A8 -> F | C11: ='LISTE CLASSE'!B8 -> Jaja | D11: ='LISTE CLASSE'!C8 -> F Jaja | AJ11: =MATCH("x",K11:N11,4) -> #N/A | AK11: =MATCH("x",P11:S11,4) -> #N/A | AL11: =MATCH("x",U11:X11,4) -> #N/A | AM11: =AVERAGE(AJ11:AL11) -> #N/A | AN11: =MATCH("x",Z11:AC11,4) -> #N/A | AO11: =MATCH("x",AE11:AH11,4) -> #N/A | AQ11: =ROUND(AM11,0) -> #N/A | AR11: =ROUND(AN11,0) -> #N/A | AS11: =ROUND(AO11,0) -> #N/A | AT11: =AVERAGE(AQ11:AS11) -> #N/A
A12: ='LISTE CLASSE'!$B$1 -> 3B | B12: ='LISTE CLASSE'!A9 -> G | C12: ='LISTE CLASSE'!B9 -> Juju | D12: ='LISTE CLASSE'!C9 -> G Juju | AJ12: =MATCH("x",K12:N12,4) -> #N/A | AK12: =MATCH("x",P12:S12,4) -> #N/A | AL12: =MATCH("x",U12:X12,4) -> #N/A | AM12: =AVERAGE(AJ12:AL12) -> #N/A | AN12: =MATCH("x",Z12:AC12,4) -> #N/A | AO12: =MATCH("x",AE12:AH12,4) -> #N/A | AQ12: =ROUND(AM12,0) -> #N/A | AR12: =ROUND(AN12,0) -> #N/A | AS12: =ROUND(AO12,0) -> #N/A | AT12: =AVERAGE(AQ12:AS12) -> #N/A
A13: ='LISTE CLASSE'!$B$1 -> 3B | B13: ='LISTE CLASSE'!A10 -> H | C13: ='LISTE CLASSE'!B10 -> Nono | D13: ='LISTE CLASSE'!C10 -> H Nono | AJ13: =MATCH("x",K13:N13,4) -> #N/A | AK13: =MATCH("x",P13:S13,4) -> #N/A | AL13: =MATCH("x",U13:X13,4) -> #N/A | AM13: =AVERAGE(AJ13:AL13) -> #N/A | AN13: =MATCH("x",Z13:AC13,4) -> #N/A | AO13: =MATCH("x",AE13:AH13,4) -> #N/A | AQ13: =ROUND(AM13,0) -> #N/A | AR13: =ROUND(AN13,0) -> #N/A | AS13: =ROUND(AO13,0) -> #N/A | AT13: =AVERAGE(AQ13:AS13) -> #N/A
A14: ='LISTE CLASSE'!$B$1 -> 3B | B14: ='LISTE CLASSE'!A11 -> I | C14: ='LISTE CLASSE'!B11 -> Flo | D14: ='LISTE CLASSE'!C11 -> I Flo | AJ14: =MATCH("x",K14:N14,4) -> #N/A | AK14: =MATCH("x",P14:S14,4) -> #N/A | AL14: =MATCH("x",U14:X14,4) -> #N/A | AM14: =AVERAGE(AJ14:AL14) -> #N/A | AN14: =MATCH("x",Z14:AC14,4) -> #N/A | AO14: =MATCH("x",AE14:AH14,4) -> #N/A | AQ14: =ROUND(AM14,0) -> #N/A | AR14: =ROUND(AN14,0) -> #N/A | AS14: =ROUND(AO14,0) -> #N/A | AT14: =AVERAGE(AQ14:AS14) -> #N/A
A15: ='LISTE CLASSE'!$B$1 -> 3B | B15: ='LISTE CLASSE'!A12 -> 0 | C15: ='LISTE CLASSE'!B12 -> 0 | D15: ='LISTE CLASSE'!C12 | AJ15: =MATCH("x",K15:N15,4) -> #N/A | AK15: =MATCH("x",P15:S15,4) -> #N/A | AL15: =MATCH("x",U15:X15,4) -> #N/A | AM15: =AVERAGE(AJ15:AL15) -> #N/A | AN15: =MATCH("x",Z15:AC15,4) -> #N/A | AO15: =MATCH("x",AE15:AH15,4) -> #N/A | AQ15: =ROUND(AM15,0) -> #N/A | AR15: =ROUND(AN15,0) -> #N/A | AS15: =ROUND(AO15,0) -> #N/A | AT15: =AVERAGE(AQ15:AS15) -> #N/A
A16: ='LISTE CLASSE'!$B$1 -> 3B | B16: ='LISTE CLASSE'!A13 -> 0 | C16: ='LISTE CLASSE'!B13 -> 0 | D16: ='LISTE CLASSE'!C13 | AJ16: =MATCH("x",K16:N16,4) -> #N/A | AK16: =MATCH("x",P16:S16,4) -> #N/A | AL16: =MATCH("x",U16:X16,4) -> #N/A | AM16: =AVERAGE(AJ16:AL16) -> #N/A | AN16: =MATCH("x",Z16:AC16,4) -> #N/A | AO16: =MATCH("x",AE16:AH16,4) -> #N/A | AQ16: =ROUND(AM16,0) -> #N/A | AR16: =ROUND(AN16,0) -> #N/A | AS16: =ROUND(AO16,0) -> #N/A | AT16: =AVERAGE(AQ16:AS16) -> #N/A
A17: ='LISTE CLASSE'!$B$1 -> 3B | B17: ='LISTE CLASSE'!A14 -> 0 | C17: ='LISTE CLASSE'!B14 -> 0 | D17: ='LISTE CLASSE'!C14 | AJ17: =MATCH("x",K17:N17,4) -> #N/A | AK17: =MATCH("x",P17:S17,4) -> #N/A | AL17: =MATCH("x",U17:X17,4) -> #N/A | AM17: =AVERAGE(AJ17:AL17) -> #N/A | AN17: =MATCH("x",Z17:AC17,4) -> #N/A | AO17: =MATCH("x",AE17:AH17,4) -> #N/A | AQ17: =ROUND(AM17,0) -> #N/A | AR17: =ROUND(AN17,0) -> #N/A | AS17: =ROUND(AO17,0) -> #N/A | AT17: =AVERAGE(AQ17:AS17) -> #N/A
A18: ='LISTE CLASSE'!$B$1 -> 3B | B18: ='LISTE CLASSE'!A15 -> 0 | C18: ='LISTE CLASSE'!B15 -> 0 | D18: ='LISTE CLASSE'!C15 | AJ18: =MATCH("x",K18:N18,4) -> #N/A | AK18: =MATCH("x",P18:S18,4) -> #N/A | AL18: =MATCH("x",U18:X18,4) -> #N/A | AM18: =AVERAGE(AJ18:AL18) -> #N/A | AN18: =MATCH("x",Z18:AC18,4) -> #N/A | AO18: =MATCH("x",AE18:AH18,4) -> #N/A | AQ18: =ROUND(AM18,0) -> #N/A | AR18: =ROUND(AN18,0) -> #N/A | AS18: =ROUND(AO18,0) -> #N/A | AT18: =AVERAGE(AQ18:AS18) -> #N/A
... A34: ='LISTE CLASSE'!$B$1 -> 3B | B34: ='LISTE CLASSE'!A31 -> 0 | C34: ='LISTE CLASSE'!B31 -> 0 | D34: ='LISTE CLASSE'!C31 -> 0 | AJ34: =MATCH("x",K34:N34,4) -> #N/A | AK34: =MATCH("x",P34:S34,4) -> #N/A | AL34: =MATCH("x",U34:X34,4) -> #N/A | AM34: =AVERAGE(AJ34:AL34) -> #N/A | AN34: =MATCH("x",Z34:AC34,4) -> #N/A | AO34: =MATCH("x",AE34:AH34,4) -> #N/A | AQ34: =ROUND(AM34,0) -> #N/A | AR34: =ROUND(AN34,0) -> #N/A | AS34: =ROUND(AO34,0) -> #N/A | AT34: =AVERAGE(AQ34:AS34) -> #N/A

Sheet Zone couleur
B3: Zone 1 | C3: Zone 2 | D3: Zone 3 | E3: Zone 4 | F3: Zone 5 | H3: APSA
B4: 0.5 | C4: 1.5 | D4: 2.5 | E4: 3.5 | F4: 4.5 | H4: Acrosport
B5: 0.5 | C5: 1.5 | D5: 2.5 | E5: 3.5 | F5: 4.5 | H5: Badminton
B6: 0.5 | C6: 1.5 | D6: 2.5 | E6: 3.5 | F6: 4.5 | H6: Volley-Ball
B7: 0.5 | C7: 1.5 | D7: 2.5 | E7: 3.5 | F7: 4.5 | H7: Demi-Fond
B8: 0.5 | C8: 1.5 | D8: 2.5 | E8: 3.5 | F8: 4.5
B9: 0.5 | C9: 1.5 | D9: 2.5 | E9: 3.5 | F9: 4.5
B10: 0.5 | C10: 1.5 | D10: 2.5 | E10: 3.5 | F10: 4.5

Sheet Fiche individu
A1: Nom, Prénom: | B1: D Fifi | D1: Classe: | E1: ='LISTE CLASSE'!B1 -> 3B
A2: Champ d’Apprentissage 4 | C2: Conduire et maitriser un affrontement interindividuel
A3: Compétence visée
A4: Dans le respect du règlement, de l’arbitre et du fair-play, rechercher le gain d’un match en adaptant son jeu en fonction de son statut dans l’échange, en orientant le jeu en dehors du centre du terrain et loin de l’adversaire, en exploitant les volants favorables jusqu’au mi-court. | F4: =IF($C$7="Acrosport",LOOKUP($B1,Acrosport!$D$6:$D$34,Acrosport!AU6:AU34),IF($C$7="Demi-Fond",LOOKUP($B1,'Demi-Fond'!$D$6:$D$34,'Demi-Fond'!AU6:AU34),IF($C$7="Volley-Ball",LOOKUP($B1,Volleyball!$D$6:$D$34,Volleyball!AU6:AU34),IF($C$7="Badminton",LOOKUP($B1,Badminton!$D$6:$D$34,Badminton!AU6:AU34),"Vide")))) -> 0
A5: Sur la base d’une observation analyser et conseiller un camarade afin de faire évoluer le rapport de force.
A6: Être capable de diriger une rencontre en tant qu’arbitre.
B7: Activité: | C7: Demi-Fond
A8: Domaines | B8: D1.4 | E8: D2 | F8: D3
A9: Compétences | B9: =IF($C$7='Zone couleur'!H4,'Base de données'!B2:D2,IF($C$7='Zone couleur'!H5,'Base de données'!B8:D8,IF($C$7='Zone couleur'!H6,'Base de données'!B14:D14,IF($C$7='Zone couleur'!H7,'Base de données'!B20:D20,"vide")))) -> PRATIQUER DES ACTIVITES PHYSIQUES ET SPORTIVES | E9: =IF($C$7='Zone couleur'!H4,'Base de données'!E2:F2,IF($C$7='Zone couleur'!H5,'Base de données'!E8:F8,IF($C$7='Zone couleur'!H6,'Base de données'!E14:F14,IF($C$7='Zone couleur'!H7,'Base de données'!E20:F20,"vide")))) -> ORGANISER SON TRAAIL PERSONNEL | F9: =IF($C$7='Zone couleur'!H4,'Base de données'!G2,IF($C$7='Zone couleur'!H5,'Base de données'!G8,IF($C$7='Zone couleur'!H6,'Base de données'!G14,IF($C$7='Zone couleur'!H7,'Base de données'!G20,"vide")))) -> FAIRE PREUVE DE RESPONSABILITE, RESPECTER LES REGLES DE LA VIE COLLECTIVE,
A10: Attendus de fin de cycle | B10: =IF($C$7='Zone couleur'!H4,'Base de données'!B3:D3,IF($C$7='Zone couleur'!H5,'Base de données'!B9:D9,IF($C$7='Zone couleur'!H6,'Base de données'!B15:D15,IF($C$7='Zone couleur'!H7,'Base de données'!B21:D21,"vide")))) -> Gérer son effort, faire des choix pour réaliser la meilleure performance | E10: =IF($C$7="Acrosport",'Base de données'!E3:F3,IF($C$7="Badminton",'Base de données'!E9:F9,IF($C$7="Volley-Ball",'Base de données'!E15:F15,IF($C$7="Demi-Fond",'Base de données'!E21:F21,"vide")))) -> Accepter le résultat de ses actions et savoir l’analyser | F10: =IF($C$7="Acrosport",'Base de données'!G3,IF($C$7="Badminton",'Base de données'!G9,IF($C$7="Volley-Ball",'Base de données'!G15,IF($C$7="Demi-Fond",'Base de données'!G21,"vide")))) -> Être solidaire de ses partenaires et respectueux de son adversaire et de l’arbitre
A11: Rôle | B11: =IF($C$7='Zone couleur'!H4,'Base de données'!B4:D4,IF($C$7='Zone couleur'!H5,'Base de données'!B10:D10,IF($C$7='Zone couleur'!H6,'Base de données'!B16:D16,IF($C$7='Zone couleur'!H7,'Base de données'!B22:D22,"vide")))) -> L'athlète | E11: =IF($C$7="Acrosport",'Base de données'!E4:F4,IF($C$7="Badminton",'Base de données'!E10:F10,IF($C$7="Volley-Ball",'Base de données'!E16:F16,IF($C$7="Demi-Fond",'Base de données'!E22:F22,"vide")))) -> Le Stratège | F11: =IF($C$7="Acrosport",'Base de données'!G4,IF($C$7="Badminton",'Base de données'!G10,IF($C$7="Volley-Ball",'Base de données'!G16,IF($C$7="Demi-Fond",'Base de données'!G22,"vide")))) -> Le Coach / L’Observateur
A12: Acquisitions visées | B12: =IF($C$7='Zone couleur'!$H4,'Base de données'!B5,IF($C$7='Zone couleur'!$H5,'Base de données'!B11,IF($C$7='Zone couleur'!$H6,'Base de données'!B17,IF($C$7='Zone couleur'!$H7,'Base de données'!B23,"vide")))) -> S’échauffer avant un effort | C12: =IF($C$7='Zone couleur'!$H4,'Base de données'!C5,IF($C$7='Zone couleur'!$H5,'Base de données'!C11,IF($C$7='Zone couleur'!$H6,'Base de données'!C17,IF($C$7='Zone couleur'!$H7,'Base de données'!C23,"vide")))) -> S’engager dans un projet de performance maximale | D12: =IF($C$7='Zone couleur'!$H4,'Base de données'!D5,IF($C$7='Zone couleur'!$H5,'Base de données'!D11,IF($C$7='Zone couleur'!$H6,'Base de données'!D17,IF($C$7='Zone couleur'!$H7,'Base de données'!D23,"vide")))) -> Construire des repères sur soi et des repères extérieurs. Être capable de réaliser son projet de course | E12: =IF($C$7='Zone couleur'!H4,'Base de données'!E5,IF($C$7='Zone couleur'!H5,'Base de données'!E11,IF($C$7='Zone couleur'!H6,'Base de données'!E17,IF($C$7='Zone couleur'!H7,'Base de données'!E23,"vide")))) -> S’investir dans son projet de course. | F12: =IF($C$7='Zone couleur'!H4,'Base de données'!G5,IF($C$7='Zone couleur'!H5,'Base de données'!G11,IF($C$7='Zone couleur'!H6,'Base de données'!G17,IF($C$7='Zone couleur'!H7,'Base de données'!G23,"vide")))) -> Observer, apprécier et conseiller son camarade.
A13: Positionnement | B13: =IF($C$7="Acrosport",LOOKUP($B1,Acrosport!$D$6:$D$34,Acrosport!AJ6:AJ34),IF($C$7="Demi-Fond",LOOKUP($B1,'Demi-Fond'!$D$6:$D$34,'Demi-Fond'!AJ6:AJ34),IF($C$7="Volley-Ball",LOOKUP($B1,Volleyball!$D$6:$D$34,Volleyball!AJ6:AJ34),IF($C$7="Badminton",LOOKUP($B1,Badminton!$D$6:$D$34,Badminton!AJ6:AJ34),"Vide")))) -> 3 | C13: =IF($C$7="Acrosport",LOOKUP($B1,Acrosport!$D$6:$D$34,Acrosport!AK6:AK34),IF($C$7="Demi-Fond",LOOKUP($B1,'Demi-Fond'!$D$6:$D$34,'Demi-Fond'!AK6:AK34),IF($C$7="Volley-Ball",LOOKUP($B1,Volleyball!$D$6:$D$34,Volleyball!AK6:AK34),IF($C$7="Badminton",LOOKUP($B1,Badminton!$D$6:$D$34,Badminton!AK6:AK34),"Vide")))) -> 2 | D13: =IF($C$7="Acrosport",LOOKUP($B1,Acrosport!$D$6:$D$34,Acrosport!AL6:AL34),IF($C$7="Demi-Fond",LOOKUP($B1,'Demi-Fond'!$D$6:$D$34,'Demi-Fond'!AL6:AL34),IF($C$7="Volley-Ball",LOOKUP($B1,Volleyball!$D$6:$D$34,Volleyball!AL6:AL34),IF($C$7="Badminton",LOOKUP($B1,Badminton!$D$6:$D$34,Badminton!AL6:AL34),"Vide")))) -> 2 | E13: =IF($C$7="Acrosport",LOOKUP($B1,Acrosport!$D$6:$D$34,Acrosport!AN6:AN34),IF($C$7="Demi-Fond",LOOKUP($B1,'Demi-Fond'!$D$6:$D$34,'Demi-Fond'!AN6:AN34),IF($C$7="Volley-Ball",LOOKUP($B1,Volleyball!$D$6:$D$34,Volleyball!AN6:AN34),IF($C$7="Badminton",LOOKUP($B1,Badminton!$D$6:$D$34,Badminton!AN6:AN34),"Vide")))) -> 3 | F13: =IF($C$7="Acrosport",LOOKUP($B1,Acrosport!$D$6:$D$34,Acrosport!AO6:AO34),IF($C$7="Demi-Fond",LOOKUP($B1,'Demi-Fond'!$D$6:$D$34,'Demi-Fond'!AO6:AO34),IF($C$7="Volley-Ball",LOOKUP($B1,Volleyball!$D$6:$D$34,Volleyball!AO6:AO34),IF($C$7="Badminton",LOOKUP($B1,Badminton!$D$6:$D$34,Badminton!AO6:AO34),"Vide")))) -> 3

Sheet A imprimer
B2: ='Fiche individu'!A1 -> Nom, Prénom: | C2: ='Fiche individu'!B1 -> D Fifi | D2: Classe: | E2: ='Fiche individu'!E1 -> 3B
B3: Activité | C3: ='Fiche individu'!C7:D7 -> Demi-Fond | D3: ='Fiche individu'!A2 -> Champ d’Apprentissage 4
B4: ='Fiche individu'!A3 -> Compétence visée
B5: ='Fiche individu'!A4 -> Dans le respect du règlement, de l’arbitre et du fair-play, rechercher le gain d’un match en adaptant son jeu en fonction de son statut dans l’échange, en orientant le jeu en dehors du centre du terrain et loin de l’adversaire, en exploitant les volants favorables jusqu’au mi-court. | F5: ='Fiche individu'!F4 -> 0
B6: ='Fiche individu'!A5 -> Sur la base d’une observation analyser et conseiller un camarade afin de faire évoluer le rapport de force.
B7: ='Fiche individu'!A6 -> Être capable de diriger une rencontre en tant qu’arbitre.
