Workbook

Sheet 1
A1: CLASSEMENT SAMEDI 19 MARS 2016
A5: NOM | B5: POIDS | E5: POINTS | F5: CLASSEMENT | H5: POIDS TOTAL DES PECHEURS
A6: 1 | E6: =IF( ISBLANK(B6),0, IF(B6=0,17,RANK(B6,$B$6:$B$44,0))) -> 0 | F6: =RANK(E6,$E$6:$E$49,1) -> 1 | H6: =SUM(B6:B29) -> 0
A7: 2 | E7: =IF( ISBLANK(B7),0, IF(B7=0,17,RANK(B7,$B$6:$B$44,0))) -> 0 | F7: =RANK(E7,$E$6:$E$49,1) -> 1
A8: 3 | E8: =IF( ISBLANK(B8),0, IF(B8=0,17,RANK(B8,$B$6:$B$44,0))) -> 0 | F8: =RANK(E8,$E$6:$E$49,1) -> 1
A9: 4 | E9: =IF( ISBLANK(B9),0, IF(B9=0,17,RANK(B9,$B$6:$B$44,0))) -> 0 | F9: =RANK(E9,$E$6:$E$49,1) -> 1
A10: 5 | E10: =IF( ISBLANK(B10),0, IF(B10=0,17,RANK(B10,$B$6:$B$44,0))) -> 0 | F10: =RANK(E10,$E$6:$E$49,1) -> 1
A11: 6 | E11: =IF( ISBLANK(B11),0, IF(B11=0,17,RANK(B11,$B$6:$B$44,0))) -> 0 | F11: =RANK(E11,$E$6:$E$49,1) -> 1
A12: 7 | E12: =IF( ISBLANK(B12),0, IF(B12=0,17,RANK(B12,$B$6:$B$44,0))) -> 0 | F12: =RANK(E12,$E$6:$E$49,1) -> 1
A13: 8 | E13: =IF( ISBLANK(B13),0, IF(B13=0,17,RANK(B13,$B$6:$B$44,0))) -> 0 | F13: =RANK(E13,$E$6:$E$49,1) -> 1
A14: 9 | E14: =IF( ISBLANK(B14),0, IF(B14=0,17,RANK(B14,$B$6:$B$44,0))) -> 0 | F14: =RANK(E14,$E$6:$E$49,1) -> 1
A15: 10 | E15: =IF( ISBLANK(B15),0, IF(B15=0,17,RANK(B15,$B$6:$B$44,0))) -> 0 | F15: =RANK(E15,$E$6:$E$49,1) -> 1
A16: 11 | E16: =IF( ISBLANK(B16),0, IF(B16=0,17,RANK(B16,$B$6:$B$44,0))) -> 0 | F16: =RANK(E16,$E$6:$E$49,1) -> 1
A17: 12 | E17: =IF( ISBLANK(B17),0, IF(B17=0,17,RANK(B17,$B$6:$B$44,0))) -> 0 | F17: =RANK(E17,$E$6:$E$49,1) -> 1
A18: 13 | E18: =IF( ISBLANK(B18),0, IF(B18=0,17,RANK(B18,$B$6:$B$44,0))) -> 0 | F18: =RANK(E18,$E$6:$E$49,1) -> 1
... A21: 16 | E21: =IF( ISBLANK(B21),0, IF(B21=0,17,RANK(B21,$B$6:$B$44,0))) -> 0 | F21: =RANK(E21,$E$6:$E$49,1) -> 1

Sheet 2
A1: CLASSEMENT SAMEDI 16 AVRIL 2016
A5: NOM | B5: POIDS | E5: POINTS | F5: CLASSEMENT | H5: POIDS TOTAL DES PECHEURS
A6: 1 | E6: =IF( ISBLANK(B6),0, IF(B6=0,17,RANK(B6,$B$6:$B$44,0))) -> 0 | F6: =RANK(E6,$E$6:$E$49,1) -> 1 | H6: =SUM(B6:B29) -> 0
A7: 2 | E7: =IF( ISBLANK(B7),0, IF(B7=0,17,RANK(B7,$B$6:$B$44,0))) -> 0 | F7: =RANK(E7,$E$6:$E$49,1) -> 1
A8: 3 | E8: =IF( ISBLANK(B8),0, IF(B8=0,17,RANK(B8,$B$6:$B$44,0))) -> 0 | F8: =RANK(E8,$E$6:$E$49,1) -> 1
A9: 4 | E9: =IF( ISBLANK(B9),0, IF(B9=0,17,RANK(B9,$B$6:$B$44,0))) -> 0 | F9: =RANK(E9,$E$6:$E$49,1) -> 1
A10: 5 | E10: =IF( ISBLANK(B10),0, IF(B10=0,17,RANK(B10,$B$6:$B$44,0))) -> 0 | F10: =RANK(E10,$E$6:$E$49,1) -> 1
A11: 6 | E11: =IF( ISBLANK(B11),0, IF(B11=0,17,RANK(B11,$B$6:$B$44,0))) -> 0 | F11: =RANK(E11,$E$6:$E$49,1) -> 1
A12: 7 | E12: =IF( ISBLANK(B12),0, IF(B12=0,17,RANK(B12,$B$6:$B$44,0))) -> 0 | F12: =RANK(E12,$E$6:$E$49,1) -> 1
A13: 8 | E13: =IF( ISBLANK(B13),0, IF(B13=0,17,RANK(B13,$B$6:$B$44,0))) -> 0 | F13: =RANK(E13,$E$6:$E$49,1) -> 1
A14: 9 | E14: =IF( ISBLANK(B14),0, IF(B14=0,17,RANK(B14,$B$6:$B$44,0))) -> 0 | F14: =RANK(E14,$E$6:$E$49,1) -> 1
A15: 10 | E15: =IF( ISBLANK(B15),0, IF(B15=0,17,RANK(B15,$B$6:$B$44,0))) -> 0 | F15: =RANK(E15,$E$6:$E$49,1) -> 1
A16: 11 | E16: =IF( ISBLANK(B16),0, IF(B16=0,17,RANK(B16,$B$6:$B$44,0))) -> 0 | F16: =RANK(E16,$E$6:$E$49,1) -> 1
A17: 12 | E17: =IF( ISBLANK(B17),0, IF(B17=0,17,RANK(B17,$B$6:$B$44,0))) -> 0 | F17: =RANK(E17,$E$6:$E$49,1) -> 1
A18: 13 | E18: =IF( ISBLANK(B18),0, IF(B18=0,17,RANK(B18,$B$6:$B$44,0))) -> 0 | F18: =RANK(E18,$E$6:$E$49,1) -> 1
... A21: 16 | E21: =IF( ISBLANK(B21),0, IF(B21=0,17,RANK(B21,$B$6:$B$44,0))) -> 0 | F21: =RANK(E21,$E$6:$E$49,1) -> 1

Sheet 3
A1: CLASSEMENT SAMEDI 11 JUIN 2016
A5: NOM | B5: POIDS | E5: POINTS | F5: CLASSEMENT | H5: POIDS TOTAL DES PECHEURS
A6: 1 | E6: =IF( ISBLANK(B6),0, IF(B6=0,17,RANK(B6,$B$6:$B$44,0))) -> 0 | F6: =RANK(E6,$E$6:$E$49,1) -> 1 | H6: =SUM(B6:B29) -> 0
A7: 2 | E7: =IF( ISBLANK(B7),0, IF(B7=0,17,RANK(B7,$B$6:$B$44,0))) -> 0 | F7: =RANK(E7,$E$6:$E$49,1) -> 1
A8: 3 | E8: =IF( ISBLANK(B8),0, IF(B8=0,17,RANK(B8,$B$6:$B$44,0))) -> 0 | F8: =RANK(E8,$E$6:$E$49,1) -> 1
A9: 4 | E9: =IF( ISBLANK(B9),0, IF(B9=0,17,RANK(B9,$B$6:$B$44,0))) -> 0 | F9: =RANK(E9,$E$6:$E$49,1) -> 1
A10: 5 | E10: =IF( ISBLANK(B10),0, IF(B10=0,17,RANK(B10,$B$6:$B$44,0))) -> 0 | F10: =RANK(E10,$E$6:$E$49,1) -> 1
A11: 6 | E11: =IF( ISBLANK(B11),0, IF(B11=0,17,RANK(B11,$B$6:$B$44,0))) -> 0 | F11: =RANK(E11,$E$6:$E$49,1) -> 1
A12: 7 | E12: =IF( ISBLANK(B12),0, IF(B12=0,17,RANK(B12,$B$6:$B$44,0))) -> 0 | F12: =RANK(E12,$E$6:$E$49,1) -> 1
A13: 8 | E13: =IF( ISBLANK(B13),0, IF(B13=0,17,RANK(B13,$B$6:$B$44,0))) -> 0 | F13: =RANK(E13,$E$6:$E$49,1) -> 1
A14: 9 | E14: =IF( ISBLANK(B14),0, IF(B14=0,17,RANK(B14,$B$6:$B$44,0))) -> 0 | F14: =RANK(E14,$E$6:$E$49,1) -> 1
A15: 10 | E15: =IF( ISBLANK(B15),0, IF(B15=0,17,RANK(B15,$B$6:$B$44,0))) -> 0 | F15: =RANK(E15,$E$6:$E$49,1) -> 1
A16: 11 | E16: =IF( ISBLANK(B16),0, IF(B16=0,17,RANK(B16,$B$6:$B$44,0))) -> 0 | F16: =RANK(E16,$E$6:$E$49,1) -> 1
A17: 12 | E17: =IF( ISBLANK(B17),0, IF(B17=0,17,RANK(B17,$B$6:$B$44,0))) -> 0 | F17: =RANK(E17,$E$6:$E$49,1) -> 1
A18: 13 | E18: =IF( ISBLANK(B18),0, IF(B18=0,17,RANK(B18,$B$6:$B$44,0))) -> 0 | F18: =RANK(E18,$E$6:$E$49,1) -> 1
... A21: 16 | E21: =IF( ISBLANK(B21),0, IF(B21=0,17,RANK(B21,$B$6:$B$44,0))) -> 0 | F21: =RANK(E21,$E$6:$E$49,1) -> 1

Sheet 4
A1: CLASSEMENT SAMEDI 17 SEPTEMBRE 2016
A5: NOM | B5: POIDS | E5: POINTS | F5: CLASSEMENT | H5: POIDS TOTAL DES PECHEURS
A6: 1 | E6: =IF( ISBLANK(B6),0, IF(B6=0,17,RANK(B6,$B$6:$B$44,0))) -> 0 | F6: =RANK(E6,$E$6:$E$49,1) -> 1 | H6: =SUM(B6:B29) -> 0
A7: 2 | E7: =IF( ISBLANK(B7),0, IF(B7=0,17,RANK(B7,$B$6:$B$44,0))) -> 0 | F7: =RANK(E7,$E$6:$E$49,1) -> 1
A8: 3 | E8: =IF( ISBLANK(B8),0, IF(B8=0,17,RANK(B8,$B$6:$B$44,0))) -> 0 | F8: =RANK(E8,$E$6:$E$49,1) -> 1
A9: 4 | E9: =IF( ISBLANK(B9),0, IF(B9=0,17,RANK(B9,$B$6:$B$44,0))) -> 0 | F9: =RANK(E9,$E$6:$E$49,1) -> 1
A10: 5 | E10: =IF( ISBLANK(B10),0, IF(B10=0,17,RANK(B10,$B$6:$B$44,0))) -> 0 | F10: =RANK(E10,$E$6:$E$49,1) -> 1
A11: 6 | E11: =IF( ISBLANK(B11),0, IF(B11=0,17,RANK(B11,$B$6:$B$44,0))) -> 0 | F11: =RANK(E11,$E$6:$E$49,1) -> 1
A12: 7 | E12: =IF( ISBLANK(B12),0, IF(B12=0,17,RANK(B12,$B$6:$B$44,0))) -> 0 | F12: =RANK(E12,$E$6:$E$49,1) -> 1
A13: 8 | E13: =IF( ISBLANK(B13),0, IF(B13=0,17,RANK(B13,$B$6:$B$44,0))) -> 0 | F13: =RANK(E13,$E$6:$E$49,1) -> 1
A14: 9 | E14: =IF( ISBLANK(B14),0, IF(B14=0,17,RANK(B14,$B$6:$B$44,0))) -> 0 | F14: =RANK(E14,$E$6:$E$49,1) -> 1
A15: 10 | E15: =IF( ISBLANK(B15),0, IF(B15=0,17,RANK(B15,$B$6:$B$44,0))) -> 0 | F15: =RANK(E15,$E$6:$E$49,1) -> 1
A16: 11 | E16: =IF( ISBLANK(B16),0, IF(B16=0,17,RANK(B16,$B$6:$B$44,0))) -> 0 | F16: =RANK(E16,$E$6:$E$49,1) -> 1
A17: 12 | E17: =IF( ISBLANK(B17),0, IF(B17=0,17,RANK(B17,$B$6:$B$44,0))) -> 0 | F17: =RANK(E17,$E$6:$E$49,1) -> 1
A18: 13 | E18: =IF( ISBLANK(B18),0, IF(B18=0,17,RANK(B18,$B$6:$B$44,0))) -> 0 | F18: =RANK(E18,$E$6:$E$49,1) -> 1
... A21: 16 | E21: =IF( ISBLANK(B21),0, IF(B21=0,17,RANK(B21,$B$6:$B$44,0))) -> 0 | F21: =RANK(E21,$E$6:$E$49,1) -> 1

Sheet 5
A1: CLASSEMENT SAMEDI 1 OCTOBRE 2016
A5: NOM | B5: POIDS | E5: POINTS | F5: CLASSEMENT | H5: POIDS TOTAL DES PECHEURS
A6: 1 | E6: =IF( ISBLANK(B6),0, IF(B6=0,17,RANK(B6,$B$6:$B$44,0))) -> 0 | F6: =RANK(E6,$E$6:$E$49,1) -> 1 | H6: =SUM(B6:B29) -> 0
A7: 2 | E7: =IF( ISBLANK(B7),0, IF(B7=0,17,RANK(B7,$B$6:$B$44,0))) -> 0 | F7: =RANK(E7,$E$6:$E$49,1) -> 1
A8: 3 | E8: =IF( ISBLANK(B8),0, IF(B8=0,17,RANK(B8,$B$6:$B$44,0))) -> 0 | F8: =RANK(E8,$E$6:$E$49,1) -> 1
A9: 4 | E9: =IF( ISBLANK(B9),0, IF(B9=0,17,RANK(B9,$B$6:$B$44,0))) -> 0 | F9: =RANK(E9,$E$6:$E$49,1) -> 1
A10: 5 | E10: =IF( ISBLANK(B10),0, IF(B10=0,17,RANK(B10,$B$6:$B$44,0))) -> 0 | F10: =RANK(E10,$E$6:$E$49,1) -> 1
A11: 6 | E11: =IF( ISBLANK(B11),0, IF(B11=0,17,RANK(B11,$B$6:$B$44,0))) -> 0 | F11: =RANK(E11,$E$6:$E$49,1) -> 1
A12: 7 | E12: =IF( ISBLANK(B12),0, IF(B12=0,17,RANK(B12,$B$6:$B$44,0))) -> 0 | F12: =RANK(E12,$E$6:$E$49,1) -> 1
A13: 8 | E13: =IF( ISBLANK(B13),0, IF(B13=0,17,RANK(B13,$B$6:$B$44,0))) -> 0 | F13: =RANK(E13,$E$6:$E$49,1) -> 1
A14: 9 | E14: =IF( ISBLANK(B14),0, IF(B14=0,17,RANK(B14,$B$6:$B$44,0))) -> 0 | F14: =RANK(E14,$E$6:$E$49,1) -> 1
A15: 10 | E15: =IF( ISBLANK(B15),0, IF(B15=0,17,RANK(B15,$B$6:$B$44,0))) -> 0 | F15: =RANK(E15,$E$6:$E$49,1) -> 1
A16: 11 | E16: =IF( ISBLANK(B16),0, IF(B16=0,17,RANK(B16,$B$6:$B$44,0))) -> 0 | F16: =RANK(E16,$E$6:$E$49,1) -> 1
A17: 12 | E17: =IF( ISBLANK(B17),0, IF(B17=0,17,RANK(B17,$B$6:$B$44,0))) -> 0 | F17: =RANK(E17,$E$6:$E$49,1) -> 1
A18: 13 | E18: =IF( ISBLANK(B18),0, IF(B18=0,17,RANK(B18,$B$6:$B$44,0))) -> 0 | F18: =RANK(E18,$E$6:$E$49,1) -> 1
... A21: 16 | E21: =IF( ISBLANK(B21),0, IF(B21=0,17,RANK(B21,$B$6:$B$44,0))) -> 0 | F21: =RANK(E21,$E$6:$E$49,1) -> 1

Sheet 6
A1: CLASSEMENT SAMEDI 12 NOVEMBRE 2016
A5: NOM | B5: POIDS | E5: POINTS | F5: CLASSEMENT | H5: POIDS TOTAL DES PECHEURS
A6: 1 | E6: =IF( ISBLANK(B6),0, IF(B6=0,17,RANK(B6,$B$6:$B$44,0))) -> 0 | F6: =RANK(E6,$E$6:$E$49,1) -> 1 | H6: =SUM(B6:B29) -> 0
A7: 2 | E7: =IF( ISBLANK(B7),0, IF(B7=0,17,RANK(B7,$B$6:$B$44,0))) -> 0 | F7: =RANK(E7,$E$6:$E$49,1) -> 1
A8: 3 | E8: =IF( ISBLANK(B8),0, IF(B8=0,17,RANK(B8,$B$6:$B$44,0))) -> 0 | F8: =RANK(E8,$E$6:$E$49,1) -> 1
A9: 4 | E9: =IF( ISBLANK(B9),0, IF(B9=0,17,RANK(B9,$B$6:$B$44,0))) -> 0 | F9: =RANK(E9,$E$6:$E$49,1) -> 1
A10: 5 | E10: =IF( ISBLANK(B10),0, IF(B10=0,17,RANK(B10,$B$6:$B$44,0))) -> 0 | F10: =RANK(E10,$E$6:$E$49,1) -> 1
A11: 6 | E11: =IF( ISBLANK(B11),0, IF(B11=0,17,RANK(B11,$B$6:$B$44,0))) -> 0 | F11: =RANK(E11,$E$6:$E$49,1) -> 1
A12: 7 | E12: =IF( ISBLANK(B12),0, IF(B12=0,17,RANK(B12,$B$6:$B$44,0))) -> 0 | F12: =RANK(E12,$E$6:$E$49,1) -> 1
A13: 8 | E13: =IF( ISBLANK(B13),0, IF(B13=0,17,RANK(B13,$B$6:$B$44,0))) -> 0 | F13: =RANK(E13,$E$6:$E$49,1) -> 1
A14: 9 | E14: =IF( ISBLANK(B14),0, IF(B14=0,17,RANK(B14,$B$6:$B$44,0))) -> 0 | F14: =RANK(E14,$E$6:$E$49,1) -> 1
A15: 10 | E15: =IF( ISBLANK(B15),0, IF(B15=0,17,RANK(B15,$B$6:$B$44,0))) -> 0 | F15: =RANK(E15,$E$6:$E$49,1) -> 1
A16: 11 | E16: =IF( ISBLANK(B16),0, IF(B16=0,17,RANK(B16,$B$6:$B$44,0))) -> 0 | F16: =RANK(E16,$E$6:$E$49,1) -> 1
A17: 12 | E17: =IF( ISBLANK(B17),0, IF(B17=0,17,RANK(B17,$B$6:$B$44,0))) -> 0 | F17: =RANK(E17,$E$6:$E$49,1) -> 1
A18: 13 | E18: =IF( ISBLANK(B18),0, IF(B18=0,17,RANK(B18,$B$6:$B$44,0))) -> 0 | F18: =RANK(E18,$E$6:$E$49,1) -> 1
... A21: 16 | E21: =IF( ISBLANK(B21),0, IF(B21=0,17,RANK(B21,$B$6:$B$44,0))) -> 0 | F21: =RANK(E21,$E$6:$E$49,1) -> 1

Sheet CLASSEMENT GENERAL
A1: CLASSEMENT GENERAL
A4: NOM | B4: POIDS | E4: POINTS | F4: CLASSEMENT | H4: POIDS TOTAL DES PECHEURS
A5: 1 | B5: =SUM('1'!B6+'2'!B6+'3'!B6+'4'!B6+'5'!B6+'6'!B6) -> 0 | E5: =SUM('1'!E6+'2'!E6+'3'!E6+'4'!E6+'5'!E6+'6'!E6) -> 0 | F5: =RANK(E5,$E$5:$E$48,1) -> 1 | H5: =SUM('1'!H6:M6+'2'!H6:M6+'3'!H6:M6+'4'!H6:M6+'5'!H6:M6+'6'!H6:M6) -> 0
A6: 2 | B6: =SUM('1'!B7+'2'!B7+'3'!B7+'4'!B7+'5'!B7+'6'!B7) -> 0 | E6: =SUM('1'!E7+'2'!E7+'3'!E7+'4'!E7+'5'!E7+'6'!E7) -> 0 | F6: =RANK(E6,$E$5:$E$48,1) -> 1
A7: 3 | B7: =SUM('1'!B8+'2'!B8+'3'!B8+'4'!B8+'5'!B8+'6'!B8) -> 0 | E7: =SUM('1'!E8+'2'!E8+'3'!E8+'4'!E8+'5'!E8+'6'!E8) -> 0 | F7: =RANK(E7,$E$5:$E$48,1) -> 1
A8: 4 | B8: =SUM('1'!B9+'2'!B9+'3'!B9+'4'!B9+'5'!B9+'6'!B9) -> 0 | E8: =SUM('1'!E9+'2'!E9+'3'!E9+'4'!E9+'5'!E9+'6'!E9) -> 0 | F8: =RANK(E8,$E$5:$E$48,1) -> 1
A9: 5 | B9: =SUM('1'!B10+'2'!B10+'3'!B10+'4'!B10+'5'!B10+'6'!B10) -> 0 | E9: =SUM('1'!E10+'2'!E10+'3'!E10+'4'!E10+'5'!E10+'6'!E10) -> 0 | F9: =RANK(E9,$E$5:$E$48,1) -> 1
A10: 6 | B10: =SUM('1'!B11+'2'!B11+'3'!B11+'4'!B11+'5'!B11+'6'!B11) -> 0 | E10: =SUM('1'!E11+'2'!E11+'3'!E11+'4'!E11+'5'!E11+'6'!E11) -> 0 | F10: =RANK(E10,$E$5:$E$48,1) -> 1
A11: 7 | B11: =SUM('1'!B12+'2'!B12+'3'!B12+'4'!B12+'5'!B12+'6'!B12) -> 0 | E11: =SUM('1'!E12+'2'!E12+'3'!E12+'4'!E12+'5'!E12+'6'!E12) -> 0 | F11: =RANK(E11,$E$5:$E$48,1) -> 1
A12: 8 | B12: =SUM('1'!B13+'2'!B13+'3'!B13+'4'!B13+'5'!B13+'6'!B13) -> 0 | E12: =SUM('1'!E13+'2'!E13+'3'!E13+'4'!E13+'5'!E13+'6'!E13) -> 0 | F12: =RANK(E12,$E$5:$E$48,1) -> 1
A13: 9 | B13: =SUM('1'!B14+'2'!B14+'3'!B14+'4'!B14+'5'!B14+'6'!B14) -> 0 | E13: =SUM('1'!E14+'2'!E14+'3'!E14+'4'!E14+'5'!E14+'6'!E14) -> 0 | F13: =RANK(E13,$E$5:$E$48,1) -> 1
A14: 10 | B14: =SUM('1'!B15+'2'!B15+'3'!B15+'4'!B15+'5'!B15+'6'!B15) -> 0 | E14: =SUM('1'!E15+'2'!E15+'3'!E15+'4'!E15+'5'!E15+'6'!E15) -> 0 | F14: =RANK(E14,$E$5:$E$48,1) -> 1
A15: 11 | B15: =SUM('1'!B16+'2'!B16+'3'!B16+'4'!B16+'5'!B16+'6'!B16) -> 0 | E15: =SUM('1'!E16+'2'!E16+'3'!E16+'4'!E16+'5'!E16+'6'!E16) -> 0 | F15: =RANK(E15,$E$5:$E$48,1) -> 1
A16: 12 | B16: =SUM('1'!B17+'2'!B17+'3'!B17+'4'!B17+'5'!B17+'6'!B17) -> 0 | E16: =SUM('1'!E17+'2'!E17+'3'!E17+'4'!E17+'5'!E17+'6'!E17) -> 0 | F16: =RANK(E16,$E$5:$E$48,1) -> 1
A17: 13 | B17: =SUM('1'!B18+'2'!B18+'3'!B18+'4'!B18+'5'!B18+'6'!B18) -> 0 | E17: =SUM('1'!E18+'2'!E18+'3'!E18+'4'!E18+'5'!E18+'6'!E18) -> 0 | F17: =RANK(E17,$E$5:$E$48,1) -> 1
... A20: 16 | B20: =SUM('1'!B21+'2'!B21+'3'!B21+'4'!B21+'5'!B21+'6'!B21) -> 0 | E20: =SUM('1'!E21+'2'!E21+'3'!E21+'4'!E21+'5'!E21+'6'!E21) -> 0 | F20: =RANK(E20,$E$5:$E$48,1) -> 1

Sheet EXPLICATION
A1: Pour remettre à 0 la colonne poids il suffit d'appuyer sur la touche supprimer les nombres dans la colonne poids uniquement de feuille 1 à 6
A2: ATTENTION DE SURTOUT PAS TOUCHER CLASSEMENT GENERALE
A3: IMPORTANT RENTRER LES NOMS DES PECHEURS TOUJOURS DANS LE MEME ORDRE SINON CELA NE FONCTIONNE PAS
A5: POUR AJOUR UN PECHEUR OU EN SUPPRIMER UN
A7: classement
A9: MODIFIe E6=si(b6=0;16) | C9: pour 15 pecheurs
A13: MODIFIe E6=si(b6=0;15) | C13: pour 14 pecheurs
A15: MODIFIe e6= si(b6=0;17) | C15: pour 16 pecheurs
A19: Le classement se fait au fur à mesure des concours
A22: En cas absence du pecheur alors poids =0 ou capot
