Workbook
Name TablaAmadeu: Folha3!$A$2:$N$37
Name TablaEmpresas: Folha3!$A$2:$N$37
Name TablaTicker: Folha3!$A$2:$N$37
Name Ticker: Tabla!$A$1:$N$35

Sheet Folha3
A2: Nombre | B2: Ticker | C2: NIF | D2: Domicilio | E2: Cap. Social Admitido | F2: Último Pago | I2: Último Split | K2: Cierre | L2: Anterior | M2: Dif (%) | N2: Fecha
F3: Tipo | G3: Fecha | H3: Importe | I3: Fecha | J3: Proporción
A4: Abengoa | B4: ABG | C4: A41002288 | D4: CL SUNP-GU (PALMAS ALTAS) 1 C.P. 41012 SEVILLA | E4: 22617420 | F4: Dividendo | G4: 40365 | H4: 0.19 | I4: 37098 | J4: 4 x 1 | K4: 22.39 | L4: 22.395 | M4: -0.02 | N4: 40620
A5: Abertis Infraestructuras, S.A. | B5: ABE | C5: A08209769 | D5: AV PARC LOGISTIC 12 C.P. 08040 BARCELONA | E5: 2217113349 | F5: Dividendo | G5: 40472 | H5: 0.3 | I5: 37650 | J5: 5 x 1 | K5: 14.36 | L5: 14.21 | M5: 1.06 | N5: 40620
A6: Acciona, S.A. | B6: ANA | C6: ES0125220311 | D6: CL AVENIDA DE EUROPA 18 C.P. 28943 ALCOBENDAS (MADRID) | E6: 63550000 | F6: Dividendo | G6: 40564 | H6: 1.07 | I6: 36129 | J6: 6 x 1 | K6: 74.14 | L6: 74.07 | M6: 0.09 | N6: 40620
A7: Acerinox, S.A. | B7: ACX | C7: ES0132105018 | D7: CL SANTIAGO DE COMPOSTELA 100 C.P. 28035 MADRID | E7: 62326136 | F7: Dividendo | G7: 40548 | H7: 0.1 | I7: 38194 | J7: 4 x 1 | K7: 13.63 | L7: 13.655 | M7: -0.18 | N7: 40620
A8: ACS, Actividades de Const. Y Servicios, S.A | B8: ACS | C8: ES0167050915 | D8: AV PIO XII 102 C.P. 28036 MADRID | E8: 157332297 | F8: Dividendo | G8: 40582 | H8: 0.9 | I8: 38148 | J8: 3 x 1 | K8: 31.29 | L8: 31.125 | M8: 0.53 | N8: 40620
A9: AMADEUS IT HOLDING | B9: AMS | C9: A84236934 | D9: CL SALVADOR MADARIAGA 1 C.P. 28027 MADRID | E9: 447581.95 | F9: Dividendo | G9: 40564 | H9: 0.09 | I9: 39427 | J9: 5 x 1 | K9: 13.5 | L9: 13.79 | M9: -2.1 | N9: 40633
A10: Arcelormittal, S.A. | B10: MTS | C10: LU0323134006 | D10: AVENUE DE LA LIBERTÉ 19 C.P. 32930 LUXEMBURGO (GRAN DUCADO LUXEM. | E10: 765501037 | F10: Dividendo | G10: 40592 | H10: 0.1175 | I10: 39134 | J10: 4 x 1 | K10: 24.51 | L10: 24.46 | M10: 0.2 | N10: 40620
A11: Banco Popular Español. S.A. | B11: POP | C11: ES0113790531 | D11: CL VELAZQUEZ 34 C.P. 28001 MADRID | E11: 1.3752846e+08 | F11: Dividendo | G11: 40555 | H11: 0.05 | I11: 38524 | J11: 5 x 1 | K11: 4.24 | L11: 4.244 | M11: -0.09 | N11: 40620
A12: Banco de Sabadell, S.A. | B12: SAB | C12: ES0113860A34 | D12: PLAZA CATALUNYA 1 C.P. 08206 SABADELL (BARCELONA) | E12: 1.7374924e+08 | F12: Dividendo | G12: 40532 | H12: 0.09 | I12: 39209 | J12: 4 x 1 | K12: 3.111 | L12: 3.118 | M12: -0.22 | N12: 40620
A13: Banco Santander, S.A. | B13: SAN | C13: ES0113900J37 | D13: PO PEREDA 9 C.P. 39004 SANTANDER | E13: 4220137502 | F13: Dividendo | G13: 40560 | H13: 0.117 | I13: 36325 | J13: 2 x 1 | K13: 8.295 | L13: 8.292 | M13: 0.04 | N13: 40620
A14: Bankinter, S.A. | B14: BKT | C14: ES0113679I37 | D14: PO CASTELLANA 29 C.P. 28046 MADRID | E14: 1.4203432e+08 | F14: Dividendo | G14: 40544 | H14: 0.0483 | I14: 39286 | J14: 5 x 1 | K14: 4.84 | L14: 4.812 | M14: 0.58 | N14: 40620
A15: Banco Bilbao Vizcaya Argentaria, S.A. | B15: BBVA | C15: ES0113211835 | D15: PL SAN NICOLAS 4 C.P. 48000 BILBAO | E15: 2.2005451e+09 | F15: Dividendo | G15: 40553 | H15: 0.09 | I15: 35989 | J15: 3 x 1 | K15: 8.58 | L15: 8.665 | M15: -0.98 | N15: 40620
... A21: FERROVIAL | B21: FER | C21: A81939209 | D21: CL PRINCIPE DE VERGARA 135 C.P. 28002 MADRID | E21: 146702051 | F21: Dividendo | G21: 40500 | H21: 0.12 | I21: 38837 | J21: 4 x 1 | K21: 8.634 | L21: 8.845 | M21: 0.85 | N21: 40620
A22: FOMENTO CONSTR.Y CONTRATAS(FCC) | B22: FCC | C22: A28037224 | D22: CL BALMES 36 C.P. 08007 BARCELONA | E22: 127303296 | F22: Dividendo | G22: 40547 | H22: 0.715 | I22: 36433 | J22: 2 x 1 | K22: 21.875 | L22: 22.93 | M22: +1,18 | N22: 40620
A23: GAMESA CORPORACION TECNOLOGICA | B23: GAM | C23: A01011253 | D23: CL RAMON Y CAJAL 7 C.P. 01007 VITORIA-GASTEIZ | E23: 41770669 | F23: Dividendo | G23: 40361 | H23: 0.116 | I23: 38145 | J23: 3 x 1 | K23: 6.897 | L23: 6.922 | M23: +0,89 | N23: 40620
A24: GAS NATURAL SDG | B24: GAS | C24: A08015497 | D24: PLAÇA DEL GAS 1 C.P. 08003 BARCELONA | E24: 921756951 | F24: Dividendo | G24: 40550 | H24: 0.352 | I24: 36353 | J24: 3 x 1 | K24: 12.25 | L24: 12.71 | M24: +0,91 | N24: 40620
A25: GESTEVISION TELECINCO | B25: TL5 | C25: A79075438 | D25: CR DE IRUN, KM.11,700 S/N C.P. 28015 MADRID | E25: 203430713 | F25: Dividendo | G25: 40247 | H25: 0.1993 | I25: 38837 | J25: 5 x 1 | K25: 8.525 | L25: 8.463 | M25: +1,58 | N25: 40620
A26: GRIFOLS | B26: GRF | C26: A58389123 | D26: CL JESUS Y MARIA 6 C.P. 08022 BARCELONA | E26: 1.0653245e+08 | F26: Dividendo | G26: 40360 | H26: 0.1279 | I26: 36353 | J26: 3 x 1 | K26: 11.8 | L26: 12.32 | M26: +0,34 | N26: 40620
A27: IBERDROLA | B27: IBE | C27: A48010615 | D27: CL GARDOQUI 8 C.P. 48008 BILBAO | E27: 4112882250 | F27: Dividendo | G27: 40515 | H27: 0.146 | I27: 39363 | J27: 4 x 1 | K27: 5.826 | L27: 6.105 | M27: -1,12 | N27: 40620
A28: IBERDROLA RENOVABLES | B28: IBR | C28: A83028035 | D28: CL MENORCA 19 C.P. 46023 VALENCIA | E28: 2112032450 | F28: Dividendo | G28: 40374 | H28: 0.025 | I28: 38837 | J28: 2 x 1 | K28: 3.006 | L28: 3.025 | M28: +0,07 | N28: 40620
A29: IND. DE DISEÑO TEXTIL (INDITEX) | B29: ITX | C29: A15075062 | D29: AV DIPUTACION (EDIFICIO INDITEX) S/N ARTEIXO. A CORUÑA | E29: 93499560 | F29: Dividendo | G29: 40484 | H29: 0.5 | I29: 35769 | J29: 6 x 1 | K29: 52.65 | L29: 56.78 | M29: +2,07 | N29: 40620
A30: INDRA, SERIE A | B30: IDR | C30: A28599033 | D30: AV DE BRUSELAS(ARROYO DE LA VEGA) 35 C.P. 28108 ALCOBENDAS (MADRID) | E30: 32826508 | F30: Dividendo | G30: 40364 | H30: 0.66 | I30: 36801 | J30: 2 x 1 | K30: 13.44 | L30: 14.205 | M30: 0.94 | N30: 40620
A31: MAPFRE, S.A. | B31: MAP | C31: A00000001 | D31: CR POZUELO S/N MAJADAHONDA | E31: 3.0121544e+08 | F31: Dividendo | G31: 40513 | H31: 0.07 | I31: 39018 | J31: 5 x 1 | K31: 2.515 | L31: 2.712 | M31: -1,76 | N31: 40620
A32: OBRASCON HUARTE LAIN | B32: OHL | C32: A48010573 | D32: PO DE LA CASTELLANA 259 C.P. 28046 MADRID | E32: 59844565 | F32: Dividendo | G32: 40330 | H32: 0.4306 | I32: 35769 | J32: 5 x 1 | K32: 23.94 | L32: 25.305 | M32: +1,89 | N32: 40620
A33: RED ELECTRICA CORPORACION | B33: REE | C33: A78003662 | D33: PO CONDE DE LOS GAITANES 177 C.P. 28109 ALCOBENDAS-MADRID TLF: 597.18.52 | E33: 270540000 | F33: Dividendo | G33: 40546 | H33: 0.5882 | I33: 36269 | J33: 2 x 1 | K33: 38.28 | L33: 39.99 | M33: +2,57 | N33: 40620
A34: REPSOL YPF | B34: REP | C34: A78374725 | D34: PO CASTELLANA 278 C.P. 28046 MADRID | E34: 1220863463 | F34: Dividendo | G34: 40556 | H34: 0.525 | I34: 36269 | J34: 3 x 1 | K34: 23.2 | L34: 24.3 | M34: +0,50 | N34: 40620
A35: SACYR VALLEHERMOSO | B35: SYV | C35: A28013811 | D35: PO DE LA CASTELLANA 85 C.P. 28046 MADRID | E35: 410169086 | F35: Dividendo | G35: 39752 | H35: 0.15 | I35: 35996 | J35: 3 x 1 | K35: 8.047 | L35: 8.22 | M35: +3,78 | N35: 40620
A36: TECNICAS REUNIDAS | B36: TRE | C36: A28092583 | D36: CL ARAPILES 13 C.P. 28015 MADRID | E36: 5589600 | F36: Dividendo | G36: 40562 | H36: 0.66 | I36: 36367 | J36: 3 x 1 | K36: 40.795 | L36: 42.35 | M36: +0,79 | N36: 40620
A37: TELEFONICA | B37: TEF | C37: A28015865 | D37: CL GRAN VIA 28 C.P. 28013 MADRID | E37: 4563996485 | F37: Dividendo | G37: 40490 | H37: 0.65 | I37: 36367 | J37: 3 x 1 | K37: 17.3 | L37: 17.79 | M37: -0.43 | N37: 40620

Sheet Hoja1
A4: Fecha | B4: Abengoa | C4: Abertis Infraestructuras, S.A. | D4: Acciona, S.A. | E4: Acerinox, S.A. | F4: ACS, Actividades de Const. Y Servicios, S.A | G4: Arcelormittal, S.A. | H4: Banco Popular Español. S.A. | I4: Banco de Sabadell, S.A. | J4: Banco Santander, S.A. | K4: Bankinter, S.A. | L4: Banco Bilbao Vizcaya Argentaria, S.A. | M4: Bolsas Y Mercados Españoles, S.A. | N4: Criteria Caixacorp, S.A. | O4: Ebro Foods, S.A. | P4: Enagas, S.A. | Q4: Endesa, S.A. | R4: FOMENTO CONSTR.Y CONTRATAS(FCC) | S4: FERROVIAL | T4: GAMESA CORPORACION TECNOLOGICA | U4: GAS NATURAL SDG | V4: GRIFOLS | W4: IBERDROLA RENOVABLES | X4: IBERDROLA | Y4: IND. DE DISEÑO TEXTIL (INDITEX) | Z4: INDRA, SERIE A | AA4: MAPFRE, S.A. | AB4: OBRASCON HUARTE LAIN | AC4: RED ELECTRICA CORPORACION | AD4: REPSOL YPF | AE4: SACYR VALLEHERMOSO | AF4: TECNICAS REUNIDAS | AG4: GESTEVISION TELECINCO | AH4: TELEFONICA | AI4: IBEX35
A5: 39815 | B5: 11.98 | C5: 12.88 | D5: 91.95 | E5: 11.85 | F5: 33.66 | G5: 18.67 | H5: 6.45 | I5: 4.99 | J5: 7 | K5: 6.49 | L5: 9.03 | M5: 19.35 | N5: 2.95 | O5: 9.94 | P5: 15.71 | Q5: 29.1 | R5: 23.67 | S5: 5.41 | T5: 13.91 | U5: 19.98 | V5: 12.64 | W5: 3.25 | X5: 6.59 | Y5: 33.44 | Z5: 16.41 | AA5: 2.48 | AB5: 10.34 | AC5: 35.95 | AD5: 15.86 | AE5: 6.71 | AF5: 19.7 | AG5: 7.84 | AH5: 16.29
A6: 39818 | B6: 12.37 | C6: 13.07 | D6: 92.85 | E6: 12.17 | F6: 35.72 | G6: 18.72 | H6: 6.48 | I6: 5.07 | J6: 7.15 | K6: 6.46 | L6: 9.2 | M6: 19.79 | N6: 2.96 | O6: 9.99 | P6: 15.56 | Q6: 29.61 | R6: 25.15 | S6: 5.68 | T6: 15.01 | U6: 20.94 | V6: 12.21 | W6: 3.27 | X6: 6.76 | Y6: 32.97 | Z6: 16.51 | AA6: 2.48 | AB6: 10.48 | AC6: 35.83 | AD6: 16.03 | AE6: 7.2 | AF6: 20.6 | AG6: 8.25 | AH6: 16.42
A7: 39819 | B7: 12.8 | C7: 13.12 | D7: 96.1 | E7: 12.76 | F7: 36.24 | G7: 21.32 | H7: 6.62 | I7: 5.12 | J7: 7.24 | K7: 6.74 | L7: 9.28 | M7: 20.4 | N7: 2.95 | O7: 10.1 | P7: 15.77 | Q7: 28.96 | R7: 25.2 | S7: 5.65 | T7: 14.93 | U7: 21.52 | V7: 13 | W7: 3.24 | X7: 6.72 | Y7: 34.25 | Z7: 16.45 | AA7: 2.65 | AB7: 10.71 | AC7: 35.85 | AD7: 16.22 | AE7: 7.3 | AF7: 20.96 | AG7: 8.31 | AH7: 16.37
A8: 39820 | B8: 12.69 | C8: 13.21 | D8: 96.3 | E8: 12.29 | F8: 35.99 | G8: 20.77 | H8: 6.47 | I8: 5.12 | J8: 7.15 | K8: 6.67 | L8: 9.02 | M8: 20.52 | N8: 2.92 | O8: 10.04 | P8: 15.71 | Q8: 29.31 | R8: 25.08 | S8: 5.56 | T8: 14.49 | U8: 21.98 | V8: 12.91 | W8: 3.09 | X8: 6.52 | Y8: 32.66 | Z8: 16.88 | AA8: 2.62 | AB8: 10.6 | AC8: 36 | AD8: 15.83 | AE8: 7.51 | AF8: 20.54 | AG8: 8 | AH8: 16.14
A9: 39821 | B9: 13.13 | C9: 13.1 | D9: 94.15 | E9: 12.34 | F9: 35.04 | G9: 20.53 | H9: 6.47 | I9: 5.18 | J9: 7 | K9: 6.56 | L9: 8.84 | M9: 20.81 | N9: 2.89 | O9: 10.17 | P9: 15.65 | Q9: 29.43 | R9: 24.19 | S9: 5.43 | T9: 14.21 | U9: 20.99 | V9: 13.06 | W9: 3.17 | X9: 6.46 | Y9: 30.85 | Z9: 16.48 | AA9: 2.6 | AB9: 10.5 | AC9: 36.21 | AD9: 16.1 | AE9: 7.32 | AF9: 20.5 | AG9: 8.04 | AH9: 16.08
A10: 39822 | B10: 13 | C10: 12.84 | D10: 93.7 | E10: 12.03 | F10: 34.8 | G10: 20.22 | H10: 6.38 | I10: 5.13 | J10: 6.94 | K10: 6.5 | L10: 8.74 | M10: 20.54 | N10: 2.86 | O10: 10.07 | P10: 15.54 | Q10: 29.67 | R10: 22.96 | S10: 5.17 | T10: 14.45 | U10: 21.33 | V10: 13.19 | W10: 3.13 | X10: 6.26 | Y10: 30.3 | Z10: 16.28 | AA10: 2.54 | AB10: 10.59 | AC10: 35.96 | AD10: 16.15 | AE10: 7.37 | AF10: 20.35 | AG10: 8.05 | AH10: 16
A11: 39825 | B11: 12.76 | C11: 12.45 | D11: 88.9 | E11: 11.92 | F11: 34.05 | G11: 19.45 | H11: 6.1 | I11: 5.08 | J11: 6.84 | K11: 6.43 | L11: 8.36 | M11: 20.71 | N11: 2.84 | O11: 9.96 | P11: 15.25 | Q11: 28.45 | R11: 22.41 | S11: 4.91 | T11: 14.13 | U11: 20.88 | V11: 13.12 | W11: 3.03 | X11: 6.17 | Y11: 29.9 | Z11: 15.84 | AA11: 2.55 | AB11: 10.55 | AC11: 35.19 | AD11: 15.63 | AE11: 7 | AF11: 20.2 | AG11: 7.86 | AH11: 15.85
A12: 39826 | B12: 13.09 | C12: 12.88 | D12: 88.75 | E12: 11.75 | F12: 33.24 | G12: 18.92 | H12: 5.91 | I12: 4.91 | J12: 6.61 | K12: 6.24 | L12: 8.03 | M12: 19.91 | N12: 2.76 | O12: 9.95 | P12: 15.05 | Q12: 27.85 | R12: 22.02 | S12: 4.81 | T12: 13.88 | U12: 20.7 | V12: 13.6 | W12: 3.04 | X12: 6.21 | Y12: 29.8 | Z12: 16.17 | AA12: 2.49 | AB12: 10.23 | AC12: 35.49 | AD12: 15.6 | AE12: 6.78 | AF12: 19.91 | AG12: 7.87 | AH12: 15.61
A13: 39827 | B13: 12.27 | C13: 12.57 | D13: 83.55 | E13: 11.51 | F13: 32.2 | G13: 17.5 | H13: 5.68 | I13: 4.7 | J13: 6.1 | K13: 5.99 | L13: 7.54 | M13: 19.78 | N13: 2.72 | O13: 9.99 | P13: 14.96 | Q13: 26.28 | R13: 21.09 | S13: 4.64 | T13: 12.89 | U13: 20.15 | V13: 14.11 | W13: 2.93 | X13: 5.94 | Y13: 29.11 | Z13: 15.86 | AA13: 2.45 | AB13: 9.62 | AC13: 35.06 | AD13: 15.4 | AE13: 6.73 | AF13: 19.01 | AG13: 7.69 | AH13: 15.09
A14: 39828 | B14: 12.34 | C14: 12.54 | D14: 81.7 | E14: 11.11 | F14: 32.71 | G14: 17.17 | H14: 5.55 | I14: 4.61 | J14: 6.08 | K14: 6.27 | L14: 7.52 | M14: 19.34 | N14: 2.75 | O14: 10.12 | P14: 14.86 | Q14: 26.88 | R14: 21.5 | S14: 4.59 | T14: 12.58 | U14: 20.46 | V14: 14.05 | W14: 3.03 | X14: 5.92 | Y14: 27.93 | Z14: 15.86 | AA14: 2.47 | AB14: 9.39 | AC14: 35.6 | AD14: 14.32 | AE14: 6.72 | AF14: 19.1 | AG14: 7.67 | AH14: 14.91
A15: 39829 | B15: 12.89 | C15: 12.49 | D15: 85.45 | E15: 11.1 | F15: 32.37 | G15: 17.83 | H15: 5.48 | I15: 4.62 | J15: 6.11 | K15: 6.41 | L15: 7.32 | M15: 19.67 | N15: 2.75 | O15: 10.11 | P15: 15.08 | Q15: 25.45 | R15: 21.25 | S15: 4.48 | T15: 13.03 | U15: 20.56 | V15: 13.91 | W15: 3.13 | X15: 5.93 | Y15: 29.03 | Z15: 16.01 | AA15: 2.45 | AB15: 9.48 | AC15: 35 | AD15: 14.26 | AE15: 6.46 | AF15: 19.42 | AG15: 7.8 | AH15: 15
A16: 39832 | B16: 12.77 | C16: 12.41 | D16: 84.75 | E16: 11.14 | F16: 32.98 | G16: 17.04 | H16: 5.24 | I16: 4.37 | J16: 5.81 | K16: 6.12 | L16: 7.06 | M16: 19.7 | N16: 2.68 | O16: 10.25 | P16: 14.68 | Q16: 25.35 | R16: 21.33 | S16: 4.4 | T16: 13.1 | U16: 20.53 | V16: 14.07 | W16: 3.07 | X16: 5.97 | Y16: 28.68 | Z16: 15.99 | AA16: 2.2 | AB16: 9.45 | AC16: 35.18 | AD16: 14.19 | AE16: 6.37 | AF16: 19.86 | AG16: 7.83 | AH16: 15.03
... A257: 40176 | B257: 22.7 | C257: 15.7 | D257: 92.25 | E257: 14.39 | F257: 34.99 | G257: 32.56 | H257: 5.19 | I257: 3.91 | J257: 11.65 | K257: 7.32 | L257: 12.805 | M257: 22.55 | N257: 3.315 | O257: 14.5 | P257: 15.525 | Q257: 23.85 | R257: 29.69 | S257: 8.225 | T257: 11.775 | U257: 15.12 | V257: 12.24 | W257: 3.33 | X257: 6.83 | Y257: 43.39 | Z257: 16.43 | AA257: 2.954 | AB257: 18.965 | AC257: 38.96 | AD257: 18.74 | AE257: 8.05 | AF257: 40.09 | AG257: 10.07 | AH257: 19.725
A258: 40177 | B258: 22.6 | C258: 15.72 | D258: 91.1 | E258: 14.53 | F258: 34.81 | G258: 32.4 | H258: 5.13 | I258: 3.875 | J258: 11.55 | K258: 7.15 | L258: 12.73 | M258: 22.5 | N258: 3.295 | O258: 14.53 | P258: 15.425 | Q258: 23.945 | R258: 29.45 | T258: 11.785 | U258: 15.085 | V258: 12.205 | W258: 3.32 | X258: 6.67 | Y258: 43.39 | Z258: 16.46 | AA258: 2.927 | AB258: 18.89 | AC258: 38.82 | AD258: 18.725 | AE258: 8 | AF258: 40.13 | AG258: 10.17 | AH258: 19.52

Sheet Folha1
A1: Ticker | B1: ABG | C1: ABE | D1: ANA | E1: ACX | F1: ACS | G1: MTS | H1: POP | I1: SAB | J1: SAN | K1: BKT | L1: BBVA | M1: BME | N1: CRI | O1: EBRO | P1: ENG | Q1: ELE | R1: FER | S1: FCC | T1: GAM | U1: GAS | V1: TL5 | W1: GRF | X1: IBE | Y1: IBR | Z1: ITX | AA1: IDR | AB1: MAP | AC1: OHL | AD1: REE | AE1: REP | AF1: SYV | AG1: TRE | AH1: TEF
A2: Promedio | B2: =AVERAGE(Hoja1!B218:B258) -> 20.330244 | C2: =AVERAGE(Hoja1!C218:C258) -> 15.277683 | D2: =AVERAGE(Hoja1!D218:D258) -> 88.268293 | E2: =AVERAGE(Hoja1!E218:E258) -> 13.991707 | F2: =AVERAGE(Hoja1!F218:F258) -> 33.66439 | G2: =AVERAGE(Hoja1!G218:G258) -> 27.023659 | H2: =AVERAGE(Hoja1!H218:H258) -> 5.6967073 | I2: =AVERAGE(Hoja1!I218:I258) -> 4.2517073 | ... AH2: =AVERAGE(Hoja1!AH218:AH258) -> 19.367195
A3: Valor Cierre | B3: =Hoja1!B258 -> 22.6 | C3: =Hoja1!C258 -> 15.72 | D3: =Hoja1!D258 -> 91.1 | E3: =Hoja1!E258 -> 14.53 | F3: =Hoja1!F258 -> 34.81 | G3: =Hoja1!G258 -> 32.4 | H3: =Hoja1!H258 -> 5.13 | I3: =Hoja1!I258 -> 3.875 | ... AH3: =Hoja1!AH258 -> 19.52
A4: Diferencia 1er dia | B4: =(Hoja1!B258-Hoja1!B5)/Hoja1!B5 -> 0.88647746 | C4: =(Hoja1!C258-Hoja1!C5)/Hoja1!C5 -> 0.22049689 | D4: =(Hoja1!D258-Hoja1!D5)/Hoja1!D5 -> -0.0092441544 | E4: =(Hoja1!E258-Hoja1!E5)/Hoja1!E5 -> 0.22616034 | F4: =(Hoja1!F258-Hoja1!F5)/Hoja1!F5 -> 0.034165181 | G4: =(Hoja1!G258-Hoja1!G5)/Hoja1!G5 -> 0.73540439 | H4: =(Hoja1!H258-Hoja1!H5)/Hoja1!H5 -> -0.20465116 | I4: =(Hoja1!I258-Hoja1!I5)/Hoja1!I5 -> -0.22344689 | ... AH4: =(Hoja1!AH258-Hoja1!AH5)/Hoja1!AH5 -> 0.19828115
A5: Variación | B5: =(B3-B2)/B2 -> 0.11164431 | C5: =(C3-C2)/C2 -> 0.028951843 | D5: =(D3-D2)/D2 -> 0.032080685 | E5: =(E3-E2)/E2 -> 0.038472266 | F5: =(F3-F2)/F2 -> 0.034030314 | G5: =(G3-G2)/G2 -> 0.19894943 | H5: =(H3-H2)/H2 -> -0.099479802 | I5: =(I3-I2)/I2 -> -0.088601423 | ... AH5: =(AH3-AH2)/AH2 -> 0.0078898817
A6: Recomendación | B6: =IF(B5<=-5%,"Poco Recomendado",IF(AND(B5>=2%,B5<=5%),"Interesante",IF(AND(B5>5%,B4>=2%),"Recomendado","Neutro"))) -> Recomendado | C6: =IF(C5<=-5%,"Poco Recomendado",IF(AND(C5>=2%,C5<=5%),"Interesante",IF(AND(C5>5%,C4>=2%),"Recomendado","Neutro"))) -> Interesante | D6: =IF(D5<=-5%,"Poco Recomendado",IF(AND(D5>=2%,D5<=5%),"Interesante",IF(AND(D5>5%,D4>=2%),"Recomendado","Neutro"))) -> Interesante | E6: =IF(E5<=-5%,"Poco Recomendado",IF(AND(E5>=2%,E5<=5%),"Interesante",IF(AND(E5>5%,E4>=2%),"Recomendado","Neutro"))) -> Interesante | F6: =IF(F5<=-5%,"Poco Recomendado",IF(AND(F5>=2%,F5<=5%),"Interesante",IF(AND(F5>5%,F4>=2%),"Recomendado","Neutro"))) -> Interesante | G6: =IF(G5<=-5%,"Poco Recomendado",IF(AND(G5>=2%,G5<=5%),"Interesante",IF(AND(G5>5%,G4>=2%),"Recomendado","Neutro"))) -> Recomendado | H6: =IF(H5<=-5%,"Poco Recomendado",IF(AND(H5>=2%,H5<=5%),"Interesante",IF(AND(H5>5%,H4>=2%),"Recomendado","Neutro"))) -> Poco Recomendado | I6: =IF(I5<=-5%,"Poco Recomendado",IF(AND(I5>=2%,I5<=5%),"Interesante",IF(AND(I5>5%,I4>=2%),"Recomendado","Neutro"))) -> Poco Recomendado | ... AH6: =IF(AH5<=-5%,"Poco Recomendado",IF(AND(AH5>=2%,AH5<=5%),"Interesante",IF(AND(AH5>5%,AH4>=2%),"Recomendado","Neutro"))) -> Neutro

Sheet IBEX35
A1: Fecha | B1: Cerrar
A2: 30 de dic de 2009 | B2: 11940
A3: 29 de dic de 2009 | B3: 12035.1
A4: 28 de dic de 2009 | B4: 12023.2
A5: 23 de dic de 2009 | B5: 11967.5
A6: 22 de dic de 2009 | B6: 11890.8
A7: 21 de dic de 2009 | B7: 11830.8
A8: 18 de dic de 2009 | B8: 11645
A9: 17 de dic de 2009 | B9: 11696.9
A10: 16 de dic de 2009 | B10: 11863.2
A11: 15 de dic de 2009 | B11: 11735.5
A12: 14 de dic de 2009 | B12: 11705.9
A13: 11 de dic de 2009 | B13: 11616
... A255: 2 de ene de 2009 | B255: 9486.3

Sheet Folha2
A2: Ticker | C2: TRE
A3: Nombre | C3: =VLOOKUP(C2,TablaTicker,1) -> TELEFONICA
A4: NIF | C4: =VLOOKUP(C2,TablaTicker,3) -> A28015865
A5: Domicilio | C5: =VLOOKUP(C2,TablaTicker,4) -> CL GRAN VIA 28 C.P. 28013 MADRID
A6: Cap. Social Admitido | C6: =VLOOKUP(C2,TablaTicker,5) -> 4563996485
A7: Último Pago | B7: Tipo | C7: =VLOOKUP(C2,TablaTicker,6) -> Dividendo
B8: Fecha | C8: =VLOOKUP(C2,TablaTicker,7) -> 40490
B9: Importe | C9: =VLOOKUP(C2,TablaTicker,8) -> 0.65
A10: Último Split | B10: Fecha | C10: =VLOOKUP(C2,TablaTicker,9) -> 36367
B11: Proporción | C11: =VLOOKUP(C2,TablaTicker,10) -> 3 x 1
A12: Cierre | C12: =VLOOKUP(C2,TablaTicker,11) -> 17.3
A13: Anterior | C13: =VLOOKUP(C2,TablaTicker,12) -> 17.79
A14: Dif (%) | C14: =VLOOKUP(C2,TablaTicker,13) -> -0.43
A15: Fecha | C15: =VLOOKUP(C2,TablaTicker,14) -> 40620

Sheet Tabla
A1: Ticker | B1: Nombre | C1: NIF | D1: Domicilio | E1: Cap. Social Admitido | F1: Último Pago | I1: Último Split | K1: Cierre | L1: Anterior | M1: Dif (%) | N1: Fecha
F2: Tipo | G2: Fecha | H2: Importe | I2: Fecha | J2: Proporción
A3: ABG | B3: Abengoa | C3: A41002288 | D3: CL SUNP-GU (PALMAS ALTAS) 1 C.P. 41012 SEVILLA | E3: 22617420 | F3: Dividendo | G3: 40365 | H3: 0.19 | I3: 37098 | J3: 4 x 1 | K3: 22.39 | L3: 22.395 | M3: -0.02 | N3: 40620
A4: ABE | B4: Abertis Infraestructuras, S.A. | C4: A08209769 | D4: AV PARC LOGISTIC 12 C.P. 08040 BARCELONA | E4: 2217113349 | F4: Dividendo | G4: 40472 | H4: 0.3 | I4: 37650 | J4: 5 x 1 | K4: 14.36 | L4: 14.21 | M4: 1.06 | N4: 40620
A5: ANA | B5: Acciona, S.A. | C5: ES0125220311 | D5: CL AVENIDA DE EUROPA 18 C.P. 28943 ALCOBENDAS (MADRID) | E5: 63550000 | F5: Dividendo | G5: 40564 | H5: 1.07 | I5: 36129 | J5: 6 x 1 | K5: 74.14 | L5: 74.07 | M5: 0.09 | N5: 40620
A6: ACX | B6: Acerinox, S.A. | C6: ES0132105018 | D6: CL SANTIAGO DE COMPOSTELA 100 C.P. 28035 MADRID | E6: 62326136 | F6: Dividendo | G6: 40548 | H6: 0.1 | I6: 38194 | J6: 4 x 1 | K6: 13.63 | L6: 13.655 | M6: -0.18 | N6: 40620
A7: ACS | B7: ACS, Actividades de Const. Y Servicios, S.A | C7: ES0167050915 | D7: AV PIO XII 102 C.P. 28036 MADRID | E7: 157332297 | F7: Dividendo | G7: 40582 | H7: 0.9 | I7: 38148 | J7: 3 x 1 | K7: 31.29 | L7: 31.125 | M7: 0.53 | N7: 40620
A8: MTS | B8: Arcelormittal, S.A. | C8: LU0323134006 | D8: AVENUE DE LA LIBERTÉ 19 C.P. 32930 LUXEMBURGO (GRAN DUCADO LUXEM. | E8: 765501037 | F8: Dividendo | G8: 40592 | H8: 0.1175 | I8: 39134 | J8: 4 x 1 | K8: 24.51 | L8: 24.46 | M8: 0.2 | N8: 40620
A9: POP | B9: Banco Popular Español. S.A. | C9: ES0113790531 | D9: CL VELAZQUEZ 34 C.P. 28001 MADRID | E9: 1.3752846e+08 | F9: Dividendo | G9: 40555 | H9: 0.05 | I9: 38524 | J9: 5 x 1 | K9: 4.24 | L9: 4.244 | M9: -0.09 | N9: 40620
A10: SAB | B10: Banco de Sabadell, S.A. | C10: ES0113860A34 | D10: PLAZA CATALUNYA 1 C.P. 08206 SABADELL (BARCELONA) | E10: 1.7374924e+08 | F10: Dividendo | G10: 40532 | H10: 0.09 | I10: 39209 | J10: 4 x 1 | K10: 3.111 | L10: 3.118 | M10: -0.22 | N10: 40620
A11: SAN | B11: Banco Santander, S.A. | C11: ES0113900J37 | D11: PO PEREDA 9 C.P. 39004 SANTANDER | E11: 4220137502 | F11: Dividendo | G11: 40560 | H11: 0.117 | I11: 36325 | J11: 2 x 1 | K11: 8.295 | L11: 8.292 | M11: 0.04 | N11: 40620
A12: BKT | B12: Bankinter, S.A. | C12: ES0113679I37 | D12: PO CASTELLANA 29 C.P. 28046 MADRID | E12: 1.4203432e+08 | F12: Dividendo | G12: 40544 | H12: 0.0483 | I12: 39286 | J12: 5 x 1 | K12: 4.84 | L12: 4.812 | M12: 0.58 | N12: 40620
A13: BBVA | B13: Banco Bilbao Vizcaya Argentaria, S.A. | C13: ES0113211835 | D13: PL SAN NICOLAS 4 C.P. 48000 BILBAO | E13: 2.2005451e+09 | F13: Dividendo | G13: 40553 | H13: 0.09 | I13: 35989 | J13: 3 x 1 | K13: 8.58 | L13: 8.665 | M13: -0.98 | N13: 40620
A14: BME | B14: Bolsas Y Mercados Españoles, S.A. | C14: ES0115056139 | D14: PL DE LA LEALTAD 1 C.P. 28014 MADRID | E14: 2.7007825e+08 | F14: Dividendo | G14: 40534 | H14: 0.6 | I14: 36601 | J14: 4 x 1 | K14: 21.585 | L14: 21.45 | M14: 0.63 | N14: 40620
... A19: FER | B19: FERROVIAL | C19: A81939209 | D19: CL PRINCIPE DE VERGARA 135 C.P. 28002 MADRID | E19: 146702051 | F19: Dividendo | G19: 40500 | H19: 0.12 | I19: 38837 | J19: 4 x 1 | K19: 8.634 | L19: 8.845 | M19: 0.85 | N19: 40620
A20: FCC | B20: FOMENTO CONSTR.Y CONTRATAS(FCC) | C20: A28037224 | D20: CL BALMES 36 C.P. 08007 BARCELONA | E20: 127303296 | F20: Dividendo | G20: 40547 | H20: 0.715 | I20: 36433 | J20: 2 x 1 | K20: 21.875 | L20: 22.93 | M20: +1,18 | N20: 40620
A21: GAM | B21: GAMESA CORPORACION TECNOLOGICA | C21: A01011253 | D21: CL RAMON Y CAJAL 7 C.P. 01007 VITORIA-GASTEIZ | E21: 41770669 | F21: Dividendo | G21: 40361 | H21: 0.116 | I21: 38145 | J21: 3 x 1 | K21: 6.897 | L21: 6.922 | M21: +0,89 | N21: 40620
A22: GAS | B22: GAS NATURAL SDG | C22: A08015497 | D22: PLAÇA DEL GAS 1 C.P. 08003 BARCELONA | E22: 921756951 | F22: Dividendo | G22: 40550 | H22: 0.352 | I22: 36353 | J22: 3 x 1 | K22: 12.25 | L22: 12.71 | M22: +0,91 | N22: 40620
A23: TL5 | B23: GESTEVISION TELECINCO | C23: A79075438 | D23: CR DE IRUN, KM.11,700 S/N C.P. 28015 MADRID | E23: 203430713 | F23: Dividendo | G23: 40247 | H23: 0.1993 | I23: 38837 | J23: 5 x 1 | K23: 8.525 | L23: 8.463 | M23: +1,58 | N23: 40620
A24: GRF | B24: GRIFOLS | C24: A58389123 | D24: CL JESUS Y MARIA 6 C.P. 08022 BARCELONA | E24: 1.0653245e+08 | F24: Dividendo | G24: 40360 | H24: 0.1279 | I24: 36353 | J24: 3 x 1 | K24: 11.8 | L24: 12.32 | M24: +0,34 | N24: 40620
A25: IBE | B25: IBERDROLA | C25: A48010615 | D25: CL GARDOQUI 8 C.P. 48008 BILBAO | E25: 4112882250 | F25: Dividendo | G25: 40515 | H25: 0.146 | I25: 39363 | J25: 4 x 1 | K25: 5.826 | L25: 6.105 | M25: -1,12 | N25: 40620
A26: IBR | B26: IBERDROLA RENOVABLES | C26: A83028035 | D26: CL MENORCA 19 C.P. 46023 VALENCIA | E26: 2112032450 | F26: Dividendo | G26: 40374 | H26: 0.025 | I26: 38837 | J26: 2 x 1 | K26: 3.006 | L26: 3.025 | M26: +0,07 | N26: 40620
A27: ITX | B27: IND. DE DISEÑO TEXTIL (INDITEX) | C27: A15075062 | D27: AV DIPUTACION (EDIFICIO INDITEX) S/N ARTEIXO. A CORUÑA | E27: 93499560 | F27: Dividendo | G27: 40484 | H27: 0.5 | I27: 35769 | J27: 6 x 1 | K27: 52.65 | L27: 56.78 | M27: +2,07 | N27: 40620
A28: IDR | B28: INDRA, SERIE A | C28: A28599033 | D28: AV DE BRUSELAS(ARROYO DE LA VEGA) 35 C.P. 28108 ALCOBENDAS (MADRID) | E28: 32826508 | F28: Dividendo | G28: 40364 | H28: 0.66 | I28: 36801 | J28: 2 x 1 | K28: 13.44 | L28: 14.205 | M28: 0.94 | N28: 40620
A29: MAP | B29: MAPFRE, S.A. | C29: A00000001 | D29: CR POZUELO S/N MAJADAHONDA | E29: 3.0121544e+08 | F29: Dividendo | G29: 40513 | H29: 0.07 | I29: 39018 | J29: 5 x 1 | K29: 2.515 | L29: 2.712 | M29: -1,76 | N29: 40620
A30: OHL | B30: OBRASCON HUARTE LAIN | C30: A48010573 | D30: PO DE LA CASTELLANA 259 C.P. 28046 MADRID | E30: 59844565 | F30: Dividendo | G30: 40330 | H30: 0.4306 | I30: 35769 | J30: 5 x 1 | K30: 23.94 | L30: 25.305 | M30: +1,89 | N30: 40620
A31: REE | B31: RED ELECTRICA CORPORACION | C31: A78003662 | D31: PO CONDE DE LOS GAITANES 177 C.P. 28109 ALCOBENDAS-MADRID TLF: 597.18.52 | E31: 270540000 | F31: Dividendo | G31: 40546 | H31: 0.5882 | I31: 36269 | J31: 2 x 1 | K31: 38.28 | L31: 39.99 | M31: +2,57 | N31: 40620
A32: REP | B32: REPSOL YPF | C32: A78374725 | D32: PO CASTELLANA 278 C.P. 28046 MADRID | E32: 1220863463 | F32: Dividendo | G32: 40556 | H32: 0.525 | I32: 36269 | J32: 3 x 1 | K32: 23.2 | L32: 24.3 | M32: +0,50 | N32: 40620
A33: SYV | B33: SACYR VALLEHERMOSO | C33: A28013811 | D33: PO DE LA CASTELLANA 85 C.P. 28046 MADRID | E33: 410169086 | F33: Dividendo | G33: 39752 | H33: 0.15 | I33: 35996 | J33: 3 x 1 | K33: 8.047 | L33: 8.22 | M33: +3,78 | N33: 40620
A34: TRE | B34: TECNICAS REUNIDAS | C34: A28092583 | D34: CL ARAPILES 13 C.P. 28015 MADRID | E34: 5589600 | F34: Dividendo | G34: 40562 | H34: 0.66 | I34: 36367 | J34: 3 x 1 | K34: 40.795 | L34: 42.35 | M34: +0,79 | N34: 40620
A35: TEF | B35: TELEFONICA | C35: A28015865 | D35: CL GRAN VIA 28 C.P. 28013 MADRID | E35: 4563996485 | F35: Dividendo | G35: 40490 | H35: 0.65 | I35: 36367 | J35: 3 x 1 | K35: 17.3 | L35: 17.79 | M35: -0.43 | N35: 40620
