Workbook

Sheet 4 Saisons
A1: VAL D'AMOUR | B1: B | C1: N | D1: QUATRE SAISONS | E1: B | F1: N | G1: MONT ST JEAN | H1: B | I1: N | J1: VAL DE SORNE | K1: B | L1: N | M1: SAINT-CLAUDE | N1: B | O1: N | P1: LE ROCHAT | Q1: B | R1: N
A3: BELMOURI, Daniel | B3: 12 | C3: 33 | D3: BERNARD, Michel | E3: 26 | F3: 37 | G3: BENTZ, Christophe | H3: 21 | I3: 23 | J3: BAILLY, Marie Christine | K3: 5 | L3: 19 | M3: BARBAT, Philippe | N3: 27 | O3: 34 | P3: CHARTON, Jean Paul | Q3: 21 | R3: 32
A4: BERLY, Denis | B4: 13 | C4: 23 | D4: BOMBRUN, Sylvie | E4: 15 | F4: 37 | G4: DUMONT-FILLON, Philippe | H4: 12 | I4: 24 | J4: BAILLY, Pierre | K4: 24 | L4: 28 | M4: BRESSAN, Lilian | N4: 19 | O4: 27 | P4: RENAUD, Elisabeth | Q4: 5 | R4: 18
A5: CHARLUT, Christophe | B5: 4 | C5: 23 | D5: CAMINATI, Brigitte | E5: 6 | F5: 22 | G5: FAIVRE, Christian | H5: 23 | I5: 28 | J5: BERTHET, Marc | K5: 27 | L5: 29 | M5: MURER, Michel | N5: 12 | O5: 30 | Q5: 0 | R5: 0
A6: DEPRAZ, Paul | B6: 14 | C6: 38 | D6: DESSERTENNE, Jean Luc | E6: 13 | F6: 20 | G6: FOURMOND, Jean-FranÃ§ois | H6: 19 | I6: 25 | J6: BEZIN, Jean Louis | K6: 17 | L6: 26 | N6: 0 | O6: 0 | Q6: 0 | R6: 0
A7: LACOUR, Alain | B7: 16 | C7: 31 | D7: D'ORAZIO, Luigi | E7: 23 | F7: 31 | G7: FRIEDEN, Pierre-Alain | H7: 18 | I7: 27 | J7: BUVOT, Lionel | K7: 15 | L7: 24 | N7: 0 | O7: 0 | Q7: 0 | R7: 0
A8: LEBLANC, Jean-Luc | B8: 17 | C8: 33 | D8: LAGOS, Michel | E8: 25 | F8: 34 | G8: GRENIER, Yves | H8: 12 | I8: 22 | J8: CAIRE, Roland | K8: 23 | L8: 28 | N8: 0 | O8: 0 | Q8: 0 | R8: 0
A9: LEBLANC, Nelly | B9: 6 | C9: 20 | D9: LING, Bruno | E9: 22 | F9: 29 | G9: LACROIX, Jean-Pierre | H9: 8 | I9: 28 | J9: CERRI, Georges | K9: 3 | L9: 19 | N9: 0 | O9: 0 | Q9: 0 | R9: 0
A10: LECOMTE, Daniel | B10: 14 | C10: 28 | D10: MEDIGUE, Jean-Michel | E10: 24 | F10: 28 | G10: LACROIX, Michel | H10: 7 | I10: 23 | J10: CHATOUILLOT, Francois Xavier | K10: 17 | L10: 22 | N10: 0 | O10: 0 | Q10: 0 | R10: 0
A11: LIZON AU CIRE, Didier | B11: 15 | C11: 30 | D11: MOUGIN, Bernard | E11: 13 | F11: 35 | G11: MESNIER-PIERROUTET, Didier | H11: 16 | I11: 31 | J11: FEREDIE, Jean Bernard | K11: 18 | L11: 28 | N11: 0 | O11: 0 | Q11: 0 | R11: 0
A12: LORENTZ, Albert | B12: 13 | C12: 31 | D12: OLIVAIN, Robert | E12: 20 | F12: 33 | G12: MICHAUD, Philippe | H12: 26 | I12: 30 | J12: FUSIER, Christophe | K12: 20 | L12: 31
A13: LOUVRIER, Jean FranÃ§ois | B13: 11 | C13: 29 | D13: PAGE, Pierre-Emmanuel | E13: 25 | F13: 35 | G13: RIEFOLO, Michele | H13: 11 | I13: 22 | J13: FUSIER, Jean Luc | K13: 12 | L13: 18
A14: PARIS, Bruno | B14: 19 | C14: 29 | D14: PERRIN, Jacques | E14: 6 | F14: 23 | G14: ROYDOR, Patrice | H14: 13 | I14: 24 | J14: KIEHN, Francois | K14: 9 | L14: 24
A15: PIFFAUT, Francois | B15: 12 | C15: 26 | D15: ROUSSET, Christophe | E15: 10 | F15: 23 | J15: MOUGET, Olivier | K15: 18 | L15: 42
A16: RINGUE, Gerard | B16: 15 | C16: 27 | D16: SANTI, Bruno | E16: 6 | F16: 21 | J16: MOURIER, Bernard | K16: 22 | L16: 31
D17: STACKLER, Bruno | E17: 4 | F17: 13 | J17: MOUZON, Christophe | K17: 7 | L17: 24
D18: STACKLER, Soraya | E18: 6 | F18: 20 | J18: NICOLAS, Eric | K18: 30 | L18: 29
D19: VEYLAND, Alain | E19: 6 | F19: 18 | J19: NOEL, Jean-Marc | K19: 15 | L19: 24
J20: PERRIER, RenÃ© | K20: 13 | L20: 22
J21: ROHART, Bruno | K21: 7 | L21: 26
J22: SALVI, Gilberto | K22: 19 | L22: 33
J23: VALOGNES, Philippe | K23: 9 | L23: 29
J24: VANNET, Stephanie | K24: 29 | L24: 34
J25: VUILLAUME, Patrick | K25: 13 | L25: 27
A41: TOTAUX | B41: =LARGE(B3:B40,1)+LARGE(B3:B40,2)+LARGE(B3:B40,3)+LARGE(B3:B40,4)+LARGE(B3:B40,5)+LARGE(B3:B40,6) -> 96 | C41: =LARGE(C3:C40,1)+LARGE(C3:C40,2)+LARGE(C3:C40,3)+LARGE(C3:C40,4)+LARGE(C3:C40,5)+LARGE(C3:C40,6) -> 196 | E41: =LARGE(E3:E40,1)+LARGE(E3:E40,2)+LARGE(E3:E40,3)+LARGE(E3:E40,4)+LARGE(E3:E40,5)+LARGE(E3:E40,6) -> 145 | F41: =LARGE(F3:F40,1)+LARGE(F3:F40,2)+LARGE(F3:F40,3)+LARGE(F3:F40,4)+LARGE(F3:F40,5)+LARGE(F3:F40,6) -> 211 | H41: =LARGE(H3:H40,1)+LARGE(H3:H40,2)+LARGE(H3:H40,3)+LARGE(H3:H40,4)+LARGE(H3:H40,5)+LARGE(H3:H40,6) -> 123 | I41: =LARGE(I3:I40,1)+LARGE(I3:I40,2)+LARGE(I3:I40,3)+LARGE(I3:I40,4)+LARGE(I3:I40,5)+LARGE(I3:I40,6) -> 169 | K41: =LARGE(K3:K40,1)+LARGE(K3:K40,2)+LARGE(K3:K40,3)+LARGE(K3:K40,4)+LARGE(K3:K40,5)+LARGE(K3:K40,6) -> 155 | L41: =LARGE(L3:L40,1)+LARGE(L3:L40,2)+LARGE(L3:L40,3)+LARGE(L3:L40,4)+LARGE(L3:L40,5)+LARGE(L3:L40,6) -> 200 | N41: =LARGE(N3:N40,1)+LARGE(N3:N40,2)+LARGE(N3:N40,3)+LARGE(N3:N40,4)+LARGE(N3:N40,5)+LARGE(N3:N40,6) -> 58 | O41: =LARGE(O3:O40,1)+LARGE(O3:O40,2)+LARGE(O3:O40,3)+LARGE(O3:O40,4)+LARGE(O3:O40,5)+LARGE(O3:O40,6) -> 91 | Q41: =LARGE(Q3:Q40,1)+LARGE(Q3:Q40,2)+LARGE(Q3:Q40,3)+LARGE(Q3:Q40,4)+LARGE(Q3:Q40,5)+LARGE(Q3:Q40,6) -> 26 | R41: =LARGE(R3:R40,1)+LARGE(R3:R40,2)+LARGE(R3:R40,3)+LARGE(R3:R40,4)+LARGE(R3:R40,5)+LARGE(R3:R40,6) -> 50
D43: CUMULS
A45: VAL DE SORNE | B45: =K41+L41 -> 355 | D45: VAL DE SORNE | E45: =B45 -> 355
A46: VAL D'AMOUR | B46: =B41+C41 -> 292 | D46: VAL D'AMOUR | E46: =B46 -> 292
A47: QUATRE SAISONS | B47: =E41+F41 -> 356 | D47: QUATRE SAISONS | E47: =B47 -> 356
A48: ROCHAT | B48: =Q41+R41 -> 76 | D48: ROCHAT | E48: =B48 -> 76
A49: ST CLAUDE | B49: =N41+O41 -> 149 | D49: ST CLAUDE | E49: =B49 -> 149
A50: MONT ST JEAN | B50: =H41+I41 -> 292 | D50: MONT ST JEAN | E50: =B50 -> 292

Sheet Val de Sorne
A1: VAL D'AMOUR | B1: B | C1: N | D1: QUATRE SAISONS | E1: B | F1: N | G1: MONT ST JEAN | H1: B | I1: N | J1: VAL DE SORNE | K1: B | L1: N | M1: SAINT-CLAUDE | N1: B | O1: N | P1: LE ROCHAT | Q1: B | R1: N
A3: APFFEL, FranÃ§oise | B3: 15 | C3: 35 | D3: BERNARD, Michel | E3: 17 | F3: 32 | G3: BAERTSCH, Max | H3: 14 | I3: 37 | J3: BAILLY, Marie Christine | K3: 10 | L3: 33 | M3: COUDOR, Daniel | N3: 10 | O3: 34 | P3: AEBERHARD, Eric | Q3: 11 | R3: 31
A4: BAILLY, Jean Luc | B4: 9 | C4: 24 | D4: DESSERTENNE, Jean Luc | E4: 12 | F4: 26 | G4: DUMONT-FILLON, Philippe | H4: 7 | I4: 24 | J4: BAILLY, Pierre | K4: 22 | L4: 31 | M4: NETO, Joaquim | N4: 8 | O4: 36 | P4: BAILLY-SALINS, Maurice | Q4: 9 | R4: 30
A5: BERLY, Denis | B5: 13 | C5: 26 | D5: D'ORAZIO, Luigi | E5: 23 | F5: 40 | G5: FOURMOND, Catherine | H5: 6 | I5: 26 | J5: BUVOT, Lionel | K5: 19 | L5: 35 | M5: PARISI, Jean | N5: 24 | O5: 37 | P5: HESS, Raymond | Q5: 3 | R5: 24
A6: BRUNET, Patrick | B6: 2 | C6: 28 | D6: MEDIGUE, Jean-Michel | E6: 28 | F6: 36 | G6: FOURMOND, Jean-FranÃ§ois | H6: 13 | I6: 24 | J6: CAIRE, Roland | K6: 20 | L6: 31 | N6: 0 | O6: 0 | P6: LECOULTRE, Michel | Q6: 10 | R6: 31
A7: CARRION, Marie-ThÃ©rÃ¨se | B7: 7 | C7: 34 | D7: MOUGIN, Bernard | E7: 2 | F7: 33 | G7: FRIEDEN, Pierre-Alain | H7: 19 | I7: 32 | J7: CERRI, Georges | K7: 2 | L7: 20 | N7: 0 | O7: 0 | P7: PIGUET, RenÃ© | Q7: 3 | R7: 23
A8: COMTE, Joel | B8: 5 | C8: 29 | D8: OLIVAIN, Robert | E8: 12 | F8: 32 | G8: GUITON, Thomas | H8: 11 | I8: 35 | J8: CHATOUILLOT, Francois Xavier | K8: 9 | L8: 16 | N8: 0 | O8: 0 | Q8: 0 | R8: 0
A9: DELILLE, Alain | B9: 9 | C9: 32 | D9: PERRIN, Jacques | E9: 2 | F9: 20 | G9: LACROIX, Jean-Pierre | H9: 2 | I9: 24 | J9: DORGNIER, Jean-Louis | K9: 6 | L9: 30 | N9: 0 | O9: 0 | Q9: 0 | R9: 0
A10: DEPRAZ, Paul | B10: 5 | C10: 29 | E10: 0 | F10: 0 | G10: MESNIER-PIERROUTET, Didier | H10: 10 | I10: 30 | J10: GAUBEY, Michel | K10: 17 | L10: 33 | N10: 0 | O10: 0 | Q10: 0 | R10: 0
A11: FAWER, Philippe | B11: 18 | C11: 40 | E11: 0 | F11: 0 | G11: MICHAUD, Philippe | H11: 26 | I11: 34 | J11: GUYON, Claude | K11: 19 | L11: 33 | N11: 0 | O11: 0 | Q11: 0 | R11: 0
A12: GIROD, Jacques | B12: 4 | C12: 28 | G12: RIEFOLO, Michele | H12: 9 | I12: 28 | J12: HOLVECK, Alain | K12: 9 | L12: 23
A13: LEBLANC, Jean-Luc | B13: 17 | C13: 41 | J13: KIEHN, Francois | K13: 12 | L13: 37
A14: LECOMTE, Daniel | B14: 15 | C14: 38 | J14: MATHY, Christian | K14: 6 | L14: 27
A15: LIZON AU CIRE, Didier | B15: 4 | C15: 25 | J15: MELLET, Bernard | K15: 4 | L15: 13
A16: LORENTZ, Albert | B16: 9 | C16: 36 | J16: MOUGET, Olivier | K16: 10 | L16: 28
A17: LOUVRIER, Jean FranÃ§ois | B17: 4 | C17: 24 | J17: MOURIER, Bernard | K17: 17 | L17: 33
A18: LUGAND, Patrick | B18: 12 | C18: 26 | J18: MOUZON, Christophe | K18: 7 | L18: 39
A19: MOROT, Jean Luc | B19: 15 | C19: 32 | J19: NICOLAS, Eric | K19: 30 | L19: 33
A20: PAGNON, Pierre | B20: 12 | C20: 32 | J20: NOEL, Jean-Marc | K20: 8 | L20: 20
A21: PARIS, Bruno | B21: 14 | C21: 32 | J21: PAGE, Gael | K21: 13 | L21: 34
A22: PIFFAUT, Francois | B22: 13 | C22: 38 | J22: ROHART, Bruno | K22: 3 | L22: 23
A23: PIFFAUT, Martine | B23: 12 | C23: 33 | J23: TARTAVEZ, Daniel | K23: 14 | L23: 28
A24: REVEILLON, Remi | B24: 8 | C24: 27 | J24: TOLETTI, Fabrice | K24: 28 | L24: 39
... A26: VERRIER, Jean-Michel | B26: 29 | C26: 37 | J26: VEYLAND, Gerard | K26: 8 | L26: 28
J27: VIALAIT, AndrÃ© | K27: 15 | L27: 34
J28: ZAPELLONI, Jean-FranÃ§ois | K28: 18 | L28: 35
A41: TOTAUX | B41: =LARGE(B3:B40,1)+LARGE(B3:B40,2)+LARGE(B3:B40,3)+LARGE(B3:B40,4)+LARGE(B3:B40,5)+LARGE(B3:B40,6) -> 109 | C41: =LARGE(C3:C40,1)+LARGE(C3:C40,2)+LARGE(C3:C40,3)+LARGE(C3:C40,4)+LARGE(C3:C40,5)+LARGE(C3:C40,6) -> 230 | E41: =LARGE(E3:E40,1)+LARGE(E3:E40,2)+LARGE(E3:E40,3)+LARGE(E3:E40,4)+LARGE(E3:E40,5)+LARGE(E3:E40,6) -> 94 | F41: =LARGE(F3:F40,1)+LARGE(F3:F40,2)+LARGE(F3:F40,3)+LARGE(F3:F40,4)+LARGE(F3:F40,5)+LARGE(F3:F40,6) -> 199 | H41: =LARGE(H3:H40,1)+LARGE(H3:H40,2)+LARGE(H3:H40,3)+LARGE(H3:H40,4)+LARGE(H3:H40,5)+LARGE(H3:H40,6) -> 93 | I41: =LARGE(I3:I40,1)+LARGE(I3:I40,2)+LARGE(I3:I40,3)+LARGE(I3:I40,4)+LARGE(I3:I40,5)+LARGE(I3:I40,6) -> 196 | K41: =LARGE(K3:K40,1)+LARGE(K3:K40,2)+LARGE(K3:K40,3)+LARGE(K3:K40,4)+LARGE(K3:K40,5)+LARGE(K3:K40,6) -> 138 | L41: =LARGE(L3:L40,1)+LARGE(L3:L40,2)+LARGE(L3:L40,3)+LARGE(L3:L40,4)+LARGE(L3:L40,5)+LARGE(L3:L40,6) -> 219 | N41: =LARGE(N3:N40,1)+LARGE(N3:N40,2)+LARGE(N3:N40,3)+LARGE(N3:N40,4)+LARGE(N3:N40,5)+LARGE(N3:N40,6) -> 42 | O41: =LARGE(O3:O40,1)+LARGE(O3:O40,2)+LARGE(O3:O40,3)+LARGE(O3:O40,4)+LARGE(O3:O40,5)+LARGE(O3:O40,6) -> 107 | Q41: =LARGE(Q3:Q40,1)+LARGE(Q3:Q40,2)+LARGE(Q3:Q40,3)+LARGE(Q3:Q40,4)+LARGE(Q3:Q40,5)+LARGE(Q3:Q40,6) -> 36 | R41: =LARGE(R3:R40,1)+LARGE(R3:R40,2)+LARGE(R3:R40,3)+LARGE(R3:R40,4)+LARGE(R3:R40,5)+LARGE(R3:R40,6) -> 139
D43: CUMULS 2 TOURS
A45: VAL DE SORNE | B45: =K41+L41 -> 357 | D45: VAL DE SORNE | E45: =B45+'4 Saisons'!E45 -> 712
A46: VAL D'AMOUR | B46: =B41+C41 -> 339 | D46: VAL D'AMOUR | E46: =B46+'4 Saisons'!E46 -> 631
A47: QUATRE SAISONS | B47: =E41+F41 -> 293 | D47: QUATRE SAISONS | E47: =B47+'4 Saisons'!E47 -> 649
A48: ROCHAT | B48: =Q41+R41 -> 175 | D48: ROCHAT | E48: =B48+'4 Saisons'!E48 -> 251
A49: ST CLAUDE | B49: =N41+O41 -> 149 | D49: ST CLAUDE | E49: =B49+'4 Saisons'!E49 -> 298
A50: MONT ST JEAN | B50: =H41+I41 -> 289 | D50: MONT ST JEAN | E50: =B50+'4 Saisons'!E50 -> 581

Sheet ST Claude
A1: VAL D'AMOUR | B1: B | C1: N | D1: QUATRE SAISONS | E1: B | F1: N | G1: MONT ST JEAN | H1: B | I1: N | J1: VAL DE SORNE | K1: B | L1: N | M1: SAINT-CLAUDE | N1: B | O1: N | P1: LE ROCHAT | Q1: B | R1: N
A3: APFFEL, FranÃ§oise | B3: 8 | C3: 25 | D3: BERNARD, Michel | E3: 13 | F3: 26 | G3: BAERTSCH, Max | H3: 11 | I3: 29 | J3: BAILLY, Marie Christine | K3: 11 | L3: 29 | M3: HAMARD, Thierry | N3: 8 | O3: 18 | P3: AEBERHARD, Eric | Q3: 13 | R3: 30
A4: BERLY, Denis | B4: 12 | C4: 24 | D4: DESSERTENNE, Jean Luc | E4: 11 | F4: 22 | G4: CHEVALIER GIROD, HervÃ© | H4: 11 | I4: 29 | J4: BAILLY, Pierre | K4: 19 | L4: 27 | M4: MURER, Michel | N4: 7 | O4: 24 | P4: CHAMOT, Bertrand | Q4: 14 | R4: 30
A5: CHARLUT, Christophe | B5: 3 | C5: 16 | D5: MOUGIN, Bernard | E5: 5 | F5: 22 | G5: DUMONT-FILLON, Philippe | H5: 13 | I5: 29 | J5: BERTHET, Marc | K5: 28 | L5: 33 | M5: NETO, Joaquim | N5: 6 | O5: 22 | P5: GAYET, Christian | Q5: 14 | R5: 27
A6: CORTIULA, Julien | B6: 17 | C6: 32 | D6: OLIVAIN, Robert | E6: 17 | F6: 36 | G6: DUPERRET, Patrick | H6: 8 | I6: 29 | J6: BEZIN, Jean Louis | K6: 12 | L6: 24 | M6: PARISI, Jean | N6: 27 | O6: 37 | P6: GUILLEMIN, Richard | Q6: 5 | R6: 24
A7: DELILLE, Alain | B7: 8 | C7: 17 | D7: PERRIN, Jacques | E7: 5 | F7: 21 | G7: FOURMOND, Catherine | H7: 2 | I7: 20 | J7: BUVOT, Lionel | K7: 18 | L7: 29 | M7: PETETIN, John | N7: 3 | O7: 13 | P7: HESS, Raymond | Q7: 6 | R7: 22
A8: DEPRAZ, Paul | B8: 0 | C8: 16 | D8: STACKLER, Bruno | E8: 6 | F8: 18 | G8: FOURMOND, Jean-FranÃ§ois | H8: 18 | I8: 28 | J8: CAIRE, Roland | K8: 17 | L8: 26 | N8: 0 | O8: 0 | P8: LECOULTRE, Maryvonne | Q8: 6 | R8: 23
A9: FAWER, Philippe | B9: 12 | C9: 29 | E9: 0 | F9: 0 | G9: FRIEDEN, Pierre-Alain | H9: 19 | I9: 32 | J9: CHATOUILLOT, Francois Xavier | K9: 21 | L9: 30 | N9: 0 | O9: 0 | P9: LECOULTRE, Michel | Q9: 8 | R9: 24
A10: GUELDRY, Philippe | B10: 6 | C10: 24 | E10: 0 | F10: 0 | G10: GUITON, Thomas | H10: 10 | I10: 29 | J10: DRHOUIN, Annette | K10: 9 | L10: 24 | N10: 0 | O10: 0 | P10: LIZON AU CIRE, Catherine | Q10: 10 | R10: 34
A11: LEBLANC, Jean-Luc | B11: 16 | C11: 33 | E11: 0 | F11: 0 | G11: HOFMANN, Bernard | H11: 8 | I11: 23 | J11: DRHOUIN, Philippe | K11: 6 | L11: 20 | N11: 0 | O11: 0 | P11: NIVOU, Agnes | Q11: 12 | R11: 27
A12: LECOMTE, Daniel | B12: 13 | C12: 29 | G12: LACROIX, Michel | H12: 6 | I12: 25 | J12: FEREDIE, Jean Bernard | K12: 17 | L12: 29 | P12: PIGUET, RenÃ© | Q12: 6 | R12: 28
A13: LIZON AU CIRE, Didier | B13: 13 | C13: 30 | G13: MESNIER-PIERROUTET, Didier | H13: 15 | I13: 31 | J13: FUSIER, Christophe | K13: 12 | L13: 24 | P13: PUGET, Catherine | Q13: 5 | R13: 23
A14: LORENTZ, Albert | B14: 9 | C14: 25 | G14: MICHAUD, Philippe | H14: 24 | I14: 31 | J14: KIEHN, Francois | K14: 9 | L14: 29 | P14: STRUSS, Bernard | Q14: 11 | R14: 29
A15: LUGAND, Patrick | B15: 16 | C15: 27 | G15: RIEFOLO, Michele | H15: 6 | I15: 22 | J15: MELLET, Bernard | K15: 14 | L15: 25
A16: MOROT, Jean Luc | B16: 21 | C16: 37 | G16: SALVI, RÃ©mi | H16: 11 | I16: 27 | J16: MOISSONNIER, Jean-Luc | K16: 17 | L16: 27
A17: PARIS, Bruno | B17: 10 | C17: 25 | J17: MOUGET, Olivier | K17: 13 | L17: 30
A18: PIFFAUT, Francois | B18: 5 | C18: 21 | J18: MOURIER, Bernard | K18: 12 | L18: 25
A19: REVEILLON, Remi | B19: 13 | C19: 32 | J19: MOUZON, Christophe | K19: 5 | L19: 17
A20: RINGUE, Gerard | B20: 15 | C20: 30 | J20: NOEL, Jean-Marc | K20: 14 | L20: 26
A21: SAUNIE, Patricia | B21: 9 | C21: 26 | J21: PERRIER, RenÃ© | K21: 11 | L21: 20
A22: SAUNIE, Patrick | B22: 6 | C22: 23 | J22: ROHART, Bruno | K22: 4 | L22: 17
A23: VERRIER, Jean-Michel | B23: 26 | C23: 32 | J23: VALOGNES, Philippe | K23: 2 | L23: 11
A41: TOTAUX | B41: =LARGE(B3:B40,1)+LARGE(B3:B40,2)+LARGE(B3:B40,3)+LARGE(B3:B40,4)+LARGE(B3:B40,5)+LARGE(B3:B40,6) -> 111 | C41: =LARGE(C3:C40,1)+LARGE(C3:C40,2)+LARGE(C3:C40,3)+LARGE(C3:C40,4)+LARGE(C3:C40,5)+LARGE(C3:C40,6) -> 196 | E41: =LARGE(E3:E40,1)+LARGE(E3:E40,2)+LARGE(E3:E40,3)+LARGE(E3:E40,4)+LARGE(E3:E40,5)+LARGE(E3:E40,6) -> 57 | F41: =LARGE(F3:F40,1)+LARGE(F3:F40,2)+LARGE(F3:F40,3)+LARGE(F3:F40,4)+LARGE(F3:F40,5)+LARGE(F3:F40,6) -> 145 | H41: =LARGE(H3:H40,1)+LARGE(H3:H40,2)+LARGE(H3:H40,3)+LARGE(H3:H40,4)+LARGE(H3:H40,5)+LARGE(H3:H40,6) -> 100 | I41: =LARGE(I3:I40,1)+LARGE(I3:I40,2)+LARGE(I3:I40,3)+LARGE(I3:I40,4)+LARGE(I3:I40,5)+LARGE(I3:I40,6) -> 181 | K41: =LARGE(K3:K40,1)+LARGE(K3:K40,2)+LARGE(K3:K40,3)+LARGE(K3:K40,4)+LARGE(K3:K40,5)+LARGE(K3:K40,6) -> 120 | L41: =LARGE(L3:L40,1)+LARGE(L3:L40,2)+LARGE(L3:L40,3)+LARGE(L3:L40,4)+LARGE(L3:L40,5)+LARGE(L3:L40,6) -> 180 | N41: =LARGE(N3:N40,1)+LARGE(N3:N40,2)+LARGE(N3:N40,3)+LARGE(N3:N40,4)+LARGE(N3:N40,5)+LARGE(N3:N40,6) -> 51 | O41: =LARGE(O3:O40,1)+LARGE(O3:O40,2)+LARGE(O3:O40,3)+LARGE(O3:O40,4)+LARGE(O3:O40,5)+LARGE(O3:O40,6) -> 114 | Q41: =LARGE(Q3:Q40,1)+LARGE(Q3:Q40,2)+LARGE(Q3:Q40,3)+LARGE(Q3:Q40,4)+LARGE(Q3:Q40,5)+LARGE(Q3:Q40,6) -> 74 | R41: =LARGE(R3:R40,1)+LARGE(R3:R40,2)+LARGE(R3:R40,3)+LARGE(R3:R40,4)+LARGE(R3:R40,5)+LARGE(R3:R40,6) -> 178
D43: CUMULS 3 TOURS
A45: VAL DE SORNE | B45: =K41+L41 -> 300 | D45: VAL DE SORNE | E45: =B45+'Val de Sorne'!E45 -> 1012
A46: VAL D'AMOUR | B46: =B41+C41 -> 307 | D46: VAL D'AMOUR | E46: =B46+'Val de Sorne'!E46 -> 938
A47: QUATRE SAISONS | B47: =E41+F41 -> 202 | D47: QUATRE SAISONS | E47: =B47+'Val de Sorne'!E47 -> 851
A48: ROCHAT | B48: =Q41+R41 -> 252 | D48: ROCHAT | E48: =B48+'Val de Sorne'!E48 -> 503
A49: ST CLAUDE | B49: =N41+O41 -> 165 | D49: ST CLAUDE | E49: =B49+'Val de Sorne'!E49 -> 463
A50: MONT ST JEAN | B50: =H41+I41 -> 281 | D50: MONT ST JEAN | E50: =B50+'Val de Sorne'!E50 -> 862

Sheet saisie

Sheet Val d'Amour
A1: VAL D'AMOUR | B1: B | C1: N | D1: QUATRE SAISONS | E1: B | F1: N | G1: MONT ST JEAN | H1: B | I1: N | J1: VAL DE SORNE | K1: B | L1: N | M1: SAINT-CLAUDE | N1: B | O1: N | P1: LE ROCHAT | Q1: B | R1: N
A3: APFFEL, FranÃ§oise | B3: 8 | C3: 26 | D3: BERNARD, Michel | E3: 8 | F3: 21 | G3: BAERTSCH, Max | H3: 18 | I3: 39 | J3: BAILLY, Marie Christine | K3: 4 | L3: 21 | M3: MURER, Michel | N3: 5 | O3: 22 | P3: HESS, Raymond | Q3: 1 | R3: 14
A4: BANNELIER, Philippe | B4: 7 | C4: 23 | D4: D'ORAZIO, Luigi | E4: 13 | F4: 26 | G4: DUMONT-FILLON, Philippe | H4: 5 | I4: 22 | J4: BAILLY, Pierre | K4: 18 | L4: 29 | M4: NETO, Joaquim | N4: 6 | O4: 26 | P4: LECOULTRE, Michel | Q4: 7 | R4: 24
A5: BERLY, Denis | B5: 13 | C5: 25 | D5: LAGOS, Michel | E5: 15 | F5: 24 | G5: FOURMOND, Jean-FranÃ§ois | H5: 15 | I5: 24 | J5: BERTHET, Marc | K5: 26 | L5: 32 | M5: PARISI, Jean | N5: 15 | O5: 25 | P5: LIZON AU CIRE, Catherine | Q5: 9 | R5: 27
A6: BRUNET, Patrick | B6: 2 | C6: 23 | D6: LING, Bruno | E6: 23 | F6: 38 | G6: FRIEDEN, Pierre-Alain | H6: 12 | I6: 23 | J6: BUVOT, Lionel | K6: 15 | L6: 28 | N6: 0 | O6: 0 | P6: MERMET BOUVIER, Alain | Q6: 9 | R6: 25
A7: CARRION, Marie-ThÃ©rÃ¨se | B7: 3 | C7: 17 | D7: MOUGIN, Bernard | E7: 4 | F7: 23 | G7: LACROIX, Jean-Pierre | H7: 6 | I7: 26 | J7: CAIRE, Roland | K7: 15 | L7: 24 | N7: 0 | O7: 0 | P7: MEYLAN, Pierre AndrÃ© | Q7: 4 | R7: 22
A8: CHARLUT, Christophe | B8: 7 | C8: 32 | D8: OLIVAIN, Robert | E8: 10 | F8: 22 | G8: LACROIX, Michel | H8: 2 | I8: 18 | J8: CERRI, Georges | K8: 5 | L8: 25 | N8: 0 | O8: 0 | P8: PIGUET, RenÃ© | Q8: 6 | R8: 23
A9: COMTE, Joel | B9: 6 | C9: 26 | D9: PERRIN, Jacques | E9: 1 | F9: 12 | G9: MICHAUD, Philippe | H9: 14 | I9: 22 | J9: CESCHIA, Eric | K9: 4 | L9: 22 | N9: 0 | O9: 0 | Q9: 0 | R9: 0
A10: CORTIULA, Julien | B10: 18 | C10: 34 | E10: 0 | F10: 0 | G10: PAGNIER, Christian | H10: 9 | I10: 25 | J10: CHATOUILLOT, Francois Xavier | K10: 11 | L10: 21 | N10: 0 | O10: 0 | Q10: 0 | R10: 0
A11: FAWER, Philippe | B11: 16 | C11: 36 | E11: 0 | F11: 0 | G11: RIEFOLO, Michele | H11: 7 | I11: 22 | J11: DRHOUIN, Annette | K11: 4 | L11: 16 | N11: 0 | O11: 0 | Q11: 0 | R11: 0
A12: GIET, Jean-Francois | B12: 2 | C12: 24 | J12: DRHOUIN, Philippe | K12: 6 | L12: 26
A13: GIET, Sylvie | B13: 3 | C13: 14 | J13: FUSIER, Christophe | K13: 14 | L13: 29
A14: GIROD, Jacques | B14: 7 | C14: 29 | J14: GAUBEY, Michel | K14: 10 | L14: 20
A15: GUELDRY, Philippe | B15: 10 | C15: 35 | J15: KIEHN, Francois | K15: 10 | L15: 28
A16: JAYET, Thierry | B16: 15 | C16: 34 | J16: MELLET, Bernard | K16: 15 | L16: 29
A17: LACOUR, Alain | B17: 4 | C17: 19 | J17: MOISSONNIER, Jean-Luc | K17: 12 | L17: 22
A18: LEBLANC, Jean-Luc | B18: 11 | C18: 28 | J18: MOUGET, Olivier | K18: 8 | L18: 19
A19: LEBLANC, Nelly | B19: 6 | C19: 26 | J19: MOUZON, Christophe | K19: 3 | L19: 17
A20: LECOMTE, Daniel | B20: 9 | C20: 30 | J20: NICOLAS, Eric | K20: 35 | L20: 38
A21: LIZON AU CIRE, Didier | B21: 9 | C21: 25 | J21: NOEL, Jean-Marc | K21: 14 | L21: 30
A22: LORENTZ, Albert | B22: 11 | C22: 31 | J22: PERRIER, RenÃ© | K22: 23 | L22: 38
A23: MOROT, Jean Luc | B23: 18 | C23: 33 | J23: PETIOT, Christiane | K23: 4 | L23: 15
... A27: PINGON, Hubert | B27: 13 | C27: 32 | J27: ZAPELLONI, Jean-FranÃ§ois | K27: 17 | L27: 33
A28: PINGON, Martine | B28: 7 | C28: 32
A29: REVEILLON, Remi | B29: 11 | C29: 33
A30: RINGUE, Gerard | B30: 16 | C30: 32
A31: ROZE - CACHIA, Isabelle | B31: 10 | C31: 26
A32: SAUNIE, Patricia | B32: 13 | C32: 33
A33: SAUNIE, Patrick | B33: 5 | C33: 24
A34: TISSOT, Alain | B34: 2 | C34: 15
A35: VERNIER, Georges | B35: 3 | C35: 23
A36: VERRIER, Jean-Michel | B36: 32 | C36: 39
A41: TOTAUX | B41: =LARGE(B3:B40,1)+LARGE(B3:B40,2)+LARGE(B3:B40,3)+LARGE(B3:B40,4)+LARGE(B3:B40,5)+LARGE(B3:B40,6) -> 115 | C41: =LARGE(C3:C40,1)+LARGE(C3:C40,2)+LARGE(C3:C40,3)+LARGE(C3:C40,4)+LARGE(C3:C40,5)+LARGE(C3:C40,6) -> 211 | E41: =LARGE(E3:E40,1)+LARGE(E3:E40,2)+LARGE(E3:E40,3)+LARGE(E3:E40,4)+LARGE(E3:E40,5)+LARGE(E3:E40,6) -> 73 | F41: =LARGE(F3:F40,1)+LARGE(F3:F40,2)+LARGE(F3:F40,3)+LARGE(F3:F40,4)+LARGE(F3:F40,5)+LARGE(F3:F40,6) -> 154 | H41: =LARGE(H3:H40,1)+LARGE(H3:H40,2)+LARGE(H3:H40,3)+LARGE(H3:H40,4)+LARGE(H3:H40,5)+LARGE(H3:H40,6) -> 75 | I41: =LARGE(I3:I40,1)+LARGE(I3:I40,2)+LARGE(I3:I40,3)+LARGE(I3:I40,4)+LARGE(I3:I40,5)+LARGE(I3:I40,6) -> 159 | K41: =LARGE(K3:K40,1)+LARGE(K3:K40,2)+LARGE(K3:K40,3)+LARGE(K3:K40,4)+LARGE(K3:K40,5)+LARGE(K3:K40,6) -> 134 | L41: =LARGE(L3:L40,1)+LARGE(L3:L40,2)+LARGE(L3:L40,3)+LARGE(L3:L40,4)+LARGE(L3:L40,5)+LARGE(L3:L40,6) -> 200 | N41: =LARGE(N3:N40,1)+LARGE(N3:N40,2)+LARGE(N3:N40,3)+LARGE(N3:N40,4)+LARGE(N3:N40,5)+LARGE(N3:N40,6) -> 26 | O41: =LARGE(O3:O40,1)+LARGE(O3:O40,2)+LARGE(O3:O40,3)+LARGE(O3:O40,4)+LARGE(O3:O40,5)+LARGE(O3:O40,6) -> 73 | Q41: =LARGE(Q3:Q40,1)+LARGE(Q3:Q40,2)+LARGE(Q3:Q40,3)+LARGE(Q3:Q40,4)+LARGE(Q3:Q40,5)+LARGE(Q3:Q40,6) -> 36 | R41: =LARGE(R3:R40,1)+LARGE(R3:R40,2)+LARGE(R3:R40,3)+LARGE(R3:R40,4)+LARGE(R3:R40,5)+LARGE(R3:R40,6) -> 135
D43: CUMULS 4 TOURS
A45: VAL DE SORNE | B45: =K41+L41 -> 334 | D45: VAL DE SORNE | E45: =B45+'ST Claude'!E45 -> 1346
A46: VAL D'AMOUR | B46: =B41+C41 -> 326 | D46: VAL D'AMOUR | E46: =B46+'ST Claude'!E46 -> 1264
A47: QUATRE SAISONS | B47: =E41+F41 -> 227 | D47: QUATRE SAISONS | E47: =B47+'ST Claude'!E47 -> 1078
A48: ROCHAT | B48: =Q41+R41 -> 171 | D48: ROCHAT | E48: =B48+'ST Claude'!E48 -> 674
A49: ST CLAUDE | B49: =N41+O41 -> 99 | D49: ST CLAUDE | E49: =B49+'ST Claude'!E49 -> 562
A50: MONT ST JEAN | B50: =H41+I41 -> 234 | D50: MONT ST JEAN | E50: =B50+'ST Claude'!E50 -> 1096

Sheet Mont St Jean
A1: VAL D'AMOUR | B1: B | C1: N | D1: QUATRE SAISONS | E1: B | F1: N | G1: MONT ST JEAN | H1: B | I1: N | J1: VAL DE SORNE | K1: B | L1: N | M1: SAINT-CLAUDE | N1: B | O1: N | P1: LE ROCHAT | Q1: B | R1: N
A3: APFFEL, FranÃ§oise | B3: 8 | C3: 23 | D3: ANDRE, Olivier | E3: 4 | F3: 20 | G3: BAERTSCH, Max | H3: 12 | I3: 30 | J3: BAILLY, Marie Christine | K3: 3 | L3: 21 | M3: BARBAT, Philippe | N3: 14 | O3: 23 | P3: BAILLY-SALINS, Maurice | Q3: 8 | R3: 30
A4: BERLY, Denis | B4: 10 | C4: 23 | D4: BOMBRUN, Sylvie | E4: 6 | F4: 23 | G4: CHEVALIER GIROD, HervÃ© | H4: 16 | I4: 40 | J4: BAILLY, Pierre | K4: 21 | L4: 32 | M4: MURER, Michel | N4: 10 | O4: 28 | P4: CHAMOT, Bertrand | Q4: 13 | R4: 27
A5: CHARLUT, Christophe | B5: 3 | C5: 27 | D5: D'ORAZIO, Luigi | E5: 14 | F5: 27 | G5: DUMONT-FILLON, Philippe | H5: 13 | I5: 32 | J5: BERTHET, Marc | K5: 21 | L5: 27 | M5: NETO, Joaquim | N5: 5 | O5: 25 | P5: ELMER, Manfred | Q5: 5 | R5: 26
A6: COMTE, Joel | B6: 6 | C6: 25 | D6: FEROUL, Jean Louis | E6: 10 | F6: 26 | G6: DUPERRET, Patrick | H6: 8 | I6: 31 | J6: BEZIN, Jean Louis | K6: 11 | L6: 21 | N6: 0 | O6: 0 | P6: GAYET, Christian | Q6: 6 | R6: 21
A7: CORTIULA, Julien | B7: 13 | C7: 27 | D7: LING, Bruno | E7: 20 | F7: 33 | G7: FOURMOND, Catherine | H7: 6 | I7: 27 | J7: CAIRE, Roland | K7: 13 | L7: 20 | N7: 0 | O7: 0 | P7: GUILLEMIN, Richard | Q7: 2 | R7: 26
A8: FAWER, Philippe | B8: 7 | C8: 24 | D8: MOUGIN, Bernard | E8: 10 | F8: 34 | G8: FOURMOND, Jean-FranÃ§ois | H8: 17 | I8: 29 | J8: CERRI, Georges | K8: 9 | L8: 34 | N8: 0 | O8: 0 | P8: HESS, Raymond | Q8: 3 | R8: 18
A9: GUELDRY, Philippe | B9: 7 | C9: 25 | D9: OLIVAIN, Robert | E9: 10 | F9: 27 | G9: FRIEDEN, Pierre-Alain | H9: 23 | I9: 38 | J9: CHATOUILLOT, Francois Xavier | K9: 13 | L9: 23 | N9: 0 | O9: 0 | P9: LECOULTRE, Michel | Q9: 8 | R9: 28
A10: LEBLANC, Jean-Luc | B10: 12 | C10: 30 | D10: PAGAUD, Raphael | E10: 4 | F10: 25 | G10: GOBERT, Bernard | H10: 6 | I10: 28 | J10: DAVID, JoÃ«l | K10: 11 | L10: 26 | N10: 0 | O10: 0 | P10: LIZON AU CIRE, Catherine | Q10: 8 | R10: 25
A11: LECOMTE, Daniel | B11: 10 | C11: 26 | D11: PERRIN, Jacques | E11: 8 | F11: 27 | G11: GRENIER, Yves | H11: 13 | I11: 34 | J11: FEREDIE, Jean Bernard | K11: 14 | L11: 28 | N11: 0 | O11: 0 | P11: MEYLAN, Pierre AndrÃ© | Q11: 10 | R11: 32
A12: LOUVRIER, Jean FranÃ§ois | B12: 5 | C12: 25 | D12: ROUSSET, Christophe | E12: 7 | F12: 22 | G12: GUITON, Thomas | H12: 8 | I12: 28 | J12: FUSIER, Christophe | K12: 13 | L12: 26 | P12: PIGUET, RenÃ© | Q12: 7 | R12: 26
A13: LUGAND, Patrick | B13: 17 | C13: 29 | G13: HAMARD, Delphine | H13: 5 | I13: 31 | J13: GUYON, Claude | K13: 13 | L13: 22
A14: MARCHAND, Catherine | B14: 3 | C14: 16 | G14: HOFMANN, Bernard | H14: 5 | I14: 22 | J14: HOLVECK, Alain | K14: 7 | L14: 18
A15: PAGNON, Pierre | B15: 11 | C15: 30 | G15: LACROIX, Jean SÃ©bastien | H15: 29 | I15: 40 | J15: KIEHN, Francois | K15: 7 | L15: 28
A16: PARIS, Bruno | B16: 11 | C16: 29 | G16: LACROIX, Jean-Pierre | H16: 7 | I16: 34 | J16: MATHON, Patricia | K16: 7 | L16: 21
A17: PIFFAUT, Francois | B17: 16 | C17: 38 | G17: LACROIX, Michel | H17: 2 | I17: 21 | J17: MOISSONNIER, Jean-Luc | K17: 18 | L17: 31
A18: REVEILLON, Remi | B18: 9 | C18: 31 | G18: MESNIER-PIERROUTET, Didier | H18: 15 | I18: 31 | J18: MOURIER, Bernard | K18: 14 | L18: 30
A19: RINGUE, Gerard | B19: 23 | C19: 40 | G19: MICHAUD, Philippe | H19: 31 | I19: 40 | J19: NOEL, Jean-Marc | K19: 15 | L19: 29
G20: RIEFOLO, Michele | H20: 8 | I20: 24 | J20: PERRIER, RenÃ© | K20: 14 | L20: 28
G21: SALVI, RÃ©mi | H21: 11 | I21: 32 | J21: PETETIN, Henri | K21: 6 | L21: 17
J22: ROHART, Bruno | K22: 0 | L22: 17
J23: SALVI, Gilberto | K23: 12 | L23: 30
J24: TOLETTI, Fabrice | K24: 21 | L24: 28
J25: VALOGNES, Philippe | K25: 5 | L25: 27
J26: VILLET, Pierre | K26: 17 | L26: 34
J27: VUILLAUME Patrick | K27: 15 | L27: 35
J28: ZAPELLONI, Jean-FranÃ§ois | K28: 15 | L28: 29
A41: TOTAUX | B41: =LARGE(B3:B40,1)+LARGE(B3:B40,2)+LARGE(B3:B40,3)+LARGE(B3:B40,4)+LARGE(B3:B40,5)+LARGE(B3:B40,6) -> 92 | C41: =LARGE(C3:C40,1)+LARGE(C3:C40,2)+LARGE(C3:C40,3)+LARGE(C3:C40,4)+LARGE(C3:C40,5)+LARGE(C3:C40,6) -> 198 | E41: =LARGE(E3:E40,1)+LARGE(E3:E40,2)+LARGE(E3:E40,3)+LARGE(E3:E40,4)+LARGE(E3:E40,5)+LARGE(E3:E40,6) -> 72 | F41: =LARGE(F3:F40,1)+LARGE(F3:F40,2)+LARGE(F3:F40,3)+LARGE(F3:F40,4)+LARGE(F3:F40,5)+LARGE(F3:F40,6) -> 174 | H41: =LARGE(H3:H40,1)+LARGE(H3:H40,2)+LARGE(H3:H40,3)+LARGE(H3:H40,4)+LARGE(H3:H40,5)+LARGE(H3:H40,6) -> 131 | I41: =LARGE(I3:I40,1)+LARGE(I3:I40,2)+LARGE(I3:I40,3)+LARGE(I3:I40,4)+LARGE(I3:I40,5)+LARGE(I3:I40,6) -> 226 | K41: =LARGE(K3:K40,1)+LARGE(K3:K40,2)+LARGE(K3:K40,3)+LARGE(K3:K40,4)+LARGE(K3:K40,5)+LARGE(K3:K40,6) -> 113 | L41: =LARGE(L3:L40,1)+LARGE(L3:L40,2)+LARGE(L3:L40,3)+LARGE(L3:L40,4)+LARGE(L3:L40,5)+LARGE(L3:L40,6) -> 196 | N41: =LARGE(N3:N40,1)+LARGE(N3:N40,2)+LARGE(N3:N40,3)+LARGE(N3:N40,4)+LARGE(N3:N40,5)+LARGE(N3:N40,6) -> 29 | O41: =LARGE(O3:O40,1)+LARGE(O3:O40,2)+LARGE(O3:O40,3)+LARGE(O3:O40,4)+LARGE(O3:O40,5)+LARGE(O3:O40,6) -> 76 | Q41: =LARGE(Q3:Q40,1)+LARGE(Q3:Q40,2)+LARGE(Q3:Q40,3)+LARGE(Q3:Q40,4)+LARGE(Q3:Q40,5)+LARGE(Q3:Q40,6) -> 54 | R41: =LARGE(R3:R40,1)+LARGE(R3:R40,2)+LARGE(R3:R40,3)+LARGE(R3:R40,4)+LARGE(R3:R40,5)+LARGE(R3:R40,6) -> 169
D43: CUMULS 3 TOURS
A45: VAL DE SORNE | B45: =K41+L41 -> 309 | D45: VAL DE SORNE | E45: =B45+'Val d''Amour'!E45 -> 1655
A46: VAL D'AMOUR | B46: =B41+C41 -> 290 | D46: VAL D'AMOUR | E46: =B46+'Val d''Amour'!E46 -> 1554
A47: QUATRE SAISONS | B47: =E41+F41 -> 246 | D47: QUATRE SAISONS | E47: =B47+'Val d''Amour'!E47 -> 1324
A48: ROCHAT | B48: =Q41+R41 -> 223 | D48: ROCHAT | E48: =B48+'Val d''Amour'!E48 -> 897
A49: ST CLAUDE | B49: =N41+O41 -> 105 | D49: ST CLAUDE | E49: =B49+'Val d''Amour'!E49 -> 667
A50: MONT ST JEAN | B50: =H41+I41 -> 357 | D50: MONT ST JEAN | E50: =B50+'Val d''Amour'!E50 -> 1453

Sheet Le Rochat
A1: VAL D'AMOUR | B1: B | C1: N | D1: QUATRE SAISONS | E1: B | F1: N | G1: MONT ST JEAN | H1: B | I1: N | J1: VAL DE SORNE | K1: B | L1: N | M1: SAINT-CLAUDE | N1: B | O1: N | P1: LE ROCHAT | Q1: B | R1: N
A3: BERLY, Denis | B3: 8 | C3: 15 | D3: BERNARD, Michel | E3: 8 | F3: 12 | G3: BAERTSCH, Max | H3: 8 | I3: 15 | J3: BAILLY, Marie Christine | K3: 3 | L3: 12 | M3: COUDOR, Daniel | N3: 2 | O3: 11 | P3: AEBERHARD, Eric | Q3: 8 | R3: 16
A4: CHARLUT, Christophe | B4: 6 | C4: 17 | D4: BILLET, Herve | E4: 10 | F4: 15 | G4: CHEVALIER GIROD, HervÃ© | H4: 8 | I4: 14 | J4: BAILLY, Pierre | K4: 10 | L4: 13 | M4: HAMARD, Thierry | N4: 5 | O4: 9 | P4: BAILLY-SALINS, Maurice | Q4: 7 | R4: 18
A5: COMTE, Joel | B5: 5 | C5: 15 | D5: BOMBRUN, Sylvie | E5: 4 | F5: 14 | G5: DUMONT-FILLON, Philippe | H5: 10 | I5: 18 | J5: BEZIN, Jean Louis | K5: 10 | L5: 15 | M5: MURER, Michel | N5: 3 | O5: 10 | P5: CHARTON, Jean Paul | Q5: 8 | R5: 15
A6: CORTIULA, Julien | B6: 9 | C6: 14 | D6: D'ORAZIO, Luigi | E6: 15 | F6: 21 | G6: FOURMOND, Catherine | H6: 7 | I6: 17 | J6: BUVOT, Lionel | K6: 9 | L6: 15 | M6: NETO, Joaquim | N6: 3 | O6: 9 | P6: ELMER, Manfred | Q6: 0 | R6: 0
A7: DEPRAZ, Paul | B7: 1 | C7: 6 | D7: GAY, Williams | E7: 9 | F7: 16 | G7: FOURMOND, Jean-FranÃ§ois | H7: 9 | I7: 13 | J7: CAIRE, Roland | K7: 4 | L7: 8 | M7: PARISI, Jean | N7: 11 | O7: 14 | P7: GAYET, Christian | Q7: 12 | R7: 19
A8: DUCHENE, GÃ©rard | B8: 11 | C8: 12 | D8: LING, Bruno | E8: 11 | F8: 15 | G8: FRIEDEN, Pierre-Alain | H8: 12 | I8: 17 | J8: CHATOUILLOT, Francois Xavier | K8: 8 | L8: 14 | M8: PETETIN, John | N8: 4 | O8: 10 | P8: GUILLEMIN, Richard | Q8: 5 | R8: 16
A9: FAWER, Philippe | B9: 10 | C9: 17 | D9: MOUGIN, Bernard | E9: 6 | F9: 19 | G9: GIRARDET, GÃ©rald | H9: 5 | I9: 14 | J9: DAVID, JoÃ«l | K9: 5 | L9: 10 | N9: 0 | O9: 0 | P9: HARTWELL, Christopher | Q9: 6 | R9: 15
A10: LEBLANC, Jean-Luc | B10: 6 | C10: 15 | D10: OLIVAIN, Robert | E10: 12 | F10: 20 | G10: GUITON, Thomas | H10: 4 | I10: 11 | J10: FUSIER, Christophe | K10: 12 | L10: 18 | N10: 0 | O10: 0 | P10: LECOULTRE, Michel | Q10: 8 | R10: 19
A11: LECOMTE, Daniel | B11: 4 | C11: 13 | D11: PERRIN, Jacques | E11: 6 | F11: 15 | G11: HOFMANN, Bernard | H11: 2 | I11: 9 | J11: GUYON, Claude | K11: 8 | L11: 13 | N11: 0 | O11: 0 | P11: LIZON AU CIRE, Catherine | Q11: 13 | R11: 27
A12: LIZON AU CIRE, Didier | B12: 5 | C12: 13 | E12: 0 | F12: 0 | G12: LACROIX, Michel | H12: 1 | I12: 12 | J12: HOLVECK, Alain | K12: 7 | L12: 13 | P12: PIGUET, RenÃ© | Q12: 4 | R12: 17
A13: LORENTZ, Albert | B13: 15 | C13: 26 | G13: MICHAUD, Philippe | H13: 15 | I13: 16 | J13: KIEHN, Francois | K13: 0 | L13: 0
A14: LOUVRIER, Jean FranÃ§ois | B14: 3 | C14: 11 | G14: PAGNIER, Christian | H14: 7 | I14: 12 | J14: MATHON, Patricia | K14: 5 | L14: 12
A15: LUGAND, Patrick | B15: 15 | C15: 19 | G15: RIEFOLO, Michele | H15: 5 | I15: 15 | J15: MELLET, Bernard | K15: 10 | L15: 17
A16: MITTAINE, Daniel | B16: 5 | C16: 11 | G16: SALVI, RÃ©mi | H16: 6 | I16: 14 | J16: MOISSONNIER, Jean-Luc | K16: 6 | L16: 11
A17: PAGNON, Pierre | B17: 12 | C17: 20 | J17: MOUGET, Olivier | K17: 5 | L17: 11
A18: PARIS, Bruno | B18: 13 | C18: 21 | J18: MOURIER, Bernard | K18: 8 | L18: 15
A19: PUTOD, Jean-Michel | B19: 3 | C19: 9 | J19: MOUZON, Christophe | K19: 3 | L19: 14
A20: REVEILLON, Remi | B20: 5 | C20: 16 | J20: NICOLAS, Eric | K20: 16 | L20: 15
A21: RINGUE, Gerard | B21: 10 | C21: 17 | J21: PERNAUDET, Damien | K21: 11 | L21: 17
A22: SAUNIE, Patricia | B22: 7 | C22: 18 | J22: SALVI, Gilberto | K22: 7 | L22: 15
A23: SAUNIE, Patrick | B23: 8 | C23: 19 | J23: TARTAVEZ, Daniel | K23: 8 | L23: 12
J24: VALOGNES, Philippe | K24: 4 | L24: 18
J25: VANNET, Stephanie | K25: 11 | L25: 15
J26: VILLET, Pierre | K26: 11 | L26: 20
J27: ZAPELLONI, Jean-FranÃ§ois | K27: 5 | L27: 8
A41: TOTAUX | B41: =LARGE(B3:B40,1)+LARGE(B3:B40,2)+LARGE(B3:B40,3)+LARGE(B3:B40,4)+LARGE(B3:B40,5)+LARGE(B3:B40,6) -> 76 | C41: =LARGE(C3:C40,1)+LARGE(C3:C40,2)+LARGE(C3:C40,3)+LARGE(C3:C40,4)+LARGE(C3:C40,5)+LARGE(C3:C40,6) -> 123 | E41: =LARGE(E3:E40,1)+LARGE(E3:E40,2)+LARGE(E3:E40,3)+LARGE(E3:E40,4)+LARGE(E3:E40,5)+LARGE(E3:E40,6) -> 65 | F41: =LARGE(F3:F40,1)+LARGE(F3:F40,2)+LARGE(F3:F40,3)+LARGE(F3:F40,4)+LARGE(F3:F40,5)+LARGE(F3:F40,6) -> 106 | H41: =LARGE(H3:H40,1)+LARGE(H3:H40,2)+LARGE(H3:H40,3)+LARGE(H3:H40,4)+LARGE(H3:H40,5)+LARGE(H3:H40,6) -> 62 | I41: =LARGE(I3:I40,1)+LARGE(I3:I40,2)+LARGE(I3:I40,3)+LARGE(I3:I40,4)+LARGE(I3:I40,5)+LARGE(I3:I40,6) -> 98 | K41: =LARGE(K3:K40,1)+LARGE(K3:K40,2)+LARGE(K3:K40,3)+LARGE(K3:K40,4)+LARGE(K3:K40,5)+LARGE(K3:K40,6) -> 71 | L41: =LARGE(L3:L40,1)+LARGE(L3:L40,2)+LARGE(L3:L40,3)+LARGE(L3:L40,4)+LARGE(L3:L40,5)+LARGE(L3:L40,6) -> 105 | N41: =LARGE(N3:N40,1)+LARGE(N3:N40,2)+LARGE(N3:N40,3)+LARGE(N3:N40,4)+LARGE(N3:N40,5)+LARGE(N3:N40,6) -> 28 | O41: =LARGE(O3:O40,1)+LARGE(O3:O40,2)+LARGE(O3:O40,3)+LARGE(O3:O40,4)+LARGE(O3:O40,5)+LARGE(O3:O40,6) -> 63 | Q41: =LARGE(Q3:Q40,1)+LARGE(Q3:Q40,2)+LARGE(Q3:Q40,3)+LARGE(Q3:Q40,4)+LARGE(Q3:Q40,5)+LARGE(Q3:Q40,6) -> 56 | R41: =LARGE(R3:R40,1)+LARGE(R3:R40,2)+LARGE(R3:R40,3)+LARGE(R3:R40,4)+LARGE(R3:R40,5)+LARGE(R3:R40,6) -> 116
D43: CUMULS 6 TOURS
A45: VAL DE SORNE | B45: =K41+L41 -> 176 | D45: VAL DE SORNE | E45: =B45+'Mont St Jean'!E45 -> 1831
A46: VAL D'AMOUR | B46: =B41+C41 -> 199 | D46: VAL D'AMOUR | E46: =B46+'Mont St Jean'!E46 -> 1753
A47: QUATRE SAISONS | B47: =E41+F41 -> 171 | D47: QUATRE SAISONS | E47: =B47+'Mont St Jean'!E47 -> 1495
A48: ROCHAT | B48: =Q41+R41 -> 172 | D48: ROCHAT | E48: =B48+'Mont St Jean'!E48 -> 1069
A49: ST CLAUDE | B49: =N41+O41 -> 91 | D49: ST CLAUDE | E49: =B49+'Mont St Jean'!E49 -> 758
A50: MONT ST JEAN | B50: =H41+I41 -> 160 | D50: MONT ST JEAN | E50: =B50+'Mont St Jean'!E50 -> 1613

Sheet Feuil1
