Workbook

Sheet Poule Coinche
B1: Match de poules 700 points
I2: Nbre Victoire | J2: Classement | K2: Nbre de points | S2: Nbre Victoire | T2: Classement | U2: Nbre de points
C3: Classement bis (recherchev) | D3: Poule 1 | E3: Equipe 1 | F3: Equipe 2 | G3: Equipe 3 | H3: Equipe 4 | M3: Classement bis (recherchev) | N3: Poule 5 | O3: Equipe 17 | P3: Equipe 18 | Q3: Equipe 19 | R3: Equipe 20
C4: =J4 -> 1 | D4: Equipe 1 | F4: 750 | G4: 750 | H4: 120 | I4: =(IF(F4>E5,1,0)+(IF(G4>E6,1,0))+(IF(H4>E7,1,0))) -> 2 | J4: =RANK(I4,I4:I7) -> 1 | K4: =SUM(E4:H4) -> 1620 | M4: =T4 -> 1 | N4: Equipe 17 | S4: =(IF(P4>O5,1,0)+(IF(Q4>O6,1,0))+(IF(R4>O7,1,0))) -> 0 | T4: =RANK(S4,S4:S7) -> 1 | U4: =SUM(O4:R4) -> 0
C5: =J5 -> 1 | D5: Equipe 2 | E5: 120 | G5: 750 | H5: 5000 | I5: =(IF(E5>F4,1,0)+(IF(G5>F6,1,0))+(IF(H5>F7,1,0))) -> 2 | J5: =RANK(I5,I4:I7) -> 1 | K5: =SUM(E5:H5) -> 5870 | M5: =T5 -> 1 | N5: Equipe 18 | S5: =(IF(O5>P4,1,0)+(IF(Q5>P6,1,0))+(IF(R5>P7,1,0))) -> 0 | T5: =RANK(S5,S4:S7) -> 1 | U5: =SUM(O5:R5) -> 0
C6: =J6 -> 3 | D6: Equipe 3 | E6: 120 | F6: 120 | H6: 750 | I6: =(IF(E6>G4,1,0)+(IF(F6>G5,1,0))+(IF(H6>G7,1,0))) -> 1 | J6: =RANK(I6,I4:I7) -> 3 | K6: =SUM(E6:H6) -> 990 | M6: =T6 -> 1 | N6: Equipe 19 | S6: =(IF(O6>Q4,1,0)+(IF(P6>Q5,1,0))+(IF(R6>Q7,1,0))) -> 0 | T6: =RANK(S6,S4:S7) -> 1 | U6: =SUM(O6:R6) -> 0
C7: =J7 -> 3 | D7: Equipe 4 | E7: 750 | F7: 120 | G7: 120 | I7: =(IF(E7>H4,1,0)+(IF(F7>H5,1,0))+(IF(G7>H6,1,0))) -> 1 | J7: =RANK(I7,I4:I7) -> 3 | K7: =SUM(E7:H7) -> 990 | M7: =T7 -> 1 | N7: Equipe 20 | S7: =(IF(O7>R4,1,0)+(IF(P7>R5,1,0))+(IF(Q7>R6,1,0))) -> 0 | T7: =RANK(S7,S4:S7) -> 1 | U7: =SUM(O7:R7) -> 0
D8: Match à jouer | E8: =6-(I4+I5+I6+I7) -> 0 | F8: =VLOOKUP(1,C4:D7,2,FALSE) -> Equipe 1 | G8: 1er de poule | I8: =VLOOKUP(3,C4:D7,2,FALSE) -> Equipe 3 | J8: 3ème de poule | N8: Match à jouer | O8: =6-(S4+S5+S6+S7) -> 6 | P8: =VLOOKUP(1,M4:N7,2,FALSE) -> Equipe 17 | Q8: 1er de poule | S8: =VLOOKUP(3,M4:N7,2,FALSE) -> #N/A | T8: 3ème de poule
F9: =VLOOKUP(2,C4:D7,2,FALSE) -> #N/A | G9: 2ème de poule | I9: =VLOOKUP(4,C4:D7,2,FALSE) -> #N/A | J9: 4ème de poule | P9: =VLOOKUP(2,M4:N7,2,FALSE) -> #N/A | Q9: 2ème de poule | S9: =VLOOKUP(4,M4:N7,2,FALSE) -> #N/A | T9: 4ème de poule
I11: Nbre Victoire | J11: Classement | K11: Nbre de points | S11: Nbre Victoire | T11: Classement | U11: Nbre de points
D12: Poule 2 | E12: Equipe 5 | F12: Equipe 6 | G12: Equipe 7 | H12: Equipe 8 | N12: Poule 6 | O12: Equipe 21 | P12: Equipe 22 | Q12: Equipe 23 | R12: Equipe 24
C13: =J13 -> 1 | D13: Equipe 5 | I13: =(IF(F13>E14,1,0)+(IF(G13>E15,1,0))+(IF(H13>E16,1,0))) -> 0 | J13: =RANK(I13,I13:I16) -> 1 | K13: =SUM(E13:H13) -> 0 | M13: =T13 -> 1 | N13: Equipe 21 | S13: =(IF(P13>O14,1,0)+(IF(Q13>O15,1,0))+(IF(R13>O16,1,0))) -> 0 | T13: =RANK(S13,S13:S16) -> 1 | U13: =SUM(O13:R13) -> 0
C14: =J14 -> 1 | D14: Equipe 6 | I14: =(IF(E14>F13,1,0)+(IF(G14>F15,1,0))+(IF(H14>F16,1,0))) -> 0 | J14: =RANK(I14,I13:I16) -> 1 | K14: =SUM(E14:H14) -> 0 | M14: =T14 -> 1 | N14: Equipe 22 | S14: =(IF(O14>P13,1,0)+(IF(Q14>P15,1,0))+(IF(R14>P16,1,0))) -> 0 | T14: =RANK(S14,S13:S16) -> 1 | U14: =SUM(O14:R14) -> 0
C15: =J15 -> 1 | D15: Equipe 7 | I15: =(IF(E15>G13,1,0)+(IF(F15>G14,1,0))+(IF(H15>G16,1,0))) -> 0 | J15: =RANK(I15,I13:I16) -> 1 | K15: =SUM(E15:H15) -> 0 | M15: =T15 -> 1 | N15: Equipe 23 | S15: =(IF(O15>Q13,1,0)+(IF(P15>Q14,1,0))+(IF(R15>Q16,1,0))) -> 0 | T15: =RANK(S15,S13:S16) -> 1 | U15: =SUM(O15:R15) -> 0
C16: =J16 -> 1 | D16: Equipe 8 | I16: =(IF(E16>H13,1,0)+(IF(F16>H14,1,0))+(IF(G16>H15,1,0))) -> 0 | J16: =RANK(I16,I13:I16) -> 1 | K16: =SUM(E16:H16) -> 0 | M16: =T16 -> 1 | N16: Equipe 24 | S16: =(IF(O16>R13,1,0)+(IF(P16>R14,1,0))+(IF(Q16>R15,1,0))) -> 0 | T16: =RANK(S16,S13:S16) -> 1 | U16: =SUM(O16:R16) -> 0
D17: Match à jouer | E17: =6-(I13+I14+I15+I16) -> 6 | F17: =VLOOKUP(1,C13:D16,2,FALSE) -> Equipe 5 | G17: 1er de poule | I17: =VLOOKUP(3,C13:D16,2,FALSE) -> #N/A | J17: 3ème de poule | N17: Match à jouer | O17: =6-(S13+S14+S15+S16) -> 6 | P17: =VLOOKUP(1,M13:N16,2,FALSE) -> Equipe 21 | Q17: 1er de poule | S17: =VLOOKUP(3,M13:N16,2,FALSE) -> #N/A | T17: 3ème de poule
F18: =VLOOKUP(2,C13:D16,2,FALSE) -> #N/A | G18: 2ème de poule | I18: =VLOOKUP(4,C13:D16,2,FALSE) -> #N/A | J18: 4ème de poule | P18: =VLOOKUP(2,M13:N16,2,FALSE) -> #N/A | Q18: 2ème de poule | S18: =VLOOKUP(4,M13:N16,2,FALSE) -> #N/A | T18: 4ème de poule
I20: Nbre Victoire | J20: Classement | K20: Nbre de points | S20: Nbre Victoire | T20: Classement | U20: Nbre de points
D21: Poule 3 | E21: Equipe 9 | F21: Equipe 10 | G21: Equipe 11 | H21: Equipe 12 | N21: Poule 7 | O21: Equipe 25 | P21: Equipe 26 | Q21: Equipe 27 | R21: Equipe 28
C22: =J22 -> 1 | D22: Equipe 9 | I22: =(IF(F22>E23,1,0)+(IF(G22>E24,1,0))+(IF(H22>E25,1,0))) -> 0 | J22: =RANK(I22,I22:I25) -> 1 | K22: =SUM(E22:H22) -> 0 | M22: =T22 -> 1 | N22: Equipe 25 | S22: =(IF(P22>O23,1,0)+(IF(Q22>O24,1,0))+(IF(R22>O25,1,0))) -> 0 | T22: =RANK(S22,S22:S25) -> 1 | U22: =SUM(O22:R22) -> 0
C23: =J23 -> 1 | D23: Equipe 10 | I23: =(IF(E23>F22,1,0)+(IF(G23>F24,1,0))+(IF(H23>F25,1,0))) -> 0 | J23: =RANK(I23,I22:I25) -> 1 | K23: =SUM(E23:H23) -> 0 | M23: =T23 -> 1 | N23: Equipe 26 | S23: =(IF(O23>P22,1,0)+(IF(Q23>P24,1,0))+(IF(R23>P25,1,0))) -> 0 | T23: =RANK(S23,S22:S25) -> 1 | U23: =SUM(O23:R23) -> 0
C24: =J24 -> 1 | D24: Equipe 11 | I24: =(IF(E24>G22,1,0)+(IF(F24>G23,1,0))+(IF(H24>G25,1,0))) -> 0 | J24: =RANK(I24,I22:I25) -> 1 | K24: =SUM(E24:H24) -> 0 | M24: =T24 -> 1 | N24: Equipe 27 | S24: =(IF(O24>Q22,1,0)+(IF(P24>Q23,1,0))+(IF(R24>Q25,1,0))) -> 0 | T24: =RANK(S24,S22:S25) -> 1 | U24: =SUM(O24:R24) -> 0
C25: =J25 -> 1 | D25: Equipe 12 | I25: =(IF(E25>H22,1,0)+(IF(F25>H23,1,0))+(IF(G25>H24,1,0))) -> 0 | J25: =RANK(I25,I22:I25) -> 1 | K25: =SUM(E25:H25) -> 0 | M25: =T25 -> 1 | N25: Equipe 28 | S25: =(IF(O25>R22,1,0)+(IF(P25>R23,1,0))+(IF(Q25>R24,1,0))) -> 0 | T25: =RANK(S25,S22:S25) -> 1 | U25: =SUM(O25:R25) -> 0
D26: Match à jouer | E26: =6-(I22+I23+I24+I25) -> 6 | F26: =VLOOKUP(1,C22:D25,2,FALSE) -> Equipe 9 | G26: 1er de poule | I26: =VLOOKUP(3,C22:D25,2,FALSE) -> #N/A | J26: 3ème de poule | N26: Match à jouer | O26: =6-(S22+S23+S24+S25) -> 6 | P26: =VLOOKUP(1,M22:N25,2,FALSE) -> Equipe 25 | Q26: 1er de poule | S26: =VLOOKUP(3,M22:N25,2,FALSE) -> #N/A | T26: 3ème de poule
F27: =VLOOKUP(2,C22:D25,2,FALSE) -> #N/A | G27: 2ème de poule | I27: =VLOOKUP(4,C22:D25,2,FALSE) -> #N/A | J27: 4ème de poule | P27: =VLOOKUP(2,M22:N25,2,FALSE) -> #N/A | Q27: 2ème de poule | S27: =VLOOKUP(4,M22:N25,2,FALSE) -> #N/A | T27: 4ème de poule
I29: Nbre Victoire | J29: Classement | K29: Nbre de points | S29: Nbre Victoire | T29: Classement | U29: Nbre de points
D30: Poule 4 | E30: Equipe 13 | F30: Equipe 14 | G30: Equipe 15 | H30: Equipe 16 | N30: Poule 8 | O30: Equipe 29 | P30: Equipe 30 | Q30: Equipe 31 | R30: Equipe 32
C31: =J31 -> 1 | D31: Equipe 13 | I31: =(IF(F31>E32,1,0)+(IF(G31>E33,1,0))+(IF(H31>E34,1,0))) -> 0 | J31: =RANK(I31,I31:I34) -> 1 | K31: =SUM(E31:H31) -> 0 | M31: =T31 -> 1 | N31: Equipe 29 | S31: =(IF(P31>O32,1,0)+(IF(Q31>O33,1,0))+(IF(R31>O34,1,0))) -> 0 | T31: =RANK(S31,S31:S34) -> 1 | U31: =SUM(O31:R31) -> 0
C32: =J32 -> 1 | D32: Equipe 14 | I32: =(IF(E32>F31,1,0)+(IF(G32>F33,1,0))+(IF(H32>F34,1,0))) -> 0 | J32: =RANK(I32,I31:I34) -> 1 | K32: =SUM(E32:H32) -> 0 | M32: =T32 -> 1 | N32: Equipe 30 | S32: =(IF(O32>P31,1,0)+(IF(Q32>P33,1,0))+(IF(R32>P34,1,0))) -> 0 | T32: =RANK(S32,S31:S34) -> 1 | U32: =SUM(O32:R32) -> 0
C33: =J33 -> 1 | D33: Equipe 15 | I33: =(IF(E33>G31,1,0)+(IF(F33>G32,1,0))+(IF(H33>G34,1,0))) -> 0 | J33: =RANK(I33,I31:I34) -> 1 | K33: =SUM(E33:H33) -> 0 | M33: =T33 -> 1 | N33: Equipe 31 | S33: =(IF(O33>Q31,1,0)+(IF(P33>Q32,1,0))+(IF(R33>Q34,1,0))) -> 0 | T33: =RANK(S33,S31:S34) -> 1 | U33: =SUM(O33:R33) -> 0
C34: =J34 -> 1 | D34: Equipe 16 | I34: =(IF(E34>H31,1,0)+(IF(F34>H32,1,0))+(IF(G34>H33,1,0))) -> 0 | J34: =RANK(I34,I31:I34) -> 1 | K34: =SUM(E34:H34) -> 0 | M34: =T34 -> 1 | N34: Equipe 32 | S34: =(IF(O34>R31,1,0)+(IF(P34>R32,1,0))+(IF(Q34>R33,1,0))) -> 0 | T34: =RANK(S34,S31:S34) -> 1 | U34: =SUM(O34:R34) -> 0
D35: Match à jouer | E35: =6-(I31+I32+I33+I34) -> 6 | F35: =VLOOKUP(1,C31:D34,2,FALSE) -> Equipe 13 | G35: 1er de poule | I35: =VLOOKUP(3,C31:D34,2,FALSE) -> #N/A | J35: 3ème de poule | N35: Match à jouer | O35: =6-(S31+S32+S33+S34) -> 6 | P35: =VLOOKUP(1,M31:N34,2,FALSE) -> Equipe 29 | Q35: 1er de poule | S35: =VLOOKUP(3,M31:N34,2,FALSE) -> #N/A | T35: 3ème de poule
F36: =VLOOKUP(2,C31:D34,2,FALSE) -> #N/A | G36: 2ème de poule | I36: =VLOOKUP(4,C31:D34,2,FALSE) -> #N/A | J36: 4ème de poule | P36: =VLOOKUP(2,M31:N34,2,FALSE) -> #N/A | Q36: 2ème de poule | S36: =VLOOKUP(4,M31:N34,2,FALSE) -> #N/A | T36: 4ème de poule

Sheet Equipes
B24: Equipe 16 | D24: 0 | E24: 890 | F24: 1200 | G24: =(IF(D24>C25,1,0)+(IF(E24>C26,1,0))+(IF(F24>C27,1,0))) -> 2 | H24: =RANK(G24,G24:G27) -> 2 | I24: =SUM(C24:F24) -> 2090
B25: Equipe 7 | C25: 230 | D25: 840 | F25: 700 | G25: =(IF(C25>E23,1,0)+(IF(D25>E24,1,0))+(IF(F25>E26,1,0))) -> 2 | H25: =RANK(G25,G23:G26) -> 1 | I25: =SUM(C25:F25) -> 1770
B26: Equipe 36 | C26: 640 | E26: 410 | F26: 720 | G26: =(IF(C26>D25,1,0)+(IF(E26>D27,1,0))+(IF(F26>D28,1,0))) -> 1 | H26: =RANK(G26,G25:G28) -> 4 | I26: =SUM(C26:F26) -> 1770
B27: Equipe 4 | C27: 430 | D27: 660 | F27: 460 | G27: =(IF(C27>E25,1,0)+(IF(D27>E26,1,0))+(IF(F27>E28,1,0))) -> 3 | H27: =RANK(G27,G25:G28) -> 1 | I27: =SUM(C27:F27) -> 1550
B28: Equipe 40 | C28: 460 | D28: 500 | F28: 500 | G28: =(IF(C28>E26,1,0)+(IF(D28>E27,1,0))+(IF(F28>E29,1,0))) -> 3 | H28: =RANK(G28,G26:G29) -> 1 | I28: =SUM(C28:F28) -> 1460
B29: Equipe 35 | C29: 320 | D29: 520 | F29: 530 | G29: =(IF(C29>E27,1,0)+(IF(D29>E28,1,0))+(IF(F29>E30,1,0))) -> 2 | H29: =RANK(G29,G27:G30) -> 3 | I29: =SUM(C29:F29) -> 1370
B30: Equipe 32 | C30: 600 | D30: 0 | E30: 710 | G30: =(IF(C30>F27,1,0)+(IF(D30>F28,1,0))+(IF(E30>F29,1,0))) -> 2 | H30: =RANK(G30,G27:G30) -> 3 | I30: =SUM(C30:F30) -> 1310
B31: Equipe 1 | C31: 40 | E31: 590 | F31: 670 | G31: =(IF(C31>D30,1,0)+(IF(E31>D32,1,0))+(IF(F31>D33,1,0))) -> 2 | H31: =RANK(G31,G30:G33) -> 1 | I31: =SUM(C31:F31) -> 1300
B32: Equipe 3 | C32: 500 | D32: 700 | E32: 0 | G32: =(IF(C32>F29,1,0)+(IF(D32>F30,1,0))+(IF(E32>F31,1,0))) -> 1 | H32: =RANK(G32,G29:G32) -> 4 | I32: =SUM(C32:F32) -> 1200
B33: Equipe 19 | C33: 480 | E33: 520 | F33: 170 | G33: =(IF(C33>D32,1,0)+(IF(E33>D34,1,0))+(IF(F33>D35,1,0))) -> 2 | H33: =RANK(G33,G32:G35) -> 1 | I33: =SUM(C33:F33) -> 1170

Sheet Phase finale coinche
C1: 8 ème (1000 points) | F1: Quart de finale (1000 points) | I1: Demi-Finale (1500 points)
A2: 1er Poule 1 | C2: ='Poule Coinche'!F8 -> Equipe 1
A3: contre 2eme poule 8 | C3: ='Poule Coinche'!P36 -> #N/A
F4: =IF(D2>D3,C2,C3) -> #N/A
F5: =IF(D6>D7,C6,C7) -> #N/A
A6: 1er Poule 2 | C6: ='Poule Coinche'!F17 -> Equipe 5
A7: 2eme poule 7 | C7: ='Poule Coinche'!P27 -> #N/A
I8: =IF(G4>G5,F4,F5) -> #N/A
I9: =IF(G12>G13,F12,F13) -> #N/A
A10: 1er Poule 3 | C10: ='Poule Coinche'!F26 -> Equipe 9 | L10: Final
A11: contre 2eme poule 6 | C11: ='Poule Coinche'!P18 -> #N/A
F12: =IF(D10>D11,C10,C11) -> #N/A | L12: =IF(J8>J9,I8,I9) -> #N/A | M12: VS | N12: =IF(J23>J24,I23,I24) -> #N/A
F13: =IF(D14>D15,C14,C15) -> #N/A | M13: 2000 points
A14: 1er Poule 4 | C14: ='Poule Coinche'!F35 -> Equipe 13
A15: 2 ème Poule 5 | C15: ='Poule Coinche'!P9 -> #N/A
A17: 1er Poule 5 | C17: ='Poule Coinche'!P8 -> Equipe 17
A18: contre 2eme poule 4 | C18: ='Poule Coinche'!F36 -> #N/A | L18: Petite final
F19: =IF(D17>D18,C17,C18) -> #N/A
F20: =IF(D21>D22,C21,C22) -> #N/A | L20: =IF(J8<J9,I8,I9) -> #N/A | M20: VS | N20: =IF(J23<J24,I23,I24) -> #N/A
A21: 1er Poule 6 | C21: ='Poule Coinche'!P17 -> Equipe 21 | M21: 1500 points
A22: Contre 2 ème poule 3 | C22: ='Poule Coinche'!F27 -> #N/A
I23: =IF(G19>G20,F19,F20) -> #N/A
I24: =IF(G27>G28,F27,F28) -> #N/A
A25: 1er Poule 7 | C25: ='Poule Coinche'!P26 -> Equipe 25
A26: contre 2eme poule 2 | C26: ='Poule Coinche'!F18 -> #N/A
F27: =IF(D25>D26,C25,C26) -> #N/A
F28: =IF(D29>D30,C29,C30) -> #N/A
A29: 1er Poule 8 | C29: ='Poule Coinche'!P35 -> Equipe 29
A30: contre 2eme poule 1 | C30: ='Poule Coinche'!F9 -> #N/A

Sheet Consolante
C1: 8 ème (700 points) | F1: Quart de finale (1000 points) | I1: Demi-Finale (1000 points)
A2: 3eme poule1 | C2: ='Poule Coinche'!I8 -> Equipe 3 | D2: 0
A3: 4ème de poule 8 | C3: ='Poule Coinche'!S36 -> #N/A
F4: =IF(D2>D3,C2,C3) -> #N/A
F5: =IF(D6>D7,C6,C7) -> #N/A
A6: 3eme Poule 2 | C6: ='Poule Coinche'!I17 -> #N/A
A7: 4ème de poule 7 | C7: ='Poule Coinche'!S27 -> #N/A
I8: =IF(G4>G5,F4,F5) -> #N/A
I9: =IF(G12>G13,F12,F13) -> #N/A
A10: 3eme poule 3 | C10: ='Poule Coinche'!I26 -> #N/A | L10: Final de consolante
A11: 4ème de poule 6 | C11: ='Poule Coinche'!S18 -> #N/A
F12: =IF(D10>D11,C10,C11) -> #N/A | L12: =IF(J8>J9,I8,I9) -> #N/A | M12: VS | N12: =IF(J24>J25,I24,I25) -> #N/A
F13: =IF(D14>D15,C14,C15) -> #N/A | M13: 1500 points
A14: 3emepoule 4 | C14: ='Poule Coinche'!I35 -> #N/A
A15: 4 ème de poule 5 | C15: ='Poule Coinche'!S9 -> #N/A
A17: 3eme poule 5 | C17: ='Poule Coinche'!S8 -> #N/A
A18: 4ème de poule 4 | C18: ='Poule Coinche'!I36 -> #N/A
F19: =IF(D17>D18,C17,C18) -> #N/A
F20: =IF(D21>D22,C21,C22) -> #N/A
A21: 3eme poule 6 | C21: ='Poule Coinche'!S17 -> #N/A
A22: 4ème de poule 3 | C22: ='Poule Coinche'!I27 -> #N/A
I24: =IF(G19>G20,F19,F20) -> #N/A
A25: 3eme poule 7 | C25: ='Poule Coinche'!S26 -> #N/A | I25: =IF(G27>G28,F27,F28) -> #N/A
A26: 4ème de poule 2 | C26: ='Poule Coinche'!I18 -> #N/A
F27: =IF(D25>D26,C25,C26) -> #N/A
F28: =IF(D29>D30,C29,C30) -> #N/A
A29: 3eme poule 8 | C29: ='Poule Coinche'!S35 -> #N/A
A30: 4ème de poule 1 | C30: ='Poule Coinche'!I9 -> #N/A

Sheet Tarot
A1: Nom | B1: Prenom | C1: Nbre de points | E1: 3 parties de 12 manches
C2: Ceux avec le plus de points, sont dans la même poule pour la partie suivant ainsi de suite …
C14: Ceux avec le plus de points, sont dans la même poule pour la partie suivant ainsi de suite …
C16: Premier tour de 12 manches | H16: Deuxième tour de 12 manches | M16: Troisième tour de 12 manches
D17: Numéro | E17: Nom | F17: Prénom | G17: Résultat première Partie | I17: Numéro | J17: Nom | K17: Prénom | L17: Résultat deuxième Partie | N17: Numéro | O17: Nom | P17: Prénom | Q17: Résultat troisième Partie
D18: 1
D19: 2
D20: 3
D21: 4
D22: 5
D23: 6
D24: 7

Sheet Belote
C2: Toutes les équipes s'afronttent, les deux meilleurs jouent une "finale"
A3: Gaubert | B3: Elise | C3: 1
A4: Bizouard | B4: Pauline
A5: Clément | B5: Laure | C5: 2
A6: Poupart | B6: Maxime
A7: Lerzy | B7: Benoit | C7: 3
A8: Marier | B8: David
I10: Nbre Victoire | J10: Classement | K10: Nbre de points
D11: Poule 1 | E11: david | F11: poup | G11: Pauline/elise
D12: david | F12: 1040 | G12: 1044 | I12: =(IF(F12>E13,1,0)+(IF(G12>E14,1,0))+(IF(H12>E15,1,0))) -> 1 | J12: =RANK(I12,I12:I15) -> 2 | K12: =SUM(E12:H12) -> 2084
D13: Poup | E13: 1086 | G13: 1040 | I13: =(IF(E13>F12,1,0)+(IF(G13>F14,1,0))+(IF(H13>F15,1,0))) -> 2 | J13: =RANK(I13,I12:I15) -> 1 | K13: =SUM(E13:H13) -> 2126
D14: Pauline/ elise | E14: 664 | F14: 778 | I14: =(IF(E14>G12,1,0)+(IF(F14>G13,1,0))+(IF(H14>G15,1,0))) -> 0 | J14: =RANK(I14,I12:I15) -> 3 | K14: =SUM(E14:H14) -> 1442
I15: =(IF(E15>H12,1,0)+(IF(F15>H13,1,0))+(IF(G15>H14,1,0))) -> 0 | J15: =RANK(I15,I12:I15) -> 3 | K15: =SUM(E15:H15) -> 0
H16: Match à jouer | I16: =6-(I12+I13+I14+I15) -> 3

Sheet Baby
A2: Equipe 1 | E2: Poule BABY | F2: Joueur1 | G2: Joueur2 | H2: Joueur3 | I2: Joueur4 | J2: Joueur 5 | K2: Joueur6 | L2: Joueur7 | M2: Joueur 8 | N2: Nombre de points | O2: Classement | S2: Nom | T2: Prénom
E3: Joueur1 | N3: =((IF($G3>F$4,3,0))+(IF($H3>F$5,3,0)+(IF($I3>F$6,3,0)+(IF($J3>F$7,3,0)+(IF($K3>F$8,3,0)+(IF($L3>F$9,3,0))))))) -> 0 | O3: =RANK(N3,$N$3:$N$9) -> 1 | R3: 1 | S3: Desmarest | T3: Rémi
A4: Equipe 2 | E4: Joueur2 | N4: =((IF(F4>G$3,3,0))+(IF(H4>G$5,3,0)+(IF($I4>G$6,3,0)+(IF($J4>G$7,3,0)+(IF($K4>G$8,3,0)+(IF($L4>G$9,3,0))))))) -> 0 | O4: =RANK(N4,$N$3:$N$9) -> 1 | R4: 2 | S4: Willekens | T4: Alexandre
E5: Joueur3 | N5: =((IF(F5>H3,3,0))+(IF(G5>H4,3,0)+(IF($I5>H$6,3,0)+(IF($J5>H$7,3,0)+(IF($K5>H$8,3,0)+(IF($L5>H$9,3,0))))))) -> 0 | O5: =RANK(N5,$N$3:$N$9) -> 1 | R5: 3 | S5: Mahieu | T5: Arnould
A6: Equipe 3 | E6: Joueur4 | N6: =((IF(F6>I$3,3,0))+(IF(G6>I4,3,0)+(IF(H6>I5,3,0)+(IF($J6>I$7,3,0)+(IF($K6>I$8,3,0)+(IF($L6>I$9,3,0))))))) -> 0 | O6: =RANK(N6,$N$3:$N$9) -> 1 | R6: 4 | S6: LE NOZAK | T6: Robin
E7: Joueur5 | N7: =((IF(F7>J$3,3,0))+(IF(G7>J$4,3,0)+(IF(H7>J$5,3,0)+(IF(I7>J6,3,0)+(IF(K7>J$8,3,0)+(IF(L7>J$9,3,0))))))) -> 0 | O7: =RANK(N7,$N$3:$N$9) -> 1 | R7: 5 | S7: SAISON | T7: Martin
A8: Equipe 4 | E8: Joueur6 | N8: =((IF(F8>K3,3,0))+(IF(G8>K4,3,0)+(IF(H8>K5,3,0)+(IF(I8>K6,3,0)+(IF(J8>K7,3,0)+(IF(L8>K9,3,0))))))) -> 0 | O8: =RANK(N8,$N$3:$N$9) -> 1 | R8: 6 | S8: Deroo | T8: Leopold
E9: Joueur7 | N9: =((IF(F9>L$3,3,0))+(IF(G9>L4,3,0)+(IF(H9>L5,3,0)+(IF(I9>L6,3,0)+(IF(J9>L7,3,0)+(IF(K9>L8,3,0))))))) -> 0 | O9: =RANK(N9,$N$3:$N$9) -> 1 | R9: 7 | S9: morque | T9: gaetan
A10: Equipe 5 | E10: Joueur 8 | R10: 8 | S10: clouet | T10: killian
A12: Equipe 6 | E12: Points comme au foot : une victoire = 3 points, défaite = 0 points
J13: 1
A14: Equipe 7 | E14: 1 | H14: 6 | I14: 10
E15: 2 | H15: 7 | I15: 10
E16: 3
E17: 4
G21: Poule BABY | H21: Equipe1 | I21: Equipe2 | J21: Equipe3 | K21: Equipe4
G22: Equipe1
G23: Equipe2
G24: Equipe3
G25: Equipe4

Sheet Yams
D1: partie1 | E1: Final
A2: 1 | H2: YAMS
A3: 2 | I3: Nom | J3: Prénom
A4: 3 | H4: 1 | L4: Numéro | M4: Nom | N4: Prénom | O4: Résultat 1ère Partie | P4: Poule | Q4: Numéro | R4: Nom | S4: Prénom | T4: Résultat 2ème Partie | U4: poule | V4: Numéro | W4: Nom | X4: Prénom | Y4: Résultat 3ème Partie
A5: 4 | H5: 2 | K5: 1ère poule | L5: 1 | P5: 1 | U5: 1
A6: 5 | H6: 3 | L6: 2
H7: 4 | L7: 3
H8: 5 | L8: 4
A9: 7 | H9: 6 | L9: 5
A10: 4 | H10: 7 | K10: 2ème poule | L10: 6 | P10: 2 | U10: 2
A11: 10 | H11: 8 | L11: 7
A12: 5 | H12: 9 | L12: 8
H13: 13 | K13: 3 ème poule | L13: 10 | P13: 3 | U13: 3
L14: 11
L15: 12
L16: 13
L25: Numéro | M25: Nom | N25: Prénom
L26: 1
L27: 2
L28: 3
L29: 4
L30: 5
L31: 6
L32: 7
L33: 8
L34: 10
L35: 11
L36: 12
L37: 13
