Workbook
Name Aujourd_hui: Recap!$D$2
Name Debut_calendrier: Recap!$D$1
Name Gain_Début_Projet: Gain!$K$10:$K$109
Name Gain_Fin_Projet: Gain!$Q$10:$Q$109
Name Gain_Fin_Travaux: Gain!$P$10:$P$109
Name Gain_T0_Demandé: Gain!$H$10:$H$109
Name Gain_T0_Proposé: Gain!$I$10:$I$109
Name Gain_T0_Recalé: Gain!$J$10:$J$109
Name Gain_Tfin_Demandé: Gain!$M$10:$M$109
Name Gain_Tfin_Proposé: Gain!$N$10:$N$109
Name Gain_Tfin_Recalé: Gain!$O$10:$O$109
Name Planning_Début_Projet: Recap!$H$11:$H$110
Name Planning_Début_Travaux: Recap!$I$11:$I$110
Name Planning_Fin_Projet: Recap!$K$11:$K$110
Name Planning_Fin_Travaux: Recap!$J$11:$J$110
Name Semaine_Actuelle: Recap!$D$4
Name Semaine_Affichage: Recap!$D$3

Sheet Recap
A1: Début calendrier : | D1: 45292
A2: Date actuelle : | D2: =TODAY() -> 45504
A3: Semaine d'affichage : | D3: 31
A4: N° semaine actuelle : | D4: ="S"&WEEKNUM(Aujourd_hui,1) -> S31
A6: Item N° | B6: Priorité | C6: Etat | D6: Désignation de l'activité | E6: Tps estimé (j) | F6: Tps passé Intervenants (j) | G6: Tps passé Vérificateur (j) | H6: Début Projet | I6: Début Travaux | J6: Fin Travaux | K6: Fin Projet | L6: Données d'entrées | M6: Jours délai | N6: ="S"&WEEKNUM(N8,1)&TEXT(N8," mmmm") -> S31 juillet | S6: ="S"&WEEKNUM(S8,1)&TEXT(S8," mmmm") -> S32 août | X6: ="S"&WEEKNUM(X8,1)&TEXT(X8," mmmm") -> S33 août | AC6: ="S"&WEEKNUM(AC8,1)&TEXT(AC8," mmmm") -> S34 août | AH6: ="S"&WEEKNUM(AH8,1)&TEXT(AH8," mmmm") -> S35 août | AM6: ="S"&WEEKNUM(AM8,1)&TEXT(AM8," mmmm") -> S36 septembre | AR6: ="S"&WEEKNUM(AR8,1)&TEXT(AR8," mmmm") -> S37 septembre | AW6: ="S"&WEEKNUM(AW8,1)&TEXT(AW8," mmmm") -> S38 septembre
N7: =N8 -> 45502 | S7: =S8 -> 45509 | X7: =X8 -> 45516 | AC7: =AC8 -> 45523 | AH7: =AH8 -> 45530 | AM7: =AM8 -> 45537 | AR7: =AR8 -> 45544 | AW7: =AW8 -> 45551
N8: =Debut_calendrier-WEEKDAY(Debut_calendrier,1)+2+7*(Semaine_Affichage-1) -> 45502 | O8: =IF(WEEKDAY(N8)>5,N8+3,N8+1) -> 45503 | P8: =IF(WEEKDAY(O8)>5,O8+3,O8+1) -> 45504 | Q8: =IF(WEEKDAY(P8)>5,P8+3,P8+1) -> 45505 | R8: =IF(WEEKDAY(Q8)>5,Q8+3,Q8+1) -> 45506 | S8: =IF(WEEKDAY(R8)>5,R8+3,R8+1) -> 45509 | T8: =IF(WEEKDAY(S8)>5,S8+3,S8+1) -> 45510 | U8: =IF(WEEKDAY(T8)>5,T8+3,T8+1) -> 45511 | V8: =IF(WEEKDAY(U8)>5,U8+3,U8+1) -> 45512 | ... BA8: =IF(WEEKDAY(AZ8)>5,AZ8+3,AZ8+1) -> 45555
N9: =LEFT(TEXT(N8,"jjj"),1) -> l | O9: =LEFT(TEXT(O8,"jjj"),1) -> m | P9: =LEFT(TEXT(P8,"jjj"),1) -> m | Q9: =LEFT(TEXT(Q8,"jjj"),1) -> j | R9: =LEFT(TEXT(R8,"jjj"),1) -> v | S9: =LEFT(TEXT(S8,"jjj"),1) -> l | T9: =LEFT(TEXT(T8,"jjj"),1) -> m | U9: =LEFT(TEXT(U8,"jjj"),1) -> m | ... BA9: =LEFT(TEXT(BA8,"jjj"),1) -> v
A11: =IF(ISBLANK(Gain!A10),"-",Gain!A10) -> 1 | B11: =IF(ISBLANK(Gain!B10),"-",Gain!B10) -> - | C11: =IF(ISBLANK(Gain!C10),"-",Gain!C10) -> A commencer | D11: =IF(ISBLANK(Gain!D10),"-",Gain!D10) -> - | E11: =IF(ISBLANK(Gain!$E10),"-",Gain!$E10) -> - | H11: =IF(ISBLANK(Gain!K10),"-",Gain!K10) -> 45488 | K11: =IF(ISBLANK(Gain!Q10),"-",Gain!Q10) -> 45534 | L11: =IF(ISBLANK(Gain!$R10),"-",Gain!$R10) -> Oui | M11: =IF(ISBLANK(Gain!$S10),"-",Gain!S10) -> 35
A12: =IF(ISBLANK(Gain!A11),"-",Gain!A11) -> 2 | B12: =IF(ISBLANK(Gain!B11),"-",Gain!B11) -> - | C12: =IF(ISBLANK(Gain!C11),"-",Gain!C11) -> - | D12: =IF(ISBLANK(Gain!D11),"-",Gain!D11) -> - | E12: =IF(ISBLANK(Gain!$E11),"-",Gain!$E11) -> - | H12: =IF(ISBLANK(Gain!K11),"-",Gain!K11) -> 45390 | K12: =IF(ISBLANK(Gain!Q11),"-",Gain!Q11) -> 45595 | L12: =IF(ISBLANK(Gain!$R11),"-",Gain!$R11) -> - | M12: =IF(ISBLANK(Gain!$S11),"-",Gain!S11) -> 148
A13: =IF(ISBLANK(Gain!A12),"-",Gain!A12) -> 3 | B13: =IF(ISBLANK(Gain!B12),"-",Gain!B12) -> - | C13: =IF(ISBLANK(Gain!C12),"-",Gain!C12) -> - | D13: =IF(ISBLANK(Gain!D12),"-",Gain!D12) -> - | E13: =IF(ISBLANK(Gain!$E12),"-",Gain!$E12) -> - | H13: =IF(ISBLANK(Gain!K12),"-",Gain!K12) -> 45446 | K13: =IF(ISBLANK(Gain!Q12),"-",Gain!Q12) -> 45536 | L13: =IF(ISBLANK(Gain!$R12),"-",Gain!$R12) -> - | M13: =IF(ISBLANK(Gain!$S12),"-",Gain!S12) -> 65
A14: =IF(ISBLANK(Gain!A13),"-",Gain!A13) -> 4 | B14: =IF(ISBLANK(Gain!B13),"-",Gain!B13) -> - | C14: =IF(ISBLANK(Gain!C13),"-",Gain!C13) -> - | D14: =IF(ISBLANK(Gain!D13),"-",Gain!D13) -> - | E14: =IF(ISBLANK(Gain!$E13),"-",Gain!$E13) -> - | H14: =IF(ISBLANK(Gain!K13),"-",Gain!K13) -> 45511 | K14: =IF(ISBLANK(Gain!Q13),"-",Gain!Q13) -> 45511 | L14: =IF(ISBLANK(Gain!$R13),"-",Gain!$R13) -> - | M14: =IF(ISBLANK(Gain!$S13),"-",Gain!S13) -> 1
A15: =IF(ISBLANK(Gain!A14),"-",Gain!A14) -> 5 | B15: =IF(ISBLANK(Gain!B14),"-",Gain!B14) -> - | C15: =IF(ISBLANK(Gain!C14),"-",Gain!C14) -> - | D15: =IF(ISBLANK(Gain!D14),"-",Gain!D14) -> - | E15: =IF(ISBLANK(Gain!$E14),"-",Gain!$E14) -> - | H15: =IF(ISBLANK(Gain!K14),"-",Gain!K14) -> #NUM! | K15: =IF(ISBLANK(Gain!Q14),"-",Gain!Q14) -> #NUM! | L15: =IF(ISBLANK(Gain!$R14),"-",Gain!$R14) -> - | M15: =IF(ISBLANK(Gain!$S14),"-",Gain!S14) -> #NUM!
A16: =IF(ISBLANK(Gain!A15),"-",Gain!A15) -> 6 | B16: =IF(ISBLANK(Gain!B15),"-",Gain!B15) -> - | C16: =IF(ISBLANK(Gain!C15),"-",Gain!C15) -> - | D16: =IF(ISBLANK(Gain!D15),"-",Gain!D15) -> - | E16: =IF(ISBLANK(Gain!$E15),"-",Gain!$E15) -> - | H16: =IF(ISBLANK(Gain!K15),"-",Gain!K15) -> #NUM! | K16: =IF(ISBLANK(Gain!Q15),"-",Gain!Q15) -> #NUM! | L16: =IF(ISBLANK(Gain!$R15),"-",Gain!$R15) -> - | M16: =IF(ISBLANK(Gain!$S15),"-",Gain!S15) -> #NUM!
A17: =IF(ISBLANK(Gain!A16),"-",Gain!A16) -> 7 | B17: =IF(ISBLANK(Gain!B16),"-",Gain!B16) -> - | C17: =IF(ISBLANK(Gain!C16),"-",Gain!C16) -> - | D17: =IF(ISBLANK(Gain!D16),"-",Gain!D16) -> - | E17: =IF(ISBLANK(Gain!$E16),"-",Gain!$E16) -> - | H17: =IF(ISBLANK(Gain!K16),"-",Gain!K16) -> #NUM! | K17: =IF(ISBLANK(Gain!Q16),"-",Gain!Q16) -> #NUM! | L17: =IF(ISBLANK(Gain!$R16),"-",Gain!$R16) -> - | M17: =IF(ISBLANK(Gain!$S16),"-",Gain!$S16) -> #NUM!
A18: =IF(ISBLANK(Gain!A17),"-",Gain!A17) -> 8 | B18: =IF(ISBLANK(Gain!B17),"-",Gain!B17) -> - | C18: =IF(ISBLANK(Gain!C17),"-",Gain!C17) -> - | D18: =IF(ISBLANK(Gain!D17),"-",Gain!D17) -> - | E18: =IF(ISBLANK(Gain!$E17),"-",Gain!$E17) -> - | H18: =IF(ISBLANK(Gain!K17),"-",Gain!K17) -> #NUM! | K18: =IF(ISBLANK(Gain!Q17),"-",Gain!Q17) -> #NUM! | L18: =IF(ISBLANK(Gain!$R17),"-",Gain!$R17) -> - | M18: =IF(ISBLANK(Gain!$S17),"-",Gain!S17) -> #NUM!
A19: =IF(ISBLANK(Gain!A18),"-",Gain!A18) -> 9 | B19: =IF(ISBLANK(Gain!B18),"-",Gain!B18) -> - | C19: =IF(ISBLANK(Gain!C18),"-",Gain!C18) -> - | D19: =IF(ISBLANK(Gain!D18),"-",Gain!D18) -> - | E19: =IF(ISBLANK(Gain!$E18),"-",Gain!$E18) -> - | H19: =IF(ISBLANK(Gain!K18),"-",Gain!K18) -> #NUM! | K19: =IF(ISBLANK(Gain!Q18),"-",Gain!Q18) -> #NUM! | L19: =IF(ISBLANK(Gain!$R18),"-",Gain!$R18) -> - | M19: =IF(ISBLANK(Gain!$S18),"-",Gain!S18) -> #NUM!
A20: =IF(ISBLANK(Gain!A19),"-",Gain!A19) -> 10 | B20: =IF(ISBLANK(Gain!B19),"-",Gain!B19) -> - | C20: =IF(ISBLANK(Gain!C19),"-",Gain!C19) -> - | D20: =IF(ISBLANK(Gain!D19),"-",Gain!D19) -> - | E20: =IF(ISBLANK(Gain!$E19),"-",Gain!$E19) -> - | H20: =IF(ISBLANK(Gain!K19),"-",Gain!K19) -> #NUM! | K20: =IF(ISBLANK(Gain!Q19),"-",Gain!Q19) -> #NUM! | L20: =IF(ISBLANK(Gain!$R19),"-",Gain!$R19) -> - | M20: =IF(ISBLANK(Gain!$S19),"-",Gain!S19) -> #NUM!
A21: =IF(ISBLANK(Gain!A20),"-",Gain!A20) -> 11 | B21: =IF(ISBLANK(Gain!B20),"-",Gain!B20) -> - | C21: =IF(ISBLANK(Gain!C20),"-",Gain!C20) -> - | D21: =IF(ISBLANK(Gain!D20),"-",Gain!D20) -> - | E21: =IF(ISBLANK(Gain!$E20),"-",Gain!$E20) -> - | H21: =IF(ISBLANK(Gain!K20),"-",Gain!K20) -> #NUM! | K21: =IF(ISBLANK(Gain!Q20),"-",Gain!Q20) -> #NUM! | L21: =IF(ISBLANK(Gain!$R20),"-",Gain!$R20) -> - | M21: =IF(ISBLANK(Gain!$S20),"-",Gain!S20) -> #NUM!
A22: =IF(ISBLANK(Gain!A21),"-",Gain!A21) -> 12 | B22: =IF(ISBLANK(Gain!B21),"-",Gain!B21) -> - | C22: =IF(ISBLANK(Gain!C21),"-",Gain!C21) -> - | D22: =IF(ISBLANK(Gain!D21),"-",Gain!D21) -> - | E22: =IF(ISBLANK(Gain!$E21),"-",Gain!$E21) -> - | H22: =IF(ISBLANK(Gain!K21),"-",Gain!K21) -> #NUM! | K22: =IF(ISBLANK(Gain!Q21),"-",Gain!Q21) -> #NUM! | L22: =IF(ISBLANK(Gain!$R21),"-",Gain!$R21) -> - | M22: =IF(ISBLANK(Gain!$S21),"-",Gain!S21) -> #NUM!
A23: =IF(ISBLANK(Gain!A22),"-",Gain!A22) -> 13 | B23: =IF(ISBLANK(Gain!B22),"-",Gain!B22) -> - | C23: =IF(ISBLANK(Gain!C22),"-",Gain!C22) -> - | D23: =IF(ISBLANK(Gain!D22),"-",Gain!D22) -> - | E23: =IF(ISBLANK(Gain!$E22),"-",Gain!$E22) -> - | H23: =IF(ISBLANK(Gain!K22),"-",Gain!K22) -> #NUM! | K23: =IF(ISBLANK(Gain!Q22),"-",Gain!Q22) -> #NUM! | L23: =IF(ISBLANK(Gain!$R22),"-",Gain!$R22) -> - | M23: =IF(ISBLANK(Gain!$S22),"-",Gain!S22) -> #NUM!
A24: =IF(ISBLANK(Gain!A23),"-",Gain!A23) -> 14 | B24: =IF(ISBLANK(Gain!B23),"-",Gain!B23) -> - | C24: =IF(ISBLANK(Gain!C23),"-",Gain!C23) -> - | D24: =IF(ISBLANK(Gain!D23),"-",Gain!D23) -> - | E24: =IF(ISBLANK(Gain!$E23),"-",Gain!$E23) -> - | H24: =IF(ISBLANK(Gain!K23),"-",Gain!K23) -> #NUM! | K24: =IF(ISBLANK(Gain!Q23),"-",Gain!Q23) -> #NUM! | L24: =IF(ISBLANK(Gain!$R23),"-",Gain!$R23) -> - | M24: =IF(ISBLANK(Gain!$S23),"-",Gain!S23) -> #NUM!
A25: =IF(ISBLANK(Gain!A24),"-",Gain!A24) -> 15 | B25: =IF(ISBLANK(Gain!B24),"-",Gain!B24) -> - | C25: =IF(ISBLANK(Gain!C24),"-",Gain!C24) -> - | D25: =IF(ISBLANK(Gain!D24),"-",Gain!D24) -> - | E25: =IF(ISBLANK(Gain!$E24),"-",Gain!$E24) -> - | H25: =IF(ISBLANK(Gain!K24),"-",Gain!K24) -> #NUM! | K25: =IF(ISBLANK(Gain!Q24),"-",Gain!Q24) -> #NUM! | L25: =IF(ISBLANK(Gain!$R24),"-",Gain!$R24) -> - | M25: =IF(ISBLANK(Gain!$S24),"-",Gain!S24) -> #NUM!
A26: =IF(ISBLANK(Gain!A25),"-",Gain!A25) -> 16 | B26: =IF(ISBLANK(Gain!B25),"-",Gain!B25) -> - | C26: =IF(ISBLANK(Gain!C25),"-",Gain!C25) -> - | D26: =IF(ISBLANK(Gain!D25),"-",Gain!D25) -> - | E26: =IF(ISBLANK(Gain!$E25),"-",Gain!$E25) -> - | H26: =IF(ISBLANK(Gain!K25),"-",Gain!K25) -> #NUM! | K26: =IF(ISBLANK(Gain!Q25),"-",Gain!Q25) -> #NUM! | L26: =IF(ISBLANK(Gain!$R25),"-",Gain!$R25) -> - | M26: =IF(ISBLANK(Gain!$S25),"-",Gain!S25) -> #NUM!
A27: =IF(ISBLANK(Gain!A26),"-",Gain!A26) -> 17 | B27: =IF(ISBLANK(Gain!B26),"-",Gain!B26) -> - | C27: =IF(ISBLANK(Gain!C26),"-",Gain!C26) -> - | D27: =IF(ISBLANK(Gain!D26),"-",Gain!D26) -> - | E27: =IF(ISBLANK(Gain!$E26),"-",Gain!$E26) -> - | H27: =IF(ISBLANK(Gain!K26),"-",Gain!K26) -> #NUM! | K27: =IF(ISBLANK(Gain!Q26),"-",Gain!Q26) -> #NUM! | L27: =IF(ISBLANK(Gain!$R26),"-",Gain!$R26) -> - | M27: =IF(ISBLANK(Gain!$S26),"-",Gain!S26) -> #NUM!
A28: =IF(ISBLANK(Gain!A27),"-",Gain!A27) -> 18 | B28: =IF(ISBLANK(Gain!B27),"-",Gain!B27) -> - | C28: =IF(ISBLANK(Gain!C27),"-",Gain!C27) -> - | D28: =IF(ISBLANK(Gain!D27),"-",Gain!D27) -> - | E28: =IF(ISBLANK(Gain!$E27),"-",Gain!$E27) -> - | H28: =IF(ISBLANK(Gain!K27),"-",Gain!K27) -> #NUM! | K28: =IF(ISBLANK(Gain!Q27),"-",Gain!Q27) -> #NUM! | L28: =IF(ISBLANK(Gain!$R27),"-",Gain!$R27) -> - | M28: =IF(ISBLANK(Gain!$S27),"-",Gain!S27) -> #NUM!
A29: =IF(ISBLANK(Gain!A28),"-",Gain!A28) -> 19 | B29: =IF(ISBLANK(Gain!B28),"-",Gain!B28) -> - | C29: =IF(ISBLANK(Gain!C28),"-",Gain!C28) -> - | D29: =IF(ISBLANK(Gain!D28),"-",Gain!D28) -> - | E29: =IF(ISBLANK(Gain!$E28),"-",Gain!$E28) -> - | H29: =IF(ISBLANK(Gain!K28),"-",Gain!K28) -> #NUM! | K29: =IF(ISBLANK(Gain!Q28),"-",Gain!Q28) -> #NUM! | L29: =IF(ISBLANK(Gain!$R28),"-",Gain!$R28) -> - | M29: =IF(ISBLANK(Gain!$S28),"-",Gain!S28) -> #NUM!
... A110: =IF(ISBLANK(Gain!A109),"-",Gain!A109) -> 100 | B110: =IF(ISBLANK(Gain!B109),"-",Gain!B109) -> - | C110: =IF(ISBLANK(Gain!C109),"-",Gain!C109) -> - | D110: =IF(ISBLANK(Gain!D109),"-",Gain!D109) -> - | E110: =IF(ISBLANK(Gain!$E109),"-",Gain!$E109) -> - | H110: =IF(ISBLANK(Gain!K109),"-",Gain!K109) -> #NUM! | K110: =IF(ISBLANK(Gain!Q109),"-",Gain!Q109) -> #NUM! | L110: =IF(ISBLANK(Gain!$R109),"-",Gain!$R109) -> - | M110: =IF(ISBLANK(Gain!$S109),"-",Gain!S109) -> #NUM!

Sheet Gain
A2: Affaire:MBDA BOURGES SUBDRAY A-FIM BE26408-02
A3: Item N° | B3: Priorité | C3: Etat | D3: Désignation de l'activité | E3: Tps de réalisation (j) | F3: Tps passé Intervenants (j) | G3: Tps passé Vérificateur (j) | H3: T0 Demandé | I3: T0 Proposé | J3: T0 Recalé | K3: Début Projet | L3: Début Travaux | M3: Tfin Demandé | N3: Tfin Proposé | O3: Tfin Recalé | P3: Fin Travaux | Q3: Fin Projet | R3: Données d'entrées | S3: Jours délai
D7: PROJET
A10: 1 | B10: - | C10: A commencer | D10: - | E10: - | F10: =IF(ISBLANK(Recap!F11),"-",Recap!F11) -> - | G10: =IF(ISBLANK(Recap!G11),"-",Recap!G11) -> - | H10: 45474 | I10: 45488 | K10: =IF(ISBLANK($J10),LARGE($H10:$I10,1),$J10) -> 45488 | M10: 45503 | N10: 45519 | O10: 45534 | Q10: =IF(ISBLANK($O10),LARGE($M10:$N10,1),$O10) -> 45534 | R10: Oui | S10: =IF(ISBLANK(OR(H10:K10,M10:Q10)),"-",NETWORKDAYS.INTL(K10,Q10,1,)) -> 35
A11: 2 | B11: - | C11: - | D11: - | E11: - | F11: =IF(ISBLANK(Recap!F12),"-",Recap!F12) -> - | G11: =IF(ISBLANK(Recap!G12),"-",Recap!G12) -> - | H11: 45388 | J11: 45390 | K11: =IF(ISBLANK($J11),LARGE($H11:$I11,1),$J11) -> 45390 | M11: 45575 | O11: 45595 | Q11: =IF(ISBLANK($O11),LARGE($M11:$N11,1),$O11) -> 45595 | R11: - | S11: =IF(ISBLANK(OR(H11:K11,M11:Q11)),"-",NETWORKDAYS.INTL(K11,Q11,1,)) -> 148
A12: 3 | B12: - | C12: - | D12: - | E12: - | F12: =IF(ISBLANK(Recap!F13),"-",Recap!F13) -> - | G12: =IF(ISBLANK(Recap!G13),"-",Recap!G13) -> - | I12: 45446 | K12: =IF(ISBLANK($J12),LARGE($H12:$I12,1),$J12) -> 45446 | N12: 45536 | Q12: =IF(ISBLANK($O12),LARGE($M12:$N12,1),$O12) -> 45536 | R12: - | S12: =IF(ISBLANK(OR(H12:K12,M12:Q12)),"-",NETWORKDAYS.INTL(K12,Q12,1,)) -> 65
A13: 4 | B13: - | C13: - | D13: - | E13: - | F13: =IF(ISBLANK(Recap!F14),"-",Recap!F14) -> - | G13: =IF(ISBLANK(Recap!G14),"-",Recap!G14) -> - | H13: 45511 | I13: 45503 | K13: =IF(ISBLANK($J13),LARGE($H13:$I13,1),$J13) -> 45511 | M13: 45534 | N13: 45519 | O13: 45511 | Q13: =IF(ISBLANK($O13),LARGE($M13:$N13,1),$O13) -> 45511 | R13: - | S13: =IF(ISBLANK(OR(H13:K13,M13:Q13)),"-",NETWORKDAYS.INTL(K13,Q13,1,)) -> 1
A14: 5 | B14: - | C14: - | D14: - | E14: - | F14: =IF(ISBLANK(Recap!F15),"-",Recap!F15) -> - | G14: =IF(ISBLANK(Recap!G15),"-",Recap!G15) -> - | K14: =IF(ISBLANK($J14),LARGE($H14:$I14,1),$J14) -> #NUM! | Q14: =IF(ISBLANK($O14),LARGE($M14:$N14,1),$O14) -> #NUM! | R14: - | S14: =IF(ISBLANK(OR(H14:K14,M14:Q14)),"-",NETWORKDAYS.INTL(K14,Q14,1,)) -> #NUM!
A15: 6 | B15: - | C15: - | D15: - | E15: - | F15: =IF(ISBLANK(Recap!F16),"-",Recap!F16) -> - | G15: =IF(ISBLANK(Recap!G16),"-",Recap!G16) -> - | K15: =IF(ISBLANK($J15),LARGE($H15:$I15,1),$J15) -> #NUM! | Q15: =IF(ISBLANK($O15),LARGE($M15:$N15,1),$O15) -> #NUM! | R15: - | S15: =IF(ISBLANK(OR(H15:K15,M15:Q15)),"-",NETWORKDAYS.INTL(K15,Q15,1,)) -> #NUM!
A16: 7 | B16: - | C16: - | D16: - | E16: - | F16: =IF(ISBLANK(Recap!F17),"-",Recap!F17) -> - | G16: =IF(ISBLANK(Recap!G17),"-",Recap!G17) -> - | K16: =IF(ISBLANK($J16),LARGE($H16:$I16,1),$J16) -> #NUM! | Q16: =IF(ISBLANK($O16),LARGE($M16:$N16,1),$O16) -> #NUM! | R16: - | S16: =IF(ISBLANK(OR(H16:K16,M16:Q16)),"-",NETWORKDAYS.INTL(K16,Q16,1,)) -> #NUM!
A17: 8 | B17: - | C17: - | D17: - | E17: - | F17: =IF(ISBLANK(Recap!F18),"-",Recap!F18) -> - | G17: =IF(ISBLANK(Recap!G18),"-",Recap!G18) -> - | K17: =IF(ISBLANK($J17),LARGE($H17:$I17,1),$J17) -> #NUM! | Q17: =IF(ISBLANK($O17),LARGE($M17:$N17,1),$O17) -> #NUM! | R17: - | S17: =IF(ISBLANK(OR(H17:K17,M17:Q17)),"-",NETWORKDAYS.INTL(K17,Q17,1,)) -> #NUM!
A18: 9 | B18: - | C18: - | D18: - | E18: - | F18: =IF(ISBLANK(Recap!F19),"-",Recap!F19) -> - | G18: =IF(ISBLANK(Recap!G19),"-",Recap!G19) -> - | K18: =IF(ISBLANK($J18),LARGE($H18:$I18,1),$J18) -> #NUM! | Q18: =IF(ISBLANK($O18),LARGE($M18:$N18,1),$O18) -> #NUM! | R18: - | S18: =IF(ISBLANK(OR(H18:K18,M18:Q18)),"-",NETWORKDAYS.INTL(K18,Q18,1,)) -> #NUM!
A19: 10 | B19: - | C19: - | D19: - | E19: - | F19: =IF(ISBLANK(Recap!F20),"-",Recap!F20) -> - | G19: =IF(ISBLANK(Recap!G20),"-",Recap!G20) -> - | K19: =IF(ISBLANK($J19),LARGE($H19:$I19,1),$J19) -> #NUM! | Q19: =IF(ISBLANK($O19),LARGE($M19:$N19,1),$O19) -> #NUM! | R19: - | S19: =IF(ISBLANK(OR(H19:K19,M19:Q19)),"-",NETWORKDAYS.INTL(K19,Q19,1,)) -> #NUM!
A20: 11 | B20: - | C20: - | D20: - | E20: - | F20: =IF(ISBLANK(Recap!F21),"-",Recap!F21) -> - | G20: =IF(ISBLANK(Recap!G21),"-",Recap!G21) -> - | K20: =IF(ISBLANK($J20),LARGE($H20:$I20,1),$J20) -> #NUM! | Q20: =IF(ISBLANK($O20),LARGE($M20:$N20,1),$O20) -> #NUM! | R20: - | S20: =IF(ISBLANK(OR(H20:K20,M20:Q20)),"-",NETWORKDAYS.INTL(K20,Q20,1,)) -> #NUM!
A21: 12 | B21: - | C21: - | D21: - | E21: - | F21: =IF(ISBLANK(Recap!F22),"-",Recap!F22) -> - | G21: =IF(ISBLANK(Recap!G22),"-",Recap!G22) -> - | K21: =IF(ISBLANK($J21),LARGE($H21:$I21,1),$J21) -> #NUM! | Q21: =IF(ISBLANK($O21),LARGE($M21:$N21,1),$O21) -> #NUM! | R21: - | S21: =IF(ISBLANK(OR(H21:K21,M21:Q21)),"-",NETWORKDAYS.INTL(K21,Q21,1,)) -> #NUM!
A22: 13 | B22: - | C22: - | D22: - | E22: - | F22: =IF(ISBLANK(Recap!F23),"-",Recap!F23) -> - | G22: =IF(ISBLANK(Recap!G23),"-",Recap!G23) -> - | K22: =IF(ISBLANK($J22),LARGE($H22:$I22,1),$J22) -> #NUM! | Q22: =IF(ISBLANK($O22),LARGE($M22:$N22,1),$O22) -> #NUM! | R22: - | S22: =IF(ISBLANK(OR(H22:K22,M22:Q22)),"-",NETWORKDAYS.INTL(K22,Q22,1,)) -> #NUM!
A23: 14 | B23: - | C23: - | D23: - | E23: - | F23: =IF(ISBLANK(Recap!F24),"-",Recap!F24) -> - | G23: =IF(ISBLANK(Recap!G24),"-",Recap!G24) -> - | K23: =IF(ISBLANK($J23),LARGE($H23:$I23,1),$J23) -> #NUM! | Q23: =IF(ISBLANK($O23),LARGE($M23:$N23,1),$O23) -> #NUM! | R23: - | S23: =IF(ISBLANK(OR(H23:K23,M23:Q23)),"-",NETWORKDAYS.INTL(K23,Q23,1,)) -> #NUM!
A24: 15 | B24: - | C24: - | D24: - | E24: - | F24: =IF(ISBLANK(Recap!F25),"-",Recap!F25) -> - | G24: =IF(ISBLANK(Recap!G25),"-",Recap!G25) -> - | K24: =IF(ISBLANK($J24),LARGE($H24:$I24,1),$J24) -> #NUM! | Q24: =IF(ISBLANK($O24),LARGE($M24:$N24,1),$O24) -> #NUM! | R24: - | S24: =IF(ISBLANK(OR(H24:K24,M24:Q24)),"-",NETWORKDAYS.INTL(K24,Q24,1,)) -> #NUM!
A25: 16 | B25: - | C25: - | D25: - | E25: - | F25: =IF(ISBLANK(Recap!F26),"-",Recap!F26) -> - | G25: =IF(ISBLANK(Recap!G26),"-",Recap!G26) -> - | K25: =IF(ISBLANK($J25),LARGE($H25:$I25,1),$J25) -> #NUM! | Q25: =IF(ISBLANK($O25),LARGE($M25:$N25,1),$O25) -> #NUM! | R25: - | S25: =IF(ISBLANK(OR(H25:K25,M25:Q25)),"-",NETWORKDAYS.INTL(K25,Q25,1,)) -> #NUM!
... A34: 25 | B34: - | C34: - | D34: - | E34: - | F34: =IF(ISBLANK(Recap!F35),"-",Recap!F35) -> - | G34: =IF(ISBLANK(Recap!G35),"-",Recap!G35) -> - | K34: =IF(ISBLANK($J34),LARGE($H34:$I34,1),$J34) -> #NUM! | Q34: =IF(ISBLANK($O34),LARGE($M34:$N34,1),$O34) -> #NUM! | R34: - | S34: =IF(ISBLANK(OR(H34:K34,M34:Q34)),"-",NETWORKDAYS.INTL(K34,Q34,1,)) -> #NUM!
A35: 26 | B35: - | C35: - | D35: - | E35: - | F35: =IF(ISBLANK(Recap!F36),"-",Recap!F36) -> - | G35: =IF(ISBLANK(Recap!G36),"-",Recap!G36) -> - | H35: 45324 | I35: 45449 | K35: =IF(ISBLANK($J35),LARGE($H35:$I35,1),$J35) -> 45449 | M35: 45512 | N35: 45520 | O35: 45528 | Q35: =IF(ISBLANK($O35),LARGE($M35:$N35,1),$O35) -> 45528 | R35: - | S35: =IF(ISBLANK(OR(H35:K35,M35:Q35)),"-",NETWORKDAYS.INTL(K35,Q35,1,)) -> 57
A36: 27 | B36: - | C36: - | D36: - | E36: - | F36: =IF(ISBLANK(Recap!F37),"-",Recap!F37) -> - | G36: =IF(ISBLANK(Recap!G37),"-",Recap!G37) -> - | K36: =IF(ISBLANK($J36),LARGE($H36:$I36,1),$J36) -> #NUM! | Q36: =IF(ISBLANK($O36),LARGE($M36:$N36,1),$O36) -> #NUM! | R36: - | S36: =IF(ISBLANK(OR(H36:K36,M36:Q36)),"-",NETWORKDAYS.INTL(K36,Q36,1,)) -> #NUM!
A37: 28 | B37: - | C37: - | D37: - | E37: - | F37: =IF(ISBLANK(Recap!F38),"-",Recap!F38) -> - | G37: =IF(ISBLANK(Recap!G38),"-",Recap!G38) -> - | K37: =IF(ISBLANK($J37),LARGE($H37:$I37,1),$J37) -> #NUM! | Q37: =IF(ISBLANK($O37),LARGE($M37:$N37,1),$O37) -> #NUM! | R37: - | S37: =IF(ISBLANK(OR(H37:K37,M37:Q37)),"-",NETWORKDAYS.INTL(K37,Q37,1,)) -> #NUM!
A38: 29 | B38: - | C38: - | D38: - | E38: - | F38: =IF(ISBLANK(Recap!F39),"-",Recap!F39) -> - | G38: =IF(ISBLANK(Recap!G39),"-",Recap!G39) -> - | K38: =IF(ISBLANK($J38),LARGE($H38:$I38,1),$J38) -> #NUM! | Q38: =IF(ISBLANK($O38),LARGE($M38:$N38,1),$O38) -> #NUM! | R38: - | S38: =IF(ISBLANK(OR(H38:K38,M38:Q38)),"-",NETWORKDAYS.INTL(K38,Q38,1,)) -> #NUM!
A39: 30 | B39: - | C39: - | D39: - | E39: - | F39: =IF(ISBLANK(Recap!F40),"-",Recap!F40) -> - | G39: =IF(ISBLANK(Recap!G40),"-",Recap!G40) -> - | K39: =IF(ISBLANK($J39),LARGE($H39:$I39,1),$J39) -> #NUM! | Q39: =IF(ISBLANK($O39),LARGE($M39:$N39,1),$O39) -> #NUM! | R39: - | S39: =IF(ISBLANK(OR(H39:K39,M39:Q39)),"-",NETWORKDAYS.INTL(K39,Q39,1,)) -> #NUM!
A40: 31 | B40: - | C40: - | D40: - | E40: - | F40: =IF(ISBLANK(Recap!F41),"-",Recap!F41) -> - | G40: =IF(ISBLANK(Recap!G41),"-",Recap!G41) -> - | K40: =IF(ISBLANK($J40),LARGE($H40:$I40,1),$J40) -> #NUM! | Q40: =IF(ISBLANK($O40),LARGE($M40:$N40,1),$O40) -> #NUM! | R40: - | S40: =IF(ISBLANK(OR(H40:K40,M40:Q40)),"-",NETWORKDAYS.INTL(K40,Q40,1,)) -> #NUM!
A41: 32 | B41: - | C41: - | D41: - | E41: - | F41: =IF(ISBLANK(Recap!F42),"-",Recap!F42) -> - | G41: =IF(ISBLANK(Recap!G42),"-",Recap!G42) -> - | K41: =IF(ISBLANK($J41),LARGE($H41:$I41,1),$J41) -> #NUM! | Q41: =IF(ISBLANK($O41),LARGE($M41:$N41,1),$O41) -> #NUM! | R41: - | S41: =IF(ISBLANK(OR(H41:K41,M41:Q41)),"-",NETWORKDAYS.INTL(K41,Q41,1,)) -> #NUM!
A42: 33 | B42: - | C42: - | D42: - | E42: - | F42: =IF(ISBLANK(Recap!F43),"-",Recap!F43) -> - | G42: =IF(ISBLANK(Recap!G43),"-",Recap!G43) -> - | K42: =IF(ISBLANK($J42),LARGE($H42:$I42,1),$J42) -> #NUM! | Q42: =IF(ISBLANK($O42),LARGE($M42:$N42,1),$O42) -> #NUM! | R42: - | S42: =IF(ISBLANK(OR(H42:K42,M42:Q42)),"-",NETWORKDAYS.INTL(K42,Q42,1,)) -> #NUM!
A43: 34 | B43: - | C43: - | D43: - | E43: - | F43: =IF(ISBLANK(Recap!F44),"-",Recap!F44) -> - | G43: =IF(ISBLANK(Recap!G44),"-",Recap!G44) -> - | K43: =IF(ISBLANK($J43),LARGE($H43:$I43,1),$J43) -> #NUM! | Q43: =IF(ISBLANK($O43),LARGE($M43:$N43,1),$O43) -> #NUM! | R43: - | S43: =IF(ISBLANK(OR(H43:K43,M43:Q43)),"-",NETWORKDAYS.INTL(K43,Q43,1,)) -> #NUM!
A44: 35 | B44: - | C44: - | D44: - | E44: - | F44: =IF(ISBLANK(Recap!F45),"-",Recap!F45) -> - | G44: =IF(ISBLANK(Recap!G45),"-",Recap!G45) -> - | K44: =IF(ISBLANK($J44),LARGE($H44:$I44,1),$J44) -> #NUM! | Q44: =IF(ISBLANK($O44),LARGE($M44:$N44,1),$O44) -> #NUM! | R44: - | S44: =IF(ISBLANK(OR(H44:K44,M44:Q44)),"-",NETWORKDAYS.INTL(K44,Q44,1,)) -> #NUM!
A45: 36 | B45: - | C45: - | D45: - | E45: - | F45: =IF(ISBLANK(Recap!F46),"-",Recap!F46) -> - | G45: =IF(ISBLANK(Recap!G46),"-",Recap!G46) -> - | K45: =IF(ISBLANK($J45),LARGE($H45:$I45,1),$J45) -> #NUM! | Q45: =IF(ISBLANK($O45),LARGE($M45:$N45,1),$O45) -> #NUM! | R45: - | S45: =IF(ISBLANK(OR(H45:K45,M45:Q45)),"-",NETWORKDAYS.INTL(K45,Q45,1,)) -> #NUM!
A46: 37 | B46: - | C46: - | D46: - | E46: - | F46: =IF(ISBLANK(Recap!F47),"-",Recap!F47) -> - | G46: =IF(ISBLANK(Recap!G47),"-",Recap!G47) -> - | K46: =IF(ISBLANK($J46),LARGE($H46:$I46,1),$J46) -> #NUM! | Q46: =IF(ISBLANK($O46),LARGE($M46:$N46,1),$O46) -> #NUM! | R46: - | S46: =IF(ISBLANK(OR(H46:K46,M46:Q46)),"-",NETWORKDAYS.INTL(K46,Q46,1,)) -> #NUM!
A47: 38 | B47: - | C47: - | D47: - | E47: - | F47: =IF(ISBLANK(Recap!F48),"-",Recap!F48) -> - | G47: =IF(ISBLANK(Recap!G48),"-",Recap!G48) -> - | K47: =IF(ISBLANK($J47),LARGE($H47:$I47,1),$J47) -> #NUM! | Q47: =IF(ISBLANK($O47),LARGE($M47:$N47,1),$O47) -> #NUM! | R47: - | S47: =IF(ISBLANK(OR(H47:K47,M47:Q47)),"-",NETWORKDAYS.INTL(K47,Q47,1,)) -> #NUM!
... A109: 100 | B109: - | C109: - | D109: - | E109: - | F109: =IF(ISBLANK(Recap!F110),"-",Recap!F110) -> - | G109: =IF(ISBLANK(Recap!G110),"-",Recap!G110) -> - | K109: =IF(ISBLANK($J109),LARGE($H109:$I109,1),$J109) -> #NUM! | Q109: =IF(ISBLANK($O109),LARGE($M109:$N109,1),$O109) -> #NUM! | R109: - | S109: =IF(ISBLANK(OR(H109:K109,M109:Q109)),"-",NETWORKDAYS.INTL(K109,Q109,1,)) -> #NUM!

Sheet Data
A2: PRIORITE | B2: AVANCEMENT | C2: PROJETS | D2: INTERVANTS | E2: INTERLOCUTEURS | F2: DONNEES D'ENTREES
A3: Urgent | B3: A commencer | D3: A | F3: Oui
A4: Priorité 1 | B4: En cours | D4: B | F4: Non
A5: Priorité 2 | B5: En Auto-Contrôle | D5: C | F5: En cours
A6: Priorité 3 | B6: A vérifier | D6: D | F6: -
A7: Priorité 4 | B7: En vérificaiton client | D7: E
A8: - | B8: En attente d'information | D8: -
B9: -
