Workbook
Name _Toc535760073: Programme!$B$2

Sheet Programme
B2: 1. GRILLES DE PARCOURS
B3: Semestre 1 option chaudronnerie et soudure : Liste des Unités d’Enseignement et matières associées
B4: Code UE | C4: Intitulé | D4: Type | E4: Code | F4: Intitulé Elément Constitutif (EC) | G4: Crédits
C5: UE | D5: EC | E5: EC | F5: / Subject title | G5: CCTS
B6: OMA31 | C6: Outils mathématiques | E6: MO311 | F6: Mathématiques appliquées et outils | G6: 3
E7: MO312 | F7: Analyse numérique / MATLAB | G7: 3
B8: LCA31 | C8: Conception assisté par Ordinateur | E8: DA311 | F8: DAO/CAO | G8: 2
E9: DA312 | F9: DAO/CAO 3D | G9: 2
B10: ELA31 | C10: Entreprise et Langue | E10: EC311 | F10: Entreprenariat et création d’entreprise | G10: 2
E11: EC312 | F11: Anglais | G11: 2
E12: EC313 | F12: Technique d'expression et de communication | G12: 2
B13: SPE31 | C13: UE FONDAMENTALE | E13: SP311 | F13: Traçage et construction | G13: 4
E14: SP312 | F14: Tuyauterie approfondie | G14: 3
E15: SP313 | F15: Métrologie | G15: 4
E16: SP314 | F16: Analyse de fabrication | G16: 3
G17: =SUM(G6:G16) -> 30
B21: Semestre 2 (LMD) Option Bâtiment: Liste des Unités d’Enseignement et matières associées
B23: Code UE | C23: Intitulé | E23: Code | F23: Intitulé Elément Constitutif (EC)/ Subject title | G23: Crédits
C24: UE | E24: EC | G24: CCTS
B26: MET32 | C26: UE Metiers | E26: MT321 | F26: Mécanique des fluides | G26: 2
E27: MT322 | F27: Analyse des systèmes | G27: 3
E28: MT323 | F28: Instrumentation | G28: 2
E29: MT324 | F29: Analyse fonctionnelle | G29: 3
E30: MT325 | F30: Calculs des structures | G30: 3
E31: MT326 | F31: Contrôle non destructif | G31: 2
B32: PSP32 | C32: Projets et Stage Professionnel | E32: PP321 | F32: Projet tutoré | G32: 4
E33: PP322 | F33: Stage Professionnel | G33: 4
E34: PP323 | F34: Soutenance de rapport de stage | G34: 6
E35: PP324 | F35: Méthodologie de rédaction d'un rapport de stage | G35: 1
G36: =SUM(G26:G35) -> 30

Sheet Liste de classe
A1: Liste de classe | D1: CHS3
A2: N° | B2: NOMS ET PRENOMS | C2: MATRICULE
A3: 1 | B3: AZAZILE | C3: 23SED104S
A4: =+A3+1 -> 2 | B4: AURELIEN JOEL | C4: 22SED056S
A5: =+A4+1 -> 3 | B5: JACQUE ROSTANT | C5: 23SED105S

Sheet CHS3_SEM1
B9: PROCES VERBAL DES EXAMENS DU PREMIER SEMESTRE
B10: ANNEE ACADEMIQUE 2023/2024
B11: NIVEAU 3 LICENCE GENIE MECANIQUE OPTION CHAUDRONNERIE ET SOUDURE (GME_CHS3)
C13: MO311 | F13: MO312 | I13: DA311 | L13: DA312 | O13: EC311 | R13: EC312 | U13: EC313 | X13: SP311 | AA13: SP312 | AD13: SP313 | AG13: SP314
A14: N° | B14: NOMS ET PRENOMS | C14: CC | D14: EE | E14: MOY | F14: CC | G14: EE | H14: MOY | I14: CC | J14: EE | K14: MOY | L14: CC | M14: EE | N14: MOY | O14: CC | P14: EE | Q14: MOY | R14: CC | S14: EE | T14: MOY | U14: CC | V14: EE | W14: MOY | X14: CC | Y14: EE | Z14: MOY | AA14: CC | AB14: EE | AC14: MOY | AD14: CC | AE14: EE | AF14: MOY | AG14: CC | AH14: EE | AI14: MOY
A15: 1 | B15: AZAZILE | C15: 15.5 | D15: 13 | E15: =IF(C15<>0,C15*0.3+D15*0.7,"") -> 13.75 | F15: 16.5 | G15: 13 | H15: =IF(F15<>0,F15*0.3+G15*0.7,"") -> 14.05 | I15: 12.5 | J15: 9.25 | K15: =IF(I15<>0,I15*0.3+J15*0.7,"") -> 10.225 | L15: 13 | M15: 13 | N15: =IF(L15<>0,L15*0.3+M15*0.7,"") -> 13 | O15: 16.5 | P15: 15 | Q15: =IF(O15<>0,O15*0.3+P15*0.7,"") -> 15.45 | R15: 17 | S15: 11 | T15: =IF(R15<>0,R15*0.3+S15*0.7,"") -> 12.8 | U15: 17.5 | V15: 11 | W15: =IF(U15<>0,U15*0.3+V15*0.7,"") -> 12.95 | X15: 13.5 | Y15: 10 | Z15: =IF(X15<>0,X15*0.3+Y15*0.7,"") -> 11.05 | AA15: 14 | AB15: 10 | AC15: =IF(AA15<>0,AA15*0.3+AB15*0.7,"") -> 11.2 | AD15: 14 | AE15: 8 | AF15: =IF(AD15<>0,AD15*0.3+AE15*0.7,"") -> 9.8 | AG15: 12.5 | AH15: 9.25 | AI15: =IF(AG15<>0,AG15*0.3+AH15*0.7,"") -> 10.225
A16: =+A15+1 -> 2 | B16: AURELIEN JOEL | C16: 16.5 | D16: 10 | E16: =IF(C16<>0,C16*0.3+D16*0.7,"") -> 11.95 | F16: 17.5 | G16: 10 | H16: =IF(F16<>0,F16*0.3+G16*0.7,"") -> 12.25 | I16: 13 | J16: 9 | K16: =IF(I16<>0,I16*0.3+J16*0.7,"") -> 10.2 | L16: 15 | M16: 15 | N16: =IF(L16<>0,L16*0.3+M16*0.7,"") -> 15 | O16: 17 | P16: 11.75 | Q16: =IF(O16<>0,O16*0.3+P16*0.7,"") -> 13.325 | R16: 16.5 | S16: 10 | T16: =IF(R16<>0,R16*0.3+S16*0.7,"") -> 11.95 | U16: 16.5 | V16: 15 | W16: =IF(U16<>0,U16*0.3+V16*0.7,"") -> 15.45 | X16: 14 | Y16: 9 | Z16: =IF(X16<>0,X16*0.3+Y16*0.7,"") -> 10.5 | AA16: 14 | AB16: 10 | AC16: =IF(AA16<>0,AA16*0.3+AB16*0.7,"") -> 11.2 | AD16: 14 | AE16: 8 | AF16: =IF(AD16<>0,AD16*0.3+AE16*0.7,"") -> 9.8 | AG16: 13 | AH16: 9 | AI16: =IF(AG16<>0,AG16*0.3+AH16*0.7,"") -> 10.2
A17: =+A16+1 -> 3 | B17: JACQUE ROSTANT | C17: 17.5 | D17: 12 | E17: =IF(C17<>0,C17*0.3+D17*0.7,"") -> 13.65 | F17: 16.5 | G17: 13 | H17: =IF(F17<>0,F17*0.3+G17*0.7,"") -> 14.05 | I17: 14.5 | J17: 9 | K17: =IF(I17<>0,I17*0.3+J17*0.7,"") -> 10.65 | L17: 14 | M17: 14 | N17: =IF(L17<>0,L17*0.3+M17*0.7,"") -> 14 | O17: 18.5 | P17: 12 | Q17: =IF(O17<>0,O17*0.3+P17*0.7,"") -> 13.95 | R17: 17 | S17: 10.5 | T17: =IF(R17<>0,R17*0.3+S17*0.7,"") -> 12.45 | U17: 15 | V17: 16.5 | W17: =IF(U17<>0,U17*0.3+V17*0.7,"") -> 16.05 | X17: 15.5 | Y17: 13 | Z17: =IF(X17<>0,X17*0.3+Y17*0.7,"") -> 13.75 | AA17: 14 | AB17: 10 | AC17: =IF(AA17<>0,AA17*0.3+AB17*0.7,"") -> 11.2 | AD17: 14 | AE17: 8 | AF17: =IF(AD17<>0,AD17*0.3+AE17*0.7,"") -> 9.8 | AG17: 14.5 | AH17: 9 | AI17: =IF(AG17<>0,AG17*0.3+AH17*0.7,"") -> 10.65
H20: MO311 | I20: Mathématiques appliquées et outils | N20: DA311 | P20: DAO/CAO
H21: MO312 | I21: Analyse numérique / MATLAP | N21: DA312 | P21: DAO/CAO 3D
H23: EC311 | I23: Entreprenariat et création d’entreprise | N23: SP311 | P23: Traçage et construction
H24: EC312 | I24: Anglais | N24: SP312 | P24: Tuyauterie approfondie
H25: EC313 | I25: Technique d'expression et de communication | N25: SP313 | P25: Métrologie
H26: SP311 | I26: Traçage et construction | N26: SP314 | P26: Analyse de fabrication

Sheet CHS3_SEM2
H8: IURB
B9: PROCES VERBAL DES EXAMENS DU SECOND SEMESTRE
B10: ANNEE ACADEMIQUE 2023/2024
B11: NIVEAU 3 LICENCE GENIE MECANIQUE OPTION CHAUDRONNERIE ET SOUDURE (GME_CHS3)
C13: MT321 | F13: MT322 | I13: MT323 | L13: MT324 | O13: MT325 | R13: MT326 | U13: PP321 | X13: PP322 | AA13: PP323 | AD13: PP324
A14: N° | B14: NOMS ET PRENOMS | C14: CC | D14: EE | E14: MOY | F14: CC | G14: EE | H14: MOY | I14: CC | J14: EE | K14: MOY | L14: CC | M14: EE | N14: MOY | O14: CC | P14: EE | Q14: MOY | R14: CC | S14: EE | T14: MOY | U14: CC | V14: EE | W14: MOY | X14: CC | Y14: EE | Z14: MOY | AA14: CC | AB14: EE | AC14: MOY | AD14: CC | AE14: EE | AF14: MOY
A15: 1 | B15: AZAZILE | C15: 10 | D15: 12 | E15: =IF(C15<>0,C15*0.3+D15*0.7,"") -> 11.4 | F15: 8 | G15: 8 | H15: =IF(F15<>0,F15*0.3+G15*0.7,"") -> 8 | I15: 20 | J15: 10 | K15: =IF(I15<>0,I15*0.3+J15*0.7,"") -> 13 | L15: 5 | M15: 12 | N15: =IF(L15<>0,L15*0.3+M15*0.7,"") -> 9.9 | O15: 10 | P15: 11 | Q15: =IF(O15<>0,O15*0.3+P15*0.7,"") -> 10.7 | R15: 10 | S15: 8 | T15: =IF(R15<>0,R15*0.3+S15*0.7,"") -> 8.6 | U15: 12 | V15: 12 | W15: =IF(U15<>0,U15*0.3+V15*0.7,"") -> 12 | X15: 8 | Y15: 12 | Z15: =IF(X15<>0,X15*0.3+Y15*0.7,"") -> 10.8 | AA15: 14 | AB15: 14 | AC15: =IF(AA15<>0,AA15*0.3+AB15*0.7,"") -> 14 | AD15: 14 | AE15: 15 | AF15: =IF(AD15<>0,AD15*0.3+AE15*0.7,"") -> 14.7
A16: =+A15+1 -> 2 | B16: AURELIEN JOEL | C16: 11 | D16: 11 | E16: =IF(C16<>0,C16*0.3+D16*0.7,"") -> 11 | F16: 12 | G16: 12 | H16: =IF(F16<>0,F16*0.3+G16*0.7,"") -> 12 | I16: 10 | J16: 20 | K16: =IF(I16<>0,I16*0.3+J16*0.7,"") -> 17 | L16: 15 | M16: 6 | N16: =IF(L16<>0,L16*0.3+M16*0.7,"") -> 8.7 | O16: 14 | P16: 11 | Q16: =IF(O16<>0,O16*0.3+P16*0.7,"") -> 11.9 | R16: 14 | S16: 10 | T16: =IF(R16<>0,R16*0.3+S16*0.7,"") -> 11.2 | U16: 11 | V16: 11 | W16: =IF(U16<>0,U16*0.3+V16*0.7,"") -> 11 | X16: 9 | Y16: 11 | Z16: =IF(X16<>0,X16*0.3+Y16*0.7,"") -> 10.4 | AA16: 13 | AB16: 13 | AC16: =IF(AA16<>0,AA16*0.3+AB16*0.7,"") -> 13 | AD16: 13 | AE16: 15 | AF16: =IF(AD16<>0,AD16*0.3+AE16*0.7,"") -> 14.4
A17: =+A16+1 -> 3 | B17: JACQUE ROSTANT | C17: 12 | D17: 12 | E17: =IF(C17<>0,C17*0.3+D17*0.7,"") -> 12 | F17: 10 | G17: 10 | H17: =IF(F17<>0,F17*0.3+G17*0.7,"") -> 10 | I17: 15 | J17: 15 | K17: =IF(I17<>0,I17*0.3+J17*0.7,"") -> 15 | L17: 10 | M17: 12 | N17: =IF(L17<>0,L17*0.3+M17*0.7,"") -> 11.4 | O17: 9 | P17: 8 | Q17: =IF(O17<>0,O17*0.3+P17*0.7,"") -> 8.3 | R17: 16 | S17: 11 | T17: =IF(R17<>0,R17*0.3+S17*0.7,"") -> 12.5 | U17: 11.5 | V17: 11.5 | W17: =IF(U17<>0,U17*0.3+V17*0.7,"") -> 11.5 | X17: 10 | Y17: 10 | Z17: =IF(X17<>0,X17*0.3+Y17*0.7,"") -> 10 | AA17: 15 | AB17: 15 | AC17: =IF(AA17<>0,AA17*0.3+AB17*0.7,"") -> 15 | AD17: 13 | AE17: 15 | AF17: =IF(AD17<>0,AD17*0.3+AE17*0.7,"") -> 14.4
H20: MT321 | J20: Mécanique des fluides | W20: PP321 | Y20: Projet tutoré
H21: MT322 | J21: Analyse des systèmes | W21: PP322 | Y21: Stage Professionnel
H22: MT323 | J22: Instrumentation | W22: PP323 | Y22: Soutenance de rapport de stage
H23: MT324 | J23: Analyse fonctionnelle | W23: PP324 | Y23: Méthodologie de rédaction d'un rapport de stage
H24: MT325 | J24: Calculs des structures
H25: MT326 | J25: Contrôle non destructif

Sheet CHS3_SEM1_Synthèse
A10: PROCES VERBAL DE SYNTHESE SEMESTRE 1
A11: ANNEE ACADEMIQUE 2022/2023
A12: NIVEAU 3 LICENCE GENIE CIVIL OPTION TOPOGRAPHIE GEOMATIQUE (GCI_TGE3)
A14: N° | B14: NOMS ET PRENOMS | C14: MATRICULE
D15: =CHS3_SEM1!C13 -> MO311 | E15: =CHS3_SEM1!F13 -> MO312 | F15: =Programme!B6 -> OMA31 | G15: =CHS3_SEM1!I13 -> DA311 | H15: =CHS3_SEM1!L13 -> DA312 | I15: =Programme!B8 -> LCA31 | J15: =CHS3_SEM1!O13 -> EC311 | K15: =CHS3_SEM1!R13 -> EC312 | L15: =CHS3_SEM1!U13 -> EC313 | M15: =Programme!B10 -> ELA31 | N15: =CHS3_SEM1!X13 -> SP311 | O15: =CHS3_SEM1!AA13 -> SP312 | P15: =CHS3_SEM1!AD13 -> SP313 | Q15: =CHS3_SEM1!AG13 -> SP314 | R15: =Programme!B13 -> SPE31 | S15: MOY /20 | T15: RANG | U15: DECISION
A16: 1 | B16: AZAZILE | C16: 23SED104S | D16: =CHS3_SEM1!E15 -> 13.75 | E16: =CHS3_SEM1!H15 -> 14.05 | F16: =(D16*Programme!$G$6+CHS3_SEM1_Synthèse!E16*Programme!$G$7)/SUM(Programme!$G$6:$G$7) -> 13.9 | G16: =CHS3_SEM1!K15 -> 10.225 | H16: =CHS3_SEM1!N15 -> 13 | I16: =(G16*Programme!$G$8+H16*Programme!$G$9)/SUM(Programme!$G$8:$G$9) -> 11.6125 | J16: =CHS3_SEM1!Q15 -> 15.45 | K16: =CHS3_SEM1!T15 -> 12.8 | L16: =CHS3_SEM1!W15 -> 12.95 | M16: =(J16*2+K16*2+L16*2)/6 -> 13.733333 | N16: =CHS3_SEM1!Z15 -> 11.05 | O16: =CHS3_SEM1!AC15 -> 11.2 | P16: =CHS3_SEM1!AF15 -> 9.8 | Q16: =CHS3_SEM1!AI15 -> 10.225 | R16: =IF(AND(N16>=8,O16>=8,P16>=8,Q16>=8),(N16*4+O16*3+P16*4+Q16*3)/14,0) -> 10.548214 | S16: =IF(AND(D16>=8,E16>=8,G16>=8,H16>=8,J16>=8,K16>=8,L16>=8,N16>=8,O16>=8,P16>=8,Q16>=8),((D16*3+E16*3+G16*2+H16*2+J16*2+K16*2+L16*2+N16*4+O16*3+P16*4+Q16*3))/30,"") -> 11.9975 | T16: =RANK(S16,S$16:S$18,0) -> 2 | U16: =IF(NOT(ISERR(S16)),IF(S16>=10,"ADD","AJ"),"AJ") -> ADD
A17: 2 | B17: AURELIEN JOEL | C17: 22SED056S | D17: =CHS3_SEM1!E16 -> 11.95 | E17: =CHS3_SEM1!H16 -> 12.25 | F17: =(D17*Programme!$G$6+CHS3_SEM1_Synthèse!E17*Programme!$G$7)/SUM(Programme!$G$6:$G$7) -> 12.1 | G17: =CHS3_SEM1!K16 -> 10.2 | H17: =CHS3_SEM1!N16 -> 15 | I17: =(G17*Programme!$G$8+H17*Programme!$G$9)/SUM(Programme!$G$8:$G$9) -> 12.6 | J17: =CHS3_SEM1!Q16 -> 13.325 | K17: =CHS3_SEM1!T16 -> 11.95 | L17: =CHS3_SEM1!W16 -> 15.45 | M17: =(J17*2+K17*2+L17*2)/6 -> 13.575 | N17: =CHS3_SEM1!Z16 -> 10.5 | O17: =CHS3_SEM1!AC16 -> 11.2 | P17: =CHS3_SEM1!AF16 -> 9.8 | Q17: =CHS3_SEM1!AI16 -> 10.2 | R17: =IF(AND(N17>=8,O17>=8,P17>=8,Q17>=8),(N17*4+O17*3+P17*4+Q17*3)/14,0) -> 10.385714 | S17: =IF(AND(D17>=8,E17>=8,G17>=8,H17>=8,J17>=8,K17>=8,L17>=8,N17>=8,O17>=8,P17>=8,Q17>=8),((D17*3+E17*3+G17*2+H17*2+J17*2+K17*2+L17*2+N17*4+O17*3+P17*4+Q17*3))/30,"") -> 11.661667 | T17: =RANK(S17,S$16:S$18,0) -> 3 | U17: =IF(NOT(ISERR(S17)),IF(S17>=10,"ADD","AJ"),"AJ") -> ADD
A18: 3 | B18: JACQUE ROSTANT | C18: 23SED105S | D18: =CHS3_SEM1!E17 -> 13.65 | E18: =CHS3_SEM1!H17 -> 14.05 | F18: =(D18*Programme!$G$6+CHS3_SEM1_Synthèse!E18*Programme!$G$7)/SUM(Programme!$G$6:$G$7) -> 13.85 | G18: =CHS3_SEM1!K17 -> 10.65 | H18: =CHS3_SEM1!N17 -> 14 | I18: =(G18*Programme!$G$8+H18*Programme!$G$9)/SUM(Programme!$G$8:$G$9) -> 12.325 | J18: =CHS3_SEM1!Q17 -> 13.95 | K18: =CHS3_SEM1!T17 -> 12.45 | L18: =CHS3_SEM1!W17 -> 16.05 | M18: =(J18*2+K18*2+L18*2)/6 -> 14.15 | N18: =CHS3_SEM1!Z17 -> 13.75 | O18: =CHS3_SEM1!AC17 -> 11.2 | P18: =CHS3_SEM1!AF17 -> 9.8 | Q18: =CHS3_SEM1!AI17 -> 10.65 | R18: =IF(AND(N18>=8,O18>=8,P18>=8,Q18>=8),(N18*4+O18*3+P18*4+Q18*3)/14,0) -> 11.410714 | S18: =IF(AND(D18>=8,E18>=8,G18>=8,H18>=8,J18>=8,K18>=8,L18>=8,N18>=8,O18>=8,P18>=8,Q18>=8),((D18*3+E18*3+G18*2+H18*2+J18*2+K18*2+L18*2+N18*4+O18*3+P18*4+Q18*3))/30,"") -> 12.568333 | T18: =RANK(S18,S$16:S$18,0) -> 1 | U18: =IF(NOT(ISERR(S18)),IF(S18>=10,"ADD","AJ"),"AJ") -> ADD

Sheet CHS3_SEM2_Synthèse
A10: PROCES VERBAL DE SYNTHESE SEMESTRE 2
A11: ANNEE ACADEMIQUE 2023/2024
A12: NIVEAU 3 LICENCE GENIE CIVIL OPTION TOPOGRAPHIE GEOMATIQUE (GCI_TGE3)
A14: N° | B14: NOMS ET PRENOMS | C14: MATRICULE
D15: =CHS3_SEM2!C13 -> MT321 | E15: =CHS3_SEM2!F13 -> MT322 | F15: =CHS3_SEM2!I13 -> MT323 | G15: =CHS3_SEM2!L13 -> MT324 | H15: =CHS3_SEM2!O13 -> MT325 | I15: =CHS3_SEM2!R13 -> MT326 | J15: =Programme!B26 -> MET32 | K15: =CHS3_SEM2!U13 -> PP321 | L15: =CHS3_SEM2!X13 -> PP322 | M15: =CHS3_SEM2!AA13 -> PP323 | N15: =CHS3_SEM2!AD13 -> PP324 | O15: =Programme!B32 -> PSP32 | P15: MOY /20 | Q15: RANG | R15: DECISION
A16: 1 | B16: AZAZILE | C16: 23SED104S | D16: =CHS3_SEM2!E15 -> 11.4 | E16: =CHS3_SEM2!H15 -> 8 | F16: =CHS3_SEM2!K15 -> 13 | G16: =CHS3_SEM2!N15 -> 9.9 | H16: =CHS3_SEM2!Q15 -> 10.7 | I16: =CHS3_SEM2!T15 -> 8.6 | J16: =IF(AND(D16>=8,E16>=8,F16>=8,G16>=8,H16>=8,I16>=8),(D16*2+E16*3+F16*2+G16*3+H16*3+I16*2)/15,"") -> 10.12 | K16: =CHS3_SEM2!W15 -> 12 | L16: =CHS3_SEM2!Z15 -> 10.8 | M16: =CHS3_SEM2!AC15 -> 14 | N16: =CHS3_SEM2!AF15 -> 14.7 | O16: =IF(AND(K16>=8,L16>=8,M16>=8,N16>=8),(K16*4+L16*4+M16*6+N16*1)/15,"") -> 12.66 | P16: =IF(AND(D16>=8,E16>=8,F16>=8,G16>=8,H16>=8,I16>=8,K16>=8,L16>=8,M16>=8,N16>=8),((D16*3+E16*3+F16*2+G16*2+H16*2+I16*2+K16*4+L16*4+M16*6+N16*1))/30,"") -> 11.083333 | Q16: =RANK(P16,P$16:P$18,0) -> 3 | R16: =IF(NOT(ISERR(P16)),IF(P16>=10,"ADD","AJ"),"AJ") -> ADD
A17: 2 | B17: AURELIEN JOEL | C17: 22SED056S | D17: =CHS3_SEM2!E16 -> 11 | E17: =CHS3_SEM2!H16 -> 12 | F17: =CHS3_SEM2!K16 -> 17 | G17: =CHS3_SEM2!N16 -> 8.7 | H17: =CHS3_SEM2!Q16 -> 11.9 | I17: =CHS3_SEM2!T16 -> 11.2 | J17: =IF(AND(D17>=8,E17>=8,F17>=8,G17>=8,H17>=8,I17>=8),(D17*2+E17*3+F17*2+G17*3+H17*3+I17*2)/15,"") -> 11.746667 | K17: =CHS3_SEM2!W16 -> 11 | L17: =CHS3_SEM2!Z16 -> 10.4 | M17: =CHS3_SEM2!AC16 -> 13 | N17: =CHS3_SEM2!AF16 -> 14.4 | O17: =IF(AND(K17>=8,L17>=8,M17>=8,N17>=8),(K17*4+L17*4+M17*6+N17*1)/15,"") -> 11.866667 | P17: =IF(AND(D17>=8,E17>=8,F17>=8,G17>=8,H17>=8,I17>=8,K17>=8,L17>=8,M17>=8,N17>=8),((D17*3+E17*3+F17*2+G17*2+H17*2+I17*2+K17*4+L17*4+M17*6+N17*1))/30,"") -> 11.486667 | Q17: =RANK(P17,P$16:P$18,0) -> 2 | R17: =IF(NOT(ISERR(P17)),IF(P17>=10,"ADD","AJ"),"AJ") -> ADD
A18: 3 | B18: JACQUE ROSTANT | C18: 23SED105S | D18: =CHS3_SEM2!E17 -> 12 | E18: =CHS3_SEM2!H17 -> 10 | F18: =CHS3_SEM2!K17 -> 15 | G18: =CHS3_SEM2!N17 -> 11.4 | H18: =CHS3_SEM2!Q17 -> 8.3 | I18: =CHS3_SEM2!T17 -> 12.5 | J18: =IF(AND(D18>=8,E18>=8,F18>=8,G18>=8,H18>=8,I18>=8),(D18*2+E18*3+F18*2+G18*3+H18*3+I18*2)/15,"") -> 11.206667 | K18: =CHS3_SEM2!W17 -> 11.5 | L18: =CHS3_SEM2!Z17 -> 10 | M18: =CHS3_SEM2!AC17 -> 15 | N18: =CHS3_SEM2!AF17 -> 14.4 | O18: =IF(AND(K18>=8,L18>=8,M18>=8,N18>=8),(K18*4+L18*4+M18*6+N18*1)/15,"") -> 12.693333 | P18: =IF(AND(D18>=8,E18>=8,F18>=8,G18>=8,H18>=8,I18>=8,K18>=8,L18>=8,M18>=8,N18>=8),((D18*3+E18*3+F18*2+G18*2+H18*2+I18*2+K18*4+L18*4+M18*6+N18*1))/30,"") -> 11.693333 | Q18: =RANK(P18,P$16:P$18,0) -> 1 | R18: =IF(NOT(ISERR(P18)),IF(P18>=10,"ADD","AJ"),"AJ") -> ADD

Sheet CHS3_ANNUEL
A10: PROCES VERBAL DE SYNTHESE ANNUELLE
A11: ANNEE ACADEMIQUE 2023/2024
A12: NIVEAU 3 LICENCE GENIE CIVIL OPTION TOPOGRAPHIE GEOMATIQUE (GCI_TGE3)
A14: N° | B14: NOMS ET PRENOMS | C14: MATRICULE
D15: =CHS3_SEM1_Synthèse!F15 -> OMA31 | E15: =CHS3_SEM1_Synthèse!I15 -> LCA31 | F15: =CHS3_SEM1_Synthèse!M15 -> ELA31 | G15: =CHS3_SEM1_Synthèse!R15 -> SPE31 | H15: =CHS3_SEM2_Synthèse!J15 -> MET32 | I15: =CHS3_SEM2_Synthèse!O15 -> PSP32 | J15: MOY /20 | K15: RANG | L15: DECISION
A16: 1 | B16: AZAZILE | C16: 23SED104S | D16: =CHS3_SEM1_Synthèse!D16 -> 13.75 | E16: =CHS3_SEM1_Synthèse!I16 -> 11.6125 | F16: =CHS3_SEM1_Synthèse!M16 -> 13.733333 | G16: =CHS3_SEM1_Synthèse!R16 -> 10.548214 | H16: =CHS3_SEM2_Synthèse!J16 -> 10.12 | I16: =CHS3_SEM2_Synthèse!O16 -> 12.66 | J16: =IF(AND(D16>=8,E16>=8,F16>=8,G16>=8,H16>=8,I16>=8),((D16*6+E16*4+F16*6+G16*14+H16*15+I16*15))/60,"") -> 11.67875 | K16: =RANK(J16,J$16:J$18,0) -> 3 | L16: =IF(NOT(ISERR(J16)),IF(J16>=10,"ADD","AJ"),"AJ") -> ADD
A17: 2 | B17: AURELIEN JOEL | C17: 22SED056S | D17: =CHS3_SEM1_Synthèse!D17 -> 11.95 | E17: =CHS3_SEM1_Synthèse!I17 -> 12.6 | F17: =CHS3_SEM1_Synthèse!M17 -> 13.575 | G17: =CHS3_SEM1_Synthèse!R17 -> 10.385714 | H17: =CHS3_SEM2_Synthèse!J17 -> 11.746667 | I17: =CHS3_SEM2_Synthèse!O17 -> 11.866667 | J17: =IF(AND(D17>=8,E17>=8,F17>=8,G17>=8,H17>=8,I17>=8),((D17*6+E17*4+F17*6+G17*14+H17*15+I17*15))/60,"") -> 11.719167 | K17: =RANK(J17,J$16:J$18,0) -> 2 | L17: =IF(NOT(ISERR(J17)),IF(J17>=10,"ADD","AJ"),"AJ") -> ADD
A18: 3 | B18: JACQUE ROSTANT | C18: 23SED105S | D18: =CHS3_SEM1_Synthèse!D18 -> 13.65 | E18: =CHS3_SEM1_Synthèse!I18 -> 12.325 | F18: =CHS3_SEM1_Synthèse!M18 -> 14.15 | G18: =CHS3_SEM1_Synthèse!R18 -> 11.410714 | H18: =CHS3_SEM2_Synthèse!J18 -> 11.206667 | I18: =CHS3_SEM2_Synthèse!O18 -> 12.693333 | J18: =IF(AND(D18>=8,E18>=8,F18>=8,G18>=8,H18>=8,I18>=8),((D18*6+E18*4+F18*6+G18*14+H18*15+I18*15))/60,"") -> 12.239167 | K18: =RANK(J18,J$16:J$18,0) -> 1 | L18: =IF(NOT(ISERR(J18)),IF(J18>=10,"ADD","AJ"),"AJ") -> ADD
