Workbook

Sheet Note
A1: Bonjour,
A2: dans la feuille de calcul de "septembre" je rentre manuellement : - dans la colonne "corvée" un prénom qui ne doit pas se suivre 2 jours consécutifs ; - dans la colonne "suppléant" un prénom différent de la colonne corvée au jour J puis je fais attention dans cette même colonne à ce que ce nom là n'est pas été mis ni 1 jour avant et ni 1 jour après par rapport à la colonne "corvée".
A3: Est-il possible, existe-t-il un moyen sans utiliser de macro que : les noms en rouge dans la colonne corvée soient ventillés en nombre de jour de semaine, de vendredi, de week-end dans le tableau au fond rouge ; les noms en bleu dans la colonne suppléant soient ventillés en nombre de jour de semaine, de vendredi, de week-end dans le tableau au fond bleu.

Sheet Septembre
B2: prénom | D2: Pierre | E2: Marie | F2: Paul | G2: Anaïs | H2: Chloé | I2: Anne | J2: Xavier | K2: Thomas | L2: Juliette | M2: François | N2: Suzanne | O2: Spirou | P2: Caramel
B4: Tableau de corvée
B6: Septembre
B8: DATE | D8: Corvée | E8: Suppléant | G8: Total des corvées du mois : Septembre. | M8: Total des suppléance du mois : Septembre.
B9: DIMANCHE | C9: 1 | D9: Pierre | E9: Marie | G9: prénom | H9: SEMAINE | I9: VENDREDI | J9: WEEK-END | K9: TOTAL | M9: prénom | N9: SEMAINE | O9: VENDREDI | P9: WEEK-END | Q9: TOTAL
B10: LUNDI | C10: 2 | D10: Paul | E10: Anaïs | G10: Pierre | H10: 1 | J10: 1 | K10: =SUM(H10:J10) -> 2 | M10: Pierre | N10: 2 | P10: 2 | Q10: =SUM(N10:P10) -> 4
B11: MARDI | C11: 3 | D11: Pierre | E11: Chloé | G11: Marie | J11: 1 | K11: =SUM(H11:J11) -> 1 | M11: Marie | N11: 3 | P11: 1 | Q11: =SUM(N11:P11) -> 4
B12: MERCREDI | C12: 4 | D12: Anaïs | E12: Caramel | G12: Paul | H12: 1 | I12: 3 | J12: 1 | K12: =SUM(H12:J12) -> 5 | M12: Paul | N12: 1 | P12: 1 | Q12: =SUM(N12:P12) -> 2
B13: JEUDI | C13: 5 | D13: Chloé | E13: Spirou | G13: Anaïs | H13: 2 | K13: =SUM(H13:J13) -> 2 | M13: Anaïs | N13: 1 | O13: 1 | P13: 1 | Q13: =SUM(N13:P13) -> 3
B14: VENDREDI | C14: 6 | D14: Paul | E14: François | G14: Chloé | H14: 3 | J14: 1 | K14: =SUM(H14:J14) -> 4 | M14: Chloé | N14: 3 | Q14: =SUM(N14:P14) -> 3
B15: SAMEDI | C15: 7 | D15: Xavier | E15: Pierre | G15: Anne | H15: 1 | I15: 1 | K15: =SUM(H15:J15) -> 2 | M15: Anne | P15: 1 | Q15: =SUM(N15:P15) -> 1
B16: DIMANCHE | C16: 8 | D16: François | E16: Paul | G16: Xavier | H16: 1 | J16: 1 | K16: =SUM(H16:J16) -> 2 | M16: Xavier | N16: 1 | O16: 1 | Q16: =SUM(N16:P16) -> 2
B17: LUNDI | C17: 9 | D17: Anne | E17: Suzanne | G17: Thomas | H17: 1 | K17: =SUM(H17:J17) -> 1 | M17: Thomas | N17: 1 | O17: 1 | Q17: =SUM(N17:P17) -> 2
B18: MARDI | C18: 10 | D18: Chloé | E18: Pierre | G18: Juliette | J18: 1 | K18: =SUM(H18:J18) -> 1 | M18: Juliette | P18: 1 | Q18: =SUM(N18:P18) -> 1
B19: MERCREDI | C19: 11 | D19: Xavier | E19: Marie | G19: François | J19: 2 | K19: =SUM(H19:J19) -> 2 | M19: François | N19: 1 | O19: 1 | Q19: =SUM(N19:P19) -> 2
B20: JEUDI | C20: 12 | D20: Thomas | E20: Chloé | G20: Suzanne | H20: 3 | K20: =SUM(H20:J20) -> 3 | M20: Suzanne | N20: 2 | Q20: =SUM(N20:P20) -> 2
B21: VENDREDI | C21: 13 | D21: Paul | E21: Xavier | G21: Spirou | H21: 2 | J21: 1 | K21: =SUM(H21:J21) -> 3 | M21: Spirou | N21: 1 | P21: 1 | Q21: =SUM(N21:P21) -> 2
B22: SAMEDI | C22: 14 | D22: Juliette | E22: Thomas | G22: Caramel | H22: 2 | K22: =SUM(H22:J22) -> 2 | M22: Caramel | N22: 1 | O22: 1 | Q22: =SUM(N22:P22) -> 2
B23: DIMANCHE | C23: 15 | D23: François | E23: Spirou | J23: Vérification | K23: =SUM(K10:K22) -> 30 | P23: Vérification | Q23: =SUM(Q10:Q22) -> 30
B24: LUNDI | C24: 16 | D24: Suzanne | E24: Thomas
B25: MARDI | C25: 17 | D25: Spirou | E25: Pierre
B26: MERCREDI | C26: 18 | D26: Caramel | E26: Marie
B27: JEUDI | C27: 19 | D27: Chloé | E27: Paul | G27: Total des corvées réalisées à la fin du mois de Septembre
B28: VENDREDI | C28: 20 | D28: Anne | E28: Anaïs | G28: prénom | H28: SEMAINE | I28: VENDREDI | J28: WEEK-END | K28: TOTAL
B29: SAMEDI | C29: 21 | D29: Marie | E29: Anne | G29: Pierre | H29: =H10 -> 1 | I29: =I10 -> 0 | J29: =J10 -> 1 | K29: =SUM(H29:J29) -> 2
B30: DIMANCHE | C30: 22 | D30: Paul | E30: Juliette | G30: Marie | H30: =H11 -> 0 | I30: =I11 -> 0 | J30: =J11 -> 1 | K30: =SUM(H30:J30) -> 1
B31: LUNDI | C31: 23 | D31: Suzanne | E31: François | G31: Paul | H31: =H12 -> 1 | I31: =I12 -> 3 | J31: =J12 -> 1 | K31: =SUM(H31:J31) -> 5
B32: MARDI | C32: 24 | D32: Anaïs | E32: Xavier | G32: Anaïs | H32: =H13 -> 2 | I32: =I13 -> 0 | J32: =J13 -> 0 | K32: =SUM(H32:J32) -> 2
B33: MERCREDI | C33: 25 | D33: Spirou | E33: Chloé | G33: Chloé | H33: =H14 -> 3 | I33: =I14 -> 0 | J33: =J14 -> 1 | K33: =SUM(H33:J33) -> 4
B34: JEUDI | C34: 26 | D34: Caramel | E34: Suzanne | G34: Anne | H34: =H15 -> 1 | I34: =I15 -> 1 | J34: =J15 -> 0 | K34: =SUM(H34:J34) -> 2
B35: VENDREDI | C35: 27 | D35: Paul | E35: Caramel | G35: Xavier | H35: =H16 -> 1 | I35: =I16 -> 0 | J35: =J16 -> 1 | K35: =SUM(H35:J35) -> 2
B36: SAMEDI | C36: 28 | D36: Spirou | E36: Anaïs | G36: Thomas | H36: =H17 -> 1 | I36: =I17 -> 0 | J36: =J17 -> 0 | K36: =SUM(H36:J36) -> 1
B37: DIMANCHE | C37: 29 | D37: Chloé | E37: Pierre | G37: Juliette | H37: =H18 -> 0 | I37: =I18 -> 0 | J37: =J18 -> 1 | K37: =SUM(H37:J37) -> 1
B38: LUNDI | C38: 30 | D38: Suzanne | E38: Marie | G38: François | H38: =H19 -> 0 | I38: =I19 -> 0 | J38: =J19 -> 2 | K38: =SUM(H38:J38) -> 2
G39: Suzanne | H39: =H20 -> 3 | I39: =I20 -> 0 | J39: =J20 -> 0 | K39: =SUM(H39:J39) -> 3
G40: Spirou | H40: =H21 -> 2 | I40: =I21 -> 0 | J40: =J21 -> 1 | K40: =SUM(H40:J40) -> 3
G41: Caramel | H41: =H22 -> 2 | I41: =I22 -> 0 | J41: =J22 -> 0 | K41: =SUM(H41:J41) -> 2

Sheet Octobre
B2: prénom | D2: Pierre | E2: Marie | F2: Paul | G2: Anaïs | H2: Chloé | I2: Anne | J2: Xavier | K2: Thomas | L2: Juliette | M2: François | N2: Suzanne | O2: Spirou | P2: Caramel
B4: Tableau de corvée
B6: Octobre
B8: DATE | D8: Corvée | E8: Suppléant | G8: Total des corvées du mois : Octobre. | M8: Total des suppléance du mois : Octobre
B9: MARDI | C9: 1 | G9: prénom | H9: SEMAINE | I9: VENDREDI | J9: WEEK-END | K9: TOTAL | M9: prénom | N9: SEMAINE | O9: VENDREDI | P9: WEEK-END | Q9: TOTAL
B10: MERCREDI | C10: 2 | G10: Pierre | K10: =SUM(H10:J10) -> 0 | M10: Pierre | Q10: =SUM(N10:P10) -> 0
B11: JEUDI | C11: 3 | G11: Marie | K11: =SUM(H11:J11) -> 0 | M11: Marie | Q11: =SUM(N11:P11) -> 0
B12: VENDREDI | C12: 4 | G12: Paul | K12: =SUM(H12:J12) -> 0 | M12: Paul | Q12: =SUM(N12:P12) -> 0
B13: SAMEDI | C13: 5 | G13: Anaïs | K13: =SUM(H13:J13) -> 0 | M13: Anaïs | Q13: =SUM(N13:P13) -> 0
B14: DIMANCHE | C14: 6 | G14: Chloé | K14: =SUM(H14:J14) -> 0 | M14: Chloé | Q14: =SUM(N14:P14) -> 0
B15: LUNDI | C15: 7 | G15: Anne | K15: =SUM(H15:J15) -> 0 | M15: Anne | Q15: =SUM(N15:P15) -> 0
B16: MARDI | C16: 8 | G16: Xavier | K16: =SUM(H16:J16) -> 0 | M16: Xavier | Q16: =SUM(N16:P16) -> 0
B17: MERCREDI | C17: 9 | G17: Thomas | K17: =SUM(H17:J17) -> 0 | M17: Thomas | Q17: =SUM(N17:P17) -> 0
B18: JEUDI | C18: 10 | G18: Juliette | K18: =SUM(H18:J18) -> 0 | M18: Juliette | Q18: =SUM(N18:P18) -> 0
B19: VENDREDI | C19: 11 | G19: François | K19: =SUM(H19:J19) -> 0 | M19: François | Q19: =SUM(N19:P19) -> 0
B20: SAMEDI | C20: 12 | G20: Suzanne | K20: =SUM(H20:J20) -> 0 | M20: Suzanne | Q20: =SUM(N20:P20) -> 0
B21: DIMANCHE | C21: 13 | G21: Spirou | K21: =SUM(H21:J21) -> 0 | M21: Spirou | Q21: =SUM(N21:P21) -> 0
B22: LUNDI | C22: 14 | G22: Caramel | K22: =SUM(H22:J22) -> 0 | M22: Caramel | Q22: =SUM(N22:P22) -> 0
B23: MARDI | C23: 15 | J23: Vérification | K23: =SUM(K10:K22) -> 0 | P23: Vérification | Q23: =SUM(Q10:Q22) -> 0
B24: MERCREDI | C24: 16
B25: JEUDI | C25: 17
B26: VENDREDI | C26: 18
B27: SAMEDI | C27: 19 | G27: Total des corvées réalisées à la fin du mois d'octobre
B28: DIMANCHE | C28: 20 | G28: prénom | H28: SEMAINE | I28: VENDREDI | J28: WEEK-END | K28: TOTAL
B29: LUNDI | C29: 21 | G29: Pierre | H29: =Septembre!H29+Octobre!H10 -> 1 | I29: =Septembre!I29+Octobre!I10 -> 0 | J29: =Septembre!J29+Octobre!J10 -> 1 | K29: =SUM(H29:J29) -> 2
B30: MARDI | C30: 22 | G30: Marie | H30: =Septembre!H30+Octobre!H11 -> 0 | I30: =Septembre!I30+Octobre!I11 -> 0 | J30: =Septembre!J30+Octobre!J11 -> 1 | K30: =SUM(H30:J30) -> 1
B31: MERCREDI | C31: 23 | G31: Paul | H31: =Septembre!H31+Octobre!H12 -> 1 | I31: =Septembre!I31+Octobre!I12 -> 3 | J31: =Septembre!J31+Octobre!J12 -> 1 | K31: =SUM(H31:J31) -> 5
B32: JEUDI | C32: 24 | G32: Anaïs | H32: =Septembre!H32+Octobre!H13 -> 2 | I32: =Septembre!I32+Octobre!I13 -> 0 | J32: =Septembre!J32+Octobre!J13 -> 0 | K32: =SUM(H32:J32) -> 2
B33: VENDREDI | C33: 25 | G33: Chloé | H33: =Septembre!H33+Octobre!H14 -> 3 | I33: =Septembre!I33+Octobre!I14 -> 0 | J33: =Septembre!J33+Octobre!J14 -> 1 | K33: =SUM(H33:J33) -> 4
B34: SAMEDI | C34: 26 | G34: Anne | H34: =Septembre!H34+Octobre!H15 -> 1 | I34: =Septembre!I34+Octobre!I15 -> 1 | J34: =Septembre!J34+Octobre!J15 -> 0 | K34: =SUM(H34:J34) -> 2
B35: DIMANCHE | C35: 27 | G35: Xavier | H35: =Septembre!H35+Octobre!H16 -> 1 | I35: =Septembre!I35+Octobre!I16 -> 0 | J35: =Septembre!J35+Octobre!J16 -> 1 | K35: =SUM(H35:J35) -> 2
B36: LUNDI | C36: 28 | G36: Thomas | H36: =Septembre!H36+Octobre!H17 -> 1 | I36: =Septembre!I36+Octobre!I17 -> 0 | J36: =Septembre!J36+Octobre!J17 -> 0 | K36: =SUM(H36:J36) -> 1
B37: MARDI | C37: 29 | G37: Juliette | H37: =Septembre!H37+Octobre!H18 -> 0 | I37: =Septembre!I37+Octobre!I18 -> 0 | J37: =Septembre!J37+Octobre!J18 -> 1 | K37: =SUM(H37:J37) -> 1
B38: MERCREDI | C38: 30 | G38: François | H38: =Septembre!H38+Octobre!H19 -> 0 | I38: =Septembre!I38+Octobre!I19 -> 0 | J38: =Septembre!J38+Octobre!J19 -> 2 | K38: =SUM(H38:J38) -> 2
B39: JEUDI | C39: 31 | G39: Suzanne | H39: =Septembre!H39+Octobre!H20 -> 3 | I39: =Septembre!I39+Octobre!I20 -> 0 | J39: =Septembre!J39+Octobre!J20 -> 0 | K39: =SUM(H39:J39) -> 3
G40: Spirou | H40: =Septembre!H40+Octobre!H21 -> 2 | I40: =Septembre!I40+Octobre!I21 -> 0 | J40: =Septembre!J40+Octobre!J21 -> 1 | K40: =SUM(H40:J40) -> 3
G41: Caramel | H41: =Septembre!H41+Octobre!H22 -> 2 | I41: =Septembre!I41+Octobre!I22 -> 0 | J41: =Septembre!J41+Octobre!J22 -> 0 | K41: =SUM(H41:J41) -> 2
