Workbook

Sheet Septembre 2024
G1: =WEEKDAY(G2,2) -> 1 | H1: =WEEKDAY(H2,2) -> 2 | I1: =WEEKDAY(I2,2) -> 3 | J1: =WEEKDAY(J2,2) -> 4 | K1: =WEEKDAY(K2,2) -> 5 | L1: =WEEKDAY(L2,2) -> 6 | M1: =WEEKDAY(M2,2) -> 1 | N1: =WEEKDAY(N2,2) -> 2 | ... R1: =WEEKDAY(R2,2) -> 6 | T1: =WEEKDAY(T2,2) -> 1 | U1: =WEEKDAY(U2,2) -> 2 | V1: =WEEKDAY(V2,2) -> 3 | W1: =WEEKDAY(W2,2) -> 4 | X1: =WEEKDAY(X2,2) -> 5 | Y1: =WEEKDAY(Y2,2) -> 6 | Z1: =WEEKDAY(Z2,2) -> 7 | AA1: =WEEKDAY(AA2,2) -> 1 | ... AF1: =WEEKDAY(AF2,2) -> 6
G2: 45537 | H2: 45538 | I2: 45539 | J2: 45540 | K2: 45541 | L2: 45542 | M2: 45544 | N2: 45545 | O2: 45546 | P2: 45547 | Q2: 45548 | R2: 45549 | S2: 45550 | T2: 45551 | U2: 45552 | V2: 45553 | W2: 45554 | X2: 45555 | Y2: 45556 | Z2: 45557 | AA2: 45558 | AB2: 45559 | AC2: 45560 | AD2: 45561 | AE2: 45562
G4: =WEEKDAY(G5,2) -> 1 | H4: =WEEKDAY(H5,2) -> 2 | I4: =WEEKDAY(I5,2) -> 3 | J4: =WEEKDAY(J5,2) -> 4 | K4: =WEEKDAY(K5,2) -> 5 | L4: 6 | M4: =WEEKDAY(M5,2) -> 1 | N4: =WEEKDAY(N5,2) -> 2 | O4: =WEEKDAY(O5,2) -> 3 | P4: =WEEKDAY(P5,2) -> 4 | Q4: =WEEKDAY(Q5,2) -> 5 | R4: =WEEKDAY(R5,2) -> 6 | S4: =WEEKDAY(S5,2) -> 1 | T4: =WEEKDAY(T5,2) -> 2 | ... AD4: =WEEKDAY(AD5,2) -> 6
A5: Entreprise | B5: Matricule | C5: Collecteur | D5: Fonction | E5: AFFECTATION | F5: Manager | G5: 02/09/2024 | H5: 03/09/2024 | I5: 04/09/2024 | J5: 05/09/2024 | K5: 06/09/2024 | L5: 07/09/2024 | M5: 09/09/2024 | N5: 10/09/2024 | O5: 11/09/2024 | P5: 12/09/2024 | Q5: 13/09/2024 | R5: 14/09/2024 | S5: 16/09/2024 | T5: 17/09/2024 | U5: 18/09/2024 | V5: 19/09/2024 | W5: 20/09/2024 | X5: 21/09/2024 | Y5: 23/09/2024 | Z5: 24/09/2024 | AA5: 25/09/2024 | AB5: 26/09/2024 | AC5: 27/09/2024 | AD5: 28/09/2024 | AE5: 30/09/2024 | AF5: Objectif mensuel | AG5: Nbre jours travail | AH5: Nbre de samedi | AI5: Jours ouvrés | AJ5: Jours ouvrables | AK5: Colonne1
L6: 2 | N6: 4 | O6: 11 | P6: 2 | AF6: =SUMIF(TPerfo_indi[[#This Row],[02/09/2024]:[30/09/2024]],">"&0) -> 19 | AG6: =COUNTIFS(TPerfo_indi[[#This Row],[02/09/2024]:[30/09/2024]],">"&0) -> 4 | AH6: {=IF(G4:AE4=6,1,0)} -> #VALUE! | AI6: =NETWORKDAYS(Feuil2!$B$2,Feuil2!$B$3) -> 21 | AJ6: =SUM(TPerfo_indi[[#This Row],[Jours ouvrés]],TPerfo_indi[[#This Row],[Nbre de samedi]]) -> #VALUE! | AK6: {=IF(G4:AE4=6,1,0)} -> #VALUE!
AF7: =SUMIF(TPerfo_indi[[#This Row],[02/09/2024]:[30/09/2024]],">"&0) -> 0 | AG7: =COUNTIFS(TPerfo_indi[[#This Row],[02/09/2024]:[30/09/2024]],">"&0) -> 0 | AH7: {=IF(G5:AE5=6,1,0)} -> #VALUE! | AI7: =NETWORKDAYS(Feuil2!$B$2,Feuil2!$B$3) -> 21 | AJ7: =SUM(TPerfo_indi[[#This Row],[Jours ouvrés]],TPerfo_indi[[#This Row],[Nbre de samedi]]) -> #VALUE! | AK7: {=IF(G5:AE5=6,1,0)} -> #VALUE!
AF8: =SUMIF(TPerfo_indi[[#This Row],[02/09/2024]:[30/09/2024]],">"&0) -> 0 | AG8: =COUNTIFS(TPerfo_indi[[#This Row],[02/09/2024]:[30/09/2024]],">"&0) -> 0 | AH8: {=IF(G6:AE6=6,1,0)} -> #VALUE! | AI8: =NETWORKDAYS(Feuil2!$B$2,Feuil2!$B$3) -> 21 | AJ8: =SUM(TPerfo_indi[[#This Row],[Jours ouvrés]],TPerfo_indi[[#This Row],[Nbre de samedi]]) -> #VALUE! | AK8: {=IF(G6:AE6=6,1,0)} -> #VALUE!
AF9: =SUMIF(TPerfo_indi[[#This Row],[02/09/2024]:[30/09/2024]],">"&0) -> 0 | AG9: =COUNTIFS(TPerfo_indi[[#This Row],[02/09/2024]:[30/09/2024]],">"&0) -> 0 | AH9: {=IF(G7:AE7=6,1,0)} -> #VALUE! | AI9: =NETWORKDAYS(Feuil2!$B$2,Feuil2!$B$3) -> 21 | AJ9: =SUM(TPerfo_indi[[#This Row],[Jours ouvrés]],TPerfo_indi[[#This Row],[Nbre de samedi]]) -> #VALUE! | AK9: {=IF(G7:AE7=6,1,0)} -> #VALUE!
AF10: =SUMIF(TPerfo_indi[[#This Row],[02/09/2024]:[30/09/2024]],">"&0) -> 0 | AG10: =COUNTIFS(TPerfo_indi[[#This Row],[02/09/2024]:[30/09/2024]],">"&0) -> 0 | AH10: {=IF(G8:AE8=6,1,0)} -> #VALUE! | AI10: =NETWORKDAYS(Feuil2!$B$2,Feuil2!$B$3) -> 21 | AJ10: =SUM(TPerfo_indi[[#This Row],[Jours ouvrés]],TPerfo_indi[[#This Row],[Nbre de samedi]]) -> #VALUE! | AK10: {=IF(G8:AE8=6,1,0)} -> #VALUE!
AF11: =SUMIF(TPerfo_indi[[#This Row],[02/09/2024]:[30/09/2024]],">"&0) -> 0 | AG11: =COUNTIFS(TPerfo_indi[[#This Row],[02/09/2024]:[30/09/2024]],">"&0) -> 0 | AH11: {=IF(G9:AE9=6,1,0)} -> #VALUE! | AI11: =NETWORKDAYS(Feuil2!$B$2,Feuil2!$B$3) -> 21 | AJ11: =SUM(TPerfo_indi[[#This Row],[Jours ouvrés]],TPerfo_indi[[#This Row],[Nbre de samedi]]) -> #VALUE! | AK11: {=IF(G9:AE9=6,1,0)} -> #VALUE!
AF12: =SUMIF(TPerfo_indi[[#This Row],[02/09/2024]:[30/09/2024]],">"&0) -> 0 | AG12: =COUNTIFS(TPerfo_indi[[#This Row],[02/09/2024]:[30/09/2024]],">"&0) -> 0 | AH12: {=IF(G10:AE10=6,1,0)} -> #VALUE! | AI12: =NETWORKDAYS(Feuil2!$B$2,Feuil2!$B$3) -> 21 | AJ12: =SUM(TPerfo_indi[[#This Row],[Jours ouvrés]],TPerfo_indi[[#This Row],[Nbre de samedi]]) -> #VALUE! | AK12: {=IF(G10:AE10=6,1,0)} -> #VALUE!
AF13: =SUMIF(TPerfo_indi[[#This Row],[02/09/2024]:[30/09/2024]],">"&0) -> 0 | AG13: =COUNTIFS(TPerfo_indi[[#This Row],[02/09/2024]:[30/09/2024]],">"&0) -> 0 | AH13: {=IF(G11:AE11=6,1,0)} -> #VALUE! | AI13: =NETWORKDAYS(Feuil2!$B$2,Feuil2!$B$3) -> 21 | AJ13: =SUM(TPerfo_indi[[#This Row],[Jours ouvrés]],TPerfo_indi[[#This Row],[Nbre de samedi]]) -> #VALUE! | AK13: {=IF(G11:AE11=6,1,0)} -> #VALUE!
AF14: =SUMIF(TPerfo_indi[[#This Row],[02/09/2024]:[30/09/2024]],">"&0) -> 0 | AG14: =COUNTIFS(TPerfo_indi[[#This Row],[02/09/2024]:[30/09/2024]],">"&0) -> 0 | AH14: {=IF(G12:AE12=6,1,0)} -> #VALUE! | AI14: =NETWORKDAYS(Feuil2!$B$2,Feuil2!$B$3) -> 21 | AJ14: =SUM(TPerfo_indi[[#This Row],[Jours ouvrés]],TPerfo_indi[[#This Row],[Nbre de samedi]]) -> #VALUE! | AK14: {=IF(G12:AE12=6,1,0)} -> #VALUE!
AF15: =SUMIF(TPerfo_indi[[#This Row],[02/09/2024]:[30/09/2024]],">"&0) -> 0 | AG15: =COUNTIFS(TPerfo_indi[[#This Row],[02/09/2024]:[30/09/2024]],">"&0) -> 0 | AH15: {=IF(G13:AE13=6,1,0)} -> #VALUE! | AI15: =NETWORKDAYS(Feuil2!$B$2,Feuil2!$B$3) -> 21 | AJ15: =SUM(TPerfo_indi[[#This Row],[Jours ouvrés]],TPerfo_indi[[#This Row],[Nbre de samedi]]) -> #VALUE! | AK15: {=IF(G13:AE13=6,1,0)} -> #VALUE!
AF16: =SUMIF(TPerfo_indi[[#This Row],[02/09/2024]:[30/09/2024]],">"&0) -> 0 | AG16: =COUNTIFS(TPerfo_indi[[#This Row],[02/09/2024]:[30/09/2024]],">"&0) -> 0 | AH16: {=IF(G14:AE14=6,1,0)} -> #VALUE! | AI16: =NETWORKDAYS(Feuil2!$B$2,Feuil2!$B$3) -> 21 | AJ16: =SUM(TPerfo_indi[[#This Row],[Jours ouvrés]],TPerfo_indi[[#This Row],[Nbre de samedi]]) -> #VALUE! | AK16: {=IF(G14:AE14=6,1,0)} -> #VALUE!
AF17: =SUMIF(TPerfo_indi[[#This Row],[02/09/2024]:[30/09/2024]],">"&0) -> 0 | AG17: =COUNTIFS(TPerfo_indi[[#This Row],[02/09/2024]:[30/09/2024]],">"&0) -> 0 | AH17: {=IF(G15:AE15=6,1,0)} -> #VALUE! | AI17: =NETWORKDAYS(Feuil2!$B$2,Feuil2!$B$3) -> 21 | AJ17: =SUM(TPerfo_indi[[#This Row],[Jours ouvrés]],TPerfo_indi[[#This Row],[Nbre de samedi]]) -> #VALUE! | AK17: {=IF(G15:AE15=6,1,0)} -> #VALUE!
AF18: =SUMIF(TPerfo_indi[[#This Row],[02/09/2024]:[30/09/2024]],">"&0) -> 0 | AG18: =COUNTIFS(TPerfo_indi[[#This Row],[02/09/2024]:[30/09/2024]],">"&0) -> 0 | AH18: {=IF(G16:AE16=6,1,0)} -> #VALUE! | AI18: =NETWORKDAYS(Feuil2!$B$2,Feuil2!$B$3) -> 21 | AJ18: =SUM(TPerfo_indi[[#This Row],[Jours ouvrés]],TPerfo_indi[[#This Row],[Nbre de samedi]]) -> #VALUE! | AK18: {=IF(G16:AE16=6,1,0)} -> #VALUE!
... AF35: =SUMIF(TPerfo_indi[[#This Row],[02/09/2024]:[30/09/2024]],">"&0) -> 0 | AG35: =COUNTIFS(TPerfo_indi[[#This Row],[02/09/2024]:[30/09/2024]],">"&0) -> 0 | AH35: {=IF(G33:AE33=6,1,0)} -> #VALUE! | AI35: =NETWORKDAYS(Feuil2!$B$2,Feuil2!$B$3) -> 21 | AJ35: =SUM(TPerfo_indi[[#This Row],[Jours ouvrés]],TPerfo_indi[[#This Row],[Nbre de samedi]]) -> #VALUE! | AK35: {=IF(G33:AE33=6,1,0)} -> #VALUE!

Sheet Octobre 2024
A5: Entreprise | B5: Matricule | C5: Collecteur | D5: Fonction | E5: AFFECTATION | F5: Manager | G5: 01/10/2024 | H5: 02/10/2024 | I5: 03/10/2024 | J5: 04/10/2024 | K5: 05/10/2024 | L5: 07/10/2024 | M5: 08/10/2024 | N5: 09/10/2024 | O5: 10/10/2024 | P5: 11/10/2024 | Q5: 12/10/2024 | R5: 14/10/2024 | S5: 15/10/2024 | T5: 16/10/2024 | U5: 17/10/2024 | V5: 18/10/2024 | W5: 19/10/2024 | X5: 21/10/2024 | Y5: 22/10/2024 | Z5: 23/10/2024 | AA5: 24/10/2024 | AB5: 25/10/2024 | AC5: 26/10/20242 | AD5: 28/10/2025 | AE5: 29/10/2026 | AF5: 30/10/2027 | AG5: 31/10/2028 | AH5: Objectif mensuel | AI5: Nbre jours travail | AJ5: Nbre de samedi | AK5: Jours ouvrés | AL5: Jours ouvrables
G6: 1 | L6: 5 | R6: 0 | AH6: =SUMIF(TPerfo_indi14[[#This Row],[01/10/2024]:[25/10/2024]],">"&0) -> 6 | AI6: =COUNTIFS(TPerfo_indi14[[#This Row],[01/10/2024]:[25/10/2024]],">"&0) -> 2 | AK6: =NETWORKDAYS(Feuil2!$C$2,Feuil2!$C$3) -> 23 | AL6: =SUM(TPerfo_indi14[[#This Row],[Jours ouvrés]],TPerfo_indi14[[#This Row],[Nbre de samedi]]) -> 23
AH7: =SUMIF(TPerfo_indi14[[#This Row],[01/10/2024]:[25/10/2024]],">"&0) -> 0 | AI7: =COUNTIFS(TPerfo_indi14[[#This Row],[01/10/2024]:[25/10/2024]],">"&0) -> 0 | AK7: =NETWORKDAYS(Feuil2!$C$2,Feuil2!$C$3) -> 23 | AL7: =SUM(TPerfo_indi14[[#This Row],[Jours ouvrés]],TPerfo_indi14[[#This Row],[Nbre de samedi]]) -> 23
AH8: =SUMIF(TPerfo_indi14[[#This Row],[01/10/2024]:[25/10/2024]],">"&0) -> 0 | AI8: =COUNTIFS(TPerfo_indi14[[#This Row],[01/10/2024]:[25/10/2024]],">"&0) -> 0 | AK8: =NETWORKDAYS(Feuil2!$C$2,Feuil2!$C$3) -> 23 | AL8: =SUM(TPerfo_indi14[[#This Row],[Jours ouvrés]],TPerfo_indi14[[#This Row],[Nbre de samedi]]) -> 23
AH9: =SUMIF(TPerfo_indi14[[#This Row],[01/10/2024]:[25/10/2024]],">"&0) -> 0 | AI9: =COUNTIFS(TPerfo_indi14[[#This Row],[01/10/2024]:[25/10/2024]],">"&0) -> 0 | AK9: =NETWORKDAYS(Feuil2!$C$2,Feuil2!$C$3) -> 23 | AL9: =SUM(TPerfo_indi14[[#This Row],[Jours ouvrés]],TPerfo_indi14[[#This Row],[Nbre de samedi]]) -> 23
AH10: =SUMIF(TPerfo_indi14[[#This Row],[01/10/2024]:[25/10/2024]],">"&0) -> 0 | AI10: =COUNTIFS(TPerfo_indi14[[#This Row],[01/10/2024]:[25/10/2024]],">"&0) -> 0 | AK10: =NETWORKDAYS(Feuil2!$C$2,Feuil2!$C$3) -> 23 | AL10: =SUM(TPerfo_indi14[[#This Row],[Jours ouvrés]],TPerfo_indi14[[#This Row],[Nbre de samedi]]) -> 23
AH11: =SUMIF(TPerfo_indi14[[#This Row],[01/10/2024]:[25/10/2024]],">"&0) -> 0 | AI11: =COUNTIFS(TPerfo_indi14[[#This Row],[01/10/2024]:[25/10/2024]],">"&0) -> 0 | AK11: =NETWORKDAYS(Feuil2!$C$2,Feuil2!$C$3) -> 23 | AL11: =SUM(TPerfo_indi14[[#This Row],[Jours ouvrés]],TPerfo_indi14[[#This Row],[Nbre de samedi]]) -> 23
AH12: =SUMIF(TPerfo_indi14[[#This Row],[01/10/2024]:[25/10/2024]],">"&0) -> 0 | AI12: =COUNTIFS(TPerfo_indi14[[#This Row],[01/10/2024]:[25/10/2024]],">"&0) -> 0 | AK12: =NETWORKDAYS(Feuil2!$C$2,Feuil2!$C$3) -> 23 | AL12: =SUM(TPerfo_indi14[[#This Row],[Jours ouvrés]],TPerfo_indi14[[#This Row],[Nbre de samedi]]) -> 23
AH13: =SUMIF(TPerfo_indi14[[#This Row],[01/10/2024]:[25/10/2024]],">"&0) -> 0 | AI13: =COUNTIFS(TPerfo_indi14[[#This Row],[01/10/2024]:[25/10/2024]],">"&0) -> 0 | AK13: =NETWORKDAYS(Feuil2!$C$2,Feuil2!$C$3) -> 23 | AL13: =SUM(TPerfo_indi14[[#This Row],[Jours ouvrés]],TPerfo_indi14[[#This Row],[Nbre de samedi]]) -> 23
AH14: =SUMIF(TPerfo_indi14[[#This Row],[01/10/2024]:[25/10/2024]],">"&0) -> 0 | AI14: =COUNTIFS(TPerfo_indi14[[#This Row],[01/10/2024]:[25/10/2024]],">"&0) -> 0 | AK14: =NETWORKDAYS(Feuil2!$C$2,Feuil2!$C$3) -> 23 | AL14: =SUM(TPerfo_indi14[[#This Row],[Jours ouvrés]],TPerfo_indi14[[#This Row],[Nbre de samedi]]) -> 23
AH15: =SUMIF(TPerfo_indi14[[#This Row],[01/10/2024]:[25/10/2024]],">"&0) -> 0 | AI15: =COUNTIFS(TPerfo_indi14[[#This Row],[01/10/2024]:[25/10/2024]],">"&0) -> 0 | AK15: =NETWORKDAYS(Feuil2!$C$2,Feuil2!$C$3) -> 23 | AL15: =SUM(TPerfo_indi14[[#This Row],[Jours ouvrés]],TPerfo_indi14[[#This Row],[Nbre de samedi]]) -> 23
AH16: =SUMIF(TPerfo_indi14[[#This Row],[01/10/2024]:[25/10/2024]],">"&0) -> 0 | AI16: =COUNTIFS(TPerfo_indi14[[#This Row],[01/10/2024]:[25/10/2024]],">"&0) -> 0 | AK16: =NETWORKDAYS(Feuil2!$C$2,Feuil2!$C$3) -> 23 | AL16: =SUM(TPerfo_indi14[[#This Row],[Jours ouvrés]],TPerfo_indi14[[#This Row],[Nbre de samedi]]) -> 23
AH17: =SUMIF(TPerfo_indi14[[#This Row],[01/10/2024]:[25/10/2024]],">"&0) -> 0 | AI17: =COUNTIFS(TPerfo_indi14[[#This Row],[01/10/2024]:[25/10/2024]],">"&0) -> 0 | AK17: =NETWORKDAYS(Feuil2!$C$2,Feuil2!$C$3) -> 23 | AL17: =SUM(TPerfo_indi14[[#This Row],[Jours ouvrés]],TPerfo_indi14[[#This Row],[Nbre de samedi]]) -> 23
AH18: =SUMIF(TPerfo_indi14[[#This Row],[01/10/2024]:[25/10/2024]],">"&0) -> 0 | AI18: =COUNTIFS(TPerfo_indi14[[#This Row],[01/10/2024]:[25/10/2024]],">"&0) -> 0 | AK18: =NETWORKDAYS(Feuil2!$C$2,Feuil2!$C$3) -> 23 | AL18: =SUM(TPerfo_indi14[[#This Row],[Jours ouvrés]],TPerfo_indi14[[#This Row],[Nbre de samedi]]) -> 23
... AH35: =SUMIF(TPerfo_indi14[[#This Row],[01/10/2024]:[25/10/2024]],">"&0) -> 0 | AI35: =COUNTIFS(TPerfo_indi14[[#This Row],[01/10/2024]:[25/10/2024]],">"&0) -> 0 | AK35: =NETWORKDAYS(Feuil2!$C$2,Feuil2!$C$3) -> 23 | AL35: =SUM(TPerfo_indi14[[#This Row],[Jours ouvrés]],TPerfo_indi14[[#This Row],[Nbre de samedi]]) -> 23
G38: 45566 | H38: 45567 | I38: 45568 | J38: 45569 | K38: 45570 | L38: 45572 | M38: 45573 | N38: 45574 | O38: 45575 | P38: 45576 | Q38: 45577 | R38: 45579 | S38: 45580 | T38: 45581 | U38: 45582 | V38: 45583 | W38: 45584 | X38: 45586 | Y38: 45587 | Z38: 45588 | AA38: 45589 | AB38: 45590

Sheet Novembre 2024
A5: Entreprise | B5: Matricule | C5: Collecteur | D5: Fonction | E5: AFFECTATION | F5: Manager | G5: 02/09/2024 | H5: 03/09/2024 | I5: 04/09/2024 | J5: 05/09/2024 | K5: 06/09/2024 | L5: 07/09/2024 | M5: 09/09/2024 | N5: 10/09/2024 | O5: 11/09/2024 | P5: 12/09/2024 | Q5: 13/09/2024 | R5: 14/09/2024 | S5: 16/09/2024 | T5: 17/09/2024 | U5: 18/09/2024 | V5: 19/09/2024 | W5: 20/09/2024 | X5: 21/09/2024 | Y5: 23/09/2024 | Z5: 24/09/2024 | AA5: 25/09/2024 | AB5: 26/09/2024 | AC5: 27/09/2024 | AD5: 28/09/2024 | AE5: 30/09/2024 | AF5: Objectif mensuel | AG5: Nbre jours travail | AH5: Nbre de samedi | AI5: Jours ouvrés | AJ5: Jours ouvrables
O6: 11 | AF6: =SUMIF(TPerfo_indi1415[[#This Row],[02/09/2024]:[30/09/2024]],">"&0) -> 11 | AG6: =COUNTIFS(TPerfo_indi1415[[#This Row],[02/09/2024]:[30/09/2024]],">"&0) -> 1 | AI6: =NETWORKDAYS(Feuil2!$D$2,Feuil2!$D$3) -> 21 | AJ6: =SUM(TPerfo_indi1415[[#This Row],[Jours ouvrés]],TPerfo_indi1415[[#This Row],[Nbre de samedi]]) -> 21
AF7: =SUMIF(TPerfo_indi1415[[#This Row],[02/09/2024]:[30/09/2024]],">"&0) -> 0 | AG7: =COUNTIFS(TPerfo_indi1415[[#This Row],[02/09/2024]:[30/09/2024]],">"&0) -> 0 | AI7: =NETWORKDAYS(Feuil2!$D$2,Feuil2!$D$3) -> 21 | AJ7: =SUM(TPerfo_indi1415[[#This Row],[Jours ouvrés]],TPerfo_indi1415[[#This Row],[Nbre de samedi]]) -> 21
AF8: =SUMIF(TPerfo_indi1415[[#This Row],[02/09/2024]:[30/09/2024]],">"&0) -> 0 | AG8: =COUNTIFS(TPerfo_indi1415[[#This Row],[02/09/2024]:[30/09/2024]],">"&0) -> 0 | AI8: =NETWORKDAYS(Feuil2!$D$2,Feuil2!$D$3) -> 21 | AJ8: =SUM(TPerfo_indi1415[[#This Row],[Jours ouvrés]],TPerfo_indi1415[[#This Row],[Nbre de samedi]]) -> 21
AF9: =SUMIF(TPerfo_indi1415[[#This Row],[02/09/2024]:[30/09/2024]],">"&0) -> 0 | AG9: =COUNTIFS(TPerfo_indi1415[[#This Row],[02/09/2024]:[30/09/2024]],">"&0) -> 0 | AI9: =NETWORKDAYS(Feuil2!$D$2,Feuil2!$D$3) -> 21 | AJ9: =SUM(TPerfo_indi1415[[#This Row],[Jours ouvrés]],TPerfo_indi1415[[#This Row],[Nbre de samedi]]) -> 21
AF10: =SUMIF(TPerfo_indi1415[[#This Row],[02/09/2024]:[30/09/2024]],">"&0) -> 0 | AG10: =COUNTIFS(TPerfo_indi1415[[#This Row],[02/09/2024]:[30/09/2024]],">"&0) -> 0 | AI10: =NETWORKDAYS(Feuil2!$D$2,Feuil2!$D$3) -> 21 | AJ10: =SUM(TPerfo_indi1415[[#This Row],[Jours ouvrés]],TPerfo_indi1415[[#This Row],[Nbre de samedi]]) -> 21
AF11: =SUMIF(TPerfo_indi1415[[#This Row],[02/09/2024]:[30/09/2024]],">"&0) -> 0 | AG11: =COUNTIFS(TPerfo_indi1415[[#This Row],[02/09/2024]:[30/09/2024]],">"&0) -> 0 | AI11: =NETWORKDAYS(Feuil2!$D$2,Feuil2!$D$3) -> 21 | AJ11: =SUM(TPerfo_indi1415[[#This Row],[Jours ouvrés]],TPerfo_indi1415[[#This Row],[Nbre de samedi]]) -> 21
AF12: =SUMIF(TPerfo_indi1415[[#This Row],[02/09/2024]:[30/09/2024]],">"&0) -> 0 | AG12: =COUNTIFS(TPerfo_indi1415[[#This Row],[02/09/2024]:[30/09/2024]],">"&0) -> 0 | AI12: =NETWORKDAYS(Feuil2!$D$2,Feuil2!$D$3) -> 21 | AJ12: =SUM(TPerfo_indi1415[[#This Row],[Jours ouvrés]],TPerfo_indi1415[[#This Row],[Nbre de samedi]]) -> 21
AF13: =SUMIF(TPerfo_indi1415[[#This Row],[02/09/2024]:[30/09/2024]],">"&0) -> 0 | AG13: =COUNTIFS(TPerfo_indi1415[[#This Row],[02/09/2024]:[30/09/2024]],">"&0) -> 0 | AI13: =NETWORKDAYS(Feuil2!$D$2,Feuil2!$D$3) -> 21 | AJ13: =SUM(TPerfo_indi1415[[#This Row],[Jours ouvrés]],TPerfo_indi1415[[#This Row],[Nbre de samedi]]) -> 21
AF14: =SUMIF(TPerfo_indi1415[[#This Row],[02/09/2024]:[30/09/2024]],">"&0) -> 0 | AG14: =COUNTIFS(TPerfo_indi1415[[#This Row],[02/09/2024]:[30/09/2024]],">"&0) -> 0 | AI14: =NETWORKDAYS(Feuil2!$D$2,Feuil2!$D$3) -> 21 | AJ14: =SUM(TPerfo_indi1415[[#This Row],[Jours ouvrés]],TPerfo_indi1415[[#This Row],[Nbre de samedi]]) -> 21
AF15: =SUMIF(TPerfo_indi1415[[#This Row],[02/09/2024]:[30/09/2024]],">"&0) -> 0 | AG15: =COUNTIFS(TPerfo_indi1415[[#This Row],[02/09/2024]:[30/09/2024]],">"&0) -> 0 | AI15: =NETWORKDAYS(Feuil2!$D$2,Feuil2!$D$3) -> 21 | AJ15: =SUM(TPerfo_indi1415[[#This Row],[Jours ouvrés]],TPerfo_indi1415[[#This Row],[Nbre de samedi]]) -> 21
AF16: =SUMIF(TPerfo_indi1415[[#This Row],[02/09/2024]:[30/09/2024]],">"&0) -> 0 | AG16: =COUNTIFS(TPerfo_indi1415[[#This Row],[02/09/2024]:[30/09/2024]],">"&0) -> 0 | AI16: =NETWORKDAYS(Feuil2!$D$2,Feuil2!$D$3) -> 21 | AJ16: =SUM(TPerfo_indi1415[[#This Row],[Jours ouvrés]],TPerfo_indi1415[[#This Row],[Nbre de samedi]]) -> 21
AF17: =SUMIF(TPerfo_indi1415[[#This Row],[02/09/2024]:[30/09/2024]],">"&0) -> 0 | AG17: =COUNTIFS(TPerfo_indi1415[[#This Row],[02/09/2024]:[30/09/2024]],">"&0) -> 0 | AI17: =NETWORKDAYS(Feuil2!$D$2,Feuil2!$D$3) -> 21 | AJ17: =SUM(TPerfo_indi1415[[#This Row],[Jours ouvrés]],TPerfo_indi1415[[#This Row],[Nbre de samedi]]) -> 21
AF18: =SUMIF(TPerfo_indi1415[[#This Row],[02/09/2024]:[30/09/2024]],">"&0) -> 0 | AG18: =COUNTIFS(TPerfo_indi1415[[#This Row],[02/09/2024]:[30/09/2024]],">"&0) -> 0 | AI18: =NETWORKDAYS(Feuil2!$D$2,Feuil2!$D$3) -> 21 | AJ18: =SUM(TPerfo_indi1415[[#This Row],[Jours ouvrés]],TPerfo_indi1415[[#This Row],[Nbre de samedi]]) -> 21
... AF35: =SUMIF(TPerfo_indi1415[[#This Row],[02/09/2024]:[30/09/2024]],">"&0) -> 0 | AG35: =COUNTIFS(TPerfo_indi1415[[#This Row],[02/09/2024]:[30/09/2024]],">"&0) -> 0 | AI35: =NETWORKDAYS(Feuil2!$D$2,Feuil2!$D$3) -> 21 | AJ35: =SUM(TPerfo_indi1415[[#This Row],[Jours ouvrés]],TPerfo_indi1415[[#This Row],[Nbre de samedi]]) -> 21

Sheet Décembre 2024
A5: Entreprise | B5: Matricule | C5: Collecteur | D5: Fonction | E5: AFFECTATION | F5: Manager | G5: 02/09/2024 | H5: 03/09/2024 | I5: 04/09/2024 | J5: 05/09/2024 | K5: 06/09/2024 | L5: 07/09/2024 | M5: 09/09/2024 | N5: 10/09/2024 | O5: 11/09/2024 | P5: 12/09/2024 | Q5: 13/09/2024 | R5: 14/09/2024 | S5: 16/09/2024 | T5: 17/09/2024 | U5: 18/09/2024 | V5: 19/09/2024 | W5: 20/09/2024 | X5: 21/09/2024 | Y5: 23/09/2024 | Z5: 24/09/2024 | AA5: 25/09/2024 | AB5: 26/09/2024 | AC5: 27/09/2024 | AD5: 28/09/2024 | AE5: 30/09/2024 | AF5: Objectif mensuel | AG5: Nbre jours travail | AH5: Nbre de samedi | AI5: Jours ouvrés | AJ5: Jours ouvrables
AF6: =SUMIF(TPerfo_indi141516[[#This Row],[02/09/2024]:[30/09/2024]],">"&0) -> 0 | AG6: =COUNTIFS(TPerfo_indi141516[[#This Row],[02/09/2024]:[30/09/2024]],">"&0) -> 0 | AI6: =NETWORKDAYS(Feuil2!$E$2,Feuil2!$E$3) -> 22 | AJ6: =SUM(TPerfo_indi141516[[#This Row],[Jours ouvrés]],TPerfo_indi141516[[#This Row],[Nbre de samedi]]) -> 22
AF7: =SUMIF(TPerfo_indi141516[[#This Row],[02/09/2024]:[30/09/2024]],">"&0) -> 0 | AG7: =COUNTIFS(TPerfo_indi141516[[#This Row],[02/09/2024]:[30/09/2024]],">"&0) -> 0 | AI7: =NETWORKDAYS(Feuil2!$E$2,Feuil2!$E$3) -> 22 | AJ7: =SUM(TPerfo_indi141516[[#This Row],[Jours ouvrés]],TPerfo_indi141516[[#This Row],[Nbre de samedi]]) -> 22
AF8: =SUMIF(TPerfo_indi141516[[#This Row],[02/09/2024]:[30/09/2024]],">"&0) -> 0 | AG8: =COUNTIFS(TPerfo_indi141516[[#This Row],[02/09/2024]:[30/09/2024]],">"&0) -> 0 | AI8: =NETWORKDAYS(Feuil2!$E$2,Feuil2!$E$3) -> 22 | AJ8: =SUM(TPerfo_indi141516[[#This Row],[Jours ouvrés]],TPerfo_indi141516[[#This Row],[Nbre de samedi]]) -> 22
AF9: =SUMIF(TPerfo_indi141516[[#This Row],[02/09/2024]:[30/09/2024]],">"&0) -> 0 | AG9: =COUNTIFS(TPerfo_indi141516[[#This Row],[02/09/2024]:[30/09/2024]],">"&0) -> 0 | AI9: =NETWORKDAYS(Feuil2!$E$2,Feuil2!$E$3) -> 22 | AJ9: =SUM(TPerfo_indi141516[[#This Row],[Jours ouvrés]],TPerfo_indi141516[[#This Row],[Nbre de samedi]]) -> 22
AF10: =SUMIF(TPerfo_indi141516[[#This Row],[02/09/2024]:[30/09/2024]],">"&0) -> 0 | AG10: =COUNTIFS(TPerfo_indi141516[[#This Row],[02/09/2024]:[30/09/2024]],">"&0) -> 0 | AI10: =NETWORKDAYS(Feuil2!$E$2,Feuil2!$E$3) -> 22 | AJ10: =SUM(TPerfo_indi141516[[#This Row],[Jours ouvrés]],TPerfo_indi141516[[#This Row],[Nbre de samedi]]) -> 22
AF11: =SUMIF(TPerfo_indi141516[[#This Row],[02/09/2024]:[30/09/2024]],">"&0) -> 0 | AG11: =COUNTIFS(TPerfo_indi141516[[#This Row],[02/09/2024]:[30/09/2024]],">"&0) -> 0 | AI11: =NETWORKDAYS(Feuil2!$E$2,Feuil2!$E$3) -> 22 | AJ11: =SUM(TPerfo_indi141516[[#This Row],[Jours ouvrés]],TPerfo_indi141516[[#This Row],[Nbre de samedi]]) -> 22
AF12: =SUMIF(TPerfo_indi141516[[#This Row],[02/09/2024]:[30/09/2024]],">"&0) -> 0 | AG12: =COUNTIFS(TPerfo_indi141516[[#This Row],[02/09/2024]:[30/09/2024]],">"&0) -> 0 | AI12: =NETWORKDAYS(Feuil2!$E$2,Feuil2!$E$3) -> 22 | AJ12: =SUM(TPerfo_indi141516[[#This Row],[Jours ouvrés]],TPerfo_indi141516[[#This Row],[Nbre de samedi]]) -> 22
AF13: =SUMIF(TPerfo_indi141516[[#This Row],[02/09/2024]:[30/09/2024]],">"&0) -> 0 | AG13: =COUNTIFS(TPerfo_indi141516[[#This Row],[02/09/2024]:[30/09/2024]],">"&0) -> 0 | AI13: =NETWORKDAYS(Feuil2!$E$2,Feuil2!$E$3) -> 22 | AJ13: =SUM(TPerfo_indi141516[[#This Row],[Jours ouvrés]],TPerfo_indi141516[[#This Row],[Nbre de samedi]]) -> 22
AF14: =SUMIF(TPerfo_indi141516[[#This Row],[02/09/2024]:[30/09/2024]],">"&0) -> 0 | AG14: =COUNTIFS(TPerfo_indi141516[[#This Row],[02/09/2024]:[30/09/2024]],">"&0) -> 0 | AI14: =NETWORKDAYS(Feuil2!$E$2,Feuil2!$E$3) -> 22 | AJ14: =SUM(TPerfo_indi141516[[#This Row],[Jours ouvrés]],TPerfo_indi141516[[#This Row],[Nbre de samedi]]) -> 22
AF15: =SUMIF(TPerfo_indi141516[[#This Row],[02/09/2024]:[30/09/2024]],">"&0) -> 0 | AG15: =COUNTIFS(TPerfo_indi141516[[#This Row],[02/09/2024]:[30/09/2024]],">"&0) -> 0 | AI15: =NETWORKDAYS(Feuil2!$E$2,Feuil2!$E$3) -> 22 | AJ15: =SUM(TPerfo_indi141516[[#This Row],[Jours ouvrés]],TPerfo_indi141516[[#This Row],[Nbre de samedi]]) -> 22
AF16: =SUMIF(TPerfo_indi141516[[#This Row],[02/09/2024]:[30/09/2024]],">"&0) -> 0 | AG16: =COUNTIFS(TPerfo_indi141516[[#This Row],[02/09/2024]:[30/09/2024]],">"&0) -> 0 | AI16: =NETWORKDAYS(Feuil2!$E$2,Feuil2!$E$3) -> 22 | AJ16: =SUM(TPerfo_indi141516[[#This Row],[Jours ouvrés]],TPerfo_indi141516[[#This Row],[Nbre de samedi]]) -> 22
AF17: =SUMIF(TPerfo_indi141516[[#This Row],[02/09/2024]:[30/09/2024]],">"&0) -> 0 | AG17: =COUNTIFS(TPerfo_indi141516[[#This Row],[02/09/2024]:[30/09/2024]],">"&0) -> 0 | AI17: =NETWORKDAYS(Feuil2!$E$2,Feuil2!$E$3) -> 22 | AJ17: =SUM(TPerfo_indi141516[[#This Row],[Jours ouvrés]],TPerfo_indi141516[[#This Row],[Nbre de samedi]]) -> 22
... AF35: =SUMIF(TPerfo_indi141516[[#This Row],[02/09/2024]:[30/09/2024]],">"&0) -> 0 | AG35: =COUNTIFS(TPerfo_indi141516[[#This Row],[02/09/2024]:[30/09/2024]],">"&0) -> 0 | AI35: =NETWORKDAYS(Feuil2!$E$2,Feuil2!$E$3) -> 22 | AJ35: =SUM(TPerfo_indi141516[[#This Row],[Jours ouvrés]],TPerfo_indi141516[[#This Row],[Nbre de samedi]]) -> 22

Sheet Feuil2
B1: 45536 | C1: 45566 | D1: 45597 | E1: 45627
A2: Date debut | B2: 45536 | C2: 45566 | D2: 45597 | E2: 45627
A3: Date fin | B3: 45565 | C3: 45596 | D3: 45626 | E3: 45657
