Workbook

Sheet ACTIF
A3: Position | B3: Références | C3: RESERVE | D3: Quantité pièces/ACTIF | E3: ACTIF | F3: TOTAL
A4: AF01 | B4: PR001 | C4: =SUM(ARTICLE!Q3) -> 680 | D4: 288 | E4: =SUM(Tableau1[[#This Row],[Quantité pièces/ACTIF]]) -> 288 | F4: =SUM(Tableau1[[#This Row],[ACTIF]]+Tableau1[[#This Row],[RESERVE]]) -> 968
A5: AF02 | B5: PR002 | C5: =SUM(ARTICLE!Q4) -> 0 | E5: =SUM(Tableau1[[#This Row],[Quantité pièces/ACTIF]]) -> 0 | F5: =SUM(Tableau1[[#This Row],[ACTIF]]+Tableau1[[#This Row],[RESERVE]]) -> 0
A6: AF03 | B6: PR003 | C6: =SUM(ARTICLE!Q5) -> 0 | E6: =SUM(Tableau1[[#This Row],[Quantité pièces/ACTIF]]) -> 0 | F6: =SUM(Tableau1[[#This Row],[ACTIF]]+Tableau1[[#This Row],[RESERVE]]) -> 0
A7: AF04 | B7: PR004 | C7: =SUM(ARTICLE!Q6) -> 0 | E7: =SUM(Tableau1[[#This Row],[Quantité pièces/ACTIF]]) -> 0 | F7: =SUM(Tableau1[[#This Row],[ACTIF]]+Tableau1[[#This Row],[RESERVE]]) -> 0
A8: AF05 | B8: PR005 | C8: =SUM(ARTICLE!Q7) -> 0 | E8: =SUM(Tableau1[[#This Row],[Quantité pièces/ACTIF]]) -> 0 | F8: =SUM(Tableau1[[#This Row],[ACTIF]]+Tableau1[[#This Row],[RESERVE]]) -> 0
A9: AF06 | B9: PR006 | C9: =SUM(ARTICLE!Q8) -> 0 | E9: =SUM(Tableau1[[#This Row],[Quantité pièces/ACTIF]]) -> 0 | F9: =SUM(Tableau1[[#This Row],[ACTIF]]+Tableau1[[#This Row],[RESERVE]]) -> 0
A10: AE01 | B10: PR007 | C10: =SUM(ARTICLE!Q9) -> 0 | E10: =SUM(Tableau1[[#This Row],[Quantité pièces/ACTIF]]) -> 0 | F10: =SUM(Tableau1[[#This Row],[ACTIF]]+Tableau1[[#This Row],[RESERVE]]) -> 0
A11: AE02 | B11: PR008 | C11: =SUM(ARTICLE!Q10) -> 0 | E11: =SUM(Tableau1[[#This Row],[Quantité pièces/ACTIF]]) -> 0 | F11: =SUM(Tableau1[[#This Row],[ACTIF]]+Tableau1[[#This Row],[RESERVE]]) -> 0
A12: AE03 | B12: PR009 | C12: =SUM(ARTICLE!Q11) -> 0 | E12: =SUM(Tableau1[[#This Row],[Quantité pièces/ACTIF]]) -> 0 | F12: =SUM(Tableau1[[#This Row],[ACTIF]]+Tableau1[[#This Row],[RESERVE]]) -> 0
A13: AE04 | B13: PR010 | C13: =SUM(ARTICLE!Q12) -> 0 | E13: =SUM(Tableau1[[#This Row],[Quantité pièces/ACTIF]]) -> 0 | F13: =SUM(Tableau1[[#This Row],[ACTIF]]+Tableau1[[#This Row],[RESERVE]]) -> 0
A14: AE05 | B14: PR011 | C14: =SUM(ARTICLE!Q13) -> 0 | E14: =SUM(Tableau1[[#This Row],[Quantité pièces/ACTIF]]) -> 0 | F14: =SUM(Tableau1[[#This Row],[ACTIF]]+Tableau1[[#This Row],[RESERVE]]) -> 0
A15: AE06 | B15: PR012 | C15: =SUM(ARTICLE!Q14) -> 0 | E15: =SUM(Tableau1[[#This Row],[Quantité pièces/ACTIF]]) -> 0 | F15: =SUM(Tableau1[[#This Row],[ACTIF]]+Tableau1[[#This Row],[RESERVE]]) -> 0
A16: AD01 | B16: PR013 | C16: =SUM(ARTICLE!Q15) -> 0 | E16: =SUM(Tableau1[[#This Row],[Quantité pièces/ACTIF]]) -> 0 | F16: =SUM(Tableau1[[#This Row],[ACTIF]]+Tableau1[[#This Row],[RESERVE]]) -> 0
... A128: EF05 | B128: PR125 | C128: =SUM(ARTICLE!Q127) -> 0 | E128: =SUM(Tableau1[[#This Row],[Quantité pièces/ACTIF]]) -> 0 | F128: =SUM(Tableau1[[#This Row],[ACTIF]]+Tableau1[[#This Row],[RESERVE]]) -> 0
A129: EF06 | C129: =SUM(ARTICLE!Q128) -> 0 | E129: =SUM(Tableau1[[#This Row],[Quantité pièces/ACTIF]]) -> 0 | F129: =SUM(Tableau1[[#This Row],[ACTIF]]+Tableau1[[#This Row],[RESERVE]]) -> 0
C130: =SUM(ARTICLE!Q129) -> 0 | E130: =SUM(Tableau1[[#This Row],[Quantité pièces/ACTIF]]) -> 0 | F130: =SUM(Tableau1[[#This Row],[ACTIF]]+Tableau1[[#This Row],[RESERVE]]) -> 0
C131: =SUM(ARTICLE!Q130) -> 0 | E131: =SUM(Tableau1[[#This Row],[Quantité pièces/ACTIF]]) -> 0 | F131: =SUM(Tableau1[[#This Row],[ACTIF]]+Tableau1[[#This Row],[RESERVE]]) -> 0
C132: =SUM(ARTICLE!Q131) -> 0 | E132: =SUM(Tableau1[[#This Row],[Quantité pièces/ACTIF]]) -> 0 | F132: =SUM(Tableau1[[#This Row],[ACTIF]]+Tableau1[[#This Row],[RESERVE]]) -> 0
C133: =SUM(ARTICLE!Q132) -> 0 | E133: =SUM(Tableau1[[#This Row],[Quantité pièces/ACTIF]]) -> 0 | F133: =SUM(Tableau1[[#This Row],[ACTIF]]+Tableau1[[#This Row],[RESERVE]]) -> 0
C134: =SUM(ARTICLE!Q133) -> 0 | E134: =SUM(Tableau1[[#This Row],[Quantité pièces/ACTIF]]) -> 0 | F134: =SUM(Tableau1[[#This Row],[ACTIF]]+Tableau1[[#This Row],[RESERVE]]) -> 0
C135: =SUM(ARTICLE!Q134) -> 0 | E135: =SUM(Tableau1[[#This Row],[Quantité pièces/ACTIF]]) -> 0 | F135: =SUM(Tableau1[[#This Row],[ACTIF]]+Tableau1[[#This Row],[RESERVE]]) -> 0
C136: =SUM(ARTICLE!Q135) -> 0 | E136: =SUM(Tableau1[[#This Row],[Quantité pièces/ACTIF]]) -> 0 | F136: =SUM(Tableau1[[#This Row],[ACTIF]]+Tableau1[[#This Row],[RESERVE]]) -> 0
C137: =SUM(ARTICLE!Q136) -> 0 | E137: =SUM(Tableau1[[#This Row],[Quantité pièces/ACTIF]]) -> 0 | F137: =SUM(Tableau1[[#This Row],[ACTIF]]+Tableau1[[#This Row],[RESERVE]]) -> 0
C138: =SUM(ARTICLE!Q137) -> 0 | E138: =SUM(Tableau1[[#This Row],[Quantité pièces/ACTIF]]) -> 0 | F138: =SUM(Tableau1[[#This Row],[ACTIF]]+Tableau1[[#This Row],[RESERVE]]) -> 0
C139: =SUM(ARTICLE!Q138) -> 0 | E139: =SUM(Tableau1[[#This Row],[Quantité pièces/ACTIF]]) -> 0 | F139: =SUM(Tableau1[[#This Row],[ACTIF]]+Tableau1[[#This Row],[RESERVE]]) -> 0
C140: =SUM(ARTICLE!Q139) -> 0 | E140: =SUM(Tableau1[[#This Row],[Quantité pièces/ACTIF]]) -> 0 | F140: =SUM(Tableau1[[#This Row],[ACTIF]]+Tableau1[[#This Row],[RESERVE]]) -> 0
C141: =SUM(ARTICLE!Q140) -> 0 | E141: =SUM(Tableau1[[#This Row],[Quantité pièces/ACTIF]]) -> 0 | F141: =SUM(Tableau1[[#This Row],[ACTIF]]+Tableau1[[#This Row],[RESERVE]]) -> 0
... C428: =SUM(ARTICLE!Q427) -> 0 | E428: =SUM(Tableau1[[#This Row],[Quantité pièces/ACTIF]]) -> 0 | F428: =SUM(Tableau1[[#This Row],[ACTIF]]+Tableau1[[#This Row],[RESERVE]]) -> 0

Sheet  RESERVE
A1: Stock Réserve
A3: Position | B3: Références/Quantité pièces | F3: Entrés=>Réf/QTE
A4: AA01 | B4: PR019/280 | C4: PR062/280 | D4: PR018/280 | E4: PR016/280
A5: AA02 | B5: PR007/200 | C5: PR035/280 | D5: PR019/280 | E5: PR062/280
A6: AA03 | B6: PR014/280 | C6: PR099/280 | D6: PR099/280 | E6: PR006/280
A7: AA04 | B7: PR026/200 | C7: PR026/280 | D7: PR040/280 | E7: PR027/280
A8: AA05 | B8: PR019/280 | C8: PR011/280 | D8: PR099/280 | E8: PR099/280
A9: AA06 | B9: PR069/200 | C9: PR062/280 | D9: PR062/280 | E9: PR055/280
A10: AA07 | B10: ### | C10: ### | D10: ### | E10: ###
A11: BA01 | B11: PR027/280 | C11: PR019/280 | D11: PR021/280 | E11: PR088/280
A12: BA02 | B12: PR027/280 | C12: PR026/280 | D12: PR027/280 | E12: PR090/280
A13: BA03 | B13: PR009/280 | C13: PR006/200 | D13: PR826/280 | E13: PR086/280
A14: BA04
A15: BA05
A16: BA06
A17: BA07
A18: CA01
A19: CA02
A20: CA03
A21: CA04
A22: CA05
A23: CA06
A24: CA07
A25: DA01
... A87: LA07

Sheet ARTICLE
A2: Références | B2: Quantité pièces | C2: Quantité pièces | D2: Quantité pièces | E2: Quantité pièces | F2: Quantité pièces | G2: Quantité pièces | H2: Quantité pièces | I2: Quantité pièces | J2: Quantité pièces | K2: Quantité pièces | L2: Quantité pièces | M2: Quantité pièces | N2: Quantité pièces | O2: Quantité pièces | P2: Quantité pièces | Q2: TOTAL
A3: PR001 | K3: 280 | L3: 200 | M3: 200 | Q3: =SUM(B3:P3) -> 680
A4: PR002
A5: PR003
A6: PR004
A7: PR005
A8: PR006
A9: PR007
A10: PR008
A11: PR009
A12: PR010
A13: PR011
A14: PR012
A15: PR013
... A166: PR838
