Workbook
Name ABSENTS_Je: Jeudi!$B$3:$I$3
Name ABSENTS_Lu: Lundi!$B$3:$I$3
Name ABSENTS_Ma: Mardi!$B$3:$I$3
Name ABSENTS_Me: Mercredi!$B$3:$I$3
Name ABSENTS_Ve: Vendredi!$B$3:$I$3
Name ACT_JEUNES_AM_Je: Jeudi!$C$28:$F$48
Name ACT_JEUNES_AM_Lu: Lundi!$C$28:$F$48
Name ACT_JEUNES_AM_Ma: Mardi!$C$28:$F$48
Name ACT_JEUNES_AM_Me: Mercredi!$C$28:$F$48
Name ACT_JEUNES_AM_Ve: Vendredi!$C$28:$F$48
Name ACT_JEUNES_M_Je: Jeudi!$C$6:$F$26
Name ACT_JEUNES_M_Lu: Lundi!$C$6:$F$26
Name ACT_JEUNES_M_Ma: Mardi!$C$6:$F$26
Name ACT_JEUNES_M_Me: Mercredi!$C$6:$F$26
Name ACT_JEUNES_M_Ve: Vendredi!$C$6:$F$26
Name LIST_JEUNES_AM_Je: Jeudi!$M$28:$M$49
Name LIST_JEUNES_AM_Lu: Lundi!$M$28:$M$49
Name LIST_JEUNES_AM_Ma: Mardi!$M$28:$M$49
Name LIST_JEUNES_AM_Me: Mercredi!$M$28:$M$49
Name LIST_JEUNES_AM_Ve: Vendredi!$M$28:$M$49
Name LIST_JEUNES_M_Je: Jeudi!$K$5:$K$26
Name LIST_JEUNES_M_Lu: Lundi!$K$5:$K$26
Name LIST_JEUNES_M_Ma: Mardi!$K$5:$K$26
Name LIST_JEUNES_M_Me: Mercredi!$K$5:$K$26
Name LIST_JEUNES_M_Ve: Vendredi!$K$5:$K$26

Sheet Listes
A1: LISTE | B1: Lundi M | C1: Lundi AM | D1: Mardi M | E1: Mardi AM | F1: Mercredi M | G1: Mercredi AM | H1: Jeudi M | I1: Jeudi AM | J1: Vendredi M | K1: Vendredi AM
B2: =COUNTIF(ACT_JEUNES_M_Lu,A2)+COUNTIF(ABSENTS_Lu,A2) -> 0 | C2: =COUNTIF(ACT_JEUNES_AM_Lu,A2)+COUNTIF(ABSENTS_Lu,A2) -> 0 | D2: =COUNTIF(Mardi!ACT_JEUNES_M_Ma,A2)+COUNTIF(Mardi!ABSENTS_Ma,A2) -> 0 | E2: =COUNTIF(Mardi!ACT_JEUNES_AM_Ma,A2)+COUNTIF(Mardi!ABSENTS_Ma,A2) -> 0 | F2: =COUNTIF(Mercredi!ACT_JEUNES_M_Me,A2)+COUNTIF(Mercredi!ABSENTS_Me,A2) -> 0 | G2: =COUNTIF(Mercredi!ACT_JEUNES_AM_Me,A2)+COUNTIF(Mercredi!ABSENTS_Me,A2) -> 0 | H2: =COUNTIF(Jeudi!ACT_JEUNES_M_Je,A2)+COUNTIF(Jeudi!ABSENTS_Je,A2) -> 0 | I2: =COUNTIF(Jeudi!ACT_JEUNES_AM_Je,A2)+COUNTIF(Jeudi!ABSENTS_Je,A2) -> 0 | J2: =COUNTIF(Vendredi!ACT_JEUNES_M_Ve, A2)+COUNTIF(Vendredi!ABSENTS_Ve, A2) -> 0 | K2: =COUNTIF(Vendredi!ACT_JEUNES_AM_Ve,A2)+COUNTIF(Vendredi!ABSENTS_Ve,A2) -> 0
B3: =COUNTIF(ACT_JEUNES_M_Lu,A3)+COUNTIF(ABSENTS_Lu,A3) -> 0 | C3: =COUNTIF(ACT_JEUNES_AM_Lu,A3)+COUNTIF(ABSENTS_Lu,A3) -> 0 | D3: =COUNTIF(Mardi!ACT_JEUNES_M_Ma,A3)+COUNTIF(Mardi!ABSENTS_Ma,A3) -> 0 | E3: =COUNTIF(Mardi!ACT_JEUNES_AM_Ma,A3)+COUNTIF(Mardi!ABSENTS_Ma,A3) -> 0 | F3: =COUNTIF(Mercredi!ACT_JEUNES_M_Me,A3)+COUNTIF(Mercredi!ABSENTS_Me,A3) -> 0 | G3: =COUNTIF(Mercredi!ACT_JEUNES_AM_Me,A3)+COUNTIF(Mercredi!ABSENTS_Me,A3) -> 0 | H3: =COUNTIF(Jeudi!ACT_JEUNES_M_Je,A3)+COUNTIF(Jeudi!ABSENTS_Je,A3) -> 0 | I3: =COUNTIF(Jeudi!ACT_JEUNES_AM_Je,A3)+COUNTIF(Jeudi!ABSENTS_Je,A3) -> 0 | J3: =COUNTIF(Vendredi!ACT_JEUNES_M_Ve,A3)+COUNTIF(Vendredi!ABSENTS_Ve,A3) -> 0 | K3: =COUNTIF(Vendredi!ACT_JEUNES_AM_Ve,A3)+COUNTIF(Vendredi!ABSENTS_Ve,A3) -> 0
B4: =COUNTIF(ACT_JEUNES_M_Lu,A4)+COUNTIF(ABSENTS_Lu,A4) -> 0 | C4: =COUNTIF(ACT_JEUNES_AM_Lu,A4)+COUNTIF(ABSENTS_Lu,A4) -> 0 | D4: =COUNTIF(Mardi!ACT_JEUNES_M_Ma,A4)+COUNTIF(Mardi!ABSENTS_Ma,A4) -> 0 | E4: =COUNTIF(Mardi!ACT_JEUNES_AM_Ma,A4)+COUNTIF(Mardi!ABSENTS_Ma,A4) -> 0 | F4: =COUNTIF(Mercredi!ACT_JEUNES_M_Me,A4)+COUNTIF(Mercredi!ABSENTS_Me,A4) -> 0 | G4: =COUNTIF(Mercredi!ACT_JEUNES_AM_Me,A4)+COUNTIF(Mercredi!ABSENTS_Me,A4) -> 0 | H4: =COUNTIF(Jeudi!ACT_JEUNES_M_Je,A4)+COUNTIF(Jeudi!ABSENTS_Je,A4) -> 0 | I4: =COUNTIF(Jeudi!ACT_JEUNES_AM_Je,A4)+COUNTIF(Jeudi!ABSENTS_Je,A4) -> 0 | J4: =COUNTIF(Vendredi!ACT_JEUNES_M_Ve,A4)+COUNTIF(Vendredi!ABSENTS_Ve,A4) -> 0 | K4: =COUNTIF(Vendredi!ACT_JEUNES_AM_Ve,A4)+COUNTIF(Vendredi!ABSENTS_Ve,A4) -> 0
B5: =COUNTIF(ACT_JEUNES_M_Lu,A5)+COUNTIF(ABSENTS_Lu,A5) -> 0 | C5: =COUNTIF(ACT_JEUNES_AM_Lu,A5)+COUNTIF(ABSENTS_Lu,A5) -> 0 | D5: =COUNTIF(Mardi!ACT_JEUNES_M_Ma,A5)+COUNTIF(Mardi!ABSENTS_Ma,A5) -> 0 | E5: =COUNTIF(Mardi!ACT_JEUNES_AM_Ma,A5)+COUNTIF(Mardi!ABSENTS_Ma,A5) -> 0 | F5: =COUNTIF(Mercredi!ACT_JEUNES_M_Me,A5)+COUNTIF(Mercredi!ABSENTS_Me,A5) -> 0 | G5: =COUNTIF(Mercredi!ACT_JEUNES_AM_Me,A5)+COUNTIF(Mercredi!ABSENTS_Me,A5) -> 0 | H5: =COUNTIF(Jeudi!ACT_JEUNES_M_Je,A5)+COUNTIF(Jeudi!ABSENTS_Je,A5) -> 0 | I5: =COUNTIF(Jeudi!ACT_JEUNES_AM_Je,A5)+COUNTIF(Jeudi!ABSENTS_Je,A5) -> 0 | J5: =COUNTIF(Vendredi!ACT_JEUNES_M_Ve,A5)+COUNTIF(Vendredi!ABSENTS_Ve,A5) -> 0 | K5: =COUNTIF(Vendredi!ACT_JEUNES_AM_Ve,A5)+COUNTIF(Vendredi!ABSENTS_Ve,A5) -> 0
B6: =COUNTIF(ACT_JEUNES_M_Lu,A6)+COUNTIF(ABSENTS_Lu,A6) -> 0 | C6: =COUNTIF(ACT_JEUNES_AM_Lu,A6)+COUNTIF(ABSENTS_Lu,A6) -> 0 | D6: =COUNTIF(Mardi!ACT_JEUNES_M_Ma,A6)+COUNTIF(Mardi!ABSENTS_Ma,A6) -> 0 | E6: =COUNTIF(Mardi!ACT_JEUNES_AM_Ma,A6)+COUNTIF(Mardi!ABSENTS_Ma,A6) -> 0 | F6: =COUNTIF(Mercredi!ACT_JEUNES_M_Me,A6)+COUNTIF(Mercredi!ABSENTS_Me,A6) -> 0 | G6: =COUNTIF(Mercredi!ACT_JEUNES_AM_Me,A6)+COUNTIF(Mercredi!ABSENTS_Me,A6) -> 0 | H6: =COUNTIF(Jeudi!ACT_JEUNES_M_Je,A6)+COUNTIF(Jeudi!ABSENTS_Je,A6) -> 0 | I6: =COUNTIF(Jeudi!ACT_JEUNES_AM_Je,A6)+COUNTIF(Jeudi!ABSENTS_Je,A6) -> 0 | J6: =COUNTIF(Vendredi!ACT_JEUNES_M_Ve,A6)+COUNTIF(Vendredi!ABSENTS_Ve,A6) -> 0 | K6: =COUNTIF(Vendredi!ACT_JEUNES_AM_Ve,A6)+COUNTIF(Vendredi!ABSENTS_Ve,A6) -> 0
B7: =COUNTIF(ACT_JEUNES_M_Lu,A7)+COUNTIF(ABSENTS_Lu,A7) -> 0 | C7: =COUNTIF(ACT_JEUNES_AM_Lu,A7)+COUNTIF(ABSENTS_Lu,A7) -> 0 | D7: =COUNTIF(Mardi!ACT_JEUNES_M_Ma,A7)+COUNTIF(Mardi!ABSENTS_Ma,A7) -> 0 | E7: =COUNTIF(Mardi!ACT_JEUNES_AM_Ma,A7)+COUNTIF(Mardi!ABSENTS_Ma,A7) -> 0 | F7: =COUNTIF(Mercredi!ACT_JEUNES_M_Me,A7)+COUNTIF(Mercredi!ABSENTS_Me,A7) -> 0 | G7: =COUNTIF(Mercredi!ACT_JEUNES_AM_Me,A7)+COUNTIF(Mercredi!ABSENTS_Me,A7) -> 0 | H7: =COUNTIF(Jeudi!ACT_JEUNES_M_Je,A7)+COUNTIF(Jeudi!ABSENTS_Je,A7) -> 0 | I7: =COUNTIF(Jeudi!ACT_JEUNES_AM_Je,A7)+COUNTIF(Jeudi!ABSENTS_Je,A7) -> 0 | J7: =COUNTIF(Vendredi!ACT_JEUNES_M_Ve,A7)+COUNTIF(Vendredi!ABSENTS_Ve,A7) -> 0 | K7: =COUNTIF(Vendredi!ACT_JEUNES_AM_Ve,A7)+COUNTIF(Vendredi!ABSENTS_Ve,A7) -> 0
B8: =COUNTIF(ACT_JEUNES_M_Lu,A8)+COUNTIF(ABSENTS_Lu,A8) -> 0 | C8: =COUNTIF(ACT_JEUNES_AM_Lu,A8)+COUNTIF(ABSENTS_Lu,A8) -> 0 | D8: =COUNTIF(Mardi!ACT_JEUNES_M_Ma,A8)+COUNTIF(Mardi!ABSENTS_Ma,A8) -> 0 | E8: =COUNTIF(Mardi!ACT_JEUNES_AM_Ma,A8)+COUNTIF(Mardi!ABSENTS_Ma,A8) -> 0 | F8: =COUNTIF(Mercredi!ACT_JEUNES_M_Me,A8)+COUNTIF(Mercredi!ABSENTS_Me,A8) -> 0 | G8: =COUNTIF(Mercredi!ACT_JEUNES_AM_Me,A8)+COUNTIF(Mercredi!ABSENTS_Me,A8) -> 0 | H8: =COUNTIF(Jeudi!ACT_JEUNES_M_Je,A8)+COUNTIF(Jeudi!ABSENTS_Je,A8) -> 0 | I8: =COUNTIF(Jeudi!ACT_JEUNES_AM_Je,A8)+COUNTIF(Jeudi!ABSENTS_Je,A8) -> 0 | J8: =COUNTIF(Vendredi!ACT_JEUNES_M_Ve,A8)+COUNTIF(Vendredi!ABSENTS_Ve,A8) -> 0 | K8: =COUNTIF(Vendredi!ACT_JEUNES_AM_Ve,A8)+COUNTIF(Vendredi!ABSENTS_Ve,A8) -> 0
B9: =COUNTIF(ACT_JEUNES_M_Lu,A9)+COUNTIF(ABSENTS_Lu,A9) -> 0 | C9: =COUNTIF(ACT_JEUNES_AM_Lu,A9)+COUNTIF(ABSENTS_Lu,A9) -> 0 | D9: =COUNTIF(Mardi!ACT_JEUNES_M_Ma,A9)+COUNTIF(Mardi!ABSENTS_Ma,A9) -> 0 | E9: =COUNTIF(Mardi!ACT_JEUNES_AM_Ma,A9)+COUNTIF(Mardi!ABSENTS_Ma,A9) -> 0 | F9: =COUNTIF(Mercredi!ACT_JEUNES_M_Me,A9)+COUNTIF(Mercredi!ABSENTS_Me,A9) -> 0 | G9: =COUNTIF(Mercredi!ACT_JEUNES_AM_Me,A9)+COUNTIF(Mercredi!ABSENTS_Me,A9) -> 0 | H9: =COUNTIF(Jeudi!ACT_JEUNES_M_Je,A9)+COUNTIF(Jeudi!ABSENTS_Je,A9) -> 0 | I9: =COUNTIF(Jeudi!ACT_JEUNES_AM_Je,A9)+COUNTIF(Jeudi!ABSENTS_Je,A9) -> 0 | J9: =COUNTIF(Vendredi!ACT_JEUNES_M_Ve,A9)+COUNTIF(Vendredi!ABSENTS_Ve,A9) -> 0 | K9: =COUNTIF(Vendredi!ACT_JEUNES_AM_Ve,A9)+COUNTIF(Vendredi!ABSENTS_Ve,A9) -> 0
B10: =COUNTIF(ACT_JEUNES_M_Lu,A10)+COUNTIF(ABSENTS_Lu,A10) -> 0 | C10: =COUNTIF(ACT_JEUNES_AM_Lu,A10)+COUNTIF(ABSENTS_Lu,A10) -> 0 | D10: =COUNTIF(Mardi!ACT_JEUNES_M_Ma,A10)+COUNTIF(Mardi!ABSENTS_Ma,A10) -> 0 | E10: =COUNTIF(Mardi!ACT_JEUNES_AM_Ma,A10)+COUNTIF(Mardi!ABSENTS_Ma,A10) -> 0 | F10: =COUNTIF(Mercredi!ACT_JEUNES_M_Me,A10)+COUNTIF(Mercredi!ABSENTS_Me,A10) -> 0 | G10: =COUNTIF(Mercredi!ACT_JEUNES_AM_Me,A10)+COUNTIF(Mercredi!ABSENTS_Me,A10) -> 0 | H10: =COUNTIF(Jeudi!ACT_JEUNES_M_Je,A10)+COUNTIF(Jeudi!ABSENTS_Je,A10) -> 0 | I10: =COUNTIF(Jeudi!ACT_JEUNES_AM_Je,A10)+COUNTIF(Jeudi!ABSENTS_Je,A10) -> 0 | J10: =COUNTIF(Vendredi!ACT_JEUNES_M_Ve,A10)+COUNTIF(Vendredi!ABSENTS_Ve,A10) -> 0 | K10: =COUNTIF(Vendredi!ACT_JEUNES_AM_Ve,A10)+COUNTIF(Vendredi!ABSENTS_Ve,A10) -> 0
B11: =COUNTIF(ACT_JEUNES_M_Lu,A11)+COUNTIF(ABSENTS_Lu,A11) -> 0 | C11: =COUNTIF(ACT_JEUNES_AM_Lu,A11)+COUNTIF(ABSENTS_Lu,A11) -> 0 | D11: =COUNTIF(Mardi!ACT_JEUNES_M_Ma,A11)+COUNTIF(Mardi!ABSENTS_Ma,A11) -> 0 | E11: =COUNTIF(Mardi!ACT_JEUNES_AM_Ma,A11)+COUNTIF(Mardi!ABSENTS_Ma,A11) -> 0 | F11: =COUNTIF(Mercredi!ACT_JEUNES_M_Me,A11)+COUNTIF(Mercredi!ABSENTS_Me,A11) -> 0 | G11: =COUNTIF(Mercredi!ACT_JEUNES_AM_Me,A11)+COUNTIF(Mercredi!ABSENTS_Me,A11) -> 0 | H11: =COUNTIF(Jeudi!ACT_JEUNES_M_Je,A11)+COUNTIF(Jeudi!ABSENTS_Je,A11) -> 0 | I11: =COUNTIF(Jeudi!ACT_JEUNES_AM_Je,A11)+COUNTIF(Jeudi!ABSENTS_Je,A11) -> 0 | J11: =COUNTIF(Vendredi!ACT_JEUNES_M_Ve,A11)+COUNTIF(Vendredi!ABSENTS_Ve,A11) -> 0 | K11: =COUNTIF(Vendredi!ACT_JEUNES_AM_Ve,A11)+COUNTIF(Vendredi!ABSENTS_Ve,A11) -> 0
B12: =COUNTIF(ACT_JEUNES_M_Lu,A12)+COUNTIF(ABSENTS_Lu,A12) -> 0 | C12: =COUNTIF(ACT_JEUNES_AM_Lu,A12)+COUNTIF(ABSENTS_Lu,A12) -> 0 | D12: =COUNTIF(Mardi!ACT_JEUNES_M_Ma,A12)+COUNTIF(Mardi!ABSENTS_Ma,A12) -> 0 | E12: =COUNTIF(Mardi!ACT_JEUNES_AM_Ma,A12)+COUNTIF(Mardi!ABSENTS_Ma,A12) -> 0 | F12: =COUNTIF(Mercredi!ACT_JEUNES_M_Me,A12)+COUNTIF(Mercredi!ABSENTS_Me,A12) -> 0 | G12: =COUNTIF(Mercredi!ACT_JEUNES_AM_Me,A12)+COUNTIF(Mercredi!ABSENTS_Me,A12) -> 0 | H12: =COUNTIF(Jeudi!ACT_JEUNES_M_Je,A12)+COUNTIF(Jeudi!ABSENTS_Je,A12) -> 0 | I12: =COUNTIF(Jeudi!ACT_JEUNES_AM_Je,A12)+COUNTIF(Jeudi!ABSENTS_Je,A12) -> 0 | J12: =COUNTIF(Vendredi!ACT_JEUNES_M_Ve,A12)+COUNTIF(Vendredi!ABSENTS_Ve,A12) -> 0 | K12: =COUNTIF(Vendredi!ACT_JEUNES_AM_Ve,A12)+COUNTIF(Vendredi!ABSENTS_Ve,A12) -> 0
B13: =COUNTIF(ACT_JEUNES_M_Lu,A13)+COUNTIF(ABSENTS_Lu,A13) -> 0 | C13: =COUNTIF(ACT_JEUNES_AM_Lu,A13)+COUNTIF(ABSENTS_Lu,A13) -> 0 | D13: =COUNTIF(Mardi!ACT_JEUNES_M_Ma,A13)+COUNTIF(Mardi!ABSENTS_Ma,A13) -> 0 | E13: =COUNTIF(Mardi!ACT_JEUNES_AM_Ma,A13)+COUNTIF(Mardi!ABSENTS_Ma,A13) -> 0 | F13: =COUNTIF(Mercredi!ACT_JEUNES_M_Me,A13)+COUNTIF(Mercredi!ABSENTS_Me,A13) -> 0 | G13: =COUNTIF(Mercredi!ACT_JEUNES_AM_Me,A13)+COUNTIF(Mercredi!ABSENTS_Me,A13) -> 0 | H13: =COUNTIF(Jeudi!ACT_JEUNES_M_Je,A13)+COUNTIF(Jeudi!ABSENTS_Je,A13) -> 0 | I13: =COUNTIF(Jeudi!ACT_JEUNES_AM_Je,A13)+COUNTIF(Jeudi!ABSENTS_Je,A13) -> 0 | J13: =COUNTIF(Vendredi!ACT_JEUNES_M_Ve,A13)+COUNTIF(Vendredi!ABSENTS_Ve,A13) -> 0 | K13: =COUNTIF(Vendredi!ACT_JEUNES_AM_Ve,A13)+COUNTIF(Vendredi!ABSENTS_Ve,A13) -> 0
B14: =COUNTIF(ACT_JEUNES_M_Lu,A14)+COUNTIF(ABSENTS_Lu,A14) -> 0 | C14: =COUNTIF(ACT_JEUNES_AM_Lu,A14)+COUNTIF(ABSENTS_Lu,A14) -> 0 | D14: =COUNTIF(Mardi!ACT_JEUNES_M_Ma,A14)+COUNTIF(Mardi!ABSENTS_Ma,A14) -> 0 | E14: =COUNTIF(Mardi!ACT_JEUNES_AM_Ma,A14)+COUNTIF(Mardi!ABSENTS_Ma,A14) -> 0 | F14: =COUNTIF(Mercredi!ACT_JEUNES_M_Me,A14)+COUNTIF(Mercredi!ABSENTS_Me,A14) -> 0 | G14: =COUNTIF(Mercredi!ACT_JEUNES_AM_Me,A14)+COUNTIF(Mercredi!ABSENTS_Me,A14) -> 0 | H14: =COUNTIF(Jeudi!ACT_JEUNES_M_Je,A14)+COUNTIF(Jeudi!ABSENTS_Je,A14) -> 0 | I14: =COUNTIF(Jeudi!ACT_JEUNES_AM_Je,A14)+COUNTIF(Jeudi!ABSENTS_Je,A14) -> 0 | J14: =COUNTIF(Vendredi!ACT_JEUNES_M_Ve,A14)+COUNTIF(Vendredi!ABSENTS_Ve,A14) -> 0 | K14: =COUNTIF(Vendredi!ACT_JEUNES_AM_Ve,A14)+COUNTIF(Vendredi!ABSENTS_Ve,A14) -> 0
... B29: =COUNTIF(ACT_JEUNES_M_Lu,A29)+COUNTIF(ABSENTS_Lu,A29) -> 0 | C29: =COUNTIF(ACT_JEUNES_AM_Lu,A29)+COUNTIF(ABSENTS_Lu,A29) -> 0 | D29: =COUNTIF(Mardi!ACT_JEUNES_M_Ma,A29)+COUNTIF(Mardi!ABSENTS_Ma,A29) -> 0 | E29: =COUNTIF(Mardi!ACT_JEUNES_AM_Ma,A29)+COUNTIF(Mardi!ABSENTS_Ma,A29) -> 0 | F29: =COUNTIF(Mercredi!ACT_JEUNES_M_Me,A29)+COUNTIF(Mercredi!ABSENTS_Me,A29) -> 0 | G29: =COUNTIF(Mercredi!ACT_JEUNES_AM_Me,A29)+COUNTIF(Mercredi!ABSENTS_Me,A29) -> 0 | H29: =COUNTIF(Jeudi!ACT_JEUNES_M_Je,A29)+COUNTIF(Jeudi!ABSENTS_Je,A29) -> 0 | I29: =COUNTIF(Jeudi!ACT_JEUNES_AM_Je,A29)+COUNTIF(Jeudi!ABSENTS_Je,A29) -> 0 | J29: =COUNTIF(Vendredi!ACT_JEUNES_M_Ve,A29)+COUNTIF(Vendredi!ABSENTS_Ve,A29) -> 0 | K29: =COUNTIF(Vendredi!ACT_JEUNES_AM_Ve,A29)+COUNTIF(Vendredi!ABSENTS_Ve,A29) -> 0

Sheet Lundi
A1: Lundi 8 Juillet (Semaine 2)
A3: ABSENTS
B5: Activité | C5: JEUNES | G5: Encadrants | K5: =Listes!A2 -> 0
A6: MATIN | K6: =Listes!A3 -> 0
K7: =Listes!A4 -> 0
K8: =Listes!A5 -> 0
K9: =Listes!A6 -> 0
K10: =Listes!A7 -> 0
K11: =Listes!A8 -> 0
K12: =Listes!A9 -> 0
K13: =Listes!A10 -> 0
K14: =Listes!A11 -> 0
K15: =Listes!A12 -> 0
K16: =Listes!A13 -> 0
K17: =Listes!A14 -> 0
K18: =Listes!A15 -> 0
... K27: =Listes!A24 -> 0
A28: APPRES-MIDI | K28: =Listes!A25 -> 0 | M28: =Listes!A2 -> 0
K29: =Listes!A26 -> 0 | M29: =Listes!A3 -> 0
K30: =Listes!A27 -> 0 | M30: =Listes!A4 -> 0
K31: =Listes!A28 -> 0 | M31: =Listes!A5 -> 0
K32: =Listes!A29 -> 0 | M32: =Listes!A6 -> 0
M33: =Listes!A7 -> 0
M34: =Listes!A8 -> 0
M35: =Listes!A9 -> 0
M36: =Listes!A10 -> 0
M37: =Listes!A11 -> 0
M38: =Listes!A12 -> 0
M39: =Listes!A13 -> 0
M40: =Listes!A14 -> 0
M41: =Listes!A15 -> 0
M42: =Listes!A16 -> 0
M43: =Listes!A17 -> 0
M44: =Listes!A18 -> 0
... M55: =Listes!A29 -> 0

Sheet Mardi
A1: Mardi 9 Juillet (Semaine 2)
A3: ABSENTS
B5: Activité | C5: JEUNES | G5: Encadrants | K5: =Listes!A2 -> 0
A6: MATIN | K6: =Listes!A3 -> 0
K7: =Listes!A4 -> 0
K8: =Listes!A5 -> 0
K9: =Listes!A6 -> 0
K10: =Listes!A7 -> 0
K11: =Listes!A8 -> 0
K12: =Listes!A9 -> 0
K13: =Listes!A10 -> 0
K14: =Listes!A11 -> 0
K15: =Listes!A12 -> 0
K16: =Listes!A13 -> 0
K17: =Listes!A14 -> 0
K18: =Listes!A15 -> 0
... K27: =Listes!A24 -> 0
A28: APPRES-MIDI | K28: =Listes!A25 -> 0 | M28: =Listes!A2 -> 0
K29: =Listes!A26 -> 0 | M29: =Listes!A3 -> 0
K30: =Listes!A27 -> 0 | M30: =Listes!A4 -> 0
K31: =Listes!A28 -> 0 | M31: =Listes!A5 -> 0
K32: =Listes!A29 -> 0 | M32: =Listes!A6 -> 0
M33: =Listes!A7 -> 0
M34: =Listes!A8 -> 0
M35: =Listes!A9 -> 0
M36: =Listes!A10 -> 0
M37: =Listes!A11 -> 0
M38: =Listes!A12 -> 0
M39: =Listes!A13 -> 0
M40: =Listes!A14 -> 0
M41: =Listes!A15 -> 0
M42: =Listes!A16 -> 0
M43: =Listes!A17 -> 0
M44: =Listes!A18 -> 0
... M55: =Listes!A29 -> 0

Sheet Mercredi
A1: Mercredi 10 Juillet (Semaine 2)
A3: ABSENTS
B5: Activité | C5: JEUNES | G5: Encadrants | K5: =Listes!A2 -> 0
A6: MATIN | K6: =Listes!A3 -> 0
K7: =Listes!A4 -> 0
K8: =Listes!A5 -> 0
K9: =Listes!A6 -> 0
K10: =Listes!A7 -> 0
K11: =Listes!A8 -> 0
K12: =Listes!A9 -> 0
K13: =Listes!A10 -> 0
K14: =Listes!A11 -> 0
K15: =Listes!A12 -> 0
K16: =Listes!A13 -> 0
K17: =Listes!A14 -> 0
K18: =Listes!A15 -> 0
... K27: =Listes!A24 -> 0
A28: APPRES-MIDI | K28: =Listes!A25 -> 0 | M28: =Listes!A2 -> 0
K29: =Listes!A26 -> 0 | M29: =Listes!A3 -> 0
K30: =Listes!A27 -> 0 | M30: =Listes!A4 -> 0
K31: =Listes!A28 -> 0 | M31: =Listes!A5 -> 0
K32: =Listes!A29 -> 0 | M32: =Listes!A6 -> 0
M33: =Listes!A7 -> 0
M34: =Listes!A8 -> 0
M35: =Listes!A9 -> 0
M36: =Listes!A10 -> 0
M37: =Listes!A11 -> 0
M38: =Listes!A12 -> 0
M39: =Listes!A13 -> 0
M40: =Listes!A14 -> 0
M41: =Listes!A15 -> 0
M42: =Listes!A16 -> 0
M43: =Listes!A17 -> 0
M44: =Listes!A18 -> 0
... M55: =Listes!A29 -> 0

Sheet Jeudi
A1: Jeudi 11 Juillet (Semaine 2)
A3: ABSENTS
E4: Cathy S1>Fatima H
B5: Activité | C5: JEUNES | G5: Encadrants | K5: =Listes!A2 -> 0
A6: MATIN | K6: =Listes!A3 -> 0
K7: =Listes!A4 -> 0
K8: =Listes!A5 -> 0
K9: =Listes!A6 -> 0
K10: =Listes!A7 -> 0
K11: =Listes!A8 -> 0
K12: =Listes!A9 -> 0
K13: =Listes!A10 -> 0
K14: =Listes!A11 -> 0
K15: =Listes!A12 -> 0
K16: =Listes!A13 -> 0
K17: =Listes!A14 -> 0
K18: =Listes!A15 -> 0
... K27: =Listes!A24 -> 0
A28: APPRES-MIDI | B28: Esthétique | K28: =Listes!A25 -> 0 | M28: =Listes!A2 -> 0
K29: =Listes!A26 -> 0 | M29: =Listes!A3 -> 0
K30: =Listes!A27 -> 0 | M30: =Listes!A4 -> 0
B31: Marche Nordique Jusqu'à 15h | K31: =Listes!A28 -> 0 | M31: =Listes!A5 -> 0
K32: =Listes!A29 -> 0 | M32: =Listes!A6 -> 0
M33: =Listes!A7 -> 0
B34: Parc Musée plein air Véhi. EZ | M34: =Listes!A8 -> 0
M35: =Listes!A9 -> 0
M36: =Listes!A10 -> 0
B37: Balnéo | M37: =Listes!A11 -> 0
M38: =Listes!A12 -> 0
M39: =Listes!A13 -> 0
B40: LOTO | M40: =Listes!A14 -> 0
M41: =Listes!A15 -> 0
M42: =Listes!A16 -> 0
M43: =Listes!A17 -> 0
M44: =Listes!A18 -> 0
M45: =Listes!A19 -> 0
B46: Bivouac | M46: =Listes!A20 -> 0
M47: =Listes!A21 -> 0
M48: =Listes!A22 -> 0
M49: =Listes!A23 -> 0
...

Sheet Vendredi
A1: Vendredi 12 Juillet (Semaine 2)
A3: ABSENTS
B5: Activité | C5: JEUNES | G5: Encadrants | K5: =Listes!A2 -> 0
A6: MATIN | K6: =Listes!A3 -> 0
K7: =Listes!A4 -> 0
K8: =Listes!A5 -> 0
K9: =Listes!A6 -> 0
K10: =Listes!A7 -> 0
K11: =Listes!A8 -> 0
K12: =Listes!A9 -> 0
K13: =Listes!A10 -> 0
K14: =Listes!A11 -> 0
K15: =Listes!A12 -> 0
K16: =Listes!A13 -> 0
K17: =Listes!A14 -> 0
K18: =Listes!A15 -> 0
... K27: =Listes!A24 -> 0
A28: APPRES-MIDI | K28: =Listes!A25 -> 0 | M28: =Listes!A2 -> 0
K29: =Listes!A26 -> 0 | M29: =Listes!A3 -> 0
K30: =Listes!A27 -> 0 | M30: =Listes!A4 -> 0
K31: =Listes!A28 -> 0 | M31: =Listes!A5 -> 0
K32: =Listes!A29 -> 0 | M32: =Listes!A6 -> 0
M33: =Listes!A7 -> 0
M34: =Listes!A8 -> 0
M35: =Listes!A9 -> 0
M36: =Listes!A10 -> 0
M37: =Listes!A11 -> 0
M38: =Listes!A12 -> 0
M39: =Listes!A13 -> 0
M40: =Listes!A14 -> 0
M41: =Listes!A15 -> 0
M42: =Listes!A16 -> 0
M43: =Listes!A17 -> 0
M44: =Listes!A18 -> 0
... M55: =Listes!A29 -> 0

Sheet Plan. Individuel
A2: nom du jeune en B2
B4: Planning du 08 au 12 juillet 2024
C8: Lundi | D8: Mardi | E8: Mercredi | F8: Jeudi | G8: Vendredi
B9: MATIN
B11: APRES MIDI
