Workbook

Sheet Scores
B3: STATS BELOTE
B7: Match 1: | L7: Match 2: | V7: Match 3:
B9: Neness | D9: Cédric | E9: Atchoum | G9: Patate | L9: Neness | N9: Cédric | O9: Atchoum | Q9: Patate
B10: 130 | F10: 52 | H10: =B10+C10+D10+E10+F10+G10 -> 182 | M10: 35 | O10: 127 | R10: =L10+M10+N10+O10+P10+Q10 -> 162 | AB10: =V10+W10+X10+Y10+Z10+AA10 -> 0
D11: 0 | F11: 162 | H11: =B11+C11+D11+E11+F11+G11 -> 162 | N11: 142 | P11: 20 | R11: =L11+M11+N11+O11+P11+Q11 -> 162 | AB11: =V11+W11+X11+Y11+Z11+AA11 -> 0
B12: 94 | F12: 68 | H12: =B12+C12+D12+E12+F12+G12 -> 162 | L12: 136 | P12: 26 | R12: =L12+M12+N12+O12+P12+Q12 -> 162 | AB12: =V12+W12+X12+Y12+Z12+AA12 -> 0
B13: 114 | F13: 48 | H13: =B13+C13+D13+E13+F13+G13 -> 162 | L13: 148 | P13: 14 | R13: =L13+M13+N13+O13+P13+Q13 -> 162 | AB13: =V13+W13+X13+Y13+Z13+AA13 -> 0
C14: 46 | G14: 116 | H14: =B14+C14+D14+E14+F14+G14 -> 162 | M14: 13 | O14: 169 | R14: =L14+M14+N14+O14+P14+Q14 -> 182 | AB14: =V14+W14+X14+Y14+Z14+AA14 -> 0
C15: 0 | G15: 252 | H15: =B15+C15+D15+E15+F15+G15 -> 252 | L15: 115 | P15: 47 | R15: =L15+M15+N15+O15+P15+Q15 -> 162 | AB15: =V15+W15+X15+Y15+Z15+AA15 -> 0
B16: 148 | F16: 14 | H16: =B16+C16+D16+E16+F16+G16 -> 162 | L16: 252 | P16: 0 | R16: =L16+M16+N16+O16+P16+Q16 -> 252 | AB16: =V16+W16+X16+Y16+Z16+AA16 -> 0
B17: 140 | F17: 42 | H17: =B17+C17+D17+E17+F17+G17 -> 182 | L17: 141 | P17: 21 | R17: =L17+M17+N17+O17+P17+Q17 -> 162 | AB17: =V17+W17+X17+Y17+Z17+AA17 -> 0
D18: 125 | F18: 37 | H18: =B18+C18+D18+E18+F18+G18 -> 162 | M18: 30 | O18: 152 | R18: =L18+M18+N18+O18+P18+Q18 -> 182 | AB18: =V18+W18+X18+Y18+Z18+AA18 -> 0
B19: 131 | F19: 51 | H19: =B19+C19+D19+E19+F19+G19 -> 182 | N19: 124 | P19: 58 | R19: =L19+M19+N19+O19+P19+Q19 -> 182 | AB19: =V19+W19+X19+Y19+Z19+AA19 -> 0
C20: 43 | E20: 119 | H20: =B20+C20+D20+E20+F20+G20 -> 162 | M20: 63 | O20: 99 | R20: =L20+M20+N20+O20+P20+Q20 -> 162 | AB20: =V20+W20+X20+Y20+Z20+AA20 -> 0
D21: 131 | F21: 51 | H21: =B21+C21+D21+E21+F21+G21 -> 182 | M21: 162 | Q21: 0 | R21: =L21+M21+N21+O21+P21+Q21 -> 162 | AB21: =V21+W21+X21+Y21+Z21+AA21 -> 0
B22: =SUM(B10:D21) -> 1102 | E22: =SUM(E10:G21) -> 1012 | H22: =SUM(H10:H21) -> 2114 | L22: =SUM(L10:N21) -> 1361 | O22: =SUM(O10:Q21) -> 733 | R22: =SUM(R10:R21) -> 2094 | V22: =SUM(V10:X21) -> 0 | Y22: =SUM(Y10:AA21) -> 0 | AB22: =SUM(AB10:AB21) -> 0
B24: TOTAUX | L24: TOTAUX | V24: TOTAUX
B25: Score Gagant: | E25: =MAX(B22:G22) -> 1102 | G25: Nombre belote: | I25: =COUNTIF(H10:H21,182)+COUNTIF(H10:H21,272) -> 4 | L25: Score Gagant: | O25: =MAX(L22:Q22) -> 1361 | Q25: Nombre belote: | S25: =COUNTIF(R10:R21,182)+COUNTIF(R10:R21,272) -> 3 | V25: Score Gagant: | Y25: =MAX(V22:AA22) -> 0 | AA25: Nombre belote: | AC25: =COUNTIF(AB10:AB21,182)+COUNTIF(AB10:AB21,272) -> 0
B26: Score perdant: | E26: =MIN(B22:G22) -> 1012 | G26: Nombre capot: | I26: =COUNTIF(H10:H21,252)+COUNTIF(H10:H21,272) -> 1 | L26: Score perdant: | O26: =MIN(L22:Q22) -> 733 | Q26: Nombre capot: | S26: =COUNTIF(R10:R21,252)+COUNTIF(R10:R21,272) -> 1 | V26: Score perdant: | Y26: =MIN(V22:AA22) -> 0 | AA26: Nombre capot: | AC26: =COUNTIF(AB10:AB21,252)+COUNTIF(AB10:AB21,272) -> 0
B27: Score total partie: | E27: =H22 -> 2114 | G27: Ecart gagant/perdant | I27: =E25-E26 -> 90 | L27: Score total partie: | O27: =R22 -> 2094 | Q27: Ecart gagant/perdant | S27: =O25-O26 -> 628 | V27: Score total partie: | Y27: =AB22 -> 0 | AA27: Ecart gagant/perdant | AC27: =Y25-Y26 -> 0
B30: Match 4: | L30: Match 5: | V30: Match 6:
H33: =B33+C33+D33+E33+F33+G33 -> 0 | R33: =L33+M33+N33+O33+P33+Q33 -> 0 | AB33: =V33+W33+X33+Y33+Z33+AA33 -> 0
H34: =B34+C34+D34+E34+F34+G34 -> 0 | R34: =L34+M34+N34+O34+P34+Q34 -> 0 | AB34: =V34+W34+X34+Y34+Z34+AA34 -> 0
H35: =B35+C35+D35+E35+F35+G35 -> 0 | R35: =L35+M35+N35+O35+P35+Q35 -> 0 | AB35: =V35+W35+X35+Y35+Z35+AA35 -> 0
H36: =B36+C36+D36+E36+F36+G36 -> 0 | R36: =L36+M36+N36+O36+P36+Q36 -> 0 | AB36: =V36+W36+X36+Y36+Z36+AA36 -> 0
H37: =B37+C37+D37+E37+F37+G37 -> 0 | R37: =L37+M37+N37+O37+P37+Q37 -> 0 | AB37: =V37+W37+X37+Y37+Z37+AA37 -> 0
H38: =B38+C38+D38+E38+F38+G38 -> 0 | R38: =L38+M38+N38+O38+P38+Q38 -> 0 | AB38: =V38+W38+X38+Y38+Z38+AA38 -> 0
H39: =B39+C39+D39+E39+F39+G39 -> 0 | R39: =L39+M39+N39+O39+P39+Q39 -> 0 | AB39: =V39+W39+X39+Y39+Z39+AA39 -> 0
H40: =B40+C40+D40+E40+F40+G40 -> 0 | R40: =L40+M40+N40+O40+P40+Q40 -> 0 | AB40: =V40+W40+X40+Y40+Z40+AA40 -> 0
H41: =B41+C41+D41+E41+F41+G41 -> 0 | R41: =L41+M41+N41+O41+P41+Q41 -> 0 | AB41: =V41+W41+X41+Y41+Z41+AA41 -> 0
H42: =B42+C42+D42+E42+F42+G42 -> 0 | R42: =L42+M42+N42+O42+P42+Q42 -> 0 | AB42: =V42+W42+X42+Y42+Z42+AA42 -> 0
H43: =B43+C43+D43+E43+F43+G43 -> 0 | R43: =L43+M43+N43+O43+P43+Q43 -> 0 | AB43: =V43+W43+X43+Y43+Z43+AA43 -> 0
H44: =B44+C44+D44+E44+F44+G44 -> 0 | R44: =L44+M44+N44+O44+P44+Q44 -> 0 | AB44: =V44+W44+X44+Y44+Z44+AA44 -> 0
B45: =SUM(B33:D44) -> 0 | E45: =SUM(E33:G44) -> 0 | H45: =SUM(H33:H44) -> 0 | L45: =SUM(L33:N44) -> 0 | O45: =SUM(O33:Q44) -> 0 | R45: =SUM(R33:R44) -> 0 | V45: =SUM(V33:X44) -> 0 | Y45: =SUM(Y33:AA44) -> 0 | AB45: =SUM(AB33:AB44) -> 0
B47: TOTAUX | L47: TOTAUX | V47: TOTAUX
B48: Score Gagant: | E48: =MAX(B45:G45) -> 0 | G48: Nombre belote: | I48: =COUNTIF(H33:H44,182)+COUNTIF(H33:H44,272) -> 0 | L48: Score Gagant: | O48: =MAX(L45:Q45) -> 0 | Q48: Nombre belote: | S48: =COUNTIF(R33:R44,182)+COUNTIF(R33:R44,272) -> 0 | V48: Score Gagant: | Y48: =MAX(V45:AA45) -> 0 | AA48: Nombre belote: | AC48: =COUNTIF(AB33:AB44,182)+COUNTIF(AB33:AB44,272) -> 0
B49: Score perdant: | E49: =MIN(B45:G45) -> 0 | G49: Nombre capot: | I49: =COUNTIF(H33:H44,252)+COUNTIF(H33:H44,272) -> 0 | L49: Score perdant: | O49: =MIN(L45:Q45) -> 0 | Q49: Nombre capot: | S49: =COUNTIF(R33:R44,252)+COUNTIF(R33:R44,272) -> 0 | V49: Score perdant: | Y49: =MIN(V45:AA45) -> 0 | AA49: Nombre capot: | AC49: =COUNTIF(AB33:AB44,252)+COUNTIF(AB33:AB44,272) -> 0
B50: Score total partie: | E50: =H45 -> 0 | G50: Ecart gagant/perdant | I50: =E48-E49 -> 0 | L50: Score total partie: | O50: =R45 -> 0 | Q50: Ecart gagant/perdant | S50: =O48-O49 -> 0 | V50: Score total partie: | Y50: =AB45 -> 0 | AA50: Ecart gagant/perdant | AC50: =Y48-Y49 -> 0
B53: Match 7: | L53: Match 8: | V53: Match 9:
H56: =B56+C56+D56+E56+F56+G56 -> 0 | R56: =L56+M56+N56+O56+P56+Q56 -> 0 | AB56: =V56+W56+X56+Y56+Z56+AA56 -> 0
...

Sheet Statistiques générales
A4: BELOTE:
B6: Scores gagnants | D6: Scores perdants | F6: Scores partie | H6: Nombre belote | J6: Nombre capot | L6: Ecart gag/per
A7: Match 1 | B7: =Scores!E25 -> 1102 | D7: =Scores!E26 -> 1012 | F7: =Scores!E27 -> 2114 | H7: =Scores!I25 -> 4 | J7: =Scores!I26 -> 1 | L7: =Scores!I27 -> 90
A8: Match 2 | B8: =Scores!O25 -> 1361 | D8: =Scores!O26 -> 733 | F8: =Scores!O27 -> 2094 | H8: =Scores!S25 -> 3 | J8: =Scores!S26 -> 1 | L8: =Scores!S27 -> 628
A9: Match 3 | B9: =Scores!Y25 -> 0 | D9: =Scores!Y26 -> 0 | F9: =Scores!Y27 -> 0 | H9: =Scores!AC25 -> 0 | J9: =Scores!AC26 -> 0 | L9: =Scores!AC27 -> 0
A10: Match 4 | B10: =Scores!E48 -> 0 | D10: =Scores!E49 -> 0 | F10: =Scores!E50 -> 0 | H10: =Scores!I48 -> 0 | J10: =Scores!I49 -> 0 | L10: =Scores!I50 -> 0
A11: Match 5 | B11: =Scores!O48 -> 0 | D11: =Scores!O49 -> 0 | F11: =Scores!O50 -> 0 | H11: =Scores!S48 -> 0 | J11: =Scores!S49 -> 0 | L11: =Scores!S50 -> 0
A12: Match 6 | B12: =Scores!Y48 -> 0 | D12: =Scores!Y49 -> 0 | F12: =Scores!Y50 -> 0 | H12: =Scores!AC48 -> 0 | J12: =Scores!AC49 -> 0 | L12: =Scores!AC50 -> 0
A13: Match 7 | B13: =Scores!E71 -> 0 | D13: =Scores!E72 -> 0 | F13: =Scores!E73 -> 0 | H13: =Scores!I71 -> 0 | J13: =Scores!I72 -> 0 | L13: =Scores!I73 -> 0
A14: Match 8 | B14: =Scores!O71 -> 0 | D14: =Scores!O72 -> 0 | F14: =Scores!O73 -> 0 | H14: =Scores!S71 -> 0 | J14: =Scores!S72 -> 0 | L14: =Scores!S73 -> 0
A15: Match 9 | B15: =Scores!Y71 -> 0 | D15: =Scores!Y72 -> 0 | F15: =Scores!Y73 -> 0 | H15: =Scores!AC71 -> 0 | J15: =Scores!AC72 -> 0 | L15: =Scores!AC73 -> 0
A18: Moyennes | F18: Probabilités
A19: Score gagnant moyen: | C19: =SUM(B7:C15)/COUNTIF(B7:C15,">0") -> 1231.5 | F19: belote | H19: =SUM(H7:I15)/(12*COUNTIF(B7:C15,">0")) -> 0.29166667
A20: Score perdant moyen: | C20: =SUM(D7:E15)/COUNTIF(D7:E15,">0") -> 872.5 | F20: capot | H20: =SUM(J7:K15)/(12*COUNTIF(B7:C15,">0")) -> 0.083333333
A21: Score partie moyen: | C21: =SUM(F7:G15)/COUNTIF(F7:G15,">0") -> 2104 | F21: 0<x<500 | H21: =SUMPRODUCT((B7:E15>0)*(B7:E15<500))/COUNTIF(B7:E15,">0") -> 0
A22: Nombre belote moyen: | C22: =SUM(H7:I15)/COUNTIF(H7:I15,">0") -> 3.5 | F22: 500<x<750 | H22: =SUMPRODUCT((B7:E15>=500)*(B7:E15<=750))/COUNTIF(B7:E15,">0") -> 0.25
A23: Nombre capot moyen: | C23: =SUM(J7:K15)/COUNTIF(J7:K15,">0") -> 1 | F23: 750<x<1000 | H23: =SUMPRODUCT((B7:E15>750)*(B7:E15<=1000))/COUNTIF(B7:E15,">0") -> 0
A24: Ecart gag/per moyen: | C24: =SUM(L7:M15)/COUNTIF(L7:M15,">0") -> 359 | F24: 1000<x<1250 | H24: =SUMPRODUCT((B7:E15>1000)*(B7:E15<=1250))/COUNTIF(B7:E15,">0") -> 0.5
F25: 1250<x<1500 | H25: =SUMPRODUCT((B7:E15>1250)*(B7:E15<=1500))/COUNTIF(B7:E15,">0") -> 0.25
F26: >1500 | H26: =SUMPRODUCT((B7:E15>1500)*(B7:E15<=10000))/COUNTIF(B7:E15,">0") -> 0

Sheet Stats par joueur
A4: Joueur: | B4: Parties gagnées / nb parties | D4: Parties perdues / nb parties | F4: Nb de prises | G4: Nb d'échec | H4: % échec | I4: Nb total pts marqués | J4: Moyenne pts marqués
A5: Atchoum | C5: =COUNTIF(Scores!$B$9:$AD$76,A5) -> 2 | E5: =COUNTIF(Scores!$B$9:$AD$76,A5) -> 2
A6: Big Mat | C6: =COUNTIF(Scores!$B$9:$AD$76,A6) -> 0 | E6: =COUNTIF(Scores!$B$9:$AD$76,A6) -> 0
A7: Cédric | C7: =COUNTIF(Scores!$B$9:$AD$76,A7) -> 2 | E7: =COUNTIF(Scores!$B$9:$AD$76,A7) -> 2
A8: Tito | C8: =COUNTIF(Scores!$B$9:$AD$76,A8) -> 0 | E8: =COUNTIF(Scores!$B$9:$AD$76,A8) -> 0
A9: Gilou | C9: =COUNTIF(Scores!$B$9:$AD$76,A9) -> 0 | E9: =COUNTIF(Scores!$B$9:$AD$76,A9) -> 0
A10: Jacky | C10: =COUNTIF(Scores!$B$9:$AD$76,A10) -> 0 | E10: =COUNTIF(Scores!$B$9:$AD$76,A10) -> 0
A11: Marie | C11: =COUNTIF(Scores!$B$9:$AD$76,A11) -> 0 | E11: =COUNTIF(Scores!$B$9:$AD$76,A11) -> 0
A12: Neness | C12: =COUNTIF(Scores!$B$9:$AD$76,A12) -> 2 | E12: =COUNTIF(Scores!$B$9:$AD$76,A12) -> 2
A13: Patate | C13: =COUNTIF(Scores!$B$9:$AD$76,A13) -> 2 | E13: =COUNTIF(Scores!$B$9:$AD$76,A13) -> 2
A14: Rolland | C14: =COUNTIF(Scores!$B$9:$AD$76,A14) -> 0 | E14: =COUNTIF(Scores!$B$9:$AD$76,A14) -> 0
A15: Virginie | C15: =COUNTIF(Scores!$B$9:$AD$76,A15) -> 0 | E15: =COUNTIF(Scores!$B$9:$AD$76,A15) -> 0
