Workbook

Sheet Planning CityUs
P1: D | R1: Départ
P2: A | R2: Arrivée
P3: AD | R3: Arrvée et départ le même jour
D4: Planning CityUs
P5: N | R5: Nettoyage régulier
P6: L | R6: Changement des linges et des draps de lit
H7: A | K7: D | P7: NL | R7: Nettoyage régulier + Changement des linges et des draps de lit
P8: I | R8: Nettoyage intermédiaire
H9: Prestations à réaliser après une arrivée selon fréquences planning | K9: Prestation à réaliser après un départ et avant une arrivée
S10: Semaine 38 | Z10: Semaine 39 | AG10: Semaine 40 | AN10: Semaine 41 | AU10: Semaine 42 | BB10: Semaine 43 | BI10: Semaine 44 | BP10: Semaine 45 | BW10: Semaine 46 | CD10: Semaine 47 | CK10: Semaine 48 | CR10: Semaine 49 | CY10: Semaine 50 | DF10: Semaine 51 | DM10: Semaine 52
H11: N | I11: L | J11: NL | K11: I | M11: D | N11: A | P11: V | Q11: S | R11: D | S11: L | T11: M | U11: M | V11: J | W11: V | X11: S | Y11: D | Z11: L | AA11: M | AB11: M | AC11: J | AD11: V | AE11: S | AF11: D | AG11: L | AH11: M | AI11: M | AJ11: J | AK11: V | AL11: S | AM11: D | AN11: L | AO11: M | AP11: M | AQ11: J | AR11: V | AS11: S | AT11: D | AU11: L | AV11: M | AW11: M | AX11: J | AY11: V | AZ11: S | BA11: D | BB11: L | BC11: M | BD11: M | BE11: J | BF11: V | BG11: S | BH11: D | BI11: L | BJ11: M | BK11: M | BL11: J | BM11: V | BN11: S | BO11: D | BP11: L | BQ11: M | BR11: M | BS11: J | BT11: V | BU11: S | BV11: D | BW11: L | BX11: M | BY11: M | BZ11: J | CA11: V | CB11: S | CC11: D | CD11: L | CE11: M | CF11: M | CG11: J | CH11: V | CI11: S | CJ11: D | CK11: L | CL11: M | CM11: M | CN11: J | CO11: V | CP11: S | CQ11: D | CR11: L | CS11: M | CT11: M | CU11: J | CV11: V | CW11: S | CX11: D | CY11: L | CZ11: M | DA11: M | DB11: J | DC11: V | DD11: S | DE11: D | DF11: L | DG11: M | DH11: M | DI11: J | DJ11: V | DK11: S | DL11: D | DM11: L | DN11: M | DO11: M | DP11: J | DQ11: V | DR11: S | DS11: D | DT11: L | DU11: M | DV11: M
D12: Nom de clé | E12: Adresse | F12: Nombre de lits | G12: Nombre de pièces | H12: Nettoyage régulier | I12: Changement de draps | J12: Nettoyage régulier + Changement des linges et des draps de lit | K12: Nettoyage intermédiaire | M12: Départ | N12: Arrivée | P12: 45912 | Q12: 45913 | R12: 45914 | S12: 45915 | T12: 45916 | U12: 45917 | V12: 45918 | W12: 45919 | X12: 45920 | Y12: 45921 | Z12: 45922 | AA12: 45923 | AB12: 45924 | AC12: 45925 | AD12: 45926 | AE12: 45927 | AF12: 45928 | AG12: 45929 | AH12: 45930 | AI12: 45931 | AJ12: 45932 | AK12: 45933 | AL12: 45934 | AM12: 45935 | AN12: 45936 | AO12: 45937 | AP12: 45938 | AQ12: 45939 | AR12: 45940 | AS12: 45941 | AT12: 45942 | AU12: 45943 | AV12: 45944 | AW12: 45945 | AX12: 45946 | AY12: 45947 | AZ12: 45948 | BA12: 45949 | BB12: 45950 | BC12: 45951 | BD12: 45952 | BE12: 45953 | BF12: 45954 | BG12: 45955 | BH12: 45956 | BI12: 45957 | BJ12: 45958 | BK12: 45959 | BL12: 45960 | BM12: 45961 | BN12: 45962 | BO12: 45963 | BP12: 45964 | BQ12: 45965 | BR12: 45966 | BS12: 45967 | BT12: 45968 | BU12: 45969 | BV12: 45970 | BW12: 45971 | BX12: 45972 | BY12: 45973 | BZ12: 45974 | CA12: 45975 | CB12: 45976 | CC12: 45977 | CD12: 45978 | CE12: 45979 | CF12: 45980 | CG12: 45981 | CH12: 45982 | CI12: 45983 | CJ12: 45984 | CK12: 45985 | CL12: 45986 | CM12: 45987 | CN12: 45988 | CO12: 45989 | CP12: 45990 | CQ12: 45991 | CR12: 45992 | CS12: 45993 | CT12: 45994 | CU12: 45995 | CV12: 45996 | CW12: 45997 | CX12: 45998 | CY12: 45999 | CZ12: 46000 | DA12: 46001 | DB12: 46002 | DC12: 46003 | DD12: 46004 | DE12: 46005 | DF12: 46006 | DG12: 46007 | DH12: 46008 | DI12: 46009 | DJ12: 46010 | DK12: 46011 | DL12: 46012 | DM12: 46013 | DN12: 46014 | DO12: 46015 | DP12: 46016 | DQ12: 46017 | DR12: 46018 | DS12: 46019 | DT12: 46020 | DU12: 46021 | DV12: 46022
C14: X | D14: RDM2-11 | E14: Rue du Môle 2, 1er étage, 2000 Neuchâtel - 1 bed #11 | F14: 1 | G14: 2.5 | H14: 1.5 | I14: 0.5 | J14: =H14+I14 -> 2 | K14: 4 | BS14: L
C15: X | D15: RDM2-12 | E15: Rue du Mole 2, 1er étage, 2000 Neuchatel - 1 bed #12 (PMI) | F15: 1 | G15: 2.5 | H15: 1.5 | I15: 0.5 | J15: =H15+I15 -> 2 | K15: 4 | M15: 45941 | N15: 45950 | BM15: D
B16: Jeudi | C16: X | D16: RDM2-16 | I16: 0.5 | J16: =H16+I16 -> 0.5 | AS16: D | BB16: A | BE16: N | BS16: L
C17: X | D17: RDM2-21 | E17: Rue du Môle 2, 2ème étage, 2000 Neuchâtel - 1 bed #21 | F17: 1 | G17: 2.5 | H17: 1.5 | I17: 0.5 | J17: =H17+I17 -> 2 | K17: 4 | AX17: N | BE17: N | BS17: N
C18: X | D18: RDM2-22 | E18: Rue du Môle 2, 2ème étage, 2000 Neuchâtel - 1 bed #22 | F18: 1 | G18: 2.5 | H18: 1.5 | I18: 0.5 | J18: =H18+I18 -> 2 | K18: 4 | M18: 45943 | N18: 45956 | AU18: D | BH18: A | BS18: AD | BT18: I | BU18: A
C19: X | D19: RDM2-26 | E19: Rue du Môle 2, 2ème étage, 2000 Neuchâtel - 1 bed #26 | F19: 1 | G19: 2.5 | H19: 1.5 | I19: 0.5 | J19: =H19+I19 -> 2 | K19: 4 | BS19: L
B20: Jeudi | C20: X | D20: RDM2-33 | E20: Rue du Mole 2, 3ème étage, 2000 Neuchatel - 1 bed #33 (PMI) | F20: 1 | G20: 2.5 | H20: 1.5 | I20: 0.5 | J20: =H20+I20 -> 2 | K20: 4 | M20: 45961 | BM20: D | BT20: A
B21: Jeudi | C21: X | D21: RDM2-34 | I21: 0.5 | J21: =H21+I21 -> 0.5 | BS21: L
D22: RM10-5F | E22: Rue de Mauborget 10, 5ème 1003 Lausanne - 2 bed | F22: 2 | G22: 3.5 | H22: 2 | I22: 0.5 | J22: =H22+I22 -> 2.5 | K22: 6 | AH22: D
B23: Mardi | C23: X | D23: FDL4F-4F | E23: Faubourg du Lac 4, 4ème étage, 2000 Neuchâtel - 1 bed | F23: 1 | G23: 2.5 | H23: 1.5 | I23: 0.5 | J23: =H23+I23 -> 2 | K23: 4 | M23: 45953 | N23: 45950 | BB23: A | BE23: D
B24: Jeudi | C24: X | D24: FDL4H-5F | E24: Faubourg du Lac 4, 5ème étage, 2000 Neuchâtel - 1 bed | F24: 1 | G24: 2.5 | H24: 1.5 | I24: 0.5 | J24: =H24+I24 -> 2 | K24: 4 | M24: 45900 | N24: 45950
C25: X | D25: RGP13-2B | E25: Rue de Grise- Pierre 13, 2ème étage, 2000 Neuchatel - 2 bed | F25: 2 | G25: 3.5 | H25: 2 | I25: 0.5 | J25: =H25+I25 -> 2.5 | K25: 6 | M25: 45927 | AE25: D | BL25: L
C26: X | D26: RGP15-2F | E26: Rue de Grise-Pierre 15, 2ème étage 2000 Neuchatel - 2 bed | F26: 2 | G26: 3.5 | H26: 2 | I26: 0.5 | J26: =H26+I26 -> 2.5 | K26: 6 | BC26: NL | BJ26: N | BQ26: NL
C27: X | D27: RGP15-3F | E27: Rue de Grise-Pierre 15, 3ème étage, 2000 Neuchatel - 1 bed | F27: 1 | G27: 2.5 | H27: 1.5 | I27: 0.5 | J27: =H27+I27 -> 2 | K27: 4 | M27: 45955 | BC27: NL | BG27: D | BJ27: N | BL27: L | BQ27: N
C28: X | D28: RSM12-5F | E28: Rue Saint Maurice 12, 5ème étage, 2000 Neuchatel - 1 bed | F28: 1 | G28: 2.5 | H28: 1.5 | I28: 0.5 | J28: =H28+I28 -> 2 | K28: 4 | M28: 45926 | AD28: D
C29: X | D29: RC29-A3 | I29: 0.5 | J29: =H29+I29 -> 0.5
B30: Mardi | C30: X | D30: RC29-A4 | E30: Rue Chapelle 29, 1er étage, 2034 Peseux - 2 bed #A4 | F30: 2 | G30: 3.5 | H30: 2 | I30: 0.5 | J30: =H30+I30 -> 2.5 | K30: 6 | BQ30: NL
B31: Mardi | C31: X | D31: RC29-A5 | E31: Rue Chapelle 29, 2ème étage, 2034 Peseux - 2 bed #A5 | F31: 2 | G31: 3.5 | H31: 2 | I31: 0.5 | J31: =H31+I31 -> 2.5 | K31: 6 | M31: 45912 | P31: D
C32: X | D32: RC29-A6 | I32: 0.5 | J32: =H32+I32 -> 0.5 | BJ32: NL
B33: Mardi | C33: X | D33: AC10B-B33 | E33: Avenue des Cadolles 10b, 3ème étage, 2000 Neuchâtel - 1 bed | F33: 1 | G33: 2.5 | H33: 1.5 | I33: 0.5 | J33: =H33+I33 -> 2 | K33: 4 | BJ33: N | BQ33: NL
B34: Mardi | C34: X | D34: AC12B-A73 | E34: Avenue des Cadolles 12B, 8ème étage, 2000 Neuchâtel - 2 bed | F34: 2 | G34: 3.5 | H34: 2 | I34: 0.5 | J34: =H34+I34 -> 2.5 | K34: 6 | BJ34: N | BQ34: NL
C35: X | D35: AC12C-A35 | I35: 0.5 | J35: =H35+I35 -> 0.5
C36: X | D36: VDE44-1F | E36: Vy d'Etra 44, 1er étage, 2000 Neuchâtel - 2 bed | F36: 2 | G36: 3.5 | H36: 2 | I36: 0.5 | J36: =H36+I36 -> 2.5 | K36: 6 | BL36: L
A37: Cave 112 au sousol 1 | B37: Parking 8 au sousol 2 | C37: X | D37: RGO20B-2F | E37: Routes des Gouttes d'Or 20b, 2ème étage, 2000 Neuchâtel - 2 bed | F37: 2 | G37: 3.5 | H37: 2 | I37: 0.5 | J37: =H37+I37 -> 2.5 | K37: 6 | BL37: L
C38: X | D38: RGO20C | I38: 0.5 | J38: =H38+I38 -> 0.5 | BS38: A
C39: X | D39: RDF68-2F | E39: Route des Falaises 68, 2ème étage, 2000 Neuchâtel - 1 bed | F39: 1 | G39: 2.5 | H39: 1.5 | I39: 0.5 | J39: =H39+I39 -> 2 | K39: 4 | BL39: L
B40: ? | C40: X | D40: ADA11-1F | E40: Avenue des Alpes 11, 1er étage, 2000 Neuchâtel - 1 bed | F40: 1 | G40: 2.5 | H40: 1.5 | I40: 0.5 | J40: =H40+I40 -> 2 | K40: 4 | M40: 45957 | BH40: D
C41: X | D41: QPGI4#610 | I41: 0.5
...

Sheet Facturation
B8: Appartement | C8: Date | D8: Code Nettoyage | E8: Type de Nettoyage | F8: Tps prévu
B9: RDM2-12 | C9: 45967 | D9: N | E9: =IF(D9="","",_xlfn.XLOOKUP(D9,'Planning CityUs'!$P$1:$P$8,'Planning CityUs'!$R$1:$R$8,"")) -> Nettoyage régulier | F9: {=_xlfn.XLOOKUP(B9,'Planning CityUs'!$D$13:$D$47,INDEX(MATCH(Facturation!D9,'Planning CityUs'!$H$11:$J$11,0),'Planning CityUs'!$H$24:$J$47))} -> #VALUE!
B10: RDM2-16 | C10: 11171 | D10: L | E10: =IF(D10="","",_xlfn.XLOOKUP(D10,'Planning CityUs'!$P$1:$P$8,'Planning CityUs'!$R$1:$R$8,"")) -> Changement des linges et des draps de lit
E11: =IF(D11="","",_xlfn.XLOOKUP(D11,'Planning CityUs'!$P$1:$P$8,'Planning CityUs'!$R$1:$R$8,""))
E12: =IF(D12="","",_xlfn.XLOOKUP(D12,'Planning CityUs'!$P$1:$P$8,'Planning CityUs'!$R$1:$R$8,""))
E13: =IF(D13="","",_xlfn.XLOOKUP(D13,'Planning CityUs'!$P$1:$P$8,'Planning CityUs'!$R$1:$R$8,""))
E14: =IF(D14="","",_xlfn.XLOOKUP(D14,'Planning CityUs'!$P$1:$P$8,'Planning CityUs'!$R$1:$R$8,""))
E15: =IF(D15="","",_xlfn.XLOOKUP(D15,'Planning CityUs'!$P$1:$P$8,'Planning CityUs'!$R$1:$R$8,""))
E16: =IF(D16="","",_xlfn.XLOOKUP(D16,'Planning CityUs'!$P$1:$P$8,'Planning CityUs'!$R$1:$R$8,""))
E17: =IF(D17="","",_xlfn.XLOOKUP(D17,'Planning CityUs'!$P$1:$P$8,'Planning CityUs'!$R$1:$R$8,""))

Sheet Feuil2
B8: N | C8: Nettoyage régulier
B9: NL | C9: Nettoyage régulier + Changement des linges
B10: L | C10: Changement des linges
B11: I | C11: Nettoyage intermédiaire
