Workbook

Sheet Modemploi
C4: Onglet Achat Fluide | D4: Remplir tous les achats de fluide de l'année. Quantité en fonction du bon de livraison.
D5: Le poids des bouteilles peut legerement varier à la reception +/-1,5kg suivant la tare etc… donc ne pas prendre en compte
C8: Onglet Inventaire | D8: Inventaire à l'instant T. Compte des bouteilles et poids en stock dans le local du B13
D9: total inventaire : la somme de chaque fluide s'inscrit dans la case
D10: Total théorique (suivant feuilles d'interventions) : Calcul = stock initial + acheté dans l'année - feuille d'intervention
D11: Ecart : la différence entre le stock réel du local B13 et le stock thérorique calculé doit etre inferieur à 2% => si case rouge, écart trop imporant. La couleur est reportée dans l'onglet fluide au niveau de la case stock final de fluide neuf.
C14: Onglet Fluide | D14: Remplir les champs A,B,.. Suivant les champs du Cerfa.
D15: notice Cerfa_52064#02.pdf
D17: Pour que la compréhension soit commune :
D19: Rempli | E19: A | G19: Fluide vierge rempli
E20: B | G20: Fluide récupéré reintroduit
E21: C | G21: Fluide régénéré rempli dans l'installation (on parle de fluide régénéré et redistribué par un fournisseur, comme le R404aR)
D22: Récupéré | E22: D | G22: Fluide récupéré et destiné au traitement, attention, la partie BSDFF doit etre remplie sur le cerfa.
E23: E | G23: Fluide récupéré (reintroduit ou stocké)
D25: Si la case stock final de fluide neuf est rouge, c'est que l'inventaire n'est pas bon, si l'inventaire est bon, le remplissage des cases du cerfa n'est pas bon.

Sheet Achat fluide
A1: Tableau de suivi fluide: | D1: ACHATS
A5: Fluide | B5: Date achat | C5: n° de commande | D5: Année | E5: Nombre de bouteille | F5: quantité unitaire (kg) | G5: Total (kg) | P5: BAT | Q5: Equipements | R5: Dessert | S5: Type de fluide | T5: Quantité (kg) | U5: T EQ cO2
G6: =E6*F6 -> 0 | P6: B1 | Q6: RF10 | R6: CF +4 Bt1 et Pharmacothèque | S6: R404A | T6: 150 | U6: =VLOOKUP(S6,[1]Listes!$C$2:$D$60,2,FALSE)*T6/1000 -> 588.3
G7: =E7*F7 -> 0 | P7: B11 | Q7: RF11 | R7: CF-40°C MGP | S7: R404A | T7: 151 | U7: =VLOOKUP(S7,[1]Listes!$C$2:$D$60,2,FALSE)*T7/1000 -> 592.222
G8: =E8*F8 -> 0 | P8: B11 | Q8: RF12 | R8: CF-40°C MGP | S8: R404A | T8: 151 | U8: =VLOOKUP(S8,[1]Listes!$C$2:$D$60,2,FALSE)*T8/1000 -> 592.222
G9: =E9*F9 -> 0 | P9: B11 | Q9: RF13 | R9: CF-40°C MGP | S9: R404A | T9: 156 | U9: =VLOOKUP(S9,[1]Listes!$C$2:$D$60,2,FALSE)*T9/1000 -> 611.832
G10: =E10*F10 -> 0 | J10: Poids des bouteilles Calorie | P10: B11 | Q10: RF14 | R10: CF-40°C MGP | S10: R404A | T10: 208 | U10: =VLOOKUP(S10,[1]Listes!$C$2:$D$60,2,FALSE)*T10/1000 -> 815.776
G11: =E11*F11 -> 0 | K11: 62 L | L11: 27 L | M11: 12 L | P11: B11 | Q11: RF15 | R11: CF+4°C MGP | S11: R404A | T11: 250 | U11: =VLOOKUP(S11,[1]Listes!$C$2:$D$60,2,FALSE)*T11/1000 -> 980.5
G12: =E12*F12 -> 0 | J12: R134a | K12: 63.4 | M12: 12.7 | P12: B1 | Q12: RF03 | R12: CF décongélation et CF -8° C | S12: R404A | T12: 300 | U12: =VLOOKUP(S12,[1]Listes!$C$2:$D$60,2,FALSE)*T12/1000 -> 1176.6
G13: =E13*F13 -> 0 | J13: R404a | L13: 16.8 | M13: 9.9 | P13: B8 | Q13: RF22/23 | R13: GW1/2 | S13: R404A | T13: 300 | U13: =VLOOKUP(S13,[1]Listes!$C$2:$D$60,2,FALSE)*T13/1000 -> 1176.6
G14: =E14*F14 -> 0 | J14: R407F | M14: 9.9 | P14: B8 | Q14: RF24/25 | R14: GW1/2 | S14: R404A | T14: 300 | U14: =VLOOKUP(S14,[1]Listes!$C$2:$D$60,2,FALSE)*T14/1000 -> 1176.6
G15: =E15*F15 -> 0 | J15: R410A
G16: =E16*F16 -> 0 | J16: R449A | K16: 54
G17: =E17*F17 -> 0 | J17: CO2
G18: =E18*F18 -> 0
G19: =E19*F19 -> 0
G20: =E20*F20 -> 0
G21: =E21*F21 -> 0
G22: =E22*F22 -> 0
G23: =E23*F23 -> 0
G24: =E24*F24 -> 0
G25: =E25*F25 -> 0

Sheet Inventaire
A1: Stocks local gaz
G4: Total inventaire :
A5: Fluide | B5: Nombre de bouteille | C5: quantité unitaire (kg) | D5: Total (kg) | G5: R134a | H5: R404a | I5: R407F | J5: R410A | K5: R449A | L5: CO2
A6: R134a | B6: 1 | C6: 29.3 | D6: =B6*C6 -> 29.3 | G6: =SUMIFS($D$6:$D$35,$A$6:$A$35,G5) -> 156.1 | H6: =SUMIFS($D$6:$D$35,$A$6:$A$35,H5) -> 252 | I6: =SUMIFS($D$6:$D$35,$A$6:$A$35,I5) -> 18 | J6: =SUMIFS($D$6:$D$35,$A$6:$A$35,J5) -> 0 | K6: =SUMIFS($D$6:$D$35,$A$6:$A$35,K5) -> 58.2 | L6: =SUMIFS($D$6:$D$35,$A$6:$A$35,L5) -> 55
A7: R134a | B7: 2 | C7: 63.4 | D7: =B7*C7 -> 126.8
A8: R407F | B8: 1 | C8: 18 | D8: =B8*C8 -> 18 | G8: Total théorique (suivant feuilles d'interventions) :
A9: R449A | B9: 1 | C9: 52.6 | D9: =B9*C9 -> 52.6 | G9: R134a | H9: R404a | I9: R407F | J9: R410A | K9: R449A | L9: CO2
A10: CO2 | B10: 1 | C10: 55 | D10: =B10*C10 -> 55 | G10: ='R134a'!K2 -> 156.1 | H10: ='R404A'!K2 -> 252 | I10: ='R407F'!K2 -> 18 | J10: ='R410A'!K2 -> 0 | K10: ='R449A'!K2 -> 58.2 | L10: ='CO2'!K2 -> 55
A11: R404a | B11: 15 | C11: 16.8 | D11: =B11*C11 -> 252
A12: R449A | B12: 1 | C12: 5.6 | D12: =B12*C12 -> 5.6 | G12: Ecart :
D13: =B13*C13 -> 0 | G13: R134a | H13: R404a | I13: R407F | J13: R410A | K13: R449A | L13: CO2
D14: =B14*C14 -> 0 | G14: =G6-G10 -> 0 | H14: =H6-H10 -> 0 | I14: =I6-I10 -> 0 | J14: =J6-J10 -> 0 | K14: =K6-K10 -> 0 | L14: =L6-L10 -> 0
D15: =B15*C15 -> 0 | G15: =G6*0.025 -> 3.9025 | H15: =H6*0.025 -> 6.3 | I15: =I6*0.025 -> 0.45 | J15: =J6*0.025 -> 0 | K15: =K6*0.025 -> 1.455 | L15: =L6*0.025 -> 1.375
D16: =B16*C16 -> 0 | G16: =ABS(G14) -> 0 | H16: =ABS(H14) -> 0 | I16: =ABS(I14) -> 0 | J16: =ABS(J14) -> 0 | K16: =ABS(K14) -> 0 | L16: =ABS(L14) -> 0
D17: =B17*C17 -> 0 | G17: Poids des bouteilles Calorie
D18: =B18*C18 -> 0 | G18: ='Achat fluide'!J11 -> 0 | H18: ='Achat fluide'!K11 -> 62 L | I18: ='Achat fluide'!L11 -> 27 L | J18: ='Achat fluide'!M11 -> 12 L
D19: =B19*C19 -> 0 | G19: ='Achat fluide'!J12 -> R134a | H19: ='Achat fluide'!K12 -> 63.4 | I19: ='Achat fluide'!L12 -> 0 | J19: ='Achat fluide'!M12 -> 12.7
D20: =B20*C20 -> 0 | G20: ='Achat fluide'!J13 -> R404a | H20: ='Achat fluide'!K13 -> 0 | I20: ='Achat fluide'!L13 -> 16.8 | J20: ='Achat fluide'!M13 -> 9.9
D21: =B21*C21 -> 0 | G21: ='Achat fluide'!J14 -> R407F | H21: ='Achat fluide'!K14 -> 0 | I21: ='Achat fluide'!L14 -> 0 | J21: ='Achat fluide'!M14 -> 9.9
D22: =B22*C22 -> 0 | G22: ='Achat fluide'!J15 -> R410A | H22: ='Achat fluide'!K15 -> 0 | I22: ='Achat fluide'!L15 -> 0 | J22: ='Achat fluide'!M15 -> 0
D23: =B23*C23 -> 0 | G23: ='Achat fluide'!J16 -> R449A | H23: ='Achat fluide'!K16 -> 54 | I23: ='Achat fluide'!L16 -> 0 | J23: ='Achat fluide'!M16 -> 0
D24: =B24*C24 -> 0 | G24: ='Achat fluide'!J17 -> CO2 | H24: ='Achat fluide'!K17 -> 0 | I24: ='Achat fluide'!L17 -> 0 | J24: ='Achat fluide'!M17 -> 0
D25: =B25*C25 -> 0
D26: =B26*C26 -> 0
D27: =B27*C27 -> 0
D28: =B28*C28 -> 0
D29: =B29*C29 -> 0
D30: =B30*C30 -> 0
D31: =B31*C31 -> 0
D32: =B32*C32 -> 0
D33: =B33*C33 -> 0
D34: =B34*C34 -> 0
D35: =B35*C35 -> 0

Sheet R404A
A1: Tableau de suivi des Stocks du fluide: | D1: R404a | F1: 2024 | I1: Quantité retournée : | K1: =SUM(I7:I26) -> 0
I2: Stock final de fluide neuf | K2: =C3+H4-H3-SUM(F7:F26)-SUM(H7:H26) -> 252
A3: Stock initial de fluide neuf : | C3: 403.2 | D3: Total: | E3: =C3+C4 -> 403.2 | F3: Fluide cédé : | I3: Stock final de fluide recyclé: | K3: =C4+SUM(J7:J26)-SUM(G7:G26) -> 0
A4: Stock initial de fluide recyclé : | D4: Teq CO2 : | E4: 3940 | F4: Fluide acheté : | H4: =SUMIFS('Achat fluide'!G:G,'Achat fluide'!A:A,D1) -> 0 | I4: Total: | K4: =K2+K3 -> 252
A6: N° intervention | B6: Date | C6: Equipement | D6: Type d'intervention | E6: OT | F6: A Fluide vierge | G6: B Fluide récupéré réintroduit | H6: C Fluide régénéré | I6: D Récupéré destiné au traitement | J6: E Récupéré pour recyclage ou réintroduction | K6: Total chargé A+B+C | L6: Total Récupéré D+E | M6: Fuite Tot Chargé-Tot Recup | N6: T Eq CO2
A7: 1 | B7: 45441 | C7: RF11 | D7: Réparation 3 fuites identifiées pdt contrôle trimestriel | E7: 618949 | G7: 205 | J7: 205 | K7: =IF(F7+G7+H7=0,0,F7+G7+H7) -> 205 | L7: =I7+J7 -> 205 | M7: =K7-L7 -> 0 | N7: =IFERROR((M7*$E$4)/1000,"") -> 0 | O7: =VLOOKUP(C7,'Achat fluide'!Q5:U14,5,0) -> 592.222 | P7: =IF(N7>0,IF(O7>500,1,0),0) -> 0
A8: 2 | B8: 45454 | C8: RF10 | D8: Isolation fuite evaporateur CF 1255 RF10EVA05 | E8: 654662 | F8: 50.4 | H8: 0 | K8: =IF(F8+G8+H8=0,0,F8+G8+H8) -> 50.4 | L8: =I8+J8 -> 0 | M8: =K8-L8 -> 50.4 | N8: =IFERROR((M8*$E$4)/1000,"") -> 198.576 | O8: =VLOOKUP(C8,'Achat fluide'!Q6:U15,5,0) -> 588.3 | P8: =IF(N8>0,IF(O8>500,1,0),0) -> 1
A9: 3 | B9: 45476 | C9: RF11 | D9: Remplacement raccord HP CP2 | E9: 572246 | F9: 100.8 | K9: =IF(F9+G9+H9=0,0,F9+G9+H9) -> 100.8 | L9: =I9+J9 -> 0 | M9: =K9-L9 -> 100.8 | N9: =IFERROR((M9*$E$4)/1000,"") -> 397.152 | O9: =VLOOKUP(C9,'Achat fluide'!Q7:U16,5,0) -> 592.222 | P9: =IF(N9>0,IF(O9>500,1,0),0) -> 1
A10: 4 | B10: 45463 | C10: RF12 | D10: Réparation fuite identifiée pendant contrôle réglementaire | E10: 649727 | G10: 115 | J10: 115 | K10: =IF(F10+G10+H10=0,0,F10+G10+H10) -> 115 | L10: =I10+J10 -> 115 | M10: =K10-L10 -> 0 | N10: =IFERROR((M10*$E$4)/1000,"") -> 0 | O10: =VLOOKUP(C10,'Achat fluide'!Q8:U17,5,0) -> 592.222 | P10: =IF(N10>0,IF(O10>500,1,0),0) -> 0
A11: 5 | K11: =IF(F11+G11+H11=0,0,F11+G11+H11) -> 0 | L11: =I11+J11 -> 0 | M11: =K11-L11 -> 0 | N11: =IFERROR((M11*$E$4)/1000,"") -> 0
A12: 6 | K12: =IF(F12+G12+H12=0,0,F12+G12+H12) -> 0 | L12: =I12+J12 -> 0 | M12: =K12-L12 -> 0 | N12: =IFERROR((M12*$E$4)/1000,"") -> 0
A13: 7 | K13: =IF(F13+G13+H13=0,0,F13+G13+H13) -> 0 | L13: =I13+J13 -> 0 | M13: =K13-L13 -> 0 | N13: =IFERROR((M13*$E$4)/1000,"") -> 0
A14: 8 | K14: =IF(F14+G14+H14=0,0,F14+G14+H14) -> 0 | L14: =I14+J14 -> 0 | M14: =K14-L14 -> 0 | N14: =IFERROR((M14*$E$4)/1000,"") -> 0
A15: 9 | K15: =IF(F15+G15+H15=0,0,F15+G15+H15) -> 0 | L15: =I15+J15 -> 0 | M15: =K15-L15 -> 0 | N15: =IFERROR((M15*$E$4)/1000,"") -> 0
A16: 10 | K16: =IF(F16+G16+H16=0,0,F16+G16+H16) -> 0 | L16: =I16+J16 -> 0 | M16: =K16-L16 -> 0 | N16: =IFERROR((M16*$E$4)/1000,"") -> 0
A17: 11 | K17: =IF(F17+G17+H17=0,0,F17+G17+H17) -> 0 | L17: =I17+J17 -> 0 | M17: =K17-L17 -> 0 | N17: =IFERROR((M17*$E$4)/1000,"") -> 0
A18: 12 | K18: =IF(F18+G18+H18=0,0,F18+G18+H18) -> 0 | L18: =I18+J18 -> 0 | M18: =K18-L18 -> 0 | N18: =IFERROR((M18*$E$4)/1000,"") -> 0
A19: 13 | K19: =IF(F19+G19+H19=0,0,F19+G19+H19) -> 0 | L19: =I19+J19 -> 0 | M19: =K19-L19 -> 0 | N19: =IFERROR((M19*$E$4)/1000,"") -> 0
A20: 14 | K20: =IF(F20+G20+H20=0,0,F20+G20+H20) -> 0 | L20: =I20+J20 -> 0 | M20: =K20-L20 -> 0 | N20: =IFERROR((M20*$E$4)/1000,"") -> 0
A21: 15 | K21: =IF(F21+G21+H21=0,0,F21+G21+H21) -> 0 | L21: =I21+J21 -> 0 | M21: =K21-L21 -> 0 | N21: =IFERROR((M21*$E$4)/1000,"") -> 0
A22: 16 | K22: =IF(F22+G22+H22=0,0,F22+G22+H22) -> 0 | L22: =I22+J22 -> 0 | M22: =K22-L22 -> 0 | N22: =IFERROR((M22*$E$4)/1000,"") -> 0
... A26: 20 | K26: =IF(F26+G26+H26=0,0,F26+G26+H26) -> 0 | L26: =I26+J26 -> 0 | M26: =K26-L26 -> 0 | N26: =IFERROR((M26*$E$4)/1000,"") -> 0

Sheet R134a
A1: Tableau de suivi des Stocks du fluide: | D1: R134a | F1: 2024 | I1: Quantité retournée : | K1: =SUM(I7:I26) -> 0
I2: Stock final de fluide neuf | K2: =C3+H4-H3-SUM(F7:F26)-SUM(H7:H26) -> 156.1
A3: Stock initial de fluide neuf : | C3: 189.6 | D3: Total: | E3: =C3+C4 -> 189.6 | F3: Fluide cédé : | I3: Stock final de fluide recyclé: | K3: =C4+SUM(J7:J26)-SUM(G7:G26) -> 0
A4: Stock initial de fluide recyclé : | D4: Teq CO2 : | E4: 3940 | F4: Fluide acheté : | H4: =SUMIFS('Achat fluide'!G:G,'Achat fluide'!A:A,D1) -> 0 | I4: Total: | K4: =K2+K3 -> 156.1
A6: N° intervention | B6: Date | C6: Equipement | D6: Type d'intervention | E6: OT | F6: A Fluide vierge | G6: B Fluide récupéré réintroduit | H6: C Fluide régénéré | I6: D Récupéré destiné au traitement | J6: E Récupéré pour recyclage ou réintroduction | K6: Total chargé A+B+C | L6: Total Récupéré D+E | M6: Fuite Tot Chargé-Tot Recup | N6: T Eq CO2
A7: 1 | B7: 45475 | C7: RF66 | D7: Réparation fuite VAM SOUPAPE HP | E7: 643437 | F7: 33.5 | K7: =IF(F7+G7+H7=0,0,F7+G7+H7) -> 33.5 | L7: =I7+J7 -> 0 | M7: =K7-L7 -> 33.5 | N7: =IFERROR((M7*$E$4)/1000,"") -> 131.99
A8: 2 | K8: =IF(F8+G8+H8=0,0,F8+G8+H8) -> 0 | L8: =I8+J8 -> 0 | M8: =K8-L8 -> 0 | N8: =IFERROR((M8*$E$4)/1000,"") -> 0
A9: 3 | K9: =IF(F9+G9+H9=0,0,F9+G9+H9) -> 0 | L9: =I9+J9 -> 0 | M9: =K9-L9 -> 0 | N9: =IFERROR((M9*$E$4)/1000,"") -> 0
A10: 4 | K10: =IF(F10+G10+H10=0,0,F10+G10+H10) -> 0 | L10: =I10+J10 -> 0 | M10: =K10-L10 -> 0 | N10: =IFERROR((M10*$E$4)/1000,"") -> 0
A11: 5 | K11: =IF(F11+G11+H11=0,0,F11+G11+H11) -> 0 | L11: =I11+J11 -> 0 | M11: =K11-L11 -> 0 | N11: =IFERROR((M11*$E$4)/1000,"") -> 0
A12: 6 | K12: =IF(F12+G12+H12=0,0,F12+G12+H12) -> 0 | L12: =I12+J12 -> 0 | M12: =K12-L12 -> 0 | N12: =IFERROR((M12*$E$4)/1000,"") -> 0
A13: 7 | K13: =IF(F13+G13+H13=0,0,F13+G13+H13) -> 0 | L13: =I13+J13 -> 0 | M13: =K13-L13 -> 0 | N13: =IFERROR((M13*$E$4)/1000,"") -> 0
A14: 8 | K14: =IF(F14+G14+H14=0,0,F14+G14+H14) -> 0 | L14: =I14+J14 -> 0 | M14: =K14-L14 -> 0 | N14: =IFERROR((M14*$E$4)/1000,"") -> 0
A15: 9 | K15: =IF(F15+G15+H15=0,0,F15+G15+H15) -> 0 | L15: =I15+J15 -> 0 | M15: =K15-L15 -> 0 | N15: =IFERROR((M15*$E$4)/1000,"") -> 0
A16: 10 | K16: =IF(F16+G16+H16=0,0,F16+G16+H16) -> 0 | L16: =I16+J16 -> 0 | M16: =K16-L16 -> 0 | N16: =IFERROR((M16*$E$4)/1000,"") -> 0
A17: 11 | K17: =IF(F17+G17+H17=0,0,F17+G17+H17) -> 0 | L17: =I17+J17 -> 0 | M17: =K17-L17 -> 0 | N17: =IFERROR((M17*$E$4)/1000,"") -> 0
A18: 12 | K18: =IF(F18+G18+H18=0,0,F18+G18+H18) -> 0 | L18: =I18+J18 -> 0 | M18: =K18-L18 -> 0 | N18: =IFERROR((M18*$E$4)/1000,"") -> 0
A19: 13 | K19: =IF(F19+G19+H19=0,0,F19+G19+H19) -> 0 | L19: =I19+J19 -> 0 | M19: =K19-L19 -> 0 | N19: =IFERROR((M19*$E$4)/1000,"") -> 0
... A26: 20 | K26: =IF(F26+G26+H26=0,0,F26+G26+H26) -> 0 | L26: =I26+J26 -> 0 | M26: =K26-L26 -> 0 | N26: =IFERROR((M26*$E$4)/1000,"") -> 0

Sheet R407F
A1: Tableau de suivi des Stocks du fluide: | D1: R407F | F1: 2024 | I1: Quantité retournée : | K1: =SUM(I7:I26) -> 0
I2: Stock final de fluide neuf | K2: =C3+H4-H3-SUM(F7:F26)-SUM(H7:H26) -> 18
A3: Stock initial de fluide neuf : | C3: 18 | D3: Total: | E3: =C3+C4 -> 18 | F3: Fluide cédé : | I3: Stock final de fluide recyclé: | K3: =C4+SUM(J7:J26)-SUM(G7:G26) -> 0
A4: Stock initial de fluide recyclé : | D4: Teq CO2 : | E4: 3940 | F4: Fluide acheté : | H4: =SUMIFS('Achat fluide'!G:G,'Achat fluide'!A:A,D1) -> 0 | I4: Total: | K4: =K2+K3 -> 18
A6: N° intervention | B6: Date | C6: Equipement | D6: Type d'intervention | E6: OT | F6: A Fluide vierge | G6: B Fluide récupéré réintroduit | H6: C Fluide régénéré | I6: D Récupéré destiné au traitement | J6: E Récupéré pour recyclage ou réintroduction | K6: Total chargé A+B+C | L6: Total Récupéré D+E | M6: Fuite Tot Chargé-Tot Recup | N6: T Eq CO2
A7: 1 | K7: =IF(F7+G7+H7=0,0,F7+G7+H7) -> 0 | L7: =I7+J7 -> 0 | M7: =K7-L7 -> 0 | N7: =IFERROR((M7*$E$4)/1000,"") -> 0
A8: 2 | K8: =IF(F8+G8+H8=0,0,F8+G8+H8) -> 0 | L8: =I8+J8 -> 0 | M8: =K8-L8 -> 0 | N8: =IFERROR((M8*$E$4)/1000,"") -> 0
A9: 3 | K9: =IF(F9+G9+H9=0,0,F9+G9+H9) -> 0 | L9: =I9+J9 -> 0 | M9: =K9-L9 -> 0 | N9: =IFERROR((M9*$E$4)/1000,"") -> 0
A10: 4 | K10: =IF(F10+G10+H10=0,0,F10+G10+H10) -> 0 | L10: =I10+J10 -> 0 | M10: =K10-L10 -> 0 | N10: =IFERROR((M10*$E$4)/1000,"") -> 0
A11: 5 | K11: =IF(F11+G11+H11=0,0,F11+G11+H11) -> 0 | L11: =I11+J11 -> 0 | M11: =K11-L11 -> 0 | N11: =IFERROR((M11*$E$4)/1000,"") -> 0
A12: 6 | K12: =IF(F12+G12+H12=0,0,F12+G12+H12) -> 0 | L12: =I12+J12 -> 0 | M12: =K12-L12 -> 0 | N12: =IFERROR((M12*$E$4)/1000,"") -> 0
A13: 7 | K13: =IF(F13+G13+H13=0,0,F13+G13+H13) -> 0 | L13: =I13+J13 -> 0 | M13: =K13-L13 -> 0 | N13: =IFERROR((M13*$E$4)/1000,"") -> 0
A14: 8 | K14: =IF(F14+G14+H14=0,0,F14+G14+H14) -> 0 | L14: =I14+J14 -> 0 | M14: =K14-L14 -> 0 | N14: =IFERROR((M14*$E$4)/1000,"") -> 0
A15: 9 | K15: =IF(F15+G15+H15=0,0,F15+G15+H15) -> 0 | L15: =I15+J15 -> 0 | M15: =K15-L15 -> 0 | N15: =IFERROR((M15*$E$4)/1000,"") -> 0
A16: 10 | K16: =IF(F16+G16+H16=0,0,F16+G16+H16) -> 0 | L16: =I16+J16 -> 0 | M16: =K16-L16 -> 0 | N16: =IFERROR((M16*$E$4)/1000,"") -> 0
A17: 11 | K17: =IF(F17+G17+H17=0,0,F17+G17+H17) -> 0 | L17: =I17+J17 -> 0 | M17: =K17-L17 -> 0 | N17: =IFERROR((M17*$E$4)/1000,"") -> 0
A18: 12 | K18: =IF(F18+G18+H18=0,0,F18+G18+H18) -> 0 | L18: =I18+J18 -> 0 | M18: =K18-L18 -> 0 | N18: =IFERROR((M18*$E$4)/1000,"") -> 0
... A26: 20 | K26: =IF(F26+G26+H26=0,0,F26+G26+H26) -> 0 | L26: =I26+J26 -> 0 | M26: =K26-L26 -> 0 | N26: =IFERROR((M26*$E$4)/1000,"") -> 0

Sheet R449A
A1: Tableau de suivi des Stocks du fluide: | D1: R449A | F1: 2024 | I1: Quantité retournée : | K1: =SUM(I7:I26) -> 0
I2: Stock final de fluide neuf | K2: =C3+H4-H3-SUM(F7:F26)-SUM(H7:H26) -> 58.2
A3: Stock initial de fluide neuf : | C3: 163.4 | D3: Total: | E3: =C3+C4 -> 163.4 | F3: Fluide cédé : | I3: Stock final de fluide recyclé: | K3: =C4+SUM(J7:J26)-SUM(G7:G26) -> 0
A4: Stock initial de fluide recyclé : | D4: Teq CO2 : | E4: 3940 | F4: Fluide acheté : | H4: =SUMIFS('Achat fluide'!G:G,'Achat fluide'!A:A,D1) -> 0 | I4: Total: | K4: =K2+K3 -> 58.2
A6: N° intervention | B6: Date | C6: Equipement | D6: Type d'intervention | E6: OT | F6: A Fluide vierge | G6: B Fluide récupéré réintroduit | H6: C Fluide régénéré | I6: D Récupéré destiné au traitement | J6: E Récupéré pour recyclage ou réintroduction | K6: Total chargé A+B+C | L6: Total Récupéré D+E | M6: Fuite Tot Chargé-Tot Recup | N6: T Eq CO2
A7: 1 | B7: 45422 | C7: RF67 | D7: Fuite sur shrader collecteur BP | E7: 647333 | F7: 105.2 | K7: =IF(F7+G7+H7=0,0,F7+G7+H7) -> 105.2 | L7: =I7+J7 -> 0 | M7: =K7-L7 -> 105.2 | N7: =IFERROR((M7*$E$4)/1000,"") -> 414.488
A8: 2 | K8: =IF(F8+G8+H8=0,0,F8+G8+H8) -> 0 | L8: =I8+J8 -> 0 | M8: =K8-L8 -> 0 | N8: =IFERROR((M8*$E$4)/1000,"") -> 0
A9: 3 | K9: =IF(F9+G9+H9=0,0,F9+G9+H9) -> 0 | L9: =I9+J9 -> 0 | M9: =K9-L9 -> 0 | N9: =IFERROR((M9*$E$4)/1000,"") -> 0
A10: 4 | K10: =IF(F10+G10+H10=0,0,F10+G10+H10) -> 0 | L10: =I10+J10 -> 0 | M10: =K10-L10 -> 0 | N10: =IFERROR((M10*$E$4)/1000,"") -> 0
A11: 5 | K11: =IF(F11+G11+H11=0,0,F11+G11+H11) -> 0 | L11: =I11+J11 -> 0 | M11: =K11-L11 -> 0 | N11: =IFERROR((M11*$E$4)/1000,"") -> 0
A12: 6 | K12: =IF(F12+G12+H12=0,0,F12+G12+H12) -> 0 | L12: =I12+J12 -> 0 | M12: =K12-L12 -> 0 | N12: =IFERROR((M12*$E$4)/1000,"") -> 0
A13: 7 | K13: =IF(F13+G13+H13=0,0,F13+G13+H13) -> 0 | L13: =I13+J13 -> 0 | M13: =K13-L13 -> 0 | N13: =IFERROR((M13*$E$4)/1000,"") -> 0
A14: 8 | K14: =IF(F14+G14+H14=0,0,F14+G14+H14) -> 0 | L14: =I14+J14 -> 0 | M14: =K14-L14 -> 0 | N14: =IFERROR((M14*$E$4)/1000,"") -> 0
A15: 9 | K15: =IF(F15+G15+H15=0,0,F15+G15+H15) -> 0 | L15: =I15+J15 -> 0 | M15: =K15-L15 -> 0 | N15: =IFERROR((M15*$E$4)/1000,"") -> 0
A16: 10 | K16: =IF(F16+G16+H16=0,0,F16+G16+H16) -> 0 | L16: =I16+J16 -> 0 | M16: =K16-L16 -> 0 | N16: =IFERROR((M16*$E$4)/1000,"") -> 0
A17: 11 | K17: =IF(F17+G17+H17=0,0,F17+G17+H17) -> 0 | L17: =I17+J17 -> 0 | M17: =K17-L17 -> 0 | N17: =IFERROR((M17*$E$4)/1000,"") -> 0
A18: 12 | K18: =IF(F18+G18+H18=0,0,F18+G18+H18) -> 0 | L18: =I18+J18 -> 0 | M18: =K18-L18 -> 0 | N18: =IFERROR((M18*$E$4)/1000,"") -> 0
A19: 13 | K19: =IF(F19+G19+H19=0,0,F19+G19+H19) -> 0 | L19: =I19+J19 -> 0 | M19: =K19-L19 -> 0 | N19: =IFERROR((M19*$E$4)/1000,"") -> 0
... A26: 20 | K26: =IF(F26+G26+H26=0,0,F26+G26+H26) -> 0 | L26: =I26+J26 -> 0 | M26: =K26-L26 -> 0 | N26: =IFERROR((M26*$E$4)/1000,"") -> 0

Sheet R410A
A1: Tableau de suivi des Stocks du fluide: | D1: R410A | F1: 2024 | I1: Quantité retournée : | K1: =SUM(I7:I26) -> 0
I2: Stock final de fluide neuf | K2: =C3+H4-H3-SUM(F7:F26)-SUM(H7:H26) -> 0
A3: Stock initial de fluide neuf : | C3: 0 | D3: Total: | E3: =C3+C4 -> 0 | F3: Fluide cédé : | I3: Stock final de fluide recyclé: | K3: =C4+SUM(J7:J26)-SUM(G7:G26) -> 0
A4: Stock initial de fluide recyclé : | D4: Teq CO2 : | E4: 3940 | F4: Fluide acheté : | H4: =SUMIFS('Achat fluide'!G:G,'Achat fluide'!A:A,D1) -> 0 | I4: Total: | K4: =K2+K3 -> 0
A6: N° intervention | B6: Date | C6: Equipement | D6: Type d'intervention | E6: OT | F6: A Fluide vierge | G6: B Fluide récupéré réintroduit | H6: C Fluide régénéré | I6: D Récupéré destiné au traitement | J6: E Récupéré pour recyclage ou réintroduction | K6: Total chargé A+B+C | L6: Total Récupéré D+E | M6: Fuite Tot Chargé-Tot Recup | N6: T Eq CO2
A7: 1 | K7: =IF(F7+G7+H7=0,0,F7+G7+H7) -> 0 | L7: =I7+J7 -> 0 | M7: =K7-L7 -> 0 | N7: =IFERROR((M7*$E$4)/1000,"") -> 0
A8: 2 | K8: =IF(F8+G8+H8=0,0,F8+G8+H8) -> 0 | L8: =I8+J8 -> 0 | M8: =K8-L8 -> 0 | N8: =IFERROR((M8*$E$4)/1000,"") -> 0
A9: 3 | K9: =IF(F9+G9+H9=0,0,F9+G9+H9) -> 0 | L9: =I9+J9 -> 0 | M9: =K9-L9 -> 0 | N9: =IFERROR((M9*$E$4)/1000,"") -> 0
A10: 4 | K10: =IF(F10+G10+H10=0,0,F10+G10+H10) -> 0 | L10: =I10+J10 -> 0 | M10: =K10-L10 -> 0 | N10: =IFERROR((M10*$E$4)/1000,"") -> 0
A11: 5 | K11: =IF(F11+G11+H11=0,0,F11+G11+H11) -> 0 | L11: =I11+J11 -> 0 | M11: =K11-L11 -> 0 | N11: =IFERROR((M11*$E$4)/1000,"") -> 0
A12: 6 | K12: =IF(F12+G12+H12=0,0,F12+G12+H12) -> 0 | L12: =I12+J12 -> 0 | M12: =K12-L12 -> 0 | N12: =IFERROR((M12*$E$4)/1000,"") -> 0
A13: 7 | K13: =IF(F13+G13+H13=0,0,F13+G13+H13) -> 0 | L13: =I13+J13 -> 0 | M13: =K13-L13 -> 0 | N13: =IFERROR((M13*$E$4)/1000,"") -> 0
A14: 8 | K14: =IF(F14+G14+H14=0,0,F14+G14+H14) -> 0 | L14: =I14+J14 -> 0 | M14: =K14-L14 -> 0 | N14: =IFERROR((M14*$E$4)/1000,"") -> 0
A15: 9 | K15: =IF(F15+G15+H15=0,0,F15+G15+H15) -> 0 | L15: =I15+J15 -> 0 | M15: =K15-L15 -> 0 | N15: =IFERROR((M15*$E$4)/1000,"") -> 0
A16: 10 | K16: =IF(F16+G16+H16=0,0,F16+G16+H16) -> 0 | L16: =I16+J16 -> 0 | M16: =K16-L16 -> 0 | N16: =IFERROR((M16*$E$4)/1000,"") -> 0
A17: 11 | K17: =IF(F17+G17+H17=0,0,F17+G17+H17) -> 0 | L17: =I17+J17 -> 0 | M17: =K17-L17 -> 0 | N17: =IFERROR((M17*$E$4)/1000,"") -> 0
A18: 12 | K18: =IF(F18+G18+H18=0,0,F18+G18+H18) -> 0 | L18: =I18+J18 -> 0 | M18: =K18-L18 -> 0 | N18: =IFERROR((M18*$E$4)/1000,"") -> 0
... A26: 20 | K26: =IF(F26+G26+H26=0,0,F26+G26+H26) -> 0 | L26: =I26+J26 -> 0 | M26: =K26-L26 -> 0 | N26: =IFERROR((M26*$E$4)/1000,"") -> 0

Sheet CO2
A1: Tableau de suivi des Stocks du fluide: | D1: CO2 | F1: 2024 | I1: Quantité retournée : | K1: =SUM(I7:I26) -> 0
I2: Stock final de fluide neuf | K2: =C3+H4-H3-SUM(F7:F26)-SUM(H7:H26) -> 55
A3: Stock initial de fluide neuf : | C3: 55 | D3: Total: | E3: =C3+C4 -> 55 | F3: Fluide cédé : | I3: Stock final de fluide recyclé: | K3: =C4+SUM(J7:J26)-SUM(G7:G26) -> 0
A4: Stock initial de fluide recyclé : | D4: Teq CO2 : | E4: 3940 | F4: Fluide acheté : | H4: =SUMIFS('Achat fluide'!G:G,'Achat fluide'!A:A,D1) -> 0 | I4: Total: | K4: =K2+K3 -> 55
A6: N° intervention | B6: Date | C6: Equipement | D6: Type d'intervention | E6: OT | F6: A Fluide vierge | G6: B Fluide récupéré réintroduit | H6: C Fluide régénéré | I6: D Récupéré destiné au traitement | J6: E Récupéré pour recyclage ou réintroduction | K6: Total chargé A+B+C | L6: Total Récupéré D+E | M6: Fuite Tot Chargé-Tot Recup | N6: T Eq CO2
A7: 1 | K7: =IF(F7+G7+H7=0,0,F7+G7+H7) -> 0 | L7: =I7+J7 -> 0 | M7: =K7-L7 -> 0 | N7: =IFERROR((M7*$E$4)/1000,"") -> 0
A8: 2 | K8: =IF(F8+G8+H8=0,0,F8+G8+H8) -> 0 | L8: =I8+J8 -> 0 | M8: =K8-L8 -> 0 | N8: =IFERROR((M8*$E$4)/1000,"") -> 0
A9: 3 | K9: =IF(F9+G9+H9=0,0,F9+G9+H9) -> 0 | L9: =I9+J9 -> 0 | M9: =K9-L9 -> 0 | N9: =IFERROR((M9*$E$4)/1000,"") -> 0
A10: 4 | K10: =IF(F10+G10+H10=0,0,F10+G10+H10) -> 0 | L10: =I10+J10 -> 0 | M10: =K10-L10 -> 0 | N10: =IFERROR((M10*$E$4)/1000,"") -> 0
A11: 5 | K11: =IF(F11+G11+H11=0,0,F11+G11+H11) -> 0 | L11: =I11+J11 -> 0 | M11: =K11-L11 -> 0 | N11: =IFERROR((M11*$E$4)/1000,"") -> 0
A12: 6 | K12: =IF(F12+G12+H12=0,0,F12+G12+H12) -> 0 | L12: =I12+J12 -> 0 | M12: =K12-L12 -> 0 | N12: =IFERROR((M12*$E$4)/1000,"") -> 0
A13: 7 | K13: =IF(F13+G13+H13=0,0,F13+G13+H13) -> 0 | L13: =I13+J13 -> 0 | M13: =K13-L13 -> 0 | N13: =IFERROR((M13*$E$4)/1000,"") -> 0
A14: 8 | K14: =IF(F14+G14+H14=0,0,F14+G14+H14) -> 0 | L14: =I14+J14 -> 0 | M14: =K14-L14 -> 0 | N14: =IFERROR((M14*$E$4)/1000,"") -> 0
A15: 9 | K15: =IF(F15+G15+H15=0,0,F15+G15+H15) -> 0 | L15: =I15+J15 -> 0 | M15: =K15-L15 -> 0 | N15: =IFERROR((M15*$E$4)/1000,"") -> 0
A16: 10 | K16: =IF(F16+G16+H16=0,0,F16+G16+H16) -> 0 | L16: =I16+J16 -> 0 | M16: =K16-L16 -> 0 | N16: =IFERROR((M16*$E$4)/1000,"") -> 0
A17: 11 | K17: =IF(F17+G17+H17=0,0,F17+G17+H17) -> 0 | L17: =I17+J17 -> 0 | M17: =K17-L17 -> 0 | N17: =IFERROR((M17*$E$4)/1000,"") -> 0
A18: 12 | K18: =IF(F18+G18+H18=0,0,F18+G18+H18) -> 0 | L18: =I18+J18 -> 0 | M18: =K18-L18 -> 0 | N18: =IFERROR((M18*$E$4)/1000,"") -> 0
... A26: 20 | K26: =IF(F26+G26+H26=0,0,F26+G26+H26) -> 0 | L26: =I26+J26 -> 0 | M26: =K26-L26 -> 0 | N26: =IFERROR((M26*$E$4)/1000,"") -> 0

Sheet Presta
A1: Tableau de suivi des interventions sous traitées 2024
A3: A ne pas déclarer dans fluido
A6: N° intervention | B6: Date | C6: Presta | D6: Equipement | E6: Fluide frigorigene | F6: Type d'intervention | G6: OT | H6: A Fluide vierge | I6: B Fluide récupéré réintroduit | J6: C Fluide régénéré | K6: D Récupéré destiné au traitement | L6: E Récupéré pour recyclage ou réintroduction | M6: Total chargé A+B+C | N6: Total Récupéré D+E | O6: Fuite Tot Chargé-Tot Recup | P6: T Eq CO2
A7: 1 | M7: =IF(H7+I7+J7=0,0,H7+I7+J7) -> 0 | N7: =K7+L7 -> 0 | O7: =M7-N7 -> 0 | P7: =IFERROR((O7*$E$4)/1000,"") -> 0
A8: 2 | M8: =IF(H8+I8+J8=0,0,H8+I8+J8) -> 0 | N8: =K8+L8 -> 0 | O8: =M8-N8 -> 0 | P8: =IFERROR((O8*$E$4)/1000,"") -> 0
A9: 3 | M9: =IF(H9+I9+J9=0,0,H9+I9+J9) -> 0 | N9: =K9+L9 -> 0 | O9: =M9-N9 -> 0 | P9: =IFERROR((O9*$E$4)/1000,"") -> 0
A10: 4 | M10: =IF(H10+I10+J10=0,0,H10+I10+J10) -> 0 | N10: =K10+L10 -> 0 | O10: =M10-N10 -> 0 | P10: =IFERROR((O10*$E$4)/1000,"") -> 0
A11: 5 | M11: =IF(H11+I11+J11=0,0,H11+I11+J11) -> 0 | N11: =K11+L11 -> 0 | O11: =M11-N11 -> 0 | P11: =IFERROR((O11*$E$4)/1000,"") -> 0
A12: 6 | M12: =IF(H12+I12+J12=0,0,H12+I12+J12) -> 0 | N12: =K12+L12 -> 0 | O12: =M12-N12 -> 0 | P12: =IFERROR((O12*$E$4)/1000,"") -> 0
A13: 7 | M13: =IF(H13+I13+J13=0,0,H13+I13+J13) -> 0 | N13: =K13+L13 -> 0 | O13: =M13-N13 -> 0 | P13: =IFERROR((O13*$E$4)/1000,"") -> 0
A14: 8 | M14: =IF(H14+I14+J14=0,0,H14+I14+J14) -> 0 | N14: =K14+L14 -> 0 | O14: =M14-N14 -> 0 | P14: =IFERROR((O14*$E$4)/1000,"") -> 0
A15: 9 | M15: =IF(H15+I15+J15=0,0,H15+I15+J15) -> 0 | N15: =K15+L15 -> 0 | O15: =M15-N15 -> 0 | P15: =IFERROR((O15*$E$4)/1000,"") -> 0
A16: 10 | M16: =IF(H16+I16+J16=0,0,H16+I16+J16) -> 0 | N16: =K16+L16 -> 0 | O16: =M16-N16 -> 0 | P16: =IFERROR((O16*$E$4)/1000,"") -> 0
A17: 11 | M17: =IF(H17+I17+J17=0,0,H17+I17+J17) -> 0 | N17: =K17+L17 -> 0 | O17: =M17-N17 -> 0 | P17: =IFERROR((O17*$E$4)/1000,"") -> 0
A18: 12 | M18: =IF(H18+I18+J18=0,0,H18+I18+J18) -> 0 | N18: =K18+L18 -> 0 | O18: =M18-N18 -> 0 | P18: =IFERROR((O18*$E$4)/1000,"") -> 0
... A26: 20 | M26: =IF(H26+I26+J26=0,0,H26+I26+J26) -> 0 | N26: =K26+L26 -> 0 | O26: =M26-N26 -> 0 | P26: =IFERROR((O26*$E$4)/1000,"") -> 0

Sheet emission CO2 ulis
B2: Émission CO2 Les Ulis 2024
B6: LFB | G6: Prestataire
B7: GWP | G7: GWP
C8: Kg CO2 | D8: quantité perdue 2024 | E8: T CO2 émis | H8: Kg CO2 | I8: quantité perdue 2024 | J8: T CO2 émis
B9: R404a | C9: 3922 | D9: =SUM('R404A'!M7:M26) -> 151.2 | E9: =C9*D9/1000 -> 593.0064 | G9: R404a | H9: 3922 | I9: =SUMIFS(Presta!O7:O26,Presta!E7:E26,'emission CO2 ulis'!G9) -> 0 | J9: =H9*I9/1000 -> 0
B10: R134a | C10: 1430 | D10: =SUM('R134a'!M7:M26) -> 33.5 | E10: =C10*D10/1000 -> 47.905 | G10: R134a | H10: 1430 | I10: =SUMIFS(Presta!O8:O27,Presta!E8:E27,'emission CO2 ulis'!G10) -> 0 | J10: =H10*I10/1000 -> 0
B11: R407F | C11: 1825 | D11: =SUM('R407F'!M7:M26) -> 0 | E11: =C11*D11/1000 -> 0 | G11: R407F | H11: 1825 | I11: =SUMIFS(Presta!O9:O28,Presta!E9:E28,'emission CO2 ulis'!G11) -> 0 | J11: =H11*I11/1000 -> 0
B12: R449A | C12: 1397 | D12: =SUM('R449A'!M7:M26) -> 105.2 | E12: =C12*D12/1000 -> 146.9644 | G12: R449A | H12: 1397 | I12: =SUMIFS(Presta!O10:O29,Presta!E10:E29,'emission CO2 ulis'!G12) -> 0 | J12: =H12*I12/1000 -> 0
B13: R410A | C13: 2088 | D13: =SUM('R410A'!M7:M26) -> 0 | E13: =C13*D13/1000 -> 0 | G13: R410A | H13: 2088 | I13: =SUMIFS(Presta!O11:O30,Presta!E11:E30,'emission CO2 ulis'!G13) -> 0 | J13: =H13*I13/1000 -> 0
B14: CO2 | C14: 1 | D14: =SUM('CO2'!M7:M26) -> 0 | E14: =C14*D14/1000 -> 0 | G14: CO2 | H14: 1 | I14: =SUMIFS(Presta!O12:O31,Presta!E12:E31,'emission CO2 ulis'!G14) -> 0 | J14: =H14*I14/1000 -> 0
D19: Total TeqCO2 emis site les Ulis = | E19: =SUM(E9:E14)+SUM(J9:J14) -> 787.8758 | F19: TeqCO2
