Workbook

Sheet INFORMATION
C4: POUR LES TABLEAUX SUIVANT
C6: ON ENTRE QU'UNE SEULE FOIS
C8: LA DATE DE LA COMPÉTITION
C10: DANS LE FEUILLET SAINT ESTEVE
C12: ELLE SERA REPORTEE DANS LES AUTRES FEUILLETS
J15: I
C16: POUR LES FEUILLETS "CLUB" ON ENTRE LES INFORMATIONS
C18: A PARTIR DE LA COLONNE " CATÉGORIE "
C20: LE NOM DU CLUB S'INSCRIRA AUTOMATIQUEMENT.
C24: IL N'Y A UNE PROTECTION LIMITÉ DE CHAQUE FEUILLET
C26: CE QUI PERMET D'APPORTER DIFFÉRENTES MODIFICATIONS

Sheet ST ESTEVE
B1: INSCRPTION COMPETITION MARC FUENTES
B2: Espace ST Mamet à St -Esteve | I2: le
B3: CLUB : | E3: TKD | F3: ST ESTEVE | L3: 0 | M3: par participant
B4: PARTICIPANTS | I4: EPREUVES COCHER LES CASES CORRESPONSANTES | N4: REG OK
B5: CLUB | C5: CATEGORIE | D5: F/G | E5: NOM | F5: PRENOM | G5: ANNEE DE NAISS ANCE | H5: CEINTURE / KEUP | I5: COMBAT SANS TOUCHE | J5: TUIO AP CHAGUI | K5: PARCOURS (BABIE 2017/2019 PUP 2015/2016) | L5: POOMSE | M5: BOB
A6: =IF(E6<>"",1,"") -> 1 | B6: 1A | E6: 1 | O6: =IF(E6<>"",1,"") -> 1
A7: =IF(E7<>"",A6+1,"") -> 2 | B7: 1A | E7: 2 | O7: =IF(E7<>"",1,"") -> 1
A8: =IF(E8<>"",A7+1,"") -> 3 | B8: 1A | E8: 3 | O8: =IF(E8<>"",1,"") -> 1
A9: =IF(E9<>"",A8+1,"") -> 4 | B9: 1A | E9: 4 | O9: =IF(E9<>"",1,"") -> 1
A10: =IF(E10<>"",A9+1,"") -> 5 | B10: 1A | E10: 5 | O10: =IF(E10<>"",1,"") -> 1
A11: =IF(E11<>"",A10+1,"") -> 6 | B11: 1A | E11: 6 | O11: =IF(E11<>"",1,"") -> 1
A12: =IF(E12<>"",A11+1,"") -> 7 | B12: 1A | E12: 7 | O12: =IF(E12<>"",1,"") -> 1
A13: =IF(E13<>"",A12+1,"") -> 8 | B13: 1A | E13: 8 | O13: =IF(E13<>"",1,"") -> 1
A14: =IF(E14<>"",A13+1,"") -> 9 | B14: 1A | E14: 9 | O14: =IF(E14<>"",1,"") -> 1
A15: =IF(E15<>"",A14+1,"") -> 10 | B15: 1A | E15: 10 | O15: =IF(E15<>"",1,"") -> 1
A16: =IF(E16<>"",A15+1,"") -> 11 | B16: 1A | E16: 11 | O16: =IF(E16<>"",1,"") -> 1
A17: =IF(E17<>"",A16+1,"") -> 12 | B17: 1A | E17: 12 | O17: =IF(E17<>"",1,"") -> 1
A18: =IF(E18<>"",A17+1,"") -> 13 | B18: 1A | E18: 13 | O18: =IF(E18<>"",1,"") -> 1
... A45: =IF(E45<>"",A44+1,"") -> 40 | B45: 1A | E45: 40 | O45: =IF(E45<>"",1,"") -> 1
F46: =IF(E6<>"",SUM(O6:O45),"") -> 40 | G46: PARTICIPANTS | I46: A Venir | J46: =F46*L3 -> 0 | K46: TOTAL REG :

Sheet CABESTANY
B1: INSCRIPTIONS COMPETITTON MARC FUENTES
B2: Espace ST Mamet à St -Esteve | I2: le
B3: CLUB : | E3: TKD | F3: CABESTANY | L3: ='ST ESTEVE'!L3 -> 0 | M3: par participant
B4: PARTICIPANTS | I4: EPREUVES COCHER LES CASES CORRESPONSANTES | N4: REG OK
B5: CLUB | C5: CATEGORIE | D5: F/G | E5: NOM | F5: PRENOM | G5: ANNEE DE NAISSANCE | H5: CEINTURE / KEUP | I5: COMBAT SANS TOUCHE | J5: TUIO AP CHAGUI | K5: PARCOURS (BABIE 2017/2019 PUP 2015/2016) | L5: POOMSE | M5: BOB (BENJ- CAD- JUN) 2005 à 2014
A6: =IF(E6<>"",1,"") -> 1 | B6: 1A | E6: 1 | O6: =IF(E6<>"",1,"") -> 1
A7: =IF(E7<>"",A6+1,"") -> 2 | B7: 1A | E7: 2 | O7: =IF(E7<>"",1,"") -> 1
A8: =IF(E8<>"",A7+1,"") -> 3 | B8: 1A | E8: 3 | O8: =IF(E8<>"",1,"") -> 1
A9: =IF(E9<>"",A8+1,"") -> 4 | B9: 1A | E9: 4 | O9: =IF(E9<>"",1,"") -> 1
A10: =IF(E10<>"",A9+1,"") -> 5 | B10: 1A | E10: 5 | O10: =IF(E10<>"",1,"") -> 1
A11: =IF(E11<>"",A10+1,"") -> 6 | B11: 1A | E11: 6 | O11: =IF(E11<>"",1,"") -> 1
A12: =IF(E12<>"",A11+1,"") -> 7 | B12: 1A | E12: 7 | O12: =IF(E12<>"",1,"") -> 1
A13: =IF(E13<>"",A12+1,"") -> 8 | B13: 1A | E13: 8 | O13: =IF(E13<>"",1,"") -> 1
A14: =IF(E14<>"",A13+1,"") -> 9 | B14: 1A | E14: 9 | O14: =IF(E14<>"",1,"") -> 1
A15: =IF(E15<>"",A14+1,"") -> 10 | B15: 1A | E15: 10 | O15: =IF(E15<>"",1,"") -> 1
A16: =IF(E16<>"",A15+1,"") -> 11 | B16: 1A | E16: 11 | O16: =IF(E16<>"",1,"") -> 1
A17: =IF(E17<>"",A16+1,"") -> 12 | B17: 1A | E17: 12 | O17: =IF(E17<>"",1,"") -> 1
A18: =IF(E18<>"",A17+1,"") -> 13 | B18: 1A | E18: 13 | O18: =IF(E18<>"",1,"") -> 1
... A45: =IF(E45<>"",A44+1,"") -> 40 | B45: 1A | E45: 40 | O45: =IF(E45<>"",1,"") -> 1
F46: =IF(E6<>"",SUM(O6:O45),"") -> 40 | G46: PARTICIPANTS | I46: A Venir | J46: =F46*L3 -> 0 | K46: TOTAL REG :

Sheet TAUTAVEL
B1: INSCRIPTIONS COMPETITTON MARC FUENTES
B2: Espace ST Mamet à St -Esteve | I2: le
B3: CLUB : | E3: TKD | F3: TAUTAVEL | L3: ='ST ESTEVE'!L3 -> 0 | M3: par participant
B4: PARTICIPANTS | I4: EPREUVES COCHER LES CASES CORRESPONSANTES | N4: REG OK
B5: CLUB | C5: CATEGORIE | D5: F/G | E5: NOM | F5: PRENOM | G5: ANNEE DE NAISSANCE | H5: CEINTURE / KEUP | I5: COMBAT SANS TOUCHE | J5: TUIO AP CHAGUI | K5: PARCOURS (BABIE 2017/2019 PUP 2015/2016) | L5: POOMSE | M5: BOB (BENJ- CAD- JUN) 2005 à 2014
A6: =IF(E6<>"",1,"") -> 1 | B6: 1A | E6: 1 | O6: =IF(E6<>"",1,"") -> 1
A7: =IF(E7<>"",A6+1,"") -> 2 | B7: 1A | E7: 2 | O7: =IF(E7<>"",1,"") -> 1
A8: =IF(E8<>"",A7+1,"") -> 3 | B8: 1A | E8: 3 | O8: =IF(E8<>"",1,"") -> 1
A9: =IF(E9<>"",A8+1,"") -> 4 | B9: 1A | E9: 4 | O9: =IF(E9<>"",1,"") -> 1
A10: =IF(E10<>"",A9+1,"") -> 5 | B10: 1A | E10: 5 | O10: =IF(E10<>"",1,"") -> 1
A11: =IF(E11<>"",A10+1,"") -> 6 | B11: 1A | E11: 6 | O11: =IF(E11<>"",1,"") -> 1
A12: =IF(E12<>"",A11+1,"") -> 7 | B12: 1A | E12: 7 | O12: =IF(E12<>"",1,"") -> 1
A13: =IF(E13<>"",A12+1,"") -> 8 | B13: 1A | E13: 8 | O13: =IF(E13<>"",1,"") -> 1
A14: =IF(E14<>"",A13+1,"") -> 9 | B14: 1A | E14: 9 | O14: =IF(E14<>"",1,"") -> 1
A15: =IF(E15<>"",A14+1,"") -> 10 | B15: 1A | E15: 10 | O15: =IF(E15<>"",1,"") -> 1
A16: =IF(E16<>"",A15+1,"") -> 11 | B16: 1A | E16: 11 | O16: =IF(E16<>"",1,"") -> 1
A17: =IF(E17<>"",A16+1,"") -> 12 | B17: 1A | E17: 12 | O17: =IF(E17<>"",1,"") -> 1
A18: =IF(E18<>"",A17+1,"") -> 13 | B18: 1A | E18: 13 | O18: =IF(E18<>"",1,"") -> 1
... A45: =IF(E45<>"",A44+1,"") -> 40 | B45: 1A | E45: 40 | O45: =IF(E45<>"",1,"") -> 1
F46: =IF(E6<>"",SUM(O6:O45),"") -> 40 | G46: PARTICIPANTS | I46: A Venir | J46: =F46*L3 -> 0 | K46: TOTAL REG :

Sheet CANOHES
B1: ='ST ESTEVE'!B1:M1 -> INSCRPTION COMPETITION MARC FUENTES
B2: ='ST ESTEVE'!B2:H2 -> Espace ST Mamet à St -Esteve | I2: ='ST ESTEVE'!I2 -> le | J2: ='ST ESTEVE'!J2:M2 -> 0
B3: ='ST ESTEVE'!B3 -> CLUB : | E3: ='ST ESTEVE'!E3 -> TKD | F3: CANOHES | L3: ='ST ESTEVE'!L3 -> 0 | M3: ='ST ESTEVE'!M3:N3 -> par participant
B4: ='ST ESTEVE'!B4:H4 -> PARTICIPANTS | I4: ='ST ESTEVE'!I4:M4 -> EPREUVES COCHER LES CASES CORRESPONSANTES | N4: ='ST ESTEVE'!N4:N5 -> REG OK
B5: ='ST ESTEVE'!B5 -> CLUB | C5: ='ST ESTEVE'!C5 -> CATEGORIE | D5: ='ST ESTEVE'!D5 -> F/G | E5: ='ST ESTEVE'!E5 -> NOM | F5: ='ST ESTEVE'!F5 -> PRENOM | G5: ='ST ESTEVE'!G5 -> ANNEE DE NAISS ANCE | H5: ='ST ESTEVE'!H5 -> CEINTURE / KEUP | I5: ='ST ESTEVE'!I5 -> COMBAT SANS TOUCHE | ... M5: ='ST ESTEVE'!M5 -> BOB
A6: =IF(E6<>"",1,"") -> 1 | B6: 1A | E6: 1 | O6: =IF(E6<>"",1,"") -> 1
A7: =IF(E7<>"",A6+1,"") -> 2 | B7: 1A | E7: 2 | O7: =IF(E7<>"",1,"") -> 1
A8: =IF(E8<>"",A7+1,"") -> 3 | B8: 1A | E8: 3 | O8: =IF(E8<>"",1,"") -> 1
A9: =IF(E9<>"",A8+1,"") -> 4 | B9: 1A | E9: 4 | O9: =IF(E9<>"",1,"") -> 1
A10: =IF(E10<>"",A9+1,"") -> 5 | B10: 1A | E10: 5 | O10: =IF(E10<>"",1,"") -> 1
A11: =IF(E11<>"",A10+1,"") -> 6 | B11: 1A | E11: 6 | O11: =IF(E11<>"",1,"") -> 1
A12: =IF(E12<>"",A11+1,"") -> 7 | B12: 1A | E12: 7 | O12: =IF(E12<>"",1,"") -> 1
A13: =IF(E13<>"",A12+1,"") -> 8 | B13: 1A | E13: 8 | O13: =IF(E13<>"",1,"") -> 1
A14: =IF(E14<>"",A13+1,"") -> 9 | B14: 1A | E14: 9 | O14: =IF(E14<>"",1,"") -> 1
A15: =IF(E15<>"",A14+1,"") -> 10 | B15: 1A | E15: 10 | O15: =IF(E15<>"",1,"") -> 1
A16: =IF(E16<>"",A15+1,"") -> 11 | B16: 1A | E16: 11 | O16: =IF(E16<>"",1,"") -> 1
A17: =IF(E17<>"",A16+1,"") -> 12 | B17: 1A | E17: 12 | O17: =IF(E17<>"",1,"") -> 1
A18: =IF(E18<>"",A17+1,"") -> 13 | B18: 1A | E18: 13 | O18: =IF(E18<>"",1,"") -> 1
... A45: =IF(E45<>"",A44+1,"") -> 40 | B45: 1A | E45: 40 | O45: =IF(E45<>"",1,"") -> 1
F46: =IF(E6<>"",SUM(O6:O45),"") -> 40 | G46: PARTICIPANTS | I46: A Venir | J46: =F46*L3 -> 0 | K46: TOTAL REG :

Sheet SAINT-LAURENT
B1: ='ST ESTEVE'!B1:M1 -> INSCRPTION COMPETITION MARC FUENTES
B2: ='ST ESTEVE'!B2:H2 -> Espace ST Mamet à St -Esteve | I2: ='ST ESTEVE'!I2 -> le | J2: ='ST ESTEVE'!J2:M2 -> 0
B3: ='ST ESTEVE'!B3 -> CLUB : | E3: ='ST ESTEVE'!E3 -> TKD | F3: ST LAURENT | L3: ='ST ESTEVE'!L3 -> 0 | M3: ='ST ESTEVE'!M3:N3 -> par participant
B4: ='ST ESTEVE'!B4:H4 -> PARTICIPANTS | I4: ='ST ESTEVE'!I4:M4 -> EPREUVES COCHER LES CASES CORRESPONSANTES | N4: ='ST ESTEVE'!N4:N5 -> REG OK
B5: ='ST ESTEVE'!B5 -> CLUB | C5: ='ST ESTEVE'!C5 -> CATEGORIE | D5: ='ST ESTEVE'!D5 -> F/G | E5: ='ST ESTEVE'!E5 -> NOM | F5: ='ST ESTEVE'!F5 -> PRENOM | G5: ='ST ESTEVE'!G5 -> ANNEE DE NAISS ANCE | H5: ='ST ESTEVE'!H5 -> CEINTURE / KEUP | I5: ='ST ESTEVE'!I5 -> COMBAT SANS TOUCHE | ... M5: ='ST ESTEVE'!M5 -> BOB
A6: =IF(E6<>"",1,"") -> 1 | B6: 1A | E6: 1 | O6: =IF(E6<>"",1,"") -> 1
A7: =IF(E7<>"",A6+1,"") -> 2 | B7: 1A | E7: 2 | O7: =IF(E7<>"",1,"") -> 1
A8: =IF(E8<>"",A7+1,"") -> 3 | B8: 1A | E8: 3 | O8: =IF(E8<>"",1,"") -> 1
A9: =IF(E9<>"",A8+1,"") -> 4 | B9: 1A | E9: 4 | O9: =IF(E9<>"",1,"") -> 1
A10: =IF(E10<>"",A9+1,"") -> 5 | B10: 1A | E10: 5 | O10: =IF(E10<>"",1,"") -> 1
A11: =IF(E11<>"",A10+1,"") -> 6 | B11: 1A | E11: 6 | O11: =IF(E11<>"",1,"") -> 1
A12: =IF(E12<>"",A11+1,"") -> 7 | B12: 1A | E12: 7 | O12: =IF(E12<>"",1,"") -> 1
A13: =IF(E13<>"",A12+1,"") -> 8 | B13: 1A | E13: 8 | O13: =IF(E13<>"",1,"") -> 1
A14: =IF(E14<>"",A13+1,"") -> 9 | B14: 1A | E14: 9 | O14: =IF(E14<>"",1,"") -> 1
A15: =IF(E15<>"",A14+1,"") -> 10 | B15: 1A | E15: 10 | O15: =IF(E15<>"",1,"") -> 1
A16: =IF(E16<>"",A15+1,"") -> 11 | B16: 1A | E16: 11 | O16: =IF(E16<>"",1,"") -> 1
A17: =IF(E17<>"",A16+1,"") -> 12 | B17: 1A | E17: 12 | O17: =IF(E17<>"",1,"") -> 1
A18: =IF(E18<>"",A17+1,"") -> 13 | B18: 1A | E18: 13 | O18: =IF(E18<>"",1,"") -> 1
... A45: =IF(E45<>"",A44+1,"") -> 40 | B45: 1A | E45: 40 | O45: =IF(E45<>"",1,"") -> 1
F46: =IF(E6<>"",SUM(O6:O45),"") -> 40 | G46: PARTICIPANTS | I46: A Venir | J46: =F46*L3 -> 0 | K46: TOTAL REG :

Sheet CLAIRA
B1: ='ST ESTEVE'!B1:M1 -> INSCRPTION COMPETITION MARC FUENTES
B2: ='ST ESTEVE'!B2:H2 -> Espace ST Mamet à St -Esteve | I2: ='ST ESTEVE'!I2 -> le | J2: ='ST ESTEVE'!J2:M2 -> 0
B3: ='ST ESTEVE'!B3 -> CLUB : | E3: ='ST ESTEVE'!E3 -> TKD | F3: CLAIRA | L3: ='ST ESTEVE'!L3 -> 0 | M3: ='ST ESTEVE'!M3:N3 -> par participant
B4: ='ST ESTEVE'!B4:H4 -> PARTICIPANTS | I4: ='ST ESTEVE'!I4:M4 -> EPREUVES COCHER LES CASES CORRESPONSANTES | N4: ='ST ESTEVE'!N4:N5 -> REG OK
B5: ='ST ESTEVE'!B5 -> CLUB | C5: ='ST ESTEVE'!C5 -> CATEGORIE | D5: ='ST ESTEVE'!D5 -> F/G | E5: ='ST ESTEVE'!E5 -> NOM | F5: ='ST ESTEVE'!F5 -> PRENOM | G5: ='ST ESTEVE'!G5 -> ANNEE DE NAISS ANCE | H5: ='ST ESTEVE'!H5 -> CEINTURE / KEUP | I5: ='ST ESTEVE'!I5 -> COMBAT SANS TOUCHE | ... M5: ='ST ESTEVE'!M5 -> BOB
A6: =IF(E6<>"",1,"") -> 1 | B6: 1A | E6: 1 | O6: =IF(E6<>"",1,"") -> 1
A7: =IF(E7<>"",A6+1,"") -> 2 | B7: 1A | E7: 2 | O7: =IF(E7<>"",1,"") -> 1
A8: =IF(E8<>"",A7+1,"") -> 3 | B8: 1A | E8: 3 | O8: =IF(E8<>"",1,"") -> 1
A9: =IF(E9<>"",A8+1,"") -> 4 | B9: 1A | E9: 4 | O9: =IF(E9<>"",1,"") -> 1
A10: =IF(E10<>"",A9+1,"") -> 5 | B10: 1A | E10: 5 | O10: =IF(E10<>"",1,"") -> 1
A11: =IF(E11<>"",A10+1,"") -> 6 | B11: 1A | E11: 6 | O11: =IF(E11<>"",1,"") -> 1
A12: =IF(E12<>"",A11+1,"") -> 7 | B12: 1A | E12: 7 | O12: =IF(E12<>"",1,"") -> 1
A13: =IF(E13<>"",A12+1,"") -> 8 | B13: 1A | E13: 8 | O13: =IF(E13<>"",1,"") -> 1
A14: =IF(E14<>"",A13+1,"") -> 9 | B14: 1A | E14: 9 | O14: =IF(E14<>"",1,"") -> 1
A15: =IF(E15<>"",A14+1,"") -> 10 | B15: 1A | E15: 10 | O15: =IF(E15<>"",1,"") -> 1
A16: =IF(E16<>"",A15+1,"") -> 11 | B16: 1A | E16: 11 | O16: =IF(E16<>"",1,"") -> 1
A17: =IF(E17<>"",A16+1,"") -> 12 | B17: 1A | E17: 12 | O17: =IF(E17<>"",1,"") -> 1
A18: =IF(E18<>"",A17+1,"") -> 13 | B18: 1A | E18: 13 | O18: =IF(E18<>"",1,"") -> 1
... A45: =IF(E45<>"",A44+1,"") -> 40 | B45: 1A | E45: 40 | O45: =IF(E45<>"",1,"") -> 1
F46: =IF(E6<>"",SUM(O6:O45),"") -> 40 | G46: PARTICIPANTS | I46: A Venir | J46: =F46*L3 -> 0 | K46: TOTAL REG :

Sheet PHOENIX
B1: INSCRIPTIONS COMPETITTON MARC FUENTES
B2: Espace ST Mamet à St -Esteve | I2: le | J2: 45488
B3: CLUB : | E3: TKD | F3: PHOENIX | L3: 5 | M3: par participant
B4: PARTICIPANTS | I4: EPREUVES COCHER LES CASES CORRESPONSANTES | N4: REG OK
B5: ='ST ESTEVE'!B5 -> CLUB | C5: ='ST ESTEVE'!C5 -> CATEGORIE | D5: ='ST ESTEVE'!D5 -> F/G | E5: ='ST ESTEVE'!E5 -> NOM | F5: ='ST ESTEVE'!F5 -> PRENOM | G5: ='ST ESTEVE'!G5 -> ANNEE DE NAISS ANCE | H5: ='ST ESTEVE'!H5 -> CEINTURE / KEUP | I5: ='ST ESTEVE'!I5 -> COMBAT SANS TOUCHE | ... M5: ='ST ESTEVE'!M5 -> BOB
A6: =IF(E6<>"",1,"") -> 1 | B6: =IF(E6<>"",$F$3,"") -> PHOENIX | E6: 1 | O6: =IF(E6<>"",1,"") -> 1
A7: =IF(E7<>"",A6+1,"") -> 2 | B7: =IF(E7<>"",$F$3,"") -> PHOENIX | E7: 2 | O7: =IF(E7<>"",1,"") -> 1
A8: =IF(E8<>"",A7+1,"") -> 3 | B8: =IF(E8<>"",$F$3,"") -> PHOENIX | E8: 3 | O8: =IF(E8<>"",1,"") -> 1
A9: =IF(E9<>"",A8+1,"") -> 4 | B9: =IF(E9<>"",$F$3,"") -> PHOENIX | E9: 4 | O9: =IF(E9<>"",1,"") -> 1
A10: =IF(E10<>"",A9+1,"") -> 5 | B10: =IF(E10<>"",$F$3,"") -> PHOENIX | E10: 5 | O10: =IF(E10<>"",1,"") -> 1
A11: =IF(E11<>"",A10+1,"") -> 6 | B11: =IF(E11<>"",$F$3,"") -> PHOENIX | E11: 6 | O11: =IF(E11<>"",1,"") -> 1
A12: =IF(E12<>"",A11+1,"") -> 7 | B12: =IF(E12<>"",$F$3,"") -> PHOENIX | E12: 7 | O12: =IF(E12<>"",1,"") -> 1
A13: =IF(E13<>"",A12+1,"") -> 8 | B13: =IF(E13<>"",$F$3,"") -> PHOENIX | E13: 8 | O13: =IF(E13<>"",1,"") -> 1
A14: =IF(E14<>"",A13+1,"") -> 9 | B14: =IF(E14<>"",$F$3,"") -> PHOENIX | E14: 9 | O14: =IF(E14<>"",1,"") -> 1
A15: =IF(E15<>"",A14+1,"") -> 10 | B15: =IF(E15<>"",$F$3,"") -> PHOENIX | E15: 10 | O15: =IF(E15<>"",1,"") -> 1
A16: =IF(E16<>"",A15+1,"") -> 11 | B16: =IF(E16<>"",$F$3,"") -> PHOENIX | E16: 11 | O16: =IF(E16<>"",1,"") -> 1
A17: =IF(E17<>"",A16+1,"") -> 12 | B17: =IF(E17<>"",$F$3,"") -> PHOENIX | E17: 12 | O17: =IF(E17<>"",1,"") -> 1
A18: =IF(E18<>"",A17+1,"") -> 13 | B18: =IF(E18<>"",$F$3,"") -> PHOENIX | E18: 13 | O18: =IF(E18<>"",1,"") -> 1
... A45: =IF(E45<>"",A44+1,"") -> 40 | B45: =IF(E45<>"",$F$3,"") -> PHOENIX | E45: 40 | O45: =IF(E45<>"",1,"") -> 1
F46: =IF(E6<>"",SUM(O6:O45),"") -> 40 | G46: PARTICIPANTS | I46: A Venir | J46: =F46*L3 -> 200 | K46: TOTAL REG :
