Workbook
Name moins1an: #REF!
Name moins1an: #REF!
Name plus1an: #REF!
Name plus1an: #REF!

Sheet TR XXX 2015
A1: NOM | B1: Site | C1: BASE | D1: ABS (CP-RTT- MAL) M-2 | E1: NDF | F1: TR DU
A2: AAA | B2: SS | C2: 22 | D2: =SUMPRODUCT((Details!$A$2:$A$179=A2)*(Details!$K$2:$K$179)) -> 11 | E2: =IF(COUNTIF('NDF 05'!A:A,'TR XXX 2015'!A2),VLOOKUP('TR XXX 2015'!A2,'NDF 05'!A:B,2,0),"0") -> 0 | F2: =C2-D2-E2 -> 11
A3: BBB | B3: SS | C3: 22 | D3: =SUMPRODUCT((Details!$A$2:$A$179=A3)*(Details!$K$2:$K$179)) -> 11 | E3: =IF(COUNTIF('NDF 05'!A:A,'TR XXX 2015'!A3),VLOOKUP('TR XXX 2015'!A3,'NDF 05'!A:B,2,0),"0") -> 0 | F3: =C3-D3-E3 -> 11
A4: CCC | B4: SS | C4: 22 | D4: =SUMPRODUCT((Details!$A$2:$A$179=A4)*(Details!$K$2:$K$179)) -> 9 | E4: =IF(COUNTIF('NDF 05'!A:A,'TR XXX 2015'!A4),VLOOKUP('TR XXX 2015'!A4,'NDF 05'!A:B,2,0),"0") -> 0 | F4: =C4-D4-E4 -> 13
A5: DDD | B5: SS | C5: 22 | D5: =SUMPRODUCT((Details!$A$2:$A$179=A5)*(Details!$K$2:$K$179)) -> 3 | E5: =IF(COUNTIF('NDF 05'!A:A,'TR XXX 2015'!A5),VLOOKUP('TR XXX 2015'!A5,'NDF 05'!A:B,2,0),"0") -> 0 | F5: =C5-D5-E5 -> 19
A6: EEE | B6: SS | C6: 22 | D6: =SUMPRODUCT((Details!$A$2:$A$179=A6)*(Details!$K$2:$K$179)) -> 5 | E6: =IF(COUNTIF('NDF 05'!A:A,'TR XXX 2015'!A6),VLOOKUP('TR XXX 2015'!A6,'NDF 05'!A:B,2,0),"0") -> 0 | F6: =C6-D6-E6 -> 17
A7: FFF | B7: SS | C7: 22 | D7: =SUMPRODUCT((Details!$A$2:$A$179=A7)*(Details!$K$2:$K$179)) -> 1 | E7: =IF(COUNTIF('NDF 05'!A:A,'TR XXX 2015'!A7),VLOOKUP('TR XXX 2015'!A7,'NDF 05'!A:B,2,0),"0") -> 0 | F7: =C7-D7-E7 -> 21
A8: GGG | B8: SS | C8: 22 | D8: =SUMPRODUCT((Details!$A$2:$A$179=A8)*(Details!$K$2:$K$179)) -> 4 | E8: =IF(COUNTIF('NDF 05'!A:A,'TR XXX 2015'!A8),VLOOKUP('TR XXX 2015'!A8,'NDF 05'!A:B,2,0),"0") -> 0 | F8: 0
A9: HHH | B9: SS | C9: 22 | D9: =SUMPRODUCT((Details!$A$2:$A$179=A9)*(Details!$K$2:$K$179)) -> 1 | E9: =IF(COUNTIF('NDF 05'!A:A,'TR XXX 2015'!A9),VLOOKUP('TR XXX 2015'!A9,'NDF 05'!A:B,2,0),"0") -> 0 | F9: =C9-D9-E9 -> 21
A10: III | B10: SS | C10: 22 | D10: =SUMPRODUCT((Details!$A$2:$A$179=A10)*(Details!$K$2:$K$179)) -> 3 | E10: =IF(COUNTIF('NDF 05'!A:A,'TR XXX 2015'!A10),VLOOKUP('TR XXX 2015'!A10,'NDF 05'!A:B,2,0),"0") -> 0 | F10: =C10-D10-E10 -> 19
D11: =SUM(D2:D10) -> 48 | E11: =SUM(E2:E10) -> 0
B13: TOTAL A DISTRIBUER | F13: =SUMIF(F2:F10,">0") -> 132
F17: =F13*8.8 -> 1161.6

Sheet Details
A1: Nom | B1: Prénom | C1: Matricule | D1: Type de congés | E1: Période | F1: Date de début | G1: Date de fin | H1: Durée (jours) | I1: Statut | J1: Durée (corrigée) 1er étape | K1: Durée (corrigée) VDEF
A2: AAA | B2: Sébastien | D2: Congés payés (27) | E2: 2014 | F2: 42096.375 | G2: 42096.5 | H2: 0.5 | I2: Validée | J2: =IF(SUMPRODUCT(($A$2:$A$28=A2)*($B$2:$B$28=B2)*($H$2:$H$28)*(INT($F$2:$F$28)=INT(F2)))=0.5,1,H2) -> 1 | K2: =IF(J2>1,ROUND(J2,0),J2) -> 1
A3: AAA | B3: Sébastien | D3: RTT | E3: 2015 | F3: 42107.375 | G3: 42108.75 | H3: 2 | I3: Validée | J3: =IF(SUMPRODUCT(($A$2:$A$28=A3)*($B$2:$B$28=B3)*($H$2:$H$28)*(INT($F$2:$F$28)=INT(F3)))=0.5,1,H3) -> 2 | K3: =IF(J3>1,ROUND(J3,0),J3) -> 2
A4: AAA | B4: Sébastien | D4: Congés payés (27) | E4: 2014 | F4: 42109.375 | G4: 42114.75 | H4: 4 | I4: Validée | J4: =IF(SUMPRODUCT(($A$2:$A$28=A4)*($B$2:$B$28=B4)*($H$2:$H$28)*(INT($F$2:$F$28)=INT(F4)))=0.5,1,H4) -> 4 | K4: =IF(J4>1,ROUND(J4,0),J4) -> 4
A5: AAA | B5: Sébastien | D5: Congés payés (27) | E5: 2014 | F5: 42121.375 | G5: 42124.75 | H5: 4 | I5: Validée | J5: =IF(SUMPRODUCT(($A$2:$A$28=A5)*($B$2:$B$28=B5)*($H$2:$H$28)*(INT($F$2:$F$28)=INT(F5)))=0.5,1,H5) -> 4 | K5: =IF(J5>1,ROUND(J5,0),J5) -> 4
A6: BBB | B6: Alexandre | D6: RTT | E6: 2015 | F6: 42111.583 | G6: 42111.75 | H6: 0.5 | I6: Validée | J6: =IF(SUMPRODUCT(($A$2:$A$28=A6)*($B$2:$B$28=B6)*($H$2:$H$28)*(INT($F$2:$F$28)=INT(F6)))=0.5,1,H6) -> 1 | K6: =IF(J6>1,ROUND(J6,0),J6) -> 1
A7: BBB | B7: Alexandre | D7: Congés payés (27) | E7: 2014 | F7: 42114.375 | G7: 42124.604 | H7: 8.5 | I7: Validée | J7: =IF(SUMPRODUCT(($A$2:$A$28=A7)*($B$2:$B$28=B7)*($H$2:$H$28)*(INT($F$2:$F$28)=INT(F7)))=0.5,1,H7) -> 8.5 | K7: =IF(J7>1,ROUND(J7,0),J7) -> 9 | L7: erreur car le 30/04 est compté 2 fois
A8: BBB | B8: Alexandre | D8: RTT | E8: 2015 | F8: 42124.604 | G8: 42124.75 | H8: 0.5 | I8: Validée | J8: =IF(SUMPRODUCT(($A$2:$A$28=A8)*($B$2:$B$28=B8)*($H$2:$H$28)*(INT($F$2:$F$28)=INT(F8)))=0.5,1,H8) -> 1 | K8: =IF(J8>1,ROUND(J8,0),J8) -> 1
A9: CCC | B9: Arnaud | D9: Congés payés (27) | E9: 2014 | F9: 42114.375 | G9: 42124.999 | H9: 9 | I9: Validée | J9: =IF(SUMPRODUCT(($A$2:$A$28=A9)*($B$2:$B$28=B9)*($H$2:$H$28)*(INT($F$2:$F$28)=INT(F9)))=0.5,1,H9) -> 9 | K9: =IF(J9>1,ROUND(J9,0),J9) -> 9
A10: DDD | B10: Laurent | D10: Maladie | E10: 2015 | F10: 42110.375 | G10: 42111.75 | H10: 2 | I10: Validée | J10: =IF(SUMPRODUCT(($A$2:$A$28=A10)*($B$2:$B$28=B10)*($H$2:$H$28)*(INT($F$2:$F$28)=INT(F10)))=0.5,1,H10) -> 2 | K10: =IF(J10>1,ROUND(J10,0),J10) -> 2
A11: DDD | B11: Laurent | D11: RTT | E11: 2015 | F11: 42124.375 | G11: 42124.75 | H11: 1 | I11: Validée | J11: =IF(SUMPRODUCT(($A$2:$A$28=A11)*($B$2:$B$28=B11)*($H$2:$H$28)*(INT($F$2:$F$28)=INT(F11)))=0.5,1,H11) -> 1 | K11: =IF(J11>1,ROUND(J11,0),J11) -> 1
A12: EEE | B12: Benoit | D12: Télétravail | E12: 2015 | F12: 42096.375 | G12: 42097.75 | H12: 2 | I12: Validée | J12: =IF(SUMPRODUCT(($A$2:$A$28=A12)*($B$2:$B$28=B12)*($H$2:$H$28)*(INT($F$2:$F$28)=INT(F12)))=0.5,1,H12) -> 2 | K12: =IF(J12>1,ROUND(J12,0),J12) -> 2
A13: EEE | B13: Benoit | D13: Télétravail | E13: 2015 | F13: 42102.375 | G13: 42103.5 | H13: 1.5 | I13: Validée | J13: =IF(SUMPRODUCT(($A$2:$A$28=A13)*($B$2:$B$28=B13)*($H$2:$H$28)*(INT($F$2:$F$28)=INT(F13)))=0.5,1,H13) -> 1.5 | K13: =IF(J13>1,ROUND(J13,0),J13) -> 2 | L13: erreur car le 09/04 est compté 2 fois
A14: EEE | B14: Benoit | D14: Récupérations Dép. | E14: 2015 | F14: 42103.583 | G14: 42103.75 | H14: 0.5 | I14: Validée | J14: =IF(SUMPRODUCT(($A$2:$A$28=A14)*($B$2:$B$28=B14)*($H$2:$H$28)*(INT($F$2:$F$28)=INT(F14)))=0.5,1,H14) -> 1 | K14: =IF(J14>1,ROUND(J14,0),J14) -> 1
A15: FFF | B15: Hervé | D15: RTT | E15: 2015 | F15: 42124.375 | G15: 42124.604 | H15: 0.5 | I15: Validée | J15: =IF(SUMPRODUCT(($A$2:$A$28=A15)*($B$2:$B$28=B15)*($H$2:$H$28)*(INT($F$2:$F$28)=INT(F15)))=0.5,1,H15) -> 0.5 | K15: =IF(J15>1,ROUND(J15,0),J15) -> 0.5 | L15: OK
A16: FFF | B16: Hervé | D16: Congés payés (27) | E16: 2014 | F16: 42124.604 | G16: 42124.75 | H16: 0.5 | I16: Validée | J16: =IF(SUMPRODUCT(($A$2:$A$28=A16)*($B$2:$B$28=B16)*($H$2:$H$28)*(INT($F$2:$F$28)=INT(F16)))=0.5,1,H16) -> 0.5 | K16: =IF(J16>1,ROUND(J16,0),J16) -> 0.5 | L16: OK
A17: GGG | B17: Simon | D17: RTT | E17: 2015 | F17: 42117.375 | G17: 42118.604 | H17: 1.5 | I17: Validée | J17: =IF(SUMPRODUCT(($A$2:$A$28=A17)*($B$2:$B$28=B17)*($H$2:$H$28)*(INT($F$2:$F$28)=INT(F17)))=0.5,1,H17) -> 1.5 | K17: =IF(J17>1,ROUND(J17,0),J17) -> 2 | L17: erreur car le 24/04 est compté 2 fois
A18: GGG | B18: Simon | D18: Congés payés (27) | E18: 2014 | F18: 42118.604 | G18: 42121.75 | H18: 1.5 | I18: Validée | J18: =IF(SUMPRODUCT(($A$2:$A$28=A18)*($B$2:$B$28=B18)*($H$2:$H$28)*(INT($F$2:$F$28)=INT(F18)))=0.5,1,H18) -> 1.5 | K18: =IF(J18>1,ROUND(J18,0),J18) -> 2
A19: HHH | B19: Isis | D19: RTT | E19: 2015 | F19: 42121.375 | G19: 42121.5 | H19: 0.5 | I19: Validée | J19: =IF(SUMPRODUCT(($A$2:$A$28=A19)*($B$2:$B$28=B19)*($H$2:$H$28)*(INT($F$2:$F$28)=INT(F19)))=0.5,1,H19) -> 0.5 | K19: =IF(J19>1,ROUND(J19,0),J19) -> 0.5 | L19: OK
A20: HHH | B20: Isis | D20: RTT | E20: 2015 | F20: 42121.583 | G20: 42121.75 | H20: 0.5 | I20: Validée | J20: =IF(SUMPRODUCT(($A$2:$A$28=A20)*($B$2:$B$28=B20)*($H$2:$H$28)*(INT($F$2:$F$28)=INT(F20)))=0.5,1,H20) -> 0.5 | K20: =IF(J20>1,ROUND(J20,0),J20) -> 0.5 | L20: OK
A21: III | B21: Nathalie | D21: Récupérations Dép. | E21: 2015 | F21: 42121.354 | G21: 42122.521 | H21: 1.5 | I21: Validée | J21: =IF(SUMPRODUCT(($A$2:$A$28=A21)*($B$2:$B$28=B21)*($H$2:$H$28)*(INT($F$2:$F$28)=INT(F21)))=0.5,1,H21) -> 1.5 | K21: =IF(J21>1,ROUND(J21,0),J21) -> 2 | L21: erreur car le 28/04 est compté 2 fois
A22: III | B22: Nathalie | D22: RTT | E22: 2015 | F22: 42122.562 | G22: 42122.74 | H22: 0.5 | I22: Validée | J22: =IF(SUMPRODUCT(($A$2:$A$28=A22)*($B$2:$B$28=B22)*($H$2:$H$28)*(INT($F$2:$F$28)=INT(F22)))=0.5,1,H22) -> 1 | K22: =IF(J22>1,ROUND(J22,0),J22) -> 1
J23: =IF(SUMPRODUCT(($A$2:$A$28=A23)*($B$2:$B$28=B23)*($H$2:$H$28)*(INT($F$2:$F$28)=INT(F23)))=0.5,1,H23) -> 0 | K23: =IF(J23>1,ROUND(J23,0),J23) -> 0
J24: =IF(SUMPRODUCT(($A$2:$A$28=A24)*($B$2:$B$28=B24)*($H$2:$H$28)*(INT($F$2:$F$28)=INT(F24)))=0.5,1,H24) -> 0 | K24: =IF(J24>1,ROUND(J24,0),J24) -> 0
J25: =IF(SUMPRODUCT(($A$2:$A$28=A25)*($B$2:$B$28=B25)*($H$2:$H$28)*(INT($F$2:$F$28)=INT(F25)))=0.5,1,H25) -> 0 | K25: =IF(J25>1,ROUND(J25,0),J25) -> 0
J26: =IF(SUMPRODUCT(($A$2:$A$28=A26)*($B$2:$B$28=B26)*($H$2:$H$28)*(INT($F$2:$F$28)=INT(F26)))=0.5,1,H26) -> 0 | K26: =IF(J26>1,ROUND(J26,0),J26) -> 0
J27: =IF(SUMPRODUCT(($A$2:$A$28=A27)*($B$2:$B$28=B27)*($H$2:$H$28)*(INT($F$2:$F$28)=INT(F27)))=0.5,1,H27) -> 0 | K27: =IF(J27>1,ROUND(J27,0),J27) -> 0
J28: =IF(SUMPRODUCT(($A$2:$A$28=A28)*($B$2:$B$28=B28)*($H$2:$H$28)*(INT($F$2:$F$28)=INT(F28)))=0.5,1,H28) -> 0 | K28: =IF(J28>1,ROUND(J28,0),J28) -> 0
J29: =IF(SUMPRODUCT(($A$2:$A$28=A29)*($B$2:$B$28=B29)*($H$2:$H$28)*(INT($F$2:$F$28)=INT(F29)))=0.5,1,H29) -> 0 | K29: =IF(J29>1,ROUND(J29,0),J29) -> 0
J30: =IF(SUMPRODUCT(($A$2:$A$28=A30)*($B$2:$B$28=B30)*($H$2:$H$28)*(INT($F$2:$F$28)=INT(F30)))=0.5,1,H30) -> 0 | K30: =IF(J30>1,ROUND(J30,0),J30) -> 0
J31: =IF(SUMPRODUCT(($A$2:$A$28=A31)*($B$2:$B$28=B31)*($H$2:$H$28)*(INT($F$2:$F$28)=INT(F31)))=0.5,1,H31) -> 0 | K31: =IF(J31>1,ROUND(J31,0),J31) -> 0
J32: =IF(SUMPRODUCT(($A$2:$A$28=A32)*($B$2:$B$28=B32)*($H$2:$H$28)*(INT($F$2:$F$28)=INT(F32)))=0.5,1,H32) -> 0 | K32: =IF(J32>1,ROUND(J32,0),J32) -> 0
J33: =IF(SUMPRODUCT(($A$2:$A$28=A33)*($B$2:$B$28=B33)*($H$2:$H$28)*(INT($F$2:$F$28)=INT(F33)))=0.5,1,H33) -> 0 | K33: =IF(J33>1,ROUND(J33,0),J33) -> 0
J34: =IF(SUMPRODUCT(($A$2:$A$28=A34)*($B$2:$B$28=B34)*($H$2:$H$28)*(INT($F$2:$F$28)=INT(F34)))=0.5,1,H34) -> 0 | K34: =IF(J34>1,ROUND(J34,0),J34) -> 0
... J60: =IF(SUMPRODUCT(($A$2:$A$28=A60)*($B$2:$B$28=B60)*($H$2:$H$28)*(INT($F$2:$F$28)=INT(F60)))=0.5,1,H60) -> 0 | K60: =IF(J60>1,ROUND(J60,0),J60) -> 0

Sheet NDF 05
A1: Étiquettes de lignes | B1: Somme de TR
A2: (vide)
A3: Total général
E6: Export 26/05/15
E8: Nom | F8: TR | G8: motif
