Workbook
Name designation: pack!$P$8:$P$9
Name prix: pack!$Q$8:$Q$9
Name pu: pack!$Q$8:$Q$9
Name timbre: pack!$R$8:$R$9

Sheet recap
B2: Tableau recapitulatif mensuel vente directe
A4: FEUILLE | B4: QTE | C4: MONTANT
A5: "SCRATCH 200"1 | B5: =SUM('200'!B:B) -> 0 | C5: =SUM('200'!D:D) -> 0
A6: "SCRATCH 500 "2 | B6: =SUM('500'!B:B) -> 0 | C6: =SUM('500'!D:D) -> 0
A7: "SCRATCH 1000"3 | B7: =SUM('1000'!B:B) -> 0 | C7: =SUM('1000'!D:D) -> 0
A8: "SCRATCH 2000" 5 | B8: =SUM('2000'!B:B) -> 0 | C8: =SUM('2000'!D:D) -> 0
A9: "SCRATCH 5000" 6 | B9: =SUM('5000'!B:B) -> 0 | C9: =SUM('5000'!D:D) -> 0
A10: "SCRATCH 10000" 7 | B10: =SUM('10000'!B:B) -> 0 | C10: =SUM('10000'!D:D) -> 0
A11: "SCRATCH 20000" 8 | B11: =SUM('20000'!B:B) -> 0 | C11: =SUM('20000'!D:D) -> 0
A12: "anka1000" | B12: =SUM(anka1000!B:B) -> 0 | C12: =SUM(anka1000!D:D) -> 0
A13: "anka2000" | B13: =SUM(anka2000!B:B) -> 0 | C13: =SUM(anka2000!D:D) -> 0
A14: "anka5000" | B14: =SUM(anka5000!B:B) -> 8 | C14: =SUM(anka5000!D:D) -> 40000
A15: "anka10000" | B15: =SUM(anka10000!B:B) -> 0 | C15: =SUM(anka10000!D:D) -> 0
A16: "pack" | B16: =SUM(pack!B:B) -> 0 | C16: =SUM(pack!G:G) -> 0
A17: "kit" | B17: =SUM(kit!B:B) -> 8 | C17: =SUM(kit!G:G) -> 2140

Sheet 200
A3: DATE | B3: QTE | C3: PU | D3: MONTANT | E3: PU TIMBRE | F3: TOTAL TMBRE | G3: MONTANT TTC
A4: 40603 | C4: 200 | D4: =C4*B4 -> 0 | E4: 0 | F4: =E4*B4 -> 0 | G4: =F4+D4 -> 0
A5: 40604 | D5: =C5*B5 -> 0 | G5: =F5+D5 -> 0
A6: 40605 | D6: =C6*B6 -> 0 | G6: =F6+D6 -> 0
A7: 40606 | D7: =C7*B7 -> 0 | G7: =F7+D7 -> 0
A8: 40607 | D8: =C8*B8 -> 0 | G8: =F8+D8 -> 0
A9: 40608 | D9: =C9*B9 -> 0 | G9: =F9+D9 -> 0
A10: 40609 | D10: =C10*B10 -> 0 | G10: =F10+D10 -> 0
A11: 40610 | D11: =C11*B11 -> 0 | G11: =F11+D11 -> 0
A12: 40611 | D12: =C12*B12 -> 0 | G12: =F12+D12 -> 0
A13: 40612 | D13: =C13*B13 -> 0 | G13: =F13+D13 -> 0
A14: 40613 | D14: =C14*B14 -> 0 | G14: =F14+D14 -> 0
A15: 40614 | D15: =C15*B15 -> 0 | G15: =F15+D15 -> 0
A16: 40615 | D16: =C16*B16 -> 0 | G16: =F16+D16 -> 0
... A34: 40633 | D34: =C34*B34 -> 0 | G34: =F34+D34 -> 0

Sheet 500
E2: scratch 500
A4: DATE | B4: QTE | C4: PU | D4: MONTANT | E4: PU TIMBRE | F4: TOTAL TMBRE | G4: MONTANT TTC
A5: 40603 | C5: 500 | D5: =C5*B5 -> 0 | F5: =E5*B5 -> 0 | G5: =F5+D5 -> 0
A6: 40604 | C6: 500 | D6: =C6*B6 -> 0 | F6: =E6*B6 -> 0 | G6: =F6+D6 -> 0
A7: 40605 | C7: 500 | D7: =C7*B7 -> 0 | F7: =E7*B7 -> 0 | G7: =F7+D7 -> 0
A8: 40606 | C8: 500 | D8: =C8*B8 -> 0 | F8: =E8*B8 -> 0 | G8: =F8+D8 -> 0
A9: 40607 | C9: 500 | D9: =C9*B9 -> 0 | F9: =E9*B9 -> 0 | G9: =F9+D9 -> 0
A10: 40608 | C10: 500 | D10: =C10*B10 -> 0 | F10: =E10*B10 -> 0 | G10: =F10+D10 -> 0
A11: 40609 | C11: 500 | D11: =C11*B11 -> 0 | F11: =E11*B11 -> 0 | G11: =F11+D11 -> 0
A12: 40610 | C12: 500 | D12: =C12*B12 -> 0 | F12: =E12*B12 -> 0 | G12: =F12+D12 -> 0
A13: 40611 | C13: 500 | D13: =C13*B13 -> 0 | F13: =E13*B13 -> 0 | G13: =F13+D13 -> 0
A14: 40612 | C14: 500 | D14: =C14*B14 -> 0 | F14: =E14*B14 -> 0 | G14: =F14+D14 -> 0
A15: 40613 | C15: 500 | D15: =C15*B15 -> 0 | F15: =E15*B15 -> 0 | G15: =F15+D15 -> 0
A16: 40614 | C16: 500 | D16: =C16*B16 -> 0 | F16: =E16*B16 -> 0 | G16: =F16+D16 -> 0
... A34: 40632 | C34: 500 | D34: =C34*B34 -> 0 | F34: =E34*B34 -> 0 | G34: =F34+D34 -> 0
A35: 40633 | C35: 500 | D35: =C35*B35 -> 0 | F35: =E35*B35 -> 0

Sheet 1000
E1: scratch 1000
A3: DATE | B3: QTE | C3: PU | D3: MONTANT | E3: PU TIMBRE | F3: TOTAL TMBRE | G3: MONTANT TTC
A4: 40603 | D4: =C4*B4 -> 0 | F4: =B4*E4 -> 0 | G4: =D4+F4 -> 0
A5: 40604 | D5: =C5*B5 -> 0 | F5: =B5*E5 -> 0 | G5: =D5+F5 -> 0
A6: 40605 | D6: =C6*B6 -> 0 | F6: =B6*E6 -> 0 | G6: =D6+F6 -> 0
A7: 40606 | D7: =C7*B7 -> 0 | F7: =B7*E7 -> 0 | G7: =D7+F7 -> 0
A8: 40607 | D8: =C8*B8 -> 0 | F8: =B8*E8 -> 0 | G8: =D8+F8 -> 0
A9: 40608 | D9: =C9*B9 -> 0 | F9: =B9*E9 -> 0 | G9: =D9+F9 -> 0
A10: 40609 | D10: =C10*B10 -> 0 | F10: =B10*E10 -> 0 | G10: =D10+F10 -> 0
A11: 40610 | D11: =C11*B11 -> 0 | F11: =B11*E11 -> 0 | G11: =D11+F11 -> 0
A12: 40611 | D12: =C12*B12 -> 0 | F12: =B12*E12 -> 0 | G12: =D12+F12 -> 0
A13: 40612 | D13: =C13*B13 -> 0 | F13: =B13*E13 -> 0 | G13: =D13+F13 -> 0
A14: 40613 | D14: =C14*B14 -> 0 | F14: =B14*E14 -> 0 | G14: =D14+F14 -> 0
A15: 40614 | D15: =C15*B15 -> 0 | F15: =B15*E15 -> 0 | G15: =D15+F15 -> 0
... A34: 40633 | D34: =C34*B34 -> 0 | F34: =B34*E34 -> 0 | G34: =D34+F34 -> 0

Sheet 2000
A3: DATE | B3: QTE | C3: PU | D3: MONTANT | E3: PU TIMBRE | F3: TOTAL TMBRE | G3: MONTANT TTC
A4: 40603 | C4: 5000 | D4: =C4*B4 -> 0 | E4: 140 | F4: =E4*B4 -> 0 | G4: =D4+F4 -> 0
A5: 40604 | D5: =C5*B5 -> 0 | F5: =E5*B5 -> 0 | G5: =D5+F5 -> 0
A6: 40605 | D6: =C6*B6 -> 0 | F6: =E6*B6 -> 0 | G6: =D6+F6 -> 0
A7: 40606 | D7: =C7*B7 -> 0 | F7: =E7*B7 -> 0 | G7: =D7+F7 -> 0
A8: 40607 | D8: =C8*B8 -> 0 | F8: =E8*B8 -> 0 | G8: =D8+F8 -> 0
A9: 40608 | D9: =C9*B9 -> 0 | F9: =E9*B9 -> 0 | G9: =D9+F9 -> 0
A10: 40609 | D10: =C10*B10 -> 0 | F10: =E10*B10 -> 0 | G10: =D10+F10 -> 0
A11: 40610 | D11: =C11*B11 -> 0 | F11: =E11*B11 -> 0 | G11: =D11+F11 -> 0
A12: 40611 | D12: =C12*B12 -> 0 | F12: =E12*B12 -> 0 | G12: =D12+F12 -> 0
A13: 40612 | D13: =C13*B13 -> 0 | F13: =E13*B13 -> 0 | G13: =D13+F13 -> 0
A14: 40613 | D14: =C14*B14 -> 0 | F14: =E14*B14 -> 0 | G14: =D14+F14 -> 0
A15: 40614 | D15: =C15*B15 -> 0 | F15: =E15*B15 -> 0 | G15: =D15+F15 -> 0
A16: 40615 | D16: =C16*B16 -> 0 | F16: =E16*B16 -> 0 | G16: =D16+F16 -> 0
... A34: 40633 | D34: =C34*B34 -> 0 | F34: =E34*B34 -> 0 | G34: =D34+F34 -> 0

Sheet 5000
A3: DATE | B3: QTE | C3: PU | D3: MONTANT | E3: PU TIMBRE | F3: TOTAL TMBRE | G3: MONTANT TTC
A4: 40603 | C4: 5000 | D4: =C4*B4 -> 0 | E4: 140 | F4: =E4*B4 -> 0 | G4: =D4+F4 -> 0
A5: 40604 | D5: =C5*B5 -> 0 | G5: =D5+F5 -> 0
A6: 40605 | D6: =C6*B6 -> 0 | G6: =D6+F6 -> 0
A7: 40606 | D7: =C7*B7 -> 0 | G7: =D7+F7 -> 0
A8: 40607 | D8: =C8*B8 -> 0 | G8: =D8+F8 -> 0
A9: 40608 | D9: =C9*B9 -> 0 | G9: =D9+F9 -> 0
A10: 40609 | D10: =C10*B10 -> 0 | G10: =D10+F10 -> 0
A11: 40610 | D11: =C11*B11 -> 0 | G11: =D11+F11 -> 0
A12: 40611 | D12: =C12*B12 -> 0 | G12: =D12+F12 -> 0
A13: 40612 | D13: =C13*B13 -> 0 | G13: =D13+F13 -> 0
A14: 40613 | D14: =C14*B14 -> 0 | G14: =D14+F14 -> 0
A15: 40614 | D15: =C15*B15 -> 0 | G15: =D15+F15 -> 0
A16: 40615 | D16: =C16*B16 -> 0 | G16: =D16+F16 -> 0
... A34: 40633 | D34: =C34*B34 -> 0 | G34: =D34+F34 -> 0

Sheet 10000
A4: DATE | B4: QTE | C4: PU | D4: MONTANT | E4: PU TIMBRE | F4: TOTAL TMBRE | G4: MONTANT TTC
A5: 40603 | D5: =C5*B5 -> 0 | F5: =E5*B5 -> 0 | G5: =D5+F5 -> 0
A6: 40604 | D6: =C6*B6 -> 0 | G6: =D6+F6 -> 0
A7: 40605 | D7: =C7*B7 -> 0 | G7: =D7+F7 -> 0
A8: 40606 | D8: =C8*B8 -> 0 | G8: =D8+F8 -> 0
A9: 40607 | D9: =C9*B9 -> 0 | G9: =D9+F9 -> 0
A10: 40608 | D10: =C10*B10 -> 0 | G10: =D10+F10 -> 0
A11: 40609 | D11: =C11*B11 -> 0 | G11: =D11+F11 -> 0
A12: 40610 | D12: =C12*B12 -> 0 | G12: =D12+F12 -> 0
A13: 40611 | D13: =C13*B13 -> 0 | G13: =D13+F13 -> 0
A14: 40612 | D14: =C14*B14 -> 0 | G14: =D14+F14 -> 0
A15: 40613 | D15: =C15*B15 -> 0 | G15: =D15+F15 -> 0
A16: 40614 | D16: =C16*B16 -> 0 | G16: =D16+F16 -> 0
A17: 40615 | D17: =C17*B17 -> 0 | G17: =D17+F17 -> 0
... A35: 40633 | D35: =C35*B35 -> 0 | G35: =D35+F35 -> 0

Sheet 20000
A3: DATE | B3: QTE | C3: PU | D3: MONTANT | E3: PU TIMBRE | F3: TOTAL TMBRE | G3: MONTANT TTC
A4: 40603 | D4: =C4*B4 -> 0 | G4: =D4+F4 -> 0
A5: 40604 | D5: =C5*B5 -> 0 | G5: =D5+F5 -> 0
A6: 40605 | D6: =C6*B6 -> 0 | G6: =D6+F6 -> 0
A7: 40606 | D7: =C7*B7 -> 0 | G7: =D7+F7 -> 0
A8: 40607 | D8: =C8*B8 -> 0 | G8: =D8+F8 -> 0
A9: 40608 | D9: =C9*B9 -> 0 | G9: =D9+F9 -> 0
A10: 40609 | D10: =C10*B10 -> 0 | G10: =D10+F10 -> 0
A11: 40610 | D11: =C11*B11 -> 0 | G11: =D11+F11 -> 0
A12: 40611 | D12: =C12*B12 -> 0 | G12: =D12+F12 -> 0
A13: 40612 | D13: =C13*B13 -> 0 | G13: =D13+F13 -> 0
A14: 40613 | D14: =C14*B14 -> 0 | G14: =D14+F14 -> 0
A15: 40614 | D15: =C15*B15 -> 0 | G15: =D15+F15 -> 0
... A34: 40633 | D34: =C34*B34 -> 0 | G34: =D34+F34 -> 0

Sheet anka1000
A3: DATE | B3: QTE | C3: PU | D3: MONTANT | E3: PU TIMBRE | F3: TOTAL TMBRE | G3: MONTANT TTC
A4: 40603 | C4: 1000 | D4: =C4*B4 -> 0 | E4: 0 | F4: =E4*B4 -> 0 | G4: =F4+D4 -> 0
A5: 40604 | C5: 1000 | D5: =C5*B5 -> 0
A6: 40605 | C6: 1000 | D6: =C6*B6 -> 0
A7: 40606 | C7: 1000 | D7: =C7*B7 -> 0
A8: 40607 | C8: 1000 | D8: =C8*B8 -> 0
A9: 40608 | C9: 1000 | D9: =C9*B9 -> 0
A10: 40609 | C10: 1000 | D10: =C10*B10 -> 0
A11: 40610 | C11: 1000 | D11: =C11*B11 -> 0
A12: 40611 | C12: 1000 | D12: =C12*B12 -> 0
A13: 40612 | C13: 1000 | D13: =C13*B13 -> 0
A14: 40613 | C14: 1000 | D14: =C14*B14 -> 0
A15: 40614 | C15: 1000 | D15: =C15*B15 -> 0
A16: 40615 | C16: 1000 | D16: =C16*B16 -> 0
... A34: 40633 | C34: 1000 | D34: =C34*B34 -> 0

Sheet anka2000
A4: DATE | B4: QTE | C4: PU | D4: MONTANT | E4: MONTANT TTC
A5: 40603 | C5: 2000 | D5: =C5*B5 -> 0 | E5: =D5 -> 0
A6: 40604 | C6: 2000 | E6: =D6 -> 0
A7: 40605 | C7: 2000 | E7: =D7 -> 0
A8: 40606 | C8: 2000 | E8: =D8 -> 0
A9: 40607 | C9: 2000 | E9: =D9 -> 0
A10: 40608 | C10: 2000 | E10: =D10 -> 0
A11: 40609 | C11: 2000 | E11: =D11 -> 0
A12: 40610 | C12: 2000 | E12: =D12 -> 0
A13: 40611 | C13: 2000 | E13: =D13 -> 0
A14: 40612 | C14: 2000 | E14: =D14 -> 0
A15: 40613 | C15: 2000 | E15: =D15 -> 0
A16: 40614 | C16: 2000 | E16: =D16 -> 0
A17: 40615 | C17: 2000 | E17: =D17 -> 0
... A34: 40632 | C34: 2000 | E34: =D34 -> 0
A35: 40633 | C35: 2000

Sheet anka5000
A4: DATE | B4: QTE | C4: PU | D4: MONTANT | E4: PU TIMBRE | F4: TOTAL TMBRE | G4: MONTANT TTC
A5: 40603 | B5: 8 | C5: 5000 | D5: =C5*B5 -> 40000 | E5: 0 | F5: =E5*B5 -> 0 | G5: =F5+D5 -> 40000
A6: 40604 | C6: 5000
A7: 40605 | C7: 5000
A8: 40606 | C8: 5000
A9: 40607 | C9: 5000
A10: 40608 | C10: 5000
A11: 40609 | C11: 5000
A12: 40610 | C12: 5000
A13: 40611 | C13: 5000
A14: 40612 | C14: 5000
A15: 40613 | C15: 5000
A16: 40614 | C16: 5000
A17: 40615 | C17: 5000
... A35: 40633 | C35: 5000

Sheet anka10000
A4: DATE | B4: QTE | C4: PU | D4: MONTANT | E4: PU TIMBRE | F4: TOTAL TMBRE | G4: MONTANT TTC
A5: 40603 | C5: 10000 | D5: =C5*B5 -> 0 | E5: 0 | F5: =E5*B5 -> 0 | G5: =F5+D5 -> 0
A6: 40604 | C6: 10000
A7: 40605 | C7: 10000
A8: 40606 | C8: 10000
A9: 40607 | C9: 10000
A10: 40608 | C10: 10000
A11: 40609 | C11: 10000
A12: 40610 | C12: 10000
A13: 40611 | C13: 10000
A14: 40612 | C14: 10000
A15: 40613 | C15: 10000
A16: 40614 | C16: 10000
A17: 40615 | C17: 10000
... A35: 40633 | C35: 10000

Sheet pack
A4: DATE | B4: QTE | C4: PU | D4: MONTANT | E4: TOTAL TMBRE | F4: MONTANT TTC
A5: 40603 | D5: =C5*B5 -> 0 | E5: 540 | F5: =D5+E5 -> 540
A6: 40604 | D6: =C6*B6 -> 0 | E6: 540 | F6: =D6+E6 -> 540
A7: 40605 | D7: =C7*B7 -> 0 | E7: 540 | F7: =D7+E7 -> 540
A8: 40606 | D8: =C8*B8 -> 0 | E8: 540 | F8: =D8+E8 -> 540
A9: 40607 | D9: =C9*B9 -> 0 | E9: 540 | F9: =D9+E9 -> 540
A10: 40608 | D10: =C10*B10 -> 0 | E10: 540 | F10: =D10+E10 -> 540
A11: 40609 | D11: =C11*B11 -> 0 | E11: 540 | F11: =D11+E11 -> 540
A12: 40610 | D12: =C12*B12 -> 0 | E12: 540 | F12: =D12+E12 -> 540
A13: 40611 | D13: =C13*B13 -> 0 | E13: 540 | F13: =D13+E13 -> 540
A14: 40612 | D14: =C14*B14 -> 0 | E14: 540 | F14: =D14+E14 -> 540
A15: 40613 | D15: =C15*B15 -> 0 | E15: 540 | F15: =D15+E15 -> 540
A16: 40614 | D16: =C16*B16 -> 0 | E16: 540 | F16: =D16+E16 -> 540
... A29: 40627 | D29: =C29*B29 -> 0 | E29: 540 | F29: =D29+E29 -> 540
A30: 40628 | F30: =D30+E30 -> 0
A31: 40629
A32: 40630
A33: 40631
A34: 40632
A35: 40633

Sheet kit
A3: DATE | B3: QTE | C3: PU | D3: MONTANT | E3: PU TIMBRE | F3: TOTAL TMBRE | G3: MONTANT TTC
A4: 40603 | B4: 8 | C4: 200 | D4: =C4*B4 -> 1600 | E4: 0 | F4: 540 | G4: =D4+F4 -> 2140
A5: 40604
A6: 40605
A7: 40606
A8: 40607
A9: 40608
A10: 40609
A11: 40610
A12: 40611
A13: 40612
A14: 40613
A15: 40614
A16: 40615
... A34: 40633

Sheet Feuil6

Sheet Feuil7

Sheet Feuil8

Sheet Feuil9

Sheet Feuil10

Sheet Feuil11

Sheet Feuil12

Sheet Feuil13
