Workbook
Name NUM: Tableau!$C$46

Sheet Tableau
F1: CIN/ Nucléaire | AH1: Santé sécurité | BJ1: Divers
G2: Restriction | I2: Restriction | K2: Restriction | M2: Restriction | O2: Restriction | Q2: Restriction | S2: Restriction | U2: Restriction | W2: Restriction | Y2: Restriction | AA2: Restriction | AC2: Restriction | AE2: Restriction | AG2: Restriction | AI2: Restriction | AK2: Restriction | AM2: Restriction | AO2: Restriction | AQ2: Restriction | AS2: Restriction | AU2: Restriction | AW2: Restriction | AY2: Restriction | BA2: Restriction | BC2: Restriction | BE2: Restriction | BG2: Restriction | BI2: Restriction | BK2: Restriction | BM2: Restriction | BO2: Restriction | BQ2: Restriction | BS2: Restriction | BU2: Restriction | BW2: Restriction | BY2: Restriction | CA2: Restriction | CC2: Restriction | CE2: Restriction | CG2: Restriction | CI2: Restriction | CK2: Restriction
A3: N° Formateur | B3: Nom | C3: Prenom | D3: Interne | E3: Date habilitation | F3: SCN1/RSCN1 | G3: SCN1/RSCN2 | H3: SCN2/RSCN2 | I3: SCN2/RSCN3 | J3: CSQ/RCSQ | K3: Column1 | L3: Rcom | M3: Column2 | N3: SSTN | O3: Column3 | P3: RP1/RRP1 | Q3: RP1/RRP2 | R3: RP2/RRP2 | S3: RP2/RRP3 | T3: Pass RN | U3: Column4 | V3: PR CC init | W3: Column5 | X3: PRcc Recy/pass | Y3: Column6 | Z3: AQ3 | AA3: AQ4 | AB3: Ass Boul | AC3: Column7 | AD3: EPI | AE3: Column8 | AF3: Permis de feu | AG3: Column9 | AH3: Chariot | AI3: Column10 | AJ3: Nacelle | AK3: Column11 | AL3: HAB elec | AM3: Column12 | AN3: Hab Meca | AO3: Column13 | AP3: SST ou Mac SST | AQ3: Column14 | AR3: Risque routier | AS3: Column15 | AT3: Echaf | AU3: Column16 | AV3: Trvx Haut / Harnais | AW3: Column17 | AX3: EXT | AY3: Column18 | AZ3: PRAP/RPS | BA3: Column19 | BB3: Aminate SS4 | BC3: Aminate SS5 | BD3: Pont roulant 484 | BE3: Pont roulant 485 | BF3: AIPR | BG3: Column20 | BH3: Risque chimique | BI3: Column21 | BJ3: Bien être com | BK3: Column22 | BL3: Pédagogie | BM3: Column23 | BN3: Ref Cefri | BO3: Column24 | BP3: Audit interne | BQ3: Column25 | BR3: Formation PIAT | BS3: Column26 | BT3: Tuyauteur | BU3: Column27 | BV3: Robinetier | BW3: Column28 | BX3: Soudeur | BY3: Column29 | BZ3: Ancrage 516 | CA3: Ancrage 517 | CB3: Sup 5428 5430 | CC3: Sup 5428 5431 | CD3: Cheville CNPE | CE3: Column30 | CF3: Atex 0/1 | CG3: Atex 0/2 | CH3: CAVA/TEVA | CI3: Column31 | CJ3: Ferroscan | CK3: Column32
A4: 1 | B4: AIT HAMMADI | C4: Adil | D4: TRUE | F4: TRUE | G4: Immersion à réalisée avant sept 2025 | H4: TRUE | J4: TRUE | L4: TRUE | N4: FALSE | P4: TRUE | R4: TRUE | T4: TRUE | V4: FALSE | X4: FALSE | Z4: TRUE | AB4: FALSE | AD4: TRUE | AF4: FALSE | AH4: FALSE | AJ4: FALSE | AL4: TRUE | AN4: TRUE | AP4: FALSE | AR4: FALSE | AT4: FALSE | AV4: FALSE | AX4: FALSE | AZ4: FALSE | BB4: FALSE | BD4: FALSE | BF4: FALSE | BH4: FALSE | BJ4: FALSE | BL4: TRUE | BM4: GA et Carrefour | BN4: FALSE | BP4: FALSE | BR4: FALSE | BT4: FALSE | BV4: FALSE | BX4: FALSE | BZ4: FALSE | CB4: FALSE | CD4: FALSE | CF4: FALSE | CH4: FALSE | CJ4: FALSE
A5: =A4+1 -> 2 | B5: BOUKHECHBEN | C5: Andy | D5: FALSE | F5: FALSE | H5: FALSE | J5: FALSE | L5: FALSE | N5: FALSE | P5: FALSE | R5: FALSE | T5: FALSE | V5: FALSE | X5: FALSE | Z5: FALSE | AB5: FALSE | AD5: FALSE | AF5: FALSE | AH5: FALSE | AJ5: FALSE | AL5: FALSE | AN5: FALSE | AP5: TRUE | AR5: FALSE | AT5: FALSE | AV5: FALSE | AX5: FALSE | AZ5: FALSE | BB5: FALSE | BD5: FALSE | BF5: FALSE | BH5: FALSE | BJ5: FALSE | BL5: FALSE | BN5: FALSE | BP5: FALSE | BR5: FALSE | BT5: FALSE | BV5: FALSE | BX5: FALSE | BZ5: FALSE | CB5: FALSE | CD5: FALSE | CF5: FALSE | CH5: FALSE | CJ5: FALSE
A6: =A5+1 -> 3 | B6: BOUKHECHBEN | C6: Ornella | D6: FALSE | F6: FALSE | H6: FALSE | J6: FALSE | L6: FALSE | N6: FALSE | P6: FALSE | R6: FALSE | T6: FALSE | V6: FALSE | X6: FALSE | Z6: FALSE | AB6: FALSE | AD6: FALSE | AF6: FALSE | AH6: FALSE | AJ6: FALSE | AL6: FALSE | AN6: FALSE | AO6: 45691 | AP6: TRUE | AR6: FALSE | AT6: FALSE | AV6: FALSE | AX6: FALSE | AZ6: FALSE | BB6: FALSE | BD6: FALSE | BF6: FALSE | BH6: FALSE | BJ6: FALSE | BL6: FALSE | BN6: FALSE | BP6: FALSE | BR6: FALSE | BT6: FALSE | BV6: FALSE | BX6: FALSE | BZ6: FALSE | CB6: FALSE | CD6: FALSE | CF6: FALSE | CH6: FALSE | CJ6: FALSE
A7: =A6+1 -> 4 | B7: BRASSELET | C7: Pascal | D7: FALSE | F7: FALSE | H7: FALSE | J7: FALSE | L7: FALSE | N7: FALSE | P7: FALSE | R7: FALSE | T7: FALSE | V7: FALSE | X7: FALSE | Z7: FALSE | AB7: FALSE | AD7: FALSE | AF7: FALSE | AH7: FALSE | AJ7: FALSE | AL7: FALSE | AN7: FALSE | AP7: FALSE | AR7: FALSE | AT7: FALSE | AV7: FALSE | AX7: FALSE | AZ7: FALSE | BB7: FALSE | BD7: FALSE | BF7: TRUE | BH7: FALSE | BJ7: FALSE | BL7: FALSE | BN7: FALSE | BP7: FALSE | BR7: FALSE | BT7: FALSE | BV7: FALSE | BX7: FALSE | BZ7: FALSE | CB7: FALSE | CD7: FALSE | CF7: FALSE | CH7: FALSE | CJ7: FALSE
A8: =A7+1 -> 5 | B8: BRUCELLE | C8: David | D8: TRUE | F8: FALSE | H8: FALSE | J8: FALSE | L8: FALSE | N8: FALSE | P8: FALSE | R8: FALSE | T8: FALSE | V8: FALSE | X8: FALSE | Z8: FALSE | AB8: FALSE | AD8: FALSE | AF8: FALSE | AH8: TRUE | AJ8: TRUE | AL8: FALSE | AN8: FALSE | AP8: TRUE | AR8: FALSE | AT8: FALSE | AV8: FALSE | AX8: FALSE | AZ8: TRUE | BB8: FALSE | BD8: FALSE | BF8: FALSE | BH8: FALSE | BJ8: FALSE | BL8: FALSE | BN8: FALSE | BP8: FALSE | BR8: FALSE | BT8: FALSE | BV8: FALSE | BX8: FALSE | BZ8: FALSE | CB8: FALSE | CD8: FALSE | CF8: FALSE | CH8: FALSE | CJ8: FALSE
A9: =A8+1 -> 6 | B9: DE ALMEDA | C9: Tiago | D9: TRUE | F9: FALSE | H9: FALSE | J9: FALSE | L9: FALSE | N9: FALSE | P9: FALSE | R9: FALSE | T9: FALSE | V9: FALSE | X9: FALSE | Z9: FALSE | AB9: FALSE | AD9: TRUE | AF9: FALSE | AH9: TRUE | AJ9: TRUE | AL9: TRUE | AM9: Basse tension uniquement | AN9: FALSE | AP9: FALSE | AR9: FALSE | AT9: FALSE | AV9: TRUE | AX9: TRUE | AZ9: FALSE | BB9: FALSE | BD9: TRUE | BF9: TRUE | BH9: FALSE | BJ9: FALSE | BL9: FALSE | BN9: FALSE | BP9: FALSE | BR9: FALSE | BT9: FALSE | BV9: FALSE | BX9: FALSE | BZ9: FALSE | CB9: FALSE | CD9: FALSE | CF9: FALSE | CH9: FALSE | CJ9: FALSE
A10: =A9+1 -> 7 | B10: DIOT | C10: Ghislain | D10: TRUE | F10: FALSE | H10: FALSE | J10: FALSE | L10: FALSE | N10: FALSE | P10: FALSE | R10: FALSE | T10: FALSE | V10: FALSE | X10: FALSE | Z10: FALSE | AB10: FALSE | AD10: FALSE | AF10: FALSE | AH10: TRUE | AI10: Testeur CACES | AJ10: TRUE | AK10: Testeur CACES | AL10: TRUE | AM10: Basse tension uniquement | AN10: FALSE | AP10: FALSE | AR10: FALSE | AT10: FALSE | AV10: FALSE | AX10: TRUE | AZ10: FALSE | BB10: FALSE | BD10: FALSE | BF10: FALSE | BH10: FALSE | BJ10: FALSE | BL10: FALSE | BN10: FALSE | BP10: FALSE | BR10: FALSE | BT10: FALSE | BV10: FALSE | BX10: FALSE | BZ10: FALSE | CB10: FALSE | CD10: FALSE | CF10: FALSE | CH10: FALSE | CJ10: FALSE
A11: =A10+1 -> 8 | B11: DOMBON | C11: Jean-François | D11: FALSE | F11: FALSE | H11: FALSE | J11: FALSE | L11: FALSE | N11: FALSE | P11: FALSE | R11: FALSE | T11: FALSE | V11: FALSE | X11: FALSE | Z11: FALSE | AB11: FALSE | AD11: FALSE | AF11: FALSE | AH11: FALSE | AJ11: FALSE | AL11: TRUE | AM11: BT et HT | AN11: FALSE | AP11: FALSE | AR11: FALSE | AT11: FALSE | AV11: FALSE | AX11: FALSE | AZ11: FALSE | BB11: FALSE | BD11: FALSE | BF11: FALSE | BH11: FALSE | BJ11: FALSE | BL11: FALSE | BN11: FALSE | BP11: FALSE | BR11: FALSE | BT11: FALSE | BV11: FALSE | BX11: FALSE | BZ11: FALSE | CB11: FALSE | CD11: FALSE | CF11: FALSE | CH11: FALSE | CJ11: FALSE
A12: =A11+1 -> 9 | B12: DUCATEZ | C12: Sébastien | D12: TRUE | F12: TRUE | H12: TRUE | J12: TRUE | L12: TRUE | N12: FALSE | P12: TRUE | R12: TRUE | T12: TRUE | V12: FALSE | X12: FALSE | Z12: TRUE | AB12: FALSE | AD12: TRUE | AF12: FALSE | AH12: FALSE | AJ12: FALSE | AL12: TRUE | AM12: B0 H0-HV0 | AN12: TRUE | AP12: TRUE | AQ12: Plus valide | AR12: FALSE | AT12: FALSE | AV12: FALSE | AX12: TRUE | AZ12: FALSE | BB12: FALSE | BD12: FALSE | BF12: FALSE | BH12: FALSE | BJ12: FALSE | BL12: TRUE | BM12: GA et Carrefour CIN | BN12: FALSE | BP12: FALSE | BR12: FALSE | BT12: FALSE | BV12: FALSE | BX12: FALSE | BZ12: FALSE | CB12: FALSE | CD12: FALSE | CF12: FALSE | CH12: TRUE | CI12: ECQ | CJ12: FALSE
A13: =A12+1 -> 10 | B13: DUPUIS | C13: Philippe | D13: FALSE | F13: FALSE | H13: FALSE | J13: FALSE | L13: FALSE | N13: FALSE | P13: FALSE | R13: FALSE | T13: FALSE | V13: FALSE | X13: FALSE | Z13: FALSE | AB13: FALSE | AD13: FALSE | AF13: FALSE | AH13: FALSE | AJ13: FALSE | AL13: FALSE | AN13: FALSE | AP13: FALSE | AR13: FALSE | AT13: FALSE | AV13: FALSE | AX13: FALSE | AZ13: FALSE | BB13: FALSE | BD13: FALSE | BF13: FALSE | BH13: TRUE | BJ13: FALSE | BL13: FALSE | BN13: FALSE | BP13: FALSE | BR13: FALSE | BT13: FALSE | BV13: FALSE | BX13: FALSE | BZ13: FALSE | CB13: FALSE | CD13: FALSE | CF13: FALSE | CH13: FALSE | CJ13: FALSE
A14: =A13+1 -> 11 | B14: GAUDIN | C14: Gwendoline | D14: TRUE | F14: FALSE | H14: FALSE | J14: FALSE | L14: FALSE | N14: FALSE | P14: TRUE | R14: FALSE | T14: FALSE | V14: FALSE | X14: FALSE | Z14: FALSE | AB14: FALSE | AD14: FALSE | AF14: FALSE | AH14: FALSE | AJ14: FALSE | AL14: FALSE | AN14: FALSE | AP14: FALSE | AR14: FALSE | AT14: FALSE | AV14: FALSE | AX14: FALSE | AZ14: FALSE | BB14: FALSE | BD14: FALSE | BF14: FALSE | BH14: FALSE | BJ14: FALSE | BL14: FALSE | BN14: FALSE | BP14: FALSE | BR14: FALSE | BT14: FALSE | BV14: FALSE | BX14: FALSE | BZ14: FALSE | CB14: FALSE | CD14: FALSE | CF14: FALSE | CH14: FALSE | CJ14: FALSE
A15: =A14+1 -> 12 | B15: GAYON | C15: Philippe | D15: FALSE | F15: FALSE | H15: FALSE | J15: FALSE | L15: FALSE | N15: FALSE | P15: FALSE | R15: FALSE | T15: FALSE | V15: FALSE | X15: FALSE | Z15: FALSE | AB15: FALSE | AD15: FALSE | AF15: FALSE | AH15: FALSE | AJ15: FALSE | AL15: FALSE | AN15: FALSE | AP15: FALSE | AR15: FALSE | AT15: FALSE | AV15: FALSE | AX15: FALSE | AZ15: FALSE | BB15: TRUE | BD15: FALSE | BF15: FALSE | BH15: FALSE | BJ15: FALSE | BL15: FALSE | BN15: FALSE | BP15: FALSE | BR15: FALSE | BT15: FALSE | BV15: FALSE | BX15: FALSE | BZ15: FALSE | CB15: FALSE | CD15: FALSE | CF15: FALSE | CH15: FALSE | CJ15: FALSE
A16: =A15+1 -> 13 | B16: GIET DE THE | C16: Jean-Baptiste | D16: FALSE | F16: TRUE | H16: TRUE | J16: FALSE | L16: FALSE | N16: FALSE | P16: TRUE | R16: TRUE | T16: FALSE | V16: FALSE | X16: FALSE | Z16: FALSE | AB16: FALSE | AD16: FALSE | AF16: FALSE | AH16: FALSE | AJ16: FALSE | AL16: TRUE | AM16: B0/H0/H0V uniquement | AN16: TRUE | AP16: FALSE | AR16: FALSE | AT16: FALSE | AV16: FALSE | AX16: TRUE | AZ16: FALSE | BB16: FALSE | BD16: FALSE | BF16: FALSE | BH16: FALSE | BJ16: FALSE | BL16: FALSE | BN16: FALSE | BP16: FALSE | BR16: FALSE | BT16: FALSE | BV16: FALSE | BX16: FALSE | BZ16: FALSE | CB16: FALSE | CD16: FALSE | CF16: FALSE | CH16: FALSE | CJ16: FALSE
A17: =A16+1 -> 14 | B17: GREPPO | C17: Vincent | D17: FALSE | F17: FALSE | H17: FALSE | J17: FALSE | L17: FALSE | N17: FALSE | P17: FALSE | R17: FALSE | T17: FALSE | V17: FALSE | X17: FALSE | Z17: FALSE | AB17: FALSE | AD17: FALSE | AF17: FALSE | AH17: FALSE | AJ17: FALSE | AL17: FALSE | AN17: FALSE | AP17: FALSE | AR17: FALSE | AT17: FALSE | AV17: FALSE | AX17: FALSE | AZ17: FALSE | BB17: FALSE | BD17: FALSE | BF17: FALSE | BH17: TRUE | BJ17: FALSE | BL17: FALSE | BN17: FALSE | BP17: FALSE | BR17: FALSE | BT17: FALSE | BV17: FALSE | BX17: FALSE | BZ17: FALSE | CB17: FALSE | CD17: FALSE | CF17: FALSE | CH17: FALSE | CJ17: FALSE
A18: =A17+1 -> 15 | B18: HEYRAUD | C18: Stephen | D18: TRUE | F18: TRUE | H18: TRUE | J18: TRUE | L18: TRUE | N18: FALSE | P18: TRUE | R18: TRUE | T18: TRUE | V18: FALSE | X18: FALSE | Z18: TRUE | AB18: FALSE | AD18: TRUE | AF18: FALSE | AH18: FALSE | AJ18: FALSE | AL18: TRUE | AM18: B0/H0/H0V uniquement | AN18: TRUE | AP18: FALSE | AR18: FALSE | AT18: FALSE | AV18: FALSE | AX18: TRUE | AZ18: FALSE | BB18: FALSE | BD18: FALSE | BF18: FALSE | BH18: FALSE | BJ18: FALSE | BL18: FALSE | BN18: FALSE | BP18: FALSE | BR18: FALSE | BT18: FALSE | BV18: FALSE | BX18: FALSE | BZ18: FALSE | CB18: FALSE | CD18: FALSE | CF18: FALSE | CH18: FALSE | CJ18: FALSE
A19: =A18+1 -> 16 | B19: HOUNAT | C19: Iliais | D19: TRUE | F19: FALSE | H19: FALSE | J19: FALSE | L19: FALSE | N19: FALSE | P19: FALSE | R19: FALSE | T19: FALSE | V19: FALSE | X19: FALSE | Z19: FALSE | AB19: FALSE | AD19: FALSE | AF19: FALSE | AH19: FALSE | AJ19: FALSE | AL19: FALSE | AN19: FALSE | AP19: FALSE | AR19: FALSE | AT19: FALSE | AV19: FALSE | AX19: FALSE | AZ19: FALSE | BB19: FALSE | BD19: FALSE | BF19: FALSE | BH19: FALSE | BJ19: FALSE | BL19: FALSE | BN19: FALSE | BP19: FALSE | BR19: FALSE | BT19: FALSE | BV19: FALSE | BX19: FALSE | BZ19: FALSE | CB19: FALSE | CD19: FALSE | CF19: FALSE | CH19: FALSE | CJ19: FALSE
A20: =A19+1 -> 17 | B20: HODIERNE | C20: Vincent | D20: TRUE | F20: TRUE | H20: TRUE | J20: TRUE | L20: TRUE | N20: FALSE | P20: TRUE | R20: TRUE | T20: TRUE | V20: FALSE | X20: FALSE | Z20: TRUE | AB20: FALSE | AD20: TRUE | AF20: FALSE | AH20: FALSE | AJ20: FALSE | AL20: FALSE | AN20: TRUE | AP20: FALSE | AR20: FALSE | AT20: FALSE | AV20: FALSE | AX20: TRUE | AZ20: FALSE | BB20: FALSE | BD20: FALSE | BF20: FALSE | BH20: FALSE | BJ20: FALSE | BL20: FALSE | BN20: FALSE | BP20: FALSE | BR20: FALSE | BT20: FALSE | BV20: FALSE | BX20: FALSE | BZ20: FALSE | CB20: FALSE | CD20: FALSE | CF20: FALSE | CH20: FALSE | CJ20: FALSE
A21: =A20+1 -> 18 | B21: JARDIN | C21: Gérard | D21: FALSE | F21: FALSE | H21: FALSE | J21: FALSE | L21: FALSE | N21: FALSE | P21: FALSE | R21: FALSE | T21: FALSE | V21: FALSE | X21: FALSE | Z21: FALSE | AB21: FALSE | AD21: FALSE | AF21: FALSE | AH21: FALSE | AJ21: FALSE | AL21: TRUE | AM21: Basse tension uniquement | AN21: FALSE | AP21: FALSE | AR21: FALSE | AT21: FALSE | AV21: FALSE | AX21: FALSE | AZ21: FALSE | BB21: FALSE | BD21: FALSE | BF21: FALSE | BH21: FALSE | BJ21: FALSE | BL21: FALSE | BN21: FALSE | BP21: FALSE | BR21: FALSE | BT21: FALSE | BV21: FALSE | BX21: FALSE | BZ21: FALSE | CB21: FALSE | CD21: FALSE | CF21: FALSE | CH21: FALSE | CJ21: FALSE
A22: =A21+1 -> 19 | B22: JONCHERE | C22: Fabrice | D22: FALSE | F22: FALSE | H22: FALSE | J22: FALSE | L22: FALSE | N22: FALSE | P22: FALSE | R22: FALSE | T22: FALSE | V22: FALSE | X22: FALSE | Z22: FALSE | AB22: FALSE | AD22: FALSE | AF22: FALSE | AH22: FALSE | AJ22: FALSE | AL22: FALSE | AN22: FALSE | AP22: FALSE | AR22: FALSE | AT22: FALSE | AV22: FALSE | AX22: FALSE | AZ22: FALSE | BB22: FALSE | BD22: FALSE | BF22: FALSE | BH22: FALSE | BJ22: FALSE | BL22: FALSE | BN22: FALSE | BP22: FALSE | BR22: FALSE | BT22: FALSE | BV22: FALSE | BX22: FALSE | BZ22: FALSE | CB22: FALSE | CD22: FALSE | CF22: FALSE | CH22: FALSE | CJ22: FALSE
A23: =A22+1 -> 20 | B23: JOURDAN | C23: Eva | D23: TRUE | F23: FALSE | H23: FALSE | J23: FALSE | L23: FALSE | N23: FALSE | P23: TRUE | R23: TRUE | T23: FALSE | V23: FALSE | X23: FALSE | Z23: FALSE | AB23: FALSE | AD23: TRUE | AF23: TRUE | AH23: FALSE | AJ23: FALSE | AL23: FALSE | AN23: FALSE | AP23: FALSE | AR23: FALSE | AT23: FALSE | AV23: FALSE | AX23: TRUE | AZ23: FALSE | BB23: FALSE | BD23: FALSE | BF23: FALSE | BH23: FALSE | BJ23: FALSE | BL23: FALSE | BN23: FALSE | BP23: FALSE | BR23: FALSE | BT23: FALSE | BV23: FALSE | BX23: FALSE | BZ23: FALSE | CB23: FALSE | CD23: FALSE | CF23: TRUE | CH23: FALSE | CJ23: FALSE
A24: =A23+1 -> 21 | B24: LAVABRE | C24: Cédric | D24: FALSE | F24: FALSE | H24: FALSE | J24: FALSE | L24: FALSE | N24: FALSE | P24: FALSE | R24: FALSE | T24: FALSE | V24: FALSE | X24: FALSE | Z24: FALSE | AB24: FALSE | AD24: FALSE | AF24: FALSE | AH24: FALSE | AJ24: FALSE | AL24: FALSE | AN24: FALSE | AP24: TRUE | AR24: FALSE | AT24: FALSE | AV24: FALSE | AX24: FALSE | AZ24: FALSE | BB24: FALSE | BD24: FALSE | BF24: FALSE | BH24: FALSE | BJ24: FALSE | BL24: FALSE | BN24: FALSE | BP24: FALSE | BR24: FALSE | BT24: FALSE | BV24: FALSE | BX24: FALSE | BZ24: FALSE | CB24: FALSE | CD24: FALSE | CF24: FALSE | CH24: FALSE | CJ24: FALSE
A25: =A24+1 -> 22 | B25: MARCHAND | C25: Cédric | D25: TRUE | F25: TRUE | H25: TRUE | J25: TRUE | L25: TRUE | N25: FALSE | P25: TRUE | R25: TRUE | T25: TRUE | V25: TRUE | X25: TRUE | Z25: TRUE | AB25: TRUE | AD25: TRUE | AF25: FALSE | AH25: FALSE | AJ25: FALSE | AL25: TRUE | AM25: B0/H0/H0V uniquement | AN25: TRUE | AP25: FALSE | AR25: FALSE | AT25: FALSE | AV25: FALSE | AX25: TRUE | AZ25: FALSE | BB25: FALSE | BD25: FALSE | BF25: FALSE | BH25: FALSE | BJ25: FALSE | BL25: FALSE | BN25: FALSE | BP25: FALSE | BR25: FALSE | BT25: FALSE | BV25: FALSE | BX25: FALSE | BZ25: FALSE | CB25: FALSE | CD25: FALSE | CF25: FALSE | CH25: FALSE | CJ25: FALSE
A26: =A25+1 -> 23 | B26: MARQUEZ | C26: Romain | D26: TRUE | F26: TRUE | H26: TRUE | J26: TRUE | L26: FALSE | N26: FALSE | P26: FALSE | R26: FALSE | T26: FALSE | V26: FALSE | X26: FALSE | Z26: TRUE | AB26: FALSE | AD26: TRUE | AF26: FALSE | AH26: FALSE | AJ26: FALSE | AL26: FALSE | AN26: FALSE | AP26: FALSE | AR26: FALSE | AT26: FALSE | AV26: FALSE | AX26: FALSE | AZ26: FALSE | BB26: FALSE | BD26: FALSE | BF26: FALSE | BH26: FALSE | BJ26: FALSE | BL26: FALSE | BN26: FALSE | BP26: FALSE | BR26: FALSE | BT26: FALSE | BV26: FALSE | BX26: FALSE | BZ26: FALSE | CB26: FALSE | CD26: FALSE | CF26: FALSE | CH26: FALSE | CJ26: FALSE
A27: =A26+1 -> 24 | B27: MARTIN | C27: Fabienne | D27: FALSE | F27: FALSE | H27: FALSE | J27: FALSE | L27: FALSE | N27: FALSE | P27: FALSE | R27: FALSE | T27: FALSE | V27: FALSE | X27: FALSE | Z27: FALSE | AB27: FALSE | AD27: FALSE | AF27: FALSE | AH27: FALSE | AJ27: FALSE | AL27: FALSE | AN27: FALSE | AP27: TRUE | AR27: FALSE | AT27: FALSE | AV27: FALSE | AX27: FALSE | AZ27: TRUE | BB27: FALSE | BD27: FALSE | BF27: FALSE | BH27: FALSE | BJ27: FALSE | BL27: FALSE | BN27: FALSE | BP27: FALSE | BR27: FALSE | BT27: FALSE | BV27: FALSE | BX27: FALSE | BZ27: FALSE | CB27: FALSE | CD27: FALSE | CF27: FALSE | CH27: FALSE | CJ27: FALSE
A28: =A27+1 -> 25 | B28: MONTORO | C28: Mickaël | D28: TRUE | F28: FALSE | H28: FALSE | J28: FALSE | L28: FALSE | N28: FALSE | P28: FALSE | R28: FALSE | T28: FALSE | V28: FALSE | X28: FALSE | Z28: FALSE | AB28: FALSE | AD28: TRUE | AF28: FALSE | AH28: TRUE | AJ28: TRUE | AL28: FALSE | AN28: FALSE | AP28: FALSE | AR28: FALSE | AT28: TRUE | AV28: TRUE | AX28: TRUE | AZ28: FALSE | BB28: FALSE | BD28: TRUE | BF28: FALSE | BH28: FALSE | BJ28: FALSE | BL28: FALSE | BN28: FALSE | BP28: FALSE | BR28: FALSE | BT28: FALSE | BV28: FALSE | BX28: FALSE | BZ28: FALSE | CB28: FALSE | CD28: FALSE | CF28: FALSE | CH28: FALSE | CJ28: FALSE
A29: =A28+1 -> 26 | B29: MULIN | C29: Didier | D29: FALSE | F29: TRUE | G29: RFIN à prévoir 2025 | H29: TRUE | I29: RFIN à prévoir 2025 | J29: TRUE | K29: RFIN à prévoir 2025 | L29: FALSE | N29: FALSE | P29: TRUE | R29: TRUE | T29: FALSE | V29: FALSE | X29: FALSE | Z29: FALSE | AB29: TRUE | AD29: FALSE | AF29: FALSE | AH29: FALSE | AJ29: FALSE | AL29: FALSE | AN29: FALSE | AP29: FALSE | AR29: FALSE | AT29: FALSE | AV29: FALSE | AX29: FALSE | AZ29: FALSE | BB29: FALSE | BD29: FALSE | BF29: FALSE | BH29: FALSE | BJ29: FALSE | BL29: FALSE | BN29: FALSE | BP29: FALSE | BR29: FALSE | BT29: FALSE | BV29: TRUE | BX29: FALSE | BZ29: TRUE | CB29: TRUE | CC29: 5428 | CD29: FALSE | CF29: FALSE | CH29: FALSE | CJ29: FALSE
A30: =A29+1 -> 27 | B30: NASRI | C30: Mahdi | D30: TRUE | F30: FALSE | H30: FALSE | J30: FALSE | L30: FALSE | N30: FALSE | P30: FALSE | R30: FALSE | T30: FALSE | V30: FALSE | X30: FALSE | Z30: FALSE | AB30: FALSE | AD30: FALSE | AF30: FALSE | AH30: FALSE | AJ30: FALSE | AL30: FALSE | AN30: FALSE | AP30: FALSE | AR30: FALSE | AT30: FALSE | AV30: FALSE | AX30: FALSE | AZ30: FALSE | BB30: FALSE | BD30: FALSE | BF30: FALSE | BH30: FALSE | BJ30: FALSE | BL30: FALSE | BN30: FALSE | BP30: FALSE | BR30: FALSE | BT30: FALSE | BV30: FALSE | BX30: FALSE | BZ30: FALSE | CB30: FALSE | CD30: FALSE | CF30: FALSE | CH30: FALSE | CJ30: FALSE
A31: =A30+1 -> 28 | B31: ODET | C31: Pascal | D31: TRUE | F31: FALSE | H31: FALSE | J31: FALSE | L31: FALSE | N31: FALSE | P31: FALSE | R31: FALSE | T31: FALSE | V31: FALSE | X31: FALSE | Z31: FALSE | AB31: FALSE | AD31: FALSE | AF31: FALSE | AH31: FALSE | AJ31: FALSE | AL31: TRUE | AM31: B0/H0/H0V uniquement | AN31: FALSE | AP31: FALSE | AR31: FALSE | AT31: FALSE | AV31: FALSE | AX31: FALSE | AZ31: FALSE | BB31: FALSE | BD31: FALSE | BF31: FALSE | BH31: FALSE | BJ31: FALSE | BL31: FALSE | BN31: FALSE | BP31: FALSE | BR31: FALSE | BT31: FALSE | BV31: FALSE | BX31: FALSE | BZ31: FALSE | CB31: FALSE | CD31: TRUE | CF31: FALSE | CH31: FALSE | CJ31: FALSE
A32: =A31+1 -> 29 | B32: PIRAUD | C32: Hervé | D32: TRUE | F32: TRUE | G32: Rt Maint 10/2024 Imm Maint 11/2024 ECQ pour le RSCN1 | H32: FALSE | J32: FALSE | L32: FALSE | N32: FALSE | P32: FALSE | R32: FALSE | T32: FALSE | V32: FALSE | X32: FALSE | Z32: FALSE | AB32: FALSE | AD32: FALSE | AF32: FALSE | AH32: FALSE | AJ32: FALSE | AL32: FALSE | AN32: FALSE | AP32: FALSE | AR32: FALSE | AT32: FALSE | AV32: FALSE | AX32: FALSE | AZ32: FALSE | BB32: FALSE | BD32: FALSE | BF32: FALSE | BH32: FALSE | BJ32: FALSE | BL32: FALSE | BN32: FALSE | BP32: FALSE | BR32: FALSE | BT32: FALSE | BV32: TRUE | BX32: FALSE | BZ32: TRUE | CB32: FALSE | CD32: FALSE | CF32: FALSE | CH32: TRUE | CI32: ECQ | CJ32: FALSE
A33: =A32+1 -> 30 | B33: PRINTEMPS | C33: Corentin | D33: TRUE | F33: FALSE | H33: FALSE | J33: FALSE | L33: FALSE | N33: FALSE | P33: TRUE | R33: TRUE | T33: TRUE | V33: FALSE | X33: FALSE | Z33: FALSE | AB33: FALSE | AD33: TRUE | AF33: FALSE | AH33: FALSE | AJ33: FALSE | AL33: FALSE | AN33: FALSE | AP33: FALSE | AR33: TRUE | AT33: FALSE | AV33: FALSE | AX33: TRUE | AZ33: FALSE | BB33: TRUE | BD33: FALSE | BF33: FALSE | BH33: FALSE | BJ33: FALSE | BL33: FALSE | BN33: FALSE | BP33: FALSE | BR33: FALSE | BT33: FALSE | BV33: FALSE | BX33: FALSE | BZ33: FALSE | CB33: FALSE | CD33: FALSE | CF33: TRUE | CH33: TRUE | CJ33: FALSE
A34: =A33+1 -> 31 | B34: RICARDSON | C34: Fréderic | D34: TRUE | F34: TRUE | H34: TRUE | J34: TRUE | L34: TRUE | N34: FALSE | P34: TRUE | R34: TRUE | S34: ECQ | T34: FALSE | V34: FALSE | X34: FALSE | Z34: TRUE | AB34: FALSE | AD34: TRUE | AF34: FALSE | AH34: FALSE | AJ34: FALSE | AL34: TRUE | AM34: B0/H0/H0V uniquement | AN34: TRUE | AP34: FALSE | AR34: FALSE | AT34: FALSE | AV34: FALSE | AX34: TRUE | AZ34: FALSE | BB34: FALSE | BD34: FALSE | BF34: FALSE | BH34: FALSE | BJ34: FALSE | BL34: FALSE | BN34: FALSE | BP34: FALSE | BR34: FALSE | BT34: FALSE | BV34: FALSE | BX34: FALSE | BZ34: FALSE | CB34: FALSE | CD34: FALSE | CF34: FALSE | CH34: FALSE | CJ34: FALSE
A35: =A34+1 -> 32 | B35: ROBIN | C35: Stéphane | D35: TRUE | F35: FALSE | H35: FALSE | J35: FALSE | L35: FALSE | N35: FALSE | P35: FALSE | R35: FALSE | T35: FALSE | V35: FALSE | X35: FALSE | Z35: FALSE | AB35: FALSE | AD35: TRUE | AF35: FALSE | AH35: FALSE | AJ35: FALSE | AL35: FALSE | AN35: FALSE | AP35: TRUE | AR35: FALSE | AT35: TRUE | AV35: TRUE | AX35: TRUE | AZ35: FALSE | BB35: TRUE | BD35: FALSE | BF35: FALSE | BH35: FALSE | BJ35: FALSE | BL35: FALSE | BN35: FALSE | BP35: FALSE | BR35: FALSE | BT35: FALSE | BV35: FALSE | BX35: FALSE | BZ35: FALSE | CB35: FALSE | CD35: FALSE | CF35: FALSE | CH35: FALSE | CJ35: FALSE
A36: =A35+1 -> 33 | B36: SAGE | C36: Baptiste | D36: TRUE | F36: TRUE | H36: TRUE | J36: TRUE | L36: TRUE | N36: FALSE | P36: FALSE | R36: FALSE | T36: FALSE | V36: FALSE | X36: FALSE | Z36: FALSE | AB36: TRUE | AD36: TRUE | AF36: FALSE | AH36: FALSE | AJ36: FALSE | AL36: FALSE | AN36: TRUE | AP36: FALSE | AR36: FALSE | AT36: FALSE | AV36: FALSE | AX36: FALSE | AZ36: FALSE | BB36: FALSE | BD36: FALSE | BF36: FALSE | BH36: FALSE | BJ36: FALSE | BL36: FALSE | BN36: FALSE | BP36: FALSE | BR36: TRUE | BT36: FALSE | BV36: TRUE | BW36: Lecture de plan | BX36: TRUE | BZ36: FALSE | CB36: TRUE | CD36: TRUE | CF36: FALSE | CH36: FALSE | CJ36: FALSE
A37: =A36+1 -> 34 | B37: SANTO MARTINO | C37: Michaël | D37: TRUE | F37: FALSE | H37: FALSE | J37: FALSE | L37: FALSE | N37: FALSE | P37: TRUE | R37: TRUE | T37: TRUE | V37: TRUE | X37: TRUE | Z37: FALSE | AB37: FALSE | AD37: TRUE | AF37: FALSE | AH37: FALSE | AJ37: FALSE | AL37: FALSE | AN37: FALSE | AP37: FALSE | AR37: FALSE | AT37: FALSE | AV37: FALSE | AX37: TRUE | AZ37: FALSE | BB37: FALSE | BD37: FALSE | BF37: FALSE | BH37: FALSE | BJ37: FALSE | BL37: FALSE | BN37: FALSE | BP37: FALSE | BR37: FALSE | BT37: FALSE | BV37: FALSE | BX37: FALSE | BZ37: FALSE | CB37: FALSE | CD37: FALSE | CF37: FALSE | CH37: FALSE | CJ37: FALSE
A38: =A37+1 -> 35 | B38: VEAU | C38: Catherine | D38: TRUE | F38: FALSE | H38: FALSE | J38: FALSE | L38: FALSE | N38: FALSE | P38: FALSE | R38: FALSE | T38: FALSE | V38: FALSE | X38: FALSE | Z38: TRUE | AB38: FALSE | AD38: TRUE | AF38: FALSE | AH38: FALSE | AJ38: FALSE | AL38: FALSE | AN38: FALSE | AP38: FALSE | AR38: FALSE | AT38: FALSE | AV38: FALSE | AX38: FALSE | AZ38: FALSE | BB38: FALSE | BD38: FALSE | BF38: FALSE | BH38: FALSE | BJ38: FALSE | BL38: FALSE | BN38: FALSE | BP38: FALSE | BR38: FALSE | BT38: FALSE | BV38: FALSE | BX38: FALSE | BZ38: FALSE | CB38: FALSE | CD38: FALSE | CF38: FALSE | CH38: FALSE | CJ38: FALSE
A39: =A38+1 -> 36 | B39: VEIRUN | C39: Philippe | D39: TRUE | E39: 45796 | F39: TRUE | H39: TRUE | J39: TRUE | L39: TRUE | N39: FALSE | P39: TRUE | R39: TRUE | T39: FALSE | V39: FALSE | X39: FALSE | Z39: FALSE | AB39: FALSE | AD39: FALSE | AF39: FALSE | AH39: FALSE | AJ39: FALSE | AL39: FALSE | AN39: FALSE | AP39: FALSE | AR39: FALSE | AT39: TRUE | AV39: TRUE | AX39: FALSE | AZ39: FALSE | BB39: FALSE | BD39: FALSE | BF39: FALSE | BH39: FALSE | BJ39: FALSE | BL39: FALSE | BN39: FALSE | BP39: FALSE | BR39: FALSE | BT39: FALSE | BV39: FALSE | BX39: FALSE | BZ39: TRUE | CB39: TRUE | CD39: TRUE | CF39: FALSE | CH39: FALSE | CJ39: TRUE
A40: =A39+1 -> 37 | D40: FALSE | F40: FALSE | H40: FALSE | J40: FALSE | L40: FALSE | N40: FALSE | P40: FALSE | R40: FALSE | T40: FALSE | V40: FALSE | X40: FALSE | Z40: FALSE | AB40: FALSE | AD40: FALSE | AF40: FALSE | AH40: FALSE | AJ40: FALSE | AL40: FALSE | AN40: FALSE | AP40: FALSE | AR40: FALSE | AT40: FALSE | AV40: FALSE | AX40: FALSE | AZ40: FALSE | BB40: FALSE | BD40: FALSE | BF40: FALSE | BH40: FALSE | BJ40: FALSE | BL40: FALSE | BN40: FALSE | BP40: FALSE | BR40: FALSE | BT40: FALSE | BV40: FALSE | BX40: FALSE | BZ40: FALSE | CB40: FALSE | CD40: FALSE | CF40: FALSE | CH40: FALSE | CJ40: FALSE
...

Sheet Titre
C1: Habilitations | F1: FOR-199-Rev5
B3: =_xlfn.TEXTJOIN(" ",TRUE, "Formateur :", _xlfn.XLOOKUP(Tableau!$C$46,Tableau!$A$4:$A$42,Tableau!$B$4:$C$42,"")) -> Formateur : GAYON Philippe | E3: =IF(Tableau!D46,"Formateur : Interne ","Formateur : Externe ") -> Formateur : Externe
B5: CIN / nucléaire | D5: Santé et Sécurité | F5: Divers
A7: =IF(Tableau!$F$46,"X"," ") | B7: SCN1 / RSCN1 | C7: =IF(Tableau!$AH$46,"X"," ") | D7: Chariot élévateurs à conducteur porté catégorie 1,3 ou 5 -489 - Formateur / testeur | E7: =IF(Tableau!$BJ$46,"X"," ") | F7: Bien être - Communication
B8: =IF(ISBLANK(Tableau!G47), " ", Tableau!G47) | D8: =IF(ISBLANK(Tableau!AI47), " ", Tableau!AI47) | F8: =IF(ISBLANK(Tableau!BK47), " ", Tableau!BK47)
A9: =IF(Tableau!$H$46,"X"," ") | B9: SCN2 / RSCN2 | C9: =IF(Tableau!$AJ$46,"X"," ") | D9: Nacelle (PEMP) 486 - Formateur / testeur | E9: =IF(Tableau!$BL$46,"X"," ") | F9: Pédagogie
B10: =IF(ISBLANK(Tableau!I47), " ", Tableau!I47) | D10: =IF(ISBLANK(Tableau!AK47), " ", Tableau!AK47) | F10: =IF(ISBLANK(Tableau!BM47), " ", Tableau!BM47)
A11: =IF(Tableau!$J$46,"X"," ") | B11: CSQ / RCSQ | C11: =IF(Tableau!$AL$46,"X"," ") | D11: Habilitations électriques selon la norme NF C 18-510 | E11: =IF(Tableau!$BN$46,"X"," ") | F11: Maitrise des référentiels CEFRI
B12: =IF(ISBLANK(Tableau!K47), " ", Tableau!K47) | D12: =IF(ISBLANK(Tableau!AM47), " ", Tableau!AM47) | F12: =IF(ISBLANK(Tableau!BO47), " ", Tableau!BO47)
A13: =IF(Tableau!$L$46,"X"," ") | B13: R commun SCN/CSQ | C13: =IF(Tableau!$AN$46,"X"," ") | D13: Habilitation mécaniques (M0-M1 et/ou M2-MR) | E13: =IF(Tableau!$BP$46,"X"," ") | F13: pratique de l'audit interne
B14: =IF(ISBLANK(Tableau!M47), " ", Tableau!M47) | D14: =IF(ISBLANK(Tableau!AO47), " ", Tableau!AO47) | F14: =IF(ISBLANK(Tableau!BQ47), " ", Tableau!BQ47)
A15: =IF(Tableau!$N$46,"X"," ") | B15: SSTN | C15: =IF(Tableau!$AP$46,"X"," ") | D15: SST et MaC SST | E15: =IF(Tableau!$BR$46,"X"," ") | F15: Formations PIAT
B16: =IF(ISBLANK(Tableau!O47), " ", Tableau!O47) | D16: =IF(ISBLANK(Tableau!AQ47), " ", Tableau!AQ47) | F16: =IF(ISBLANK(Tableau!BS47), " ", Tableau!BS47)
A17: =IF(Tableau!$P$46,"X"," ") | B17: RP1 / R RP1 | C17: =IF(Tableau!$AR$46,"X"," ") | D17: Risques routiers | E17: =IF(Tableau!$BT$46,"X"," ") | F17: Tuyauteurs
B18: =IF(ISBLANK(Tableau!Q47), " ", Tableau!Q47) | D18: =IF(ISBLANK(Tableau!AS47), " ", Tableau!AS47) | F18: =IF(ISBLANK(Tableau!BU47), " ", Tableau!BU47)
A19: =IF(Tableau!$R$46,"X"," ") | B19: RP2 / R RP2 | C19: =IF(Tableau!$AT$46,"X"," ") | D19: Echafaudage fixe et roulant (montage, démontage, réception, conformité, utilisation) | E19: =IF(Tableau!$BV$46,"X"," ") | F19: Robinetiers
B20: =IF(ISBLANK(Tableau!S47), " ", Tableau!S47) | D20: =IF(ISBLANK(Tableau!AU47), " ", Tableau!AU47) | F20: =IF(ISBLANK(Tableau!BW47), " ", Tableau!BW47)
A21: =IF(Tableau!$T$46,"X"," ") | B21: Passerelle RN | C21: =IF(Tableau!$AV$46,"X"," ") | D21: Travail en hauteur / port du harnais | E21: =IF(Tableau!$BX$46,"X"," ") | F21: Soudeurs
B22: =IF(ISBLANK(Tableau!U47), " ", Tableau!U47) | D22: =IF(ISBLANK(Tableau!AW47), " ", Tableau!AW47) | F22: =IF(ISBLANK(Tableau!BY47), " ", Tableau!BY47)
A23: =IF(Tableau!$V$46,"X"," ") | B23: PR-CC Initial | C23: =IF(Tableau!$AX$46,"X"," ") | D23: Equipier de 1ère intervention et manipulation des extincteurs | E23: =IF(Tableau!$BZ$46,"X"," ") | F23: Ancrages 516
B24: =IF(ISBLANK(Tableau!W47), " ", Tableau!W47) | D24: =IF(ISBLANK(Tableau!AY47), " ", Tableau!AY47) | F24: =IF(ISBLANK(Tableau!CA47), " ", Tableau!CA47)
A25: =IF(Tableau!$X$46,"X"," ") | B25: PR-CC Recyclage & Passerelle | C25: =IF(Tableau!$AZ$46,"X"," ") | D25: PRAP / RPS | E25: =IF(Tableau!$CB$46,"X"," ") | F25: Supportages 5428 - 5430
B26: =IF(ISBLANK(Tableau!Y47), " ", Tableau!Y47) | D26: =IF(ISBLANK(Tableau!BA47), " ", Tableau!BA47) | F26: =IF(ISBLANK(Tableau!CC47), " ", Tableau!CC47)
A27: =IF(Tableau!$Z$46,"X"," ") | B27: Assurance qualité niveau 3 (NT 85-114) | C27: =IF(Tableau!$BB$46,"X"," ") -> X | D27: Amiante SS4 | E27: =IF(Tableau!$CD$46,"X"," ") | F27: Pose de chevilles en CNPE
B28: =IF(ISBLANK(Tableau!AA47), " ", Tableau!AA47) | D28: =IF(ISBLANK(Tableau!BC47), " ", Tableau!BC47) | F28: =IF(ISBLANK(Tableau!CE47), " ", Tableau!CE47)
A29: =IF(Tableau!$AB$46,"X"," ") | B29: Assemblages boulonnés | C29: =IF(Tableau!$BD$46,"X"," ") | D29: Pont roulant 484 | E29: =IF(Tableau!$CF$46,"X"," ") | F29: ATEX 0/1
B30: =IF(ISBLANK(Tableau!AC47), " ", Tableau!AC47) | D30: =IF(ISBLANK(Tableau!BE47), " ", Tableau!BE47) | F30: =IF(ISBLANK(Tableau!CG47), " ", Tableau!CG47)
A31: =IF(Tableau!$AD$46,"X"," ") | B31: EPI (Heaume ventilé, TEV, ARI & masque à cartouche) CNPE | C31: =IF(Tableau!$BF$46,"X"," ") | D31: AIPR | E31: =IF(Tableau!$CH$46,"X"," ") | F31: EPI (CAVA / TEVA)
B32: =IF(ISBLANK(Tableau!AE47), " ", Tableau!AE47) | D32: =IF(ISBLANK(Tableau!BG47), " ", Tableau!BG47) | F32: =IF(ISBLANK(Tableau!CI47), " ", Tableau!CI47)
A33: =IF(Tableau!$AF$46,"X"," ") | B33: Permis de feu | C33: =IF(Tableau!$BH$46,"X"," ") | D33: Risques chimiques N1/ N2 | E33: =IF(Tableau!$CJ$46,"X"," ") | F33: Detection au ferroscan
B34: =IF(ISBLANK(Tableau!AG47), " ", Tableau!AG47) | D34: =IF(ISBLANK(Tableau!BI47), " ", Tableau!BI47) | F34: =IF(ISBLANK(Tableau!CK47), " ", Tableau!CK47)
A35: Date et visa resp. pédagogique | C35: Date et visa resp de centre | E35: Date et visa du formateur
A36: =Tableau!E47
A38: habilitation valable 1 an jusqu'au | F38: =A36+365 -> #VALUE!

Sheet BSA
C1: Habilitations | F1: FOR-199-Rev5
B4: Formateur : SAGE Baptiste | E4: Statut : INTERNE
B6: CIN / nucléaire | D6: Santé et Sécurité | F6: Divers
A8: X | B8: SCN1 / RSCN1 | D8: Chariot élévateurs à conducteur porté catégorie 1,3 ou 5 -489 - Formateur / testeur | F8: Bien être - Communication
A10: X | B10: SCN2 / RSCN2 | D10: Nacelle (PEMP) 486 - Formateur / testeur | F10: Pédagogie
A12: X | B12: CSQ / RCSQ | D12: Habilitations électriques selon la norme NF C 18-510 | F12: Maitrise des référentiels CEFRI
A14: X | B14: R commun SCN/CSQ | C14: X | D14: Habilitation mécaniques (M0-M1 et/ou M2-MR) | F14: pratique de l'audit interne
B16: SSTN | D16: SST et MaC SST | E16: X | F16: Formations PIAT
F17: Surv en eq commune 811/808
A18: X | B18: RP1 / R RP1 | D18: Risques routiers | F18: Tuyauteurs
A20: X | B20: RP2 / R RP2 | D20: Echafaudage fixe et roulant (montage, démontage, réception, conformité, utilisation) | E20: X | F20: Robinetiers
F21: lecture de plan
A22: X | B22: Passerelle RN | D22: Travail en hauteur / port du harnais | E22: X | F22: Soudeurs
B24: PR-CC Initial | D24: Equipier de 1ère intervention et manipulation des extincteurs | F24: Ancrages 516
B26: PR-CC Recyclage & Passerelle | D26: PRAP / RPS | E26: X | F26: Supportages 5428 - 5430
F27: 5428 - ECQ
B28: Assurance qualité niveau 3 (NT 85-114) | D28: Amiante SS4 | E28: X | F28: Pose de chevilles en CNPE
A30: X | B30: Assemblages boulonnés | D30: Pont roulant 484 | F30: ATEX 0/1
A32: X | B32: EPI (Heaume ventilé, TEV, ARI & masque à cartouche) CNPE | D32: AIPR | F32: EPI (CAVA / TEVA)
B33: HV et TEV uniquement
B34: Permis de feu | D34: Risques chimiques N1/ N2 | F34: Detection au ferroscan
A36: date et visa resp. pédagogique | C36: date et visa resp de centre | E36: date et visa du formateur
A40: habilitation valable 1 an

Sheet CPR
C1: Habilitations | F1: FOR-199-Rev5
B4: Formateur : PRINTEMPS Corentin | E4: Statut : INTERNE
B6: CIN / nucléaire | D6: santé et Sécurité | F6: divers
B8: SCN1 / RSCN1 | D8: Chariot élévateurs à conducteur porté catégorie 1,3 ou 5 -489 - Formateur / testeur | F8: Bien être - Communication
B10: SCN2 / RSCN2 | D10: Nacelle (PEMP) 486 - Formateur / testeur | F10: Pédagogie
B12: CSQ / RCSQ | D12: Habilitations électriques selon la norme NF C 18-510 | F12: Maitrise des référentiels CEFRI
B14: R commun SCN/CSQ | D14: Habilitation mécaniques (M0-M1 et/ou M2-MR) | F14: pratique de l'audit interne
B16: SSTN | D16: SST et MaC SST | F16: Formations PIAT
A18: X | B18: RP1 / R RP1 | C18: X | D18: Risques routiers | F18: Tuyauteurs
A20: X | B20: RP2 / R RP2 | D20: Echafaudage fixe et roulant (montage, démontage, réception, conformité, utilisation) | F20: Robinetiers
A22: X | B22: Passerelle RN | D22: Travail en hauteur / port du harnais | F22: Soudeurs
B24: PR-CC Initial | C24: X | D24: Equipier de 1ère intervention et manipulation des extincteurs | F24: Ancrages 516
B26: PR-CC Recyclage & Passerelle | D26: PRAP / RPS | F26: Supportages 5428 - 5430
B28: Assurance qualité niveau 3 (NT 85-114) | C28: x | D28: Amiante SS4 | F28: Pose de chevilles en CNPE
D29: ECQ sur OP et R OP
B30: Assemblages boulonnés | D30: Pont roulant 484 | E30: X | F30: ATEX 0/1
A32: X | B32: EPI (Heaume ventilé, TEV, ARI & masque à cartouche) CNPE | D32: AIPR | E32: X | F32: EPI (CAVA / TEVA)
B34: Permis de feu | D34: Risques chimiques N1/ N2 | F34: Detection au ferroscan
A36: date et visa resp. pédagogique | C36: date et visa resp de centre | E36: date et visa du formateur
A40: habilitation valable 1 an

Sheet CVE
C1: Habilitations | F1: FOR-199-Rev5
B4: Formateur : Catherine VEAU | E4: Statut : INTERNE
B6: CIN / nucléaire | D6: santé et Sécurité | F6: divers
B8: SCN1 / RSCN1 | D8: Chariot élévateurs à conducteur porté catégorie 1,3 ou 5 -489 - Formateur / testeur | E8: X | F8: Bien être - Communication
B10: SCN2 / RSCN2 | D10: Nacelle (PEMP) 486 - Formateur / testeur | E10: X | F10: Pédagogie
B12: CSQ / RCSQ | D12: Habilitations électriques selon la norme NF C 18-510 | F12: Maitrise des référentiels CEFRI
B14: R commun SCN/CSQ | D14: Habilitation mécaniques (M0-M1 et/ou M2-MR) | F14: pratique de l'audit interne
B16: SSTN | D16: SST et MaC SST | F16: Formations PIAT
B18: RP1 / R RP1 | D18: Risques routiers | F18: Tuyauteurs
B20: RP2 / R RP2 | D20: Echafaudage fixe et roulant (montage, démontage, réception, conformité, utilisation) | F20: Robinetiers
B22: Passerelle RN | D22: Travail en hauteur / port du harnais | F22: Soudeurs
B24: PR-CC Initial | D24: Equipier de 1ère intervention et manipulation des extincteurs | F24: Ancrages 516
B26: PR-CC Recyclage & Passerelle | D26: PRAP / RPS | F26: Supportages 5428 - 5430
A28: X | B28: Assurance qualité niveau 3 (NT 85-114) | D28: Amiante SS4 | F28: Pose de chevilles en CNPE
B30: Assemblages boulonnés | D30: Pont roulant 484 | F30: ATEX 0/1
A32: X | B32: EPI (Heaume ventilé, TEV, ARI & masque à cartouche) CNPE | D32: AIPR | F32: EPI (CAVA / TEVA)
B34: Permis de feu | D34: Risques chimiques N1/ N2 | F34: Detection au ferroscan
A36: date et visa resp. pédagogique | C36: date et visa resp de centre | E36: date et visa du formateur
A40: habilitation valable 1 an

Sheet DRO
C1: Habilitations | F1: FOR-199-Rev5
B4: Formateur : ROBIN David | E4: Statut : INTERNE
B6: CIN / nucléaire | D6: santé et Sécurité | F6: divers
A8: X | B8: SCN1 / RSCN1 | D8: Chariot élévateurs à conducteur porté catégorie 1,3 ou 5 -489 - Formateur / testeur | F8: Bien être - Communication
A10: X | B10: SCN2 / RSCN2 | D10: Nacelle (PEMP) 486 - Formateur / testeur | F10: Pédagogie
F11: GA et Carrefour CIN
A12: X | B12: CSQ / RCSQ | D12: Habilitations électriques selon la norme NF C 18-510 | F12: Maitrise des référentiels CEFRI
A14: X | B14: R commun SCN/CSQ | C14: X | D14: Habilitation mécaniques (M0-M1 et/ou M2-MR) | F14: pratique de l'audit interne
B16: SSTN | C16: X | D16: SST et MaC SST | F16: Formations PIAT
A18: X | B18: RP1 / R RP1 | C18: X | D18: Risques routiers | F18: Tuyauteurs
A20: X | B20: RP2 / R RP2 | D20: Echafaudage fixe et roulant (montage, démontage, réception, conformité, utilisation) | F20: Robinetiers
A22: X | B22: Passerelle RN | D22: Travail en hauteur / port du harnais | F22: Soudeurs
B24: PR-CC Initial | D24: Equipier de 1ère intervention et manipulation des extincteurs | F24: Ancrages 516
B26: PR-CC Recyclage & Passerelle | D26: PRAP / RPS | F26: Supportages 5428 - 5430
A28: X | B28: Assurance qualité niveau 3 (NT 85-114) | D28: Amiante SS4 | F28: Pose de chevilles en CNPE
B30: Assemblages boulonnés | D30: Pont roulant 484 | F30: ATEX 0/1
A32: X | B32: EPI (Heaume ventilé, TEV, ARI & masque à cartouche) CNPE | D32: AIPR | E32: X | F32: EPI (CAVA / TEVA)
F33: ECQ
B34: Permis de feu | D34: Risques chimiques N1/ N2 | F34: Detection au ferroscan
A36: date et visa resp. pédagogique | C36: date et visa resp de centre | E36: date et visa du formateur
A40: habilitation valable 1 an

Sheet HPI
C1: Habilitations | F1: FOR-199-Rev5
B4: Formateur : PIRAUD Hervé | E4: Statut : INTERNE
B6: CIN / nucléaire | D6: santé et Sécurité | F6: divers
A8: X | B8: SCN1 / RSCN1 | D8: Chariot élévateurs à conducteur porté catégorie 1,3 ou 5 -489 - Formateur / testeur | F8: Bien être - Communication
B9: Rt Maint 10/2024 Imm Maint 11/2024 ECQ pour le RSCN1
B10: SCN2 / RSCN2 | D10: Nacelle (PEMP) 486 - Formateur / testeur | F10: Pédagogie
B12: CSQ / RCSQ | D12: Habilitations électriques selon la norme NF C 18-510 | F12: Maitrise des référentiels CEFRI
B14: R commun SCN/CSQ | D14: Habilitation mécaniques (M0-M1 et/ou M2-MR) | F14: pratique de l'audit interne
B16: SSTN | D16: SST et MaC SST | F16: Formations PIAT
B18: RP1 / R RP1 | D18: Risques routiers | F18: Tuyauteurs
B20: RP2 / R RP2 | D20: Echafaudage fixe et roulant (montage, démontage, réception, conformité, utilisation) | E20: X | F20: Robinetiers
B22: Passerelle RN | D22: Travail en hauteur / port du harnais | F22: Soudeurs
B24: PR-CC Initial | D24: Equipier de 1ère intervention et manipulation des extincteurs | E24: X | F24: Ancrages 516
B26: PR-CC Recyclage & Passerelle | D26: PRAP / RPS | F26: Supportages 5428 - 5430
B28: Assurance qualité niveau 3 (NT 85-114) | D28: Amiante SS4 | F28: Pose de chevilles en CNPE
A30: X | B30: Assemblages boulonnés | D30: Pont roulant 484 | F30: ATEX 0/1
A32: X | B32: EPI (Heaume ventilé, TEV, ARI & masque à cartouche) CNPE | D32: AIPR | E32: X | F32: EPI (CAVA / TEVA)
F33: ECQ
B34: Permis de feu | D34: Risques chimiques N1/ N2 | F34: Detection au ferroscan
A36: date et visa resp. pédagogique | C36: date et visa resp de centre | E36: date et visa du formateur
A40: habilitation valable 1 an

Sheet JGI
C1: Habilitations | F1: FOR-199-Rev5
B4: Formateur : GIET DE THE Jean Baptiste | E4: Statut : INTERNE
B6: CIN / nucléaire | D6: santé et Sécurité | F6: divers
A8: X | B8: SCN1 / RSCN1 | D8: Chariot élévateurs à conducteur porté catégorie 1,3 ou 5 -489 - Formateur / testeur | F8: Bien être - Communication
B9: RFIN à prévoir 2025, Pas de RSCN1
A10: X | B10: SCN2 / RSCN2 | D10: Nacelle (PEMP) 486 - Formateur / testeur | F10: Pédagogie
B11: SCN2 initial en cours de qualif
B12: CSQ / RCSQ | C12: X | D12: Habilitations électriques selon la norme NF C 18-510 | F12: Maitrise des référentiels CEFRI
D13: B0/H0/H0V uniquement
B14: R commun SCN/CSQ | C14: X | D14: Habilitation mécaniques (M0-M1 et/ou M2-MR) | F14: pratique de l'audit interne
B16: SSTN | D16: SST et MaC SST | F16: Formations PIAT
A18: x | B18: RP1 / R RP1 | D18: Risques routiers | F18: Tuyauteurs
B19: RT RP à prévoir 2025
A20: x | B20: RP2 / R RP2 | D20: Echafaudage fixe et roulant (montage, démontage, réception, conformité, utilisation) | F20: Robinetiers
B21: RT RP à prévoir 2025
A22: X | B22: Passerelle RN | D22: Travail en hauteur / port du harnais | F22: Soudeurs
B23: RT RP à prévoir 2025
B24: PR-CC Initial | C24: X | D24: Equipier de 1ère intervention et manipulation des extincteurs | F24: Ancrages 516
B26: PR-CC Recyclage & Passerelle | D26: PRAP / RPS | F26: Supportages 5428 - 5430
B28: Assurance qualité niveau 3 (NT 85-114) | D28: Amiante SS4 | F28: Pose de chevilles en CNPE
B30: Assemblages boulonnés | D30: Pont roulant 484 | F30: ATEX 0/1
B32: EPI (Heaume ventilé, TEV, ARI & masque à cartouche) CNPE | D32: AIPR | F32: EPI (CAVA / TEVA)
B34: Permis de feu | D34: Risques chimiques N1/ N2 | F34: Detection au ferroscan
A36: date et visa resp. pédagogique | C36: date et visa resp de centre | E36: date et visa du formateur
A40: habilitation valable 1 an

Sheet POD
C1: Habilitations | F1: FOR-199-Rev5
B4: Formateur : Pascal ODET | E4: Statut : INTERNE
B6: CIN / nucléaire | D6: santé et Sécurité | F6: divers
B8: SCN1 / RSCN1 | D8: Chariot élévateurs à conducteur porté catégorie 1,3 ou 5 -489 - Formateur / testeur | F8: Bien être - Communication
B10: SCN2 / RSCN2 | D10: Nacelle (PEMP) 486 - Formateur / testeur | F10: Pédagogie
B12: CSQ / RCSQ | C12: X | D12: Habilitations électriques selon la norme NF C 18-510 | F12: Maitrise des référentiels CEFRI
D13: B0 H0 H0V uniquement
B14: R commun SCN/CSQ | D14: Habilitation mécaniques (M0-M1 et/ou M2-MR) | F14: pratique de l'audit interne
B16: SSTN | D16: SST et MaC SST | F16: Formations PIAT
B18: RP1 / R RP1 | D18: Risques routiers | F18: Tuyauteurs
B20: RP2 / R RP2 | D20: Echafaudage fixe et roulant (montage, démontage, réception, conformité, utilisation) | F20: Robinetiers
B22: Passerelle RN | D22: Travail en hauteur / port du harnais | F22: Soudeurs
B24: PR-CC Initial | D24: Equipier de 1ère intervention et manipulation des extincteurs | F24: Ancrages 516
B26: PR-CC Recyclage & Passerelle | D26: PRAP / RPS | F26: Supportages 5428 - 5430
B28: Assurance qualité niveau 3 (NT 85-114) | D28: Amiante SS4 | E28: X | F28: Pose de chevilles en CNPE
B30: Assemblages boulonnés | D30: Pont roulant 484 | F30: ATEX 0/1
B32: EPI (Heaume ventilé, TEV, ARI & masque à cartouche) CNPE | D32: AIPR | F32: EPI (CAVA / TEVA)
B34: Permis de feu | D34: Risques chimiques N1/ N2 | F34: Detection au ferroscan
A36: date et visa resp. pédagogique | C36: date et visa resp de centre | E36: date et visa du formateur
A40: habilitation valable 1 an

Sheet RMA
C1: Habilitations | F1: FOR-199-Rev5
B4: Formateur : Romain MARQUEZ | E4: Statut : INTERNE
B6: CIN / nucléaire | D6: santé et Sécurité | F6: divers
A8: X | B8: SCN1 / RSCN1 | D8: Chariot élévateurs à conducteur porté catégorie 1,3 ou 5 -489 - Formateur / testeur | F8: Bien être - Communication
A10: X | B10: SCN2 / RSCN2 | D10: Nacelle (PEMP) 486 - Formateur / testeur | F10: Pédagogie
A12: X | B12: CSQ / RCSQ | D12: Habilitations électriques selon la norme NF C 18-510 | F12: Maitrise des référentiels CEFRI
B14: R commun SCN/CSQ | D14: Habilitation mécaniques (M0-M1 et/ou M2-MR) | F14: pratique de l'audit interne
B16: SSTN | D16: SST et MaC SST | F16: Formations PIAT
B18: RP1 / R RP1 | D18: Risques routiers | F18: Tuyauteurs
B20: RP2 / R RP2 | D20: Echafaudage fixe et roulant (montage, démontage, réception, conformité, utilisation) | F20: Robinetiers
B22: Passerelle RN | C22: X | D22: Travail en hauteur / port du harnais | F22: Soudeurs
B24: PR-CC Initial | C24: X | D24: Equipier de 1ère intervention et manipulation des extincteurs | F24: Ancrages 516
B26: PR-CC Recyclage & Passerelle | D26: PRAP / RPS | F26: Supportages 5428 - 5430
A28: X | B28: Assurance qualité niveau 3 (NT 85-114) | D28: Amiante SS4 | F28: Pose de chevilles en CNPE
B30: Assemblages boulonnés | D30: Pont roulant 484 | F30: ATEX 0/1
A32: X | B32: EPI (Heaume ventilé, TEV, ARI & masque à cartouche) CNPE | D32: AIPR | F32: EPI (CAVA / TEVA)
B34: Permis de feu | D34: Risques chimiques N1/ N2 | F34: Detection au ferroscan
A36: date et visa resp. pédagogique | C36: date et visa resp de centre | E36: date et visa du formateur
A40: habilitation valable 1 an

Sheet MNA
C1: Habilitations | F1: FOR-199-Rev5
B4: Formateur : NASRI Mahdi | E4: Statut : INTERNE
B6: CIN / nucléaire | D6: santé et Sécurité | F6: divers
B8: SCN1 / RSCN1 | D8: Chariot élévateurs à conducteur porté catégorie 1,3 ou 5 -489 - Formateur / testeur | F8: Bien être - Communication
B10: SCN2 / RSCN2 | D10: Nacelle (PEMP) 486 - Formateur / testeur | F10: Pédagogie
B12: CSQ / RCSQ | D12: Habilitations électriques selon la norme NF C 18-510 | F12: Maitrise des référentiels CEFRI
B14: R commun SCN/CSQ | D14: Habilitation mécaniques (M0-M1 et/ou M2-MR) | F14: pratique de l'audit interne
B16: SSTN | D16: SST et MaC SST | F16: Formations PIAT
B18: RP1 / R RP1 | D18: Risques routiers | F18: Tuyauteurs
B20: RP2 / R RP2 | D20: Echafaudage fixe et roulant (montage, démontage, réception, conformité, utilisation) | F20: Robinetiers
B22: Passerelle RN | D22: Travail en hauteur / port du harnais | F22: Soudeurs
B24: PR-CC Initial | D24: Equipier de 1ère intervention et manipulation des extincteurs | F24: Ancrages 516
B26: PR-CC Recyclage & Passerelle | D26: PRAP / RPS | F26: Supportages 5428 - 5430
B28: Assurance qualité niveau 3 (NT 85-114) | D28: Amiante SS4 | F28: Pose de chevilles en CNPE
... B34: Permis de feu | D34: Risques chimiques N1/ N2 | F34: Detection au ferroscan
A36: date et visa resp. pédagogique | C36: date et visa resp de centre | E36: date et visa du formateur
A40: habilitation valable 1 an

Sheet IHO
C1: Habilitations | F1: FOR-199-Rev5
B4: Formateur : HOUNAT Iliais | E4: Statut : INTERNE
B6: CIN / nucléaire | D6: santé et Sécurité | F6: divers
A8: X | B8: SCN1 / RSCN1 | D8: Chariot élévateurs à conducteur porté catégorie 1,3 ou 5 -489 - Formateur / testeur | F8: Bien être - Communication
B9: ECQ
B10: SCN2 / RSCN2 | D10: Nacelle (PEMP) 486 - Formateur / testeur | F10: Pédagogie
B12: CSQ / RCSQ | D12: Habilitations électriques selon la norme NF C 18-510 | F12: Maitrise des référentiels CEFRI
B14: R commun SCN/CSQ | D14: Habilitation mécaniques (M0-M1 et/ou M2-MR) | F14: pratique de l'audit interne
B16: SSTN | D16: SST et MaC SST | F16: Formations PIAT
B18: RP1 / R RP1 | D18: Risques routiers | F18: Tuyauteurs
B20: RP2 / R RP2 | D20: Echafaudage fixe et roulant (montage, démontage, réception, conformité, utilisation) | F20: Robinetiers
B22: Passerelle RN | D22: Travail en hauteur / port du harnais | F22: Soudeurs
B24: PR-CC Initial | D24: Equipier de 1ère intervention et manipulation des extincteurs | F24: Ancrages 516
B26: PR-CC Recyclage & Passerelle | D26: PRAP / RPS | F26: Supportages 5428 - 5430
B28: Assurance qualité niveau 3 (NT 85-114) | D28: Amiante SS4 | F28: Pose de chevilles en CNPE
B30: Assemblages boulonnés | D30: Pont roulant 484 | F30: ATEX 0/1
B32: EPI (Heaume ventilé, TEV, ARI & masque à cartouche) CNPE | D32: AIPR | F32: EPI (CAVA / TEVA)
B34: Permis de feu | D34: Risques chimiques N1/ N2 | F34: Detection au ferroscan
A36: date et visa resp. pédagogique | C36: date et visa resp de centre | E36: date et visa du formateur
A40: habilitation valable 1 an

Sheet PVE
C1: Habilitations | F1: FOR-199-Rev5
B4: Formateur : VEIRUN Philippe | E4: Statut : INTERNE
B6: CIN / nucléaire | D6: santé et Sécurité | F6: divers
A8: X | B8: SCN1 / RSCN1 | D8: Chariot élévateurs à conducteur porté catégorie 1,3 ou 5 -489 - Formateur / testeur | F8: Bien être - Communication
A10: X | B10: SCN2 / RSCN2 | D10: Nacelle (PEMP) 486 - Formateur / testeur | F10: Pédagogie
A12: X | B12: CSQ / RCSQ | D12: Habilitations électriques selon la norme NF C 18-510 | F12: Maitrise des référentiels CEFRI
A14: X | B14: R commun SCN/CSQ | D14: Habilitation mécaniques (M0-M1 et/ou M2-MR) | F14: pratique de l'audit interne
B16: SSTN | D16: SST et MaC SST | F16: Formations PIAT
A18: X | B18: RP1 / R RP1 | D18: Risques routiers | F18: Tuyauteurs
A20: X | B20: RP2 / R RP2 | C20: X | D20: Echafaudage fixe et roulant (montage, démontage, réception, conformité, utilisation) | F20: Robinetiers
B22: Passerelle RN | C22: X | D22: Travail en hauteur / port du harnais | F22: Soudeurs
B24: PR-CC Initial | D24: Equipier de 1ère intervention et manipulation des extincteurs | E24: X | F24: Ancrages 516
B26: PR-CC Recyclage & Passerelle | D26: PRAP / RPS | E26: X | F26: Supportages 5428 - 5430
B28: Assurance qualité niveau 3 (NT 85-114) | D28: Amiante SS4 | E28: X | F28: Pose de chevilles en CNPE
B30: Assemblages boulonnés | D30: Pont roulant 484 | F30: ATEX 0/1
B32: EPI (Heaume ventilé, TEV, ARI & masque à cartouche) CNPE | D32: AIPR | F32: EPI (CAVA / TEVA)
B34: Permis de feu | D34: Risques chimiques N1/ N2 | E34: X | F34: Detection au ferroscan
A36: date et visa resp. pédagogique | C36: date et visa resp de centre | E36: date et visa du formateur
A40: habilitation valable 1 an

Sheet CMA
C1: Habilitations | F1: FOR-199-Rev5
B4: Formateur : MARCHAND Cédric | E4: Statut : INTERNE
B6: CIN / nucléaire | D6: santé et Sécurité | F6: divers
A8: X | B8: SCN1 / RSCN1 | D8: Chariot élévateurs à conducteur porté catégorie 1,3 ou 5 -489 - Formateur / testeur | F8: Bien être - Communication
A10: X | B10: SCN2 / RSCN2 | D10: Nacelle (PEMP) 486 - Formateur / testeur | F10: Pédagogie
A12: X | B12: CSQ / RCSQ | C12: X | D12: Habilitations électriques selon la norme NF C 18-510 | F12: Maitrise des référentiels CEFRI
D13: B0 H0 H0V uniquement
A14: X | B14: R commun SCN/CSQ | C14: X | D14: Habilitation mécaniques (M0-M1 et/ou M2-MR) | F14: pratique de l'audit interne
B16: SSTN | D16: SST et MaC SST | F16: Formations PIAT
A18: X | B18: RP1 / R RP1 | D18: Risques routiers | F18: Tuyauteurs
A20: X | B20: RP2 / R RP2 | D20: Echafaudage fixe et roulant (montage, démontage, réception, conformité, utilisation) | F20: Robinetiers
A22: X | B22: Passerelle RN | D22: Travail en hauteur / port du harnais | F22: Soudeurs
A24: X | B24: PR-CC Initial | C24: X | D24: Equipier de 1ère intervention et manipulation des extincteurs | F24: Ancrages 516
A26: X | B26: PR-CC Recyclage & Passerelle | D26: PRAP / RPS | F26: Supportages 5428 - 5430
A28: X | B28: Assurance qualité niveau 3 (NT 85-114) | D28: Amiante SS4 | F28: Pose de chevilles en CNPE
A30: X | B30: Assemblages boulonnés | D30: Pont roulant 484 | F30: ATEX 0/1
A32: X | B32: EPI (Heaume ventilé, TEV, ARI & masque à cartouche) CNPE | D32: AIPR | F32: EPI (CAVA / TEVA)
B34: Permis de feu | D34: Risques chimiques N1/ N2 | F34: Detection au ferroscan
A36: date et visa resp. pédagogique | C36: date et visa resp de centre | E36: date et visa du formateur
A40: habilitation valable 1 an

Sheet FRI
C1: Habilitations | F1: FOR-199-Rev5
B4: Formateur : RICHARDSON Frédéric | E4: Statut : INTERNE
B6: CIN / nucléaire | D6: santé et Sécurité | F6: divers
A8: X | B8: SCN1 / RSCN1 | D8: Chariot élévateurs à conducteur porté catégorie 1,3 ou 5 -489 - Formateur / testeur | F8: Bien être - Communication
A10: X | B10: SCN2 / RSCN2 | D10: Nacelle (PEMP) 486 - Formateur / testeur | E10: X | F10: Pédagogie
F11: GA et Carrefour CIN
A12: X | B12: CSQ / RCSQ | C12: X | D12: Habilitations électriques selon la norme NF C 18-510 | F12: Maitrise des référentiels CEFRI
D13: B0 H0 H0V
A14: X | B14: R commun SCN/CSQ | C14: X | D14: Habilitation mécaniques (M0-M1 et/ou M2-MR) | F14: pratique de l'audit interne
B16: SSTN | D16: SST et MaC SST | F16: Formations PIAT
A18: X | B18: RP1 / R RP1 | D18: Risques routiers | F18: Tuyauteurs
A20: X | B20: RP2 / R RP2 | D20: Echafaudage fixe et roulant (montage, démontage, réception, conformité, utilisation) | F20: Robinetiers
B21: ECQ
B22: Passerelle RN | D22: Travail en hauteur / port du harnais | F22: Soudeurs
B24: PR-CC Initial | C24: X | D24: Equipier de 1ère intervention et manipulation des extincteurs | F24: Ancrages 516
B26: PR-CC Recyclage & Passerelle | D26: PRAP / RPS | F26: Supportages 5428 - 5430
A28: X | B28: Assurance qualité niveau 3 (NT 85-114) | D28: Amiante SS4 | F28: Pose de chevilles en CNPE
B30: Assemblages boulonnés | D30: Pont roulant 484 | F30: ATEX 0/1
A32: X | B32: EPI (Heaume ventilé, TEV, ARI & masque à cartouche) CNPE | D32: AIPR | F32: EPI (CAVA / TEVA)
B34: Permis de feu | D34: Risques chimiques N1/ N2 | F34: Detection au ferroscan
A36: date et visa resp. pédagogique | C36: date et visa resp de centre | E36: date et visa du formateur
A40: habilitation valable 1 an

Sheet MSA
C1: Habilitations | F1: FOR-199-Rev5
B4: Formateur : SANTO MARTINO Mickael | E4: Statut : INTERNE
B6: CIN / nucléaire | D6: santé et Sécurité | F6: divers
B8: SCN1 / RSCN1 | D8: Chariot élévateurs à conducteur porté catégorie 1,3 ou 5 -489 - Formateur / testeur | F8: Bien être - Communication
B10: SCN2 / RSCN2 | D10: Nacelle (PEMP) 486 - Formateur / testeur | F10: Pédagogie
B12: CSQ / RCSQ | D12: Habilitations électriques selon la norme NF C 18-510 | F12: Maitrise des référentiels CEFRI
B14: R commun SCN/CSQ | D14: Habilitation mécaniques (M0-M1 et/ou M2-MR) | F14: pratique de l'audit interne
B16: SSTN | D16: SST et MaC SST | F16: Formations PIAT
A18: X | B18: RP1 / R RP1 | D18: Risques routiers | F18: Tuyauteurs
A20: X | B20: RP2 / R RP2 | D20: Echafaudage fixe et roulant (montage, démontage, réception, conformité, utilisation) | F20: Robinetiers
A22: X | B22: Passerelle RN | D22: Travail en hauteur / port du harnais | F22: Soudeurs
A24: X | B24: PR-CC Initial | C24: X | D24: Equipier de 1ère intervention et manipulation des extincteurs | F24: Ancrages 516
A26: X | B26: PR-CC Recyclage & Passerelle | D26: PRAP / RPS | F26: Supportages 5428 - 5430
B28: Assurance qualité niveau 3 (NT 85-114) | D28: Amiante SS4 | F28: Pose de chevilles en CNPE
B30: Assemblages boulonnés | D30: Pont roulant 484 | F30: ATEX 0/1
A32: X | B32: EPI (Heaume ventilé, TEV, ARI & masque à cartouche) CNPE | D32: AIPR | F32: EPI (CAVA / TEVA)
B34: Permis de feu | D34: Risques chimiques N1/ N2 | F34: Detection au ferroscan
A36: date et visa resp. pédagogique | C36: date et visa resp de centre | E36: date et visa du formateur
A40: habilitation valable 1 an

Sheet SDU
C1: Habilitations | F1: FOR-199-Rev5
B4: Formateur : DUCATEZ Sebastien | E4: Statut : INTERNE
B6: CIN / nucléaire | D6: santé et Sécurité | F6: divers
A8: X | B8: SCN1 / RSCN1 | D8: Chariot élévateurs à conducteur porté catégorie 1,3 ou 5 -489 - Formateur / testeur | F8: Bien être - Communication
A10: X | B10: SCN2 / RSCN2 | D10: Nacelle (PEMP) 486 - Formateur / testeur | E10: X | F10: Pédagogie
F11: GA et Carrefour CIN
A12: X | B12: CSQ / RCSQ | C12: X | D12: Habilitations électriques selon la norme NF C 18-510 | F12: Maitrise des référentiels CEFRI
D13: B0 H0 H0V
A14: X | B14: R commun SCN/CSQ | C14: X | D14: Habilitation mécaniques (M0-M1 et/ou M2-MR) | F14: pratique de l'audit interne
B16: SSTN | C16: X | D16: SST et MaC SST | F16: Formations PIAT
A18: X | B18: RP1 / R RP1 | D18: Risques routiers | F18: Tuyauteurs
A20: X | B20: RP2 / R RP2 | D20: Echafaudage fixe et roulant (montage, démontage, réception, conformité, utilisation) | F20: Robinetiers
A22: X | B22: Passerelle RN | D22: Travail en hauteur / port du harnais | F22: Soudeurs
B24: PR-CC Initial | C24: X | D24: Equipier de 1ère intervention et manipulation des extincteurs | F24: Ancrages 516
B26: PR-CC Recyclage & Passerelle | D26: PRAP / RPS | F26: Supportages 5428 - 5430
A28: X | B28: Assurance qualité niveau 3 (NT 85-114) | D28: Amiante SS4 | F28: Pose de chevilles en CNPE
B30: Assemblages boulonnés | D30: Pont roulant 484 | F30: ATEX 0/1
A32: X | B32: EPI (Heaume ventilé, TEV, ARI & masque à cartouche) CNPE | D32: AIPR | E32: X | F32: EPI (CAVA / TEVA)
F33: ECQ
B34: Permis de feu | D34: Risques chimiques N1/ N2 | F34: Detection au ferroscan
A36: date et visa resp. pédagogique | C36: date et visa resp de centre | E36: date et visa du formateur
A40: habilitation valable 1 an

Sheet SHE
C1: Habilitations | F1: FOR-199-Rev5
B4: Formateur : HEYRAUD Stephen | E4: Statut : INTERNE
B6: CIN / nucléaire | D6: santé et Sécurité | F6: divers
A8: X | B8: SCN1 / RSCN1 | D8: Chariot élévateurs à conducteur porté catégorie 1,3 ou 5 -489 - Formateur / testeur | F8: Bien être - Communication
B9: RFIN à prévoir 2025
A10: X | B10: SCN2 / RSCN2 | D10: Nacelle (PEMP) 486 - Formateur / testeur | F10: Pédagogie
B11: RFIN à prévoir 2025
A12: X | B12: CSQ / RCSQ | C12: X | D12: Habilitations électriques selon la norme NF C 18-510 | F12: Maitrise des référentiels CEFRI
B13: RFIN à prévoir 2025 | D13: B0 H0 H0V
A14: X | B14: R commun SCN/CSQ | C14: X | D14: Habilitation mécaniques (M0-M1 et/ou M2-MR) | F14: pratique de l'audit interne
B15: RFIN à prévoir 2025
B16: SSTN | D16: SST et MaC SST | F16: Formations PIAT
A18: X | B18: RP1 / R RP1 | D18: Risques routiers | F18: Tuyauteurs
B19: RT RP à prévoir 2025
A20: X | B20: RP2 / R RP2 | D20: Echafaudage fixe et roulant (montage, démontage, réception, conformité, utilisation) | F20: Robinetiers
B21: RT RP à prévoir 2025
A22: X | B22: Passerelle RN | D22: Travail en hauteur / port du harnais | F22: Soudeurs
B24: PR-CC Initial | C24: X | D24: Equipier de 1ère intervention et manipulation des extincteurs | F24: Ancrages 516
B26: PR-CC Recyclage & Passerelle | D26: PRAP / RPS | F26: Supportages 5428 - 5430
B28: Assurance qualité niveau 3 (NT 85-114) | D28: Amiante SS4 | F28: Pose de chevilles en CNPE
B30: Assemblages boulonnés | D30: Pont roulant 484 | F30: ATEX 0/1
A32: X | B32: EPI (Heaume ventilé, TEV, ARI & masque à cartouche) CNPE | D32: AIPR | F32: EPI (CAVA / TEVA)
B34: Permis de feu | D34: Risques chimiques N1/ N2 | F34: Detection au ferroscan
A36: date et visa resp. pédagogique | C36: date et visa resp de centre | E36: date et visa du formateur
A40: habilitation valable 1 an

Sheet SRO
C1: Habilitations | F1: FOR-199-Rev5
B4: Formateur : ROBIN Stephane | E4: Statut : INTERNE
B6: CIN / nucléaire | D6: santé et Sécurité | F6: divers
B8: SCN1 / RSCN1 | D8: Chariot élévateurs à conducteur porté catégorie 1,3 ou 5 -489 - Formateur / testeur | F8: Bien être - Communication
B10: SCN2 / RSCN2 | D10: Nacelle (PEMP) 486 - Formateur / testeur | F10: Pédagogie
B12: CSQ / RCSQ | D12: Habilitations électriques selon la norme NF C 18-510 | F12: Maitrise des référentiels CEFRI
B14: R commun SCN/CSQ | D14: Habilitation mécaniques (M0-M1 et/ou M2-MR) | F14: pratique de l'audit interne
B16: SSTN | C16: X | D16: SST et MaC SST | F16: Formations PIAT
B18: RP1 / R RP1 | D18: Risques routiers | F18: Tuyauteurs
B20: RP2 / R RP2 | C20: X | D20: Echafaudage fixe et roulant (montage, démontage, réception, conformité, utilisation) | F20: Robinetiers
D21: Mod 1
B22: Passerelle RN | C22: X | D22: Travail en hauteur / port du harnais | F22: Soudeurs
B24: PR-CC Initial | C24: X | D24: Equipier de 1ère intervention et manipulation des extincteurs | F24: Ancrages 516
