Workbook
Name Présence: Base!$A$3:$A$5
Name Style: Liste!$A$1:$A$11

Sheet Intervenant
A9: Numéro d'affaire:
A11: Nom du projet
A14: Commune
A16: Maitre de l'ouvrage
A18: Type de séance | C18: Séance de chantier
A20: N° du PV | C20: 36
A21: Date et heure | C21: 14.05.2024 à 8h00
A22: Lieu | C22: Sur chantier
A23: Auteur du PV
A24: Prochaine séance | C24: 21.05.2024 à 8h00
A25: Code Cadenas | C25: 1964
A27: * P = présent, A = absent, E = excusé, C=convoqué prochaine séance
A28: CFC | B28: Corp d'état | C28: Entreprise | D28: Abréviation | E28: Prénom, Nom | F28: E-mail | G28: Téléphone | H28: Présent | I28: Convoqué | J28: Heure | K28: Diffusion PV
A30: Maitre d'ouvrage - Autorités
B32: Maitre de l'ouvrage | K32: X
K34: X
K36: X
K38: X
K40: X
A42: Services
B43: Thermoréseau | K43: x
B45: Electricité
B49: Eau potable
B51: Canalisations EU-EC
B53: Téléréseaux -FO
B55: Téléréseaux -FO
B57: Gaz
B59: Cuve à Mazout | K59: X
A61: Mandataires
A63: 291.1 | B63: Architecte
A65: 291.2 | B65: Direction des travaux
A67: 292 | B67: Ingénieur Civil
A69: 293 | B69: Ingénieur Eléctricien
A71: 294 | B71: Ingénieur CVS
A73: 297 | B73: Géomètre
A75: 297.1 | B75: Géologue
A77: 297.3 | B77: Ingénieur Physicien
A79: 297.4 | B79: Ingénieur Acoustique
A81: 298.5 | B81: Ingénieur Feu
A83: Entreprises
A85: 112 | B85: Démolitions intérieurs
A87: 135.1 | B87: Install provisoire Elec
A89: 135.3 | B89: Install provisoire Eau
A91: 171 | B91: Pieux
A93: 201-211 | B93: Terrassement et BA
A95: 213 | B95: Charpente métallique
A97: 214 | B97: Charpente Bois
A99: 219 | B99: Echafaudages
A101: 221 | B101: Menuiserie Exterieurs
A103: 222-224 | B103: Ferblanterie et couverture
A105: 226 | B105: Crépissage Façade
A107: 230 | B107: Installation Electrique
A109: 242 | B109: Installation Chauffage
B110: MCR
A112: 244 | B112: Installation Ventilation
A114: 250 | B114: Installation Sanitaire
A116: 261 | B116: Ascenseur
A118: 271-285 | B118: Platrerie/Peinture
A120: 273 | B120: Menuiserie intérieur
A122: 274 | B122: Cloisons en verre
A124: 277.2 | B124: Cloison intérieures en bois
A126: 281.0 | B126: Chapes
A128: 281.1 | B128: Revêtement de sol
A130: 281.6 | B130: Carrelage et revêtement
A132: 285 | B132: Peinture intérieure

Sheet Généralité
A1: Ma | B1: Pos | C1: Ind | D1: N° | E1: Libellé | F1: Resp. Conc. | G1: Délai | H1: Style | I1: Caché
A2: 0 | B2: 0 | C2: =IF(H2="Titre","a",IF(H2="Mandataire","",CHAR(CODE(C1)+1))) | D2: =IF(A2&B2=A1&B1,"",A2&"."&B2) -> 0.0 | E2: Généralité | H2: Mandataire
A3: 0 | B3: 1 | C3: 0 | D3: =IF(A3&B3=A2&B2,"",A3&"."&B3) -> 0.1 | E3: Approbation PV | H3: Titre
A4: 0 | B4: 1 | C4: 1 | D4: =Tableau14[[#This Row],[Ind]] -> 1 | E4: Sans remarque dans les 5 jours après réception, le présent PV est considéré comme accepté
A5: 0 | B5: 1 | C5: 2 | D5: =Tableau14[[#This Row],[Ind]] -> 2 | E5: Toutes les personnes sont priées de lire le PV en entier et de rester attentif à la colonne des responsables.
A6: 0 | B6: 1 | C6: 3 | D6: =Tableau14[[#This Row],[Ind]] -> 3 | E6: Remaques PV précédent :
A7: 0 | B7: 1 | C7: 4
A8: 0 | B8: 2 | C8: 0 | D8: =IF(A8&B8=A7&B7,"",A8&"."&B8) -> 0.2 | E8: Ordre du jour | H8: Titre
A9: 0 | B9: 2 | C9: 1 | D9: =Tableau14[[#This Row],[Ind]] -> 1 | E9: Coordination entreprise
A10: 0 | B10: 2 | C10: 2 | D10: =Tableau14[[#This Row],[Ind]] -> 2 | E10: Plannification chantier.
A11: 0 | B11: 3 | C11: 0 | D11: =IF(A11&B11=A10&B10,"",A11&"."&B11) -> 0.3 | E11: Accès au chantier | H11: Titre
A12: 0 | B12: 3 | C12: 1 | D12: =Tableau14[[#This Row],[Ind]] -> 1 | E12: Code des cadenas pour rentrer sur le chantier: 1964.
A13: 0 | B13: 3 | C13: 2
A14: 0 | B14: 4 | C14: 0 | D14: =IF(A14&B14=A10&B10,"",A14&"."&B14) -> 0.4 | E14: Légende du PV | H14: Titre
A15: 0 | B15: 4 | C15: 1 | D15: =Tableau14[[#This Row],[Ind]] -> 1 | E15: Nouveau point au PV | H15: Nouveau
A16: 0 | B16: 4 | C16: 2 | D16: =Tableau14[[#This Row],[Ind]] -> 2 | E16: Point en cours
A17: 0 | B17: 4 | C17: 3 | D17: =Tableau14[[#This Row],[Ind]] -> 3 | E17: Point important / décision | H17: Important
A18: 0 | B18: 4 | C18: 4 | D18: =Tableau14[[#This Row],[Ind]] -> 4 | E18: Point TERMINE | H18: Fini
A19: 0 | B19: 4 | C19: 5 | D19: =Tableau14[[#This Row],[Ind]] -> 5 | E19: Point important / décision TERMINE | H19: ImportantFini
A20: 0 | B20: 4 | C20: 6
A21: 0 | B21: 5 | C21: =IF(H21="Titre","0",IF(H21="Mandataire","",CHAR(CODE(#REF!)+1))) -> 0 | D21: =IF(A21&B21=A20&B20,"",A21&"."&B21) -> 0.5 | E21: Facturation | H21: Titre
A22: 0 | B22: 5 | C22: 1 | D22: =Tableau14[[#This Row],[Ind]] -> 1 | E22: Toutes les factures/situations doivent indiquer rabais, escompte, prorata, assurance et retenue de garantie. Elles seront libellées au nom du maître de l'ouvrage. Commune de
A23: 0 | B23: 5 | C23: 2 | D23: =Tableau14[[#This Row],[Ind]] -> 2 | E23: Et envoyées au bureau . Une copie de la facture sera transmise au bureau mandataire concerné soit:
A24: 0 | B24: 5 | C24: 3 | D24: =Tableau14[[#This Row],[Ind]] -> 3 | E24: - Démolition, Maçonnerie, Charpente bois: - Installation Eléctrique: - Installation Chauffage, Ventilation, Sanitaire: - Tous les autres corps d'états:
A25: 0 | B25: 5 | C25: 4 | D25: =Tableau14[[#This Row],[Ind]] -> 4 | E25: Les bureaux concernés transmettront les factures au bureau pour suivie financier et contrôle des coûts.
A26: 0 | B26: 6 | C26: 0 | D26: =IF(A26&B26=A25&B25,"",A26&"."&B26) -> 0.6 | E26: Généralités | H26: Titre 1
A27: 0 | B27: 6 | C27: 1 | D27: =Tableau14[[#This Row],[Ind]] -> 1 | E27: Horaire de travail: 7h00-12h00 / 13h00- 18h00
A28: 0 | B28: 6 | C28: 2 | D28: =Tableau14[[#This Row],[Ind]] -> 2 | E28: Propreté: - Chaque entreprise est tenue d’évacuer, à ses frais et par ses propres moyens, les déchets générés par son intervention - Le chantier doit être tenu en permanence propre et sécurisé
A29: 0 | B29: 6 | C29: 3 | D29: =Tableau14[[#This Row],[Ind]] -> 3 | E29: L’accès au chantier par camion se fera exclusivement par la rue du dans le sens de circulation - .
A30: 0 | B30: 6 | C30: 4 | D30: =Tableau14[[#This Row],[Ind]] -> 4 | E30: Les portails d'accès au chantier seront maintenus en permanence libres.
A31: 0 | B31: 6 | C31: 5 | D31: =Tableau14[[#This Row],[Ind]] -> 5 | E31: Les entreprises sont tenues de respecter le tonnage des voies de circulation communale en vigueur.
A32: 0 | B32: 7 | C32: =IF(H32="Titre","0",IF(H32="Mandataire","",CHAR(CODE(#REF!)+1))) -> 0 | D32: =IF(A32&B32=A31&B31,"",A32&"."&B32) -> 0.7 | E32: Effectifs | H32: Titre
A33: 0 | B33: 7 | C33: 1 | D33: =Tableau14[[#This Row],[Ind]] -> 1 | E33: - : 0
A34: 0 | B34: 7 | C34: 2 | D34: =Tableau14[[#This Row],[Ind]] -> 2 | E34: - A : 0
A35: 0 | B35: 7 | C35: 3 | D35: =Tableau14[[#This Row],[Ind]] -> 3 | E35: - A : 7
A36: 0 | B36: 7 | C36: 4 | D36: =Tableau14[[#This Row],[Ind]] -> 4 | E36: - : 0
A37: 0 | B37: 7 | C37: 5 | D37: =Tableau14[[#This Row],[Ind]] -> 5 | E37: - G : 0
A38: 0 | B38: 7 | C38: 6 | D38: =Tableau14[[#This Row],[Ind]] -> 6 | E38: - Da : 0
A39: 0 | B39: 7 | C39: 7 | D39: =IF(A39&B39=A35&B35,"",A39&"."&B39)
A40: 0 | B40: 8 | C40: =IF(H40="Titre","0",IF(H40="Mandataire","",CHAR(CODE(#REF!)+1))) -> 0 | D40: =IF(A40&B40=A34&B34,"",A40&"."&B40) -> 0.8 | E40: Météo | H40: Titre
A41: 0 | B41: 8 | C41: 1 | D41: =IF(A41&B41=A40&B40,"",A41&"."&B41)
C42: =IF(H42="Titre","a",IF(H42="Mandataire","",CHAR(CODE(C41)+1))) -> 2 | D42: =IF(A42&B42=A41&B41,"",A42&"."&B42) -> .
A43: 0 | B43: 9 | C43: 0 | D43: =IF(A43&B43=A42&B42,"",A43&"."&B43) -> 0.9 | E43: Transmission de documents | H43: Titre
A44: 0 | B44: 9 | C44: 1 | D44: =C44 -> 1 | E44: Planning à jour de l'entreprise de maçonnerie
A45: 0 | B45: 9 | C45: 2 | D45: =C45 -> 2
A46: 0 | B46: 9 | C46: 3 | D46: =C46 -> 3
A47: 0 | B47: 9 | C47: 4 | D47: =C47 -> 4
D48: =IF(A48&B48=A47&B47,"",A48&"."&B48) -> .
D49: =IF(A49&B49=A48&B48,"",A49&"."&B49)
D50: =IF(A50&B50=A49&B49,"",A50&"."&B50)
D51: =IF(A51&B51=A50&B50,"",A51&"."&B51)
D52: =IF(A52&B52=A51&B51,"",A52&"."&B52)
D53: =IF(A53&B53=A52&B52,"",A53&"."&B53)

Sheet PV
A1: N° | B1: Séance du | C1: Libellé | D1: Resp. Conc. | E1: Début | F1: Fin-Délai | G1: Etat | H1: Style | I1: Caché | J1: Niveau source | K1: N° Mandataire | L1: N° Titre 1 | M1: N° Titre 2 | N1: Clé parent | O1: N° Elément
A2: =IF(Tableau1[[#This Row],[Niveau source]]=1,Tableau1[[#This Row],[N° Mandataire]], IF(Tableau1[[#This Row],[Niveau source]]=2,Tableau1[[#This Row],[N° Titre 1]], IF(Tableau1[[#This Row],[Niveau source]]=3,Tableau1[[#This Row],[N° Titre 2]], IF(Tableau1[[#This Row],[Niveau source]]=4,Tableau1[[#This Row],[N° Elément]],"")))) -> 1 | C2: Information générale | H2: Mandataire | J2: =IF(Tableau1[[#This Row],[Style]]="","",VLOOKUP(Tableau1[[#This Row],[Style]],Liste!$A$1:$B$11,2,FALSE)) -> 1 | K2: =COUNTIF($J$2:J2,J2)*(J2=1) -> 1 | L2: =COUNTIF($J$2:J2,J2)*(J2=2) -> 0 | M2: =COUNTIF($J$2:J2,J2)*(J2=3) -> 0
A3: =IF(Tableau1[[#This Row],[Niveau source]]=1,Tableau1[[#This Row],[N° Mandataire]], IF(Tableau1[[#This Row],[Niveau source]]=2,Tableau1[[#This Row],[N° Titre 1]], IF(Tableau1[[#This Row],[Niveau source]]=3,Tableau1[[#This Row],[N° Titre 2]], IF(Tableau1[[#This Row],[Niveau source]]=4,Tableau1[[#This Row],[N° Elément]],"")))) -> 1 | C3: Planification générale des travaux | H3: Titre 1 | J3: =IF(Tableau1[[#This Row],[Style]]="","",VLOOKUP(Tableau1[[#This Row],[Style]],Liste!$A$1:$B$11,2,FALSE)) -> 2 | K3: =COUNTIF($J$2:J3,J3)*(J3=1) -> 0 | L3: =COUNTIF($J$2:J3,J3)*(J3=2) -> 1 | M3: =COUNTIF($J$2:J3,J3)*(J3=3) -> 0
A4: =IF(Tableau1[[#This Row],[Niveau source]]=1,Tableau1[[#This Row],[N° Mandataire]], IF(Tableau1[[#This Row],[Niveau source]]=2,Tableau1[[#This Row],[N° Titre 1]], IF(Tableau1[[#This Row],[Niveau source]]=3,Tableau1[[#This Row],[N° Titre 2]], IF(Tableau1[[#This Row],[Niveau source]]=4,Tableau1[[#This Row],[N° Elément]],"")))) -> 0 | C4: Démoltions intérieurs - Désamiantage | G4: Terminé | H4: En cours | J4: =IF(Tableau1[[#This Row],[Style]]="","",VLOOKUP(Tableau1[[#This Row],[Style]],Liste!$A$1:$B$11,2,FALSE)) -> 4 | K4: =COUNTIF($J$2:J4,J4)*(J4=1) -> 0 | L4: =COUNTIF($J$2:J4,J4)*(J4=2) -> 0 | M4: =COUNTIF($J$2:J4,J4)*(J4=3) -> 0
A5: =IF(Tableau1[[#This Row],[Niveau source]]=1,Tableau1[[#This Row],[N° Mandataire]], IF(Tableau1[[#This Row],[Niveau source]]=2,Tableau1[[#This Row],[N° Titre 1]], IF(Tableau1[[#This Row],[Niveau source]]=3,Tableau1[[#This Row],[N° Titre 2]], IF(Tableau1[[#This Row],[Niveau source]]=4,Tableau1[[#This Row],[N° Elément]],"")))) -> 0 | C5: Gros œuvre (Démolitions, Béton, Bois) | E5: 45231 | F5: 45566 | H5: En cours | J5: =IF(Tableau1[[#This Row],[Style]]="","",VLOOKUP(Tableau1[[#This Row],[Style]],Liste!$A$1:$B$11,2,FALSE)) -> 4 | K5: =COUNTIF($J$2:J5,J5)*(J5=1) -> 0 | L5: =COUNTIF($J$2:J5,J5)*(J5=2) -> 0 | M5: =COUNTIF($J$2:J5,J5)*(J5=3) -> 0
A6: =IF(Tableau1[[#This Row],[Niveau source]]=1,Tableau1[[#This Row],[N° Mandataire]], IF(Tableau1[[#This Row],[Niveau source]]=2,Tableau1[[#This Row],[N° Titre 1]], IF(Tableau1[[#This Row],[Niveau source]]=3,Tableau1[[#This Row],[N° Titre 2]], IF(Tableau1[[#This Row],[Niveau source]]=4,Tableau1[[#This Row],[N° Elément]],"")))) -> 0 | C6: Charpente toiture | F6: 45597 | H6: En cours | J6: =IF(Tableau1[[#This Row],[Style]]="","",VLOOKUP(Tableau1[[#This Row],[Style]],Liste!$A$1:$B$11,2,FALSE)) -> 4 | K6: =COUNTIF($J$2:J6,J6)*(J6=1) -> 0 | L6: =COUNTIF($J$2:J6,J6)*(J6=2) -> 0 | M6: =COUNTIF($J$2:J6,J6)*(J6=3) -> 0
A7: =IF(Tableau1[[#This Row],[Niveau source]]=1,Tableau1[[#This Row],[N° Mandataire]], IF(Tableau1[[#This Row],[Niveau source]]=2,Tableau1[[#This Row],[N° Titre 1]], IF(Tableau1[[#This Row],[Niveau source]]=3,Tableau1[[#This Row],[N° Titre 2]], IF(Tableau1[[#This Row],[Niveau source]]=4,Tableau1[[#This Row],[N° Elément]],"")))) -> 0 | C7: Mise hors d'eau du bâtiment | F7: 45627 | H7: En cours | J7: =IF(Tableau1[[#This Row],[Style]]="","",VLOOKUP(Tableau1[[#This Row],[Style]],Liste!$A$1:$B$11,2,FALSE)) -> 4 | K7: =COUNTIF($J$2:J7,J7)*(J7=1) -> 0 | L7: =COUNTIF($J$2:J7,J7)*(J7=2) -> 0 | M7: =COUNTIF($J$2:J7,J7)*(J7=3) -> 0
A8: =IF(Tableau1[[#This Row],[Niveau source]]=1,Tableau1[[#This Row],[N° Mandataire]], IF(Tableau1[[#This Row],[Niveau source]]=2,Tableau1[[#This Row],[N° Titre 1]], IF(Tableau1[[#This Row],[Niveau source]]=3,Tableau1[[#This Row],[N° Titre 2]], IF(Tableau1[[#This Row],[Niveau source]]=4,Tableau1[[#This Row],[N° Elément]],"")))) -> 0 | C8: Réception de l'ouvrage | F8: 45901 | H8: En cours | J8: =IF(Tableau1[[#This Row],[Style]]="","",VLOOKUP(Tableau1[[#This Row],[Style]],Liste!$A$1:$B$11,2,FALSE)) -> 4 | K8: =COUNTIF($J$2:J8,J8)*(J8=1) -> 0 | L8: =COUNTIF($J$2:J8,J8)*(J8=2) -> 0 | M8: =COUNTIF($J$2:J8,J8)*(J8=3) -> 0
A9: =IF(Tableau1[[#This Row],[Niveau source]]=1,Tableau1[[#This Row],[N° Mandataire]], IF(Tableau1[[#This Row],[Niveau source]]=2,Tableau1[[#This Row],[N° Titre 1]], IF(Tableau1[[#This Row],[Niveau source]]=3,Tableau1[[#This Row],[N° Titre 2]], IF(Tableau1[[#This Row],[Niveau source]]=4,Tableau1[[#This Row],[N° Elément]],"")))) -> 0 | C9: Planification travaux détaillé | H9: En cours | J9: =IF(Tableau1[[#This Row],[Style]]="","",VLOOKUP(Tableau1[[#This Row],[Style]],Liste!$A$1:$B$11,2,FALSE)) -> 4 | K9: =COUNTIF($J$2:J9,J9)*(J9=1) -> 0 | L9: =COUNTIF($J$2:J9,J9)*(J9=2) -> 0 | M9: =COUNTIF($J$2:J9,J9)*(J9=3) -> 0
A10: =IF(Tableau1[[#This Row],[Niveau source]]=1,Tableau1[[#This Row],[N° Mandataire]], IF(Tableau1[[#This Row],[Niveau source]]=2,Tableau1[[#This Row],[N° Titre 1]], IF(Tableau1[[#This Row],[Niveau source]]=3,Tableau1[[#This Row],[N° Titre 2]], IF(Tableau1[[#This Row],[Niveau source]]=4,Tableau1[[#This Row],[N° Elément]],"")))) -> 0 | C10: Démolitions intérieurs - 2ème étage | F10: 45044 | H10: En cours | J10: =IF(Tableau1[[#This Row],[Style]]="","",VLOOKUP(Tableau1[[#This Row],[Style]],Liste!$A$1:$B$11,2,FALSE)) -> 4 | K10: =COUNTIF($J$2:J10,J10)*(J10=1) -> 0 | L10: =COUNTIF($J$2:J10,J10)*(J10=2) -> 0 | M10: =COUNTIF($J$2:J10,J10)*(J10=3) -> 0
A11: =IF(Tableau1[[#This Row],[Niveau source]]=1,Tableau1[[#This Row],[N° Mandataire]], IF(Tableau1[[#This Row],[Niveau source]]=2,Tableau1[[#This Row],[N° Titre 1]], IF(Tableau1[[#This Row],[Niveau source]]=3,Tableau1[[#This Row],[N° Titre 2]], IF(Tableau1[[#This Row],[Niveau source]]=4,Tableau1[[#This Row],[N° Elément]],"")))) -> 0 | C11: Démolitions intérieurs - 1er étage et RDC | F11: 45056 | H11: En cours | J11: =IF(Tableau1[[#This Row],[Style]]="","",VLOOKUP(Tableau1[[#This Row],[Style]],Liste!$A$1:$B$11,2,FALSE)) -> 4 | K11: =COUNTIF($J$2:J11,J11)*(J11=1) -> 0 | L11: =COUNTIF($J$2:J11,J11)*(J11=2) -> 0 | M11: =COUNTIF($J$2:J11,J11)*(J11=3) -> 0
A12: =IF(Tableau1[[#This Row],[Niveau source]]=1,Tableau1[[#This Row],[N° Mandataire]], IF(Tableau1[[#This Row],[Niveau source]]=2,Tableau1[[#This Row],[N° Titre 1]], IF(Tableau1[[#This Row],[Niveau source]]=3,Tableau1[[#This Row],[N° Titre 2]], IF(Tableau1[[#This Row],[Niveau source]]=4,Tableau1[[#This Row],[N° Elément]],"")))) -> 0 | C12: Démolitions intérieurs - Sous sol | F12: 45063 | H12: En cours | J12: =IF(Tableau1[[#This Row],[Style]]="","",VLOOKUP(Tableau1[[#This Row],[Style]],Liste!$A$1:$B$11,2,FALSE)) -> 4 | K12: =COUNTIF($J$2:J12,J12)*(J12=1) -> 0 | L12: =COUNTIF($J$2:J12,J12)*(J12=2) -> 0 | M12: =COUNTIF($J$2:J12,J12)*(J12=3) -> 0
A13: =IF(Tableau1[[#This Row],[Niveau source]]=1,Tableau1[[#This Row],[N° Mandataire]], IF(Tableau1[[#This Row],[Niveau source]]=2,Tableau1[[#This Row],[N° Titre 1]], IF(Tableau1[[#This Row],[Niveau source]]=3,Tableau1[[#This Row],[N° Titre 2]], IF(Tableau1[[#This Row],[Niveau source]]=4,Tableau1[[#This Row],[N° Elément]],"")))) -> 0 | C13: Garage box: Evacuation de tout le mobilier | F13: 45063 | H13: En cours | J13: =IF(Tableau1[[#This Row],[Style]]="","",VLOOKUP(Tableau1[[#This Row],[Style]],Liste!$A$1:$B$11,2,FALSE)) -> 4 | K13: =COUNTIF($J$2:J13,J13)*(J13=1) -> 0 | L13: =COUNTIF($J$2:J13,J13)*(J13=2) -> 0 | M13: =COUNTIF($J$2:J13,J13)*(J13=3) -> 0
A14: =IF(Tableau1[[#This Row],[Niveau source]]=1,Tableau1[[#This Row],[N° Mandataire]], IF(Tableau1[[#This Row],[Niveau source]]=2,Tableau1[[#This Row],[N° Titre 1]], IF(Tableau1[[#This Row],[Niveau source]]=3,Tableau1[[#This Row],[N° Titre 2]], IF(Tableau1[[#This Row],[Niveau source]]=4,Tableau1[[#This Row],[N° Elément]],"")))) -> 2 | C14: Autorités / Propriétaires / Services. | H14: Mandataire | J14: =IF(Tableau1[[#This Row],[Style]]="","",VLOOKUP(Tableau1[[#This Row],[Style]],Liste!$A$1:$B$11,2,FALSE)) -> 1 | K14: =COUNTIF($J$2:J14,J14)*(J14=1) -> 2 | L14: =COUNTIF($J$2:J14,J14)*(J14=2) -> 0 | M14: =COUNTIF($J$2:J14,J14)*(J14=3) -> 0
A15: =IF(Tableau1[[#This Row],[Niveau source]]=1,Tableau1[[#This Row],[N° Mandataire]], IF(Tableau1[[#This Row],[Niveau source]]=2,Tableau1[[#This Row],[N° Titre 1]], IF(Tableau1[[#This Row],[Niveau source]]=3,Tableau1[[#This Row],[N° Titre 2]], IF(Tableau1[[#This Row],[Niveau source]]=4,Tableau1[[#This Row],[N° Elément]],"")))) -> 2 | C15: Maitre de l'ouvrage: | H15: Titre 1 | J15: =IF(Tableau1[[#This Row],[Style]]="","",VLOOKUP(Tableau1[[#This Row],[Style]],Liste!$A$1:$B$11,2,FALSE)) -> 2 | K15: =COUNTIF($J$2:J15,J15)*(J15=1) -> 0 | L15: =COUNTIF($J$2:J15,J15)*(J15=2) -> 2 | M15: =COUNTIF($J$2:J15,J15)*(J15=3) -> 0
A16: =IF(Tableau1[[#This Row],[Niveau source]]=1,Tableau1[[#This Row],[N° Mandataire]], IF(Tableau1[[#This Row],[Niveau source]]=2,Tableau1[[#This Row],[N° Titre 1]], IF(Tableau1[[#This Row],[Niveau source]]=3,Tableau1[[#This Row],[N° Titre 2]], IF(Tableau1[[#This Row],[Niveau source]]=4,Tableau1[[#This Row],[N° Elément]],"")))) -> 0 | B16: 45237 | C16: Signature contrat CFC112 | D16: MO | F16: De suite | H16: Nouveau | J16: =IF(Tableau1[[#This Row],[Style]]="","",VLOOKUP(Tableau1[[#This Row],[Style]],Liste!$A$1:$B$11,2,FALSE)) -> 4 | K16: =COUNTIF($J$2:J16,J16)*(J16=1) -> 0 | L16: =COUNTIF($J$2:J16,J16)*(J16=2) -> 0 | M16: =COUNTIF($J$2:J16,J16)*(J16=3) -> 0
A17: =IF(Tableau1[[#This Row],[Niveau source]]=1,Tableau1[[#This Row],[N° Mandataire]], IF(Tableau1[[#This Row],[Niveau source]]=2,Tableau1[[#This Row],[N° Titre 1]], IF(Tableau1[[#This Row],[Niveau source]]=3,Tableau1[[#This Row],[N° Titre 2]], IF(Tableau1[[#This Row],[Niveau source]]=4,Tableau1[[#This Row],[N° Elément]],"")))) -> 0 | B17: 45238 | C17: Installer cadenas à code sur les 2 portails qui seront posées par | D17: MO | F17: A suivre | H17: Nouveau | J17: =IF(Tableau1[[#This Row],[Style]]="","",VLOOKUP(Tableau1[[#This Row],[Style]],Liste!$A$1:$B$11,2,FALSE)) -> 4 | K17: =COUNTIF($J$2:J17,J17)*(J17=1) -> 0 | L17: =COUNTIF($J$2:J17,J17)*(J17=2) -> 0 | M17: =COUNTIF($J$2:J17,J17)*(J17=3) -> 0
A18: =IF(Tableau1[[#This Row],[Niveau source]]=1,Tableau1[[#This Row],[N° Mandataire]], IF(Tableau1[[#This Row],[Niveau source]]=2,Tableau1[[#This Row],[N° Titre 1]], IF(Tableau1[[#This Row],[Niveau source]]=3,Tableau1[[#This Row],[N° Titre 2]], IF(Tableau1[[#This Row],[Niveau source]]=4,Tableau1[[#This Row],[N° Elément]],"")))) -> 0 | B18: 45239 | C18: MO confirme l'enlèvement et la mise en décharge de tous les stores exterieurs des fenêtres du RDC | D18: MO | G18: Infos | H18: Important | J18: =IF(Tableau1[[#This Row],[Style]]="","",VLOOKUP(Tableau1[[#This Row],[Style]],Liste!$A$1:$B$11,2,FALSE)) -> 4 | K18: =COUNTIF($J$2:J18,J18)*(J18=1) -> 0 | L18: =COUNTIF($J$2:J18,J18)*(J18=2) -> 0 | M18: =COUNTIF($J$2:J18,J18)*(J18=3) -> 0
A19: =IF(Tableau1[[#This Row],[Niveau source]]=1,Tableau1[[#This Row],[N° Mandataire]], IF(Tableau1[[#This Row],[Niveau source]]=2,Tableau1[[#This Row],[N° Titre 1]], IF(Tableau1[[#This Row],[Niveau source]]=3,Tableau1[[#This Row],[N° Titre 2]], IF(Tableau1[[#This Row],[Niveau source]]=4,Tableau1[[#This Row],[N° Elément]],"")))) -> 0 | B19: 45240 | C19: Mise en dépôt de toutes les menuiseries qui seront réutilisés dans l'ancienne Hall de stockage IME. La paroi bois intérieur sera démontée par BTSA | D19: MO | G19: Infos | H19: Important | J19: =IF(Tableau1[[#This Row],[Style]]="","",VLOOKUP(Tableau1[[#This Row],[Style]],Liste!$A$1:$B$11,2,FALSE)) -> 4 | K19: =COUNTIF($J$2:J19,J19)*(J19=1) -> 0 | L19: =COUNTIF($J$2:J19,J19)*(J19=2) -> 0 | M19: =COUNTIF($J$2:J19,J19)*(J19=3) -> 0
A20: =IF(Tableau1[[#This Row],[Niveau source]]=1,Tableau1[[#This Row],[N° Mandataire]], IF(Tableau1[[#This Row],[Niveau source]]=2,Tableau1[[#This Row],[N° Titre 1]], IF(Tableau1[[#This Row],[Niveau source]]=3,Tableau1[[#This Row],[N° Titre 2]], IF(Tableau1[[#This Row],[Niveau source]]=4,Tableau1[[#This Row],[N° Elément]],"")))) -> 3 | C20: Thermoréseau: | H20: Titre 1 | J20: =IF(Tableau1[[#This Row],[Style]]="","",VLOOKUP(Tableau1[[#This Row],[Style]],Liste!$A$1:$B$11,2,FALSE)) -> 2 | K20: =COUNTIF($J$2:J20,J20)*(J20=1) -> 0 | L20: =COUNTIF($J$2:J20,J20)*(J20=2) -> 3 | M20: =COUNTIF($J$2:J20,J20)*(J20=3) -> 0
A21: =IF(Tableau1[[#This Row],[Niveau source]]=1,Tableau1[[#This Row],[N° Mandataire]], IF(Tableau1[[#This Row],[Niveau source]]=2,Tableau1[[#This Row],[N° Titre 1]], IF(Tableau1[[#This Row],[Niveau source]]=3,Tableau1[[#This Row],[N° Titre 2]], IF(Tableau1[[#This Row],[Niveau source]]=4,Tableau1[[#This Row],[N° Elément]],"")))) -> 0 | H21: En cours fini | J21: =IF(Tableau1[[#This Row],[Style]]="","",VLOOKUP(Tableau1[[#This Row],[Style]],Liste!$A$1:$B$11,2,FALSE)) -> 4 | K21: =COUNTIF($J$2:J21,J21)*(J21=1) -> 0 | L21: =COUNTIF($J$2:J21,J21)*(J21=2) -> 0 | M21: =COUNTIF($J$2:J21,J21)*(J21=3) -> 0
A22: =IF(Tableau1[[#This Row],[Niveau source]]=1,Tableau1[[#This Row],[N° Mandataire]], IF(Tableau1[[#This Row],[Niveau source]]=2,Tableau1[[#This Row],[N° Titre 1]], IF(Tableau1[[#This Row],[Niveau source]]=3,Tableau1[[#This Row],[N° Titre 2]], IF(Tableau1[[#This Row],[Niveau source]]=4,Tableau1[[#This Row],[N° Elément]],"")))) -> 0 | H22: Nouveau | J22: =IF(Tableau1[[#This Row],[Style]]="","",VLOOKUP(Tableau1[[#This Row],[Style]],Liste!$A$1:$B$11,2,FALSE)) -> 4 | K22: =COUNTIF($J$2:J22,J22)*(J22=1) -> 0 | L22: =COUNTIF($J$2:J22,J22)*(J22=2) -> 0 | M22: =COUNTIF($J$2:J22,J22)*(J22=3) -> 0
A23: =IF(Tableau1[[#This Row],[Niveau source]]=1,Tableau1[[#This Row],[N° Mandataire]], IF(Tableau1[[#This Row],[Niveau source]]=2,Tableau1[[#This Row],[N° Titre 1]], IF(Tableau1[[#This Row],[Niveau source]]=3,Tableau1[[#This Row],[N° Titre 2]], IF(Tableau1[[#This Row],[Niveau source]]=4,Tableau1[[#This Row],[N° Elément]],"")))) -> 4 | C23: Service Eletrique: | H23: Titre 1 | J23: =IF(Tableau1[[#This Row],[Style]]="","",VLOOKUP(Tableau1[[#This Row],[Style]],Liste!$A$1:$B$11,2,FALSE)) -> 2 | K23: =COUNTIF($J$2:J23,J23)*(J23=1) -> 0 | L23: =COUNTIF($J$2:J23,J23)*(J23=2) -> 4 | M23: =COUNTIF($J$2:J23,J23)*(J23=3) -> 0
A24: =IF(Tableau1[[#This Row],[Niveau source]]=1,Tableau1[[#This Row],[N° Mandataire]], IF(Tableau1[[#This Row],[Niveau source]]=2,Tableau1[[#This Row],[N° Titre 1]], IF(Tableau1[[#This Row],[Niveau source]]=3,Tableau1[[#This Row],[N° Titre 2]], IF(Tableau1[[#This Row],[Niveau source]]=4,Tableau1[[#This Row],[N° Elément]],"")))) -> 0 | H24: En cours fini | J24: =IF(Tableau1[[#This Row],[Style]]="","",VLOOKUP(Tableau1[[#This Row],[Style]],Liste!$A$1:$B$11,2,FALSE)) -> 4 | K24: =COUNTIF($J$2:J24,J24)*(J24=1) -> 0 | L24: =COUNTIF($J$2:J24,J24)*(J24=2) -> 0 | M24: =COUNTIF($J$2:J24,J24)*(J24=3) -> 0
A25: =IF(Tableau1[[#This Row],[Niveau source]]=1,Tableau1[[#This Row],[N° Mandataire]], IF(Tableau1[[#This Row],[Niveau source]]=2,Tableau1[[#This Row],[N° Titre 1]], IF(Tableau1[[#This Row],[Niveau source]]=3,Tableau1[[#This Row],[N° Titre 2]], IF(Tableau1[[#This Row],[Niveau source]]=4,Tableau1[[#This Row],[N° Elément]],"")))) -> 0 | H25: Nouveau | J25: =IF(Tableau1[[#This Row],[Style]]="","",VLOOKUP(Tableau1[[#This Row],[Style]],Liste!$A$1:$B$11,2,FALSE)) -> 4 | K25: =COUNTIF($J$2:J25,J25)*(J25=1) -> 0 | L25: =COUNTIF($J$2:J25,J25)*(J25=2) -> 0 | M25: =COUNTIF($J$2:J25,J25)*(J25=3) -> 0
A26: =IF(Tableau1[[#This Row],[Niveau source]]=1,Tableau1[[#This Row],[N° Mandataire]], IF(Tableau1[[#This Row],[Niveau source]]=2,Tableau1[[#This Row],[N° Titre 1]], IF(Tableau1[[#This Row],[Niveau source]]=3,Tableau1[[#This Row],[N° Titre 2]], IF(Tableau1[[#This Row],[Niveau source]]=4,Tableau1[[#This Row],[N° Elément]],"")))) -> 5 | C26: Service eaux : Service Infrastructure, Mobilité & environnement | H26: Titre 1 | J26: =IF(Tableau1[[#This Row],[Style]]="","",VLOOKUP(Tableau1[[#This Row],[Style]],Liste!$A$1:$B$11,2,FALSE)) -> 2 | K26: =COUNTIF($J$2:J26,J26)*(J26=1) -> 0 | L26: =COUNTIF($J$2:J26,J26)*(J26=2) -> 5 | M26: =COUNTIF($J$2:J26,J26)*(J26=3) -> 0
A27: =IF(Tableau1[[#This Row],[Niveau source]]=1,Tableau1[[#This Row],[N° Mandataire]], IF(Tableau1[[#This Row],[Niveau source]]=2,Tableau1[[#This Row],[N° Titre 1]], IF(Tableau1[[#This Row],[Niveau source]]=3,Tableau1[[#This Row],[N° Titre 2]], IF(Tableau1[[#This Row],[Niveau source]]=4,Tableau1[[#This Row],[N° Elément]],"")))) -> 0 | H27: En cours fini | J27: =IF(Tableau1[[#This Row],[Style]]="","",VLOOKUP(Tableau1[[#This Row],[Style]],Liste!$A$1:$B$11,2,FALSE)) -> 4 | K27: =COUNTIF($J$2:J27,J27)*(J27=1) -> 0 | L27: =COUNTIF($J$2:J27,J27)*(J27=2) -> 0 | M27: =COUNTIF($J$2:J27,J27)*(J27=3) -> 0
A28: =IF(Tableau1[[#This Row],[Niveau source]]=1,Tableau1[[#This Row],[N° Mandataire]], IF(Tableau1[[#This Row],[Niveau source]]=2,Tableau1[[#This Row],[N° Titre 1]], IF(Tableau1[[#This Row],[Niveau source]]=3,Tableau1[[#This Row],[N° Titre 2]], IF(Tableau1[[#This Row],[Niveau source]]=4,Tableau1[[#This Row],[N° Elément]],"")))) -> 0 | H28: Nouveau | J28: =IF(Tableau1[[#This Row],[Style]]="","",VLOOKUP(Tableau1[[#This Row],[Style]],Liste!$A$1:$B$11,2,FALSE)) -> 4 | K28: =COUNTIF($J$2:J28,J28)*(J28=1) -> 0 | L28: =COUNTIF($J$2:J28,J28)*(J28=2) -> 0 | M28: =COUNTIF($J$2:J28,J28)*(J28=3) -> 0
A29: =IF(Tableau1[[#This Row],[Niveau source]]=1,Tableau1[[#This Row],[N° Mandataire]], IF(Tableau1[[#This Row],[Niveau source]]=2,Tableau1[[#This Row],[N° Titre 1]], IF(Tableau1[[#This Row],[Niveau source]]=3,Tableau1[[#This Row],[N° Titre 2]], IF(Tableau1[[#This Row],[Niveau source]]=4,Tableau1[[#This Row],[N° Elément]],"")))) -> 1 | C29: Canalisation EU+EC : Service Infrastructure, Mobilité & environnement | H29: Titre 2 | J29: =IF(Tableau1[[#This Row],[Style]]="","",VLOOKUP(Tableau1[[#This Row],[Style]],Liste!$A$1:$B$11,2,FALSE)) -> 3 | K29: =COUNTIF($J$2:J29,J29)*(J29=1) -> 0 | L29: =COUNTIF($J$2:J29,J29)*(J29=2) -> 0 | M29: =COUNTIF($J$2:J29,J29)*(J29=3) -> 1
A30: =IF(Tableau1[[#This Row],[Niveau source]]=1,Tableau1[[#This Row],[N° Mandataire]], IF(Tableau1[[#This Row],[Niveau source]]=2,Tableau1[[#This Row],[N° Titre 1]], IF(Tableau1[[#This Row],[Niveau source]]=3,Tableau1[[#This Row],[N° Titre 2]], IF(Tableau1[[#This Row],[Niveau source]]=4,Tableau1[[#This Row],[N° Elément]],"")))) -> 0 | H30: Nouveau | J30: =IF(Tableau1[[#This Row],[Style]]="","",VLOOKUP(Tableau1[[#This Row],[Style]],Liste!$A$1:$B$11,2,FALSE)) -> 4 | K30: =COUNTIF($J$2:J30,J30)*(J30=1) -> 0 | L30: =COUNTIF($J$2:J30,J30)*(J30=2) -> 0 | M30: =COUNTIF($J$2:J30,J30)*(J30=3) -> 0
A31: =IF(Tableau1[[#This Row],[Niveau source]]=1,Tableau1[[#This Row],[N° Mandataire]], IF(Tableau1[[#This Row],[Niveau source]]=2,Tableau1[[#This Row],[N° Titre 1]], IF(Tableau1[[#This Row],[Niveau source]]=3,Tableau1[[#This Row],[N° Titre 2]], IF(Tableau1[[#This Row],[Niveau source]]=4,Tableau1[[#This Row],[N° Elément]],"")))) -> 0 | H31: En cours | J31: =IF(Tableau1[[#This Row],[Style]]="","",VLOOKUP(Tableau1[[#This Row],[Style]],Liste!$A$1:$B$11,2,FALSE)) -> 4 | K31: =COUNTIF($J$2:J31,J31)*(J31=1) -> 0 | L31: =COUNTIF($J$2:J31,J31)*(J31=2) -> 0 | M31: =COUNTIF($J$2:J31,J31)*(J31=3) -> 0
A32: =IF(Tableau1[[#This Row],[Niveau source]]=1,Tableau1[[#This Row],[N° Mandataire]], IF(Tableau1[[#This Row],[Niveau source]]=2,Tableau1[[#This Row],[N° Titre 1]], IF(Tableau1[[#This Row],[Niveau source]]=3,Tableau1[[#This Row],[N° Titre 2]], IF(Tableau1[[#This Row],[Niveau source]]=4,Tableau1[[#This Row],[N° Elément]],"")))) -> 2 | C32: Téléphonie - FO : | H32: Titre 2 fini | J32: =IF(Tableau1[[#This Row],[Style]]="","",VLOOKUP(Tableau1[[#This Row],[Style]],Liste!$A$1:$B$11,2,FALSE)) -> 3 | K32: =COUNTIF($J$2:J32,J32)*(J32=1) -> 0 | L32: =COUNTIF($J$2:J32,J32)*(J32=2) -> 0 | M32: =COUNTIF($J$2:J32,J32)*(J32=3) -> 2
A33: =IF(Tableau1[[#This Row],[Niveau source]]=1,Tableau1[[#This Row],[N° Mandataire]], IF(Tableau1[[#This Row],[Niveau source]]=2,Tableau1[[#This Row],[N° Titre 1]], IF(Tableau1[[#This Row],[Niveau source]]=3,Tableau1[[#This Row],[N° Titre 2]], IF(Tableau1[[#This Row],[Niveau source]]=4,Tableau1[[#This Row],[N° Elément]],"")))) -> 0 | H33: En cours fini | J33: =IF(Tableau1[[#This Row],[Style]]="","",VLOOKUP(Tableau1[[#This Row],[Style]],Liste!$A$1:$B$11,2,FALSE)) -> 4 | K33: =COUNTIF($J$2:J33,J33)*(J33=1) -> 0 | L33: =COUNTIF($J$2:J33,J33)*(J33=2) -> 0 | M33: =COUNTIF($J$2:J33,J33)*(J33=3) -> 0
A34: =IF(Tableau1[[#This Row],[Niveau source]]=1,Tableau1[[#This Row],[N° Mandataire]], IF(Tableau1[[#This Row],[Niveau source]]=2,Tableau1[[#This Row],[N° Titre 1]], IF(Tableau1[[#This Row],[Niveau source]]=3,Tableau1[[#This Row],[N° Titre 2]], IF(Tableau1[[#This Row],[Niveau source]]=4,Tableau1[[#This Row],[N° Elément]],"")))) -> 0 | H34: En cours fini | J34: =IF(Tableau1[[#This Row],[Style]]="","",VLOOKUP(Tableau1[[#This Row],[Style]],Liste!$A$1:$B$11,2,FALSE)) -> 4 | K34: =COUNTIF($J$2:J34,J34)*(J34=1) -> 0 | L34: =COUNTIF($J$2:J34,J34)*(J34=2) -> 0 | M34: =COUNTIF($J$2:J34,J34)*(J34=3) -> 0
A35: =IF(Tableau1[[#This Row],[Niveau source]]=1,Tableau1[[#This Row],[N° Mandataire]], IF(Tableau1[[#This Row],[Niveau source]]=2,Tableau1[[#This Row],[N° Titre 1]], IF(Tableau1[[#This Row],[Niveau source]]=3,Tableau1[[#This Row],[N° Titre 2]], IF(Tableau1[[#This Row],[Niveau source]]=4,Tableau1[[#This Row],[N° Elément]],"")))) -> 3 | C35: Téléréseaux - FO : | H35: Titre 2 fini | J35: =IF(Tableau1[[#This Row],[Style]]="","",VLOOKUP(Tableau1[[#This Row],[Style]],Liste!$A$1:$B$11,2,FALSE)) -> 3 | K35: =COUNTIF($J$2:J35,J35)*(J35=1) -> 0 | L35: =COUNTIF($J$2:J35,J35)*(J35=2) -> 0 | M35: =COUNTIF($J$2:J35,J35)*(J35=3) -> 3
A36: =IF(Tableau1[[#This Row],[Niveau source]]=1,Tableau1[[#This Row],[N° Mandataire]], IF(Tableau1[[#This Row],[Niveau source]]=2,Tableau1[[#This Row],[N° Titre 1]], IF(Tableau1[[#This Row],[Niveau source]]=3,Tableau1[[#This Row],[N° Titre 2]], IF(Tableau1[[#This Row],[Niveau source]]=4,Tableau1[[#This Row],[N° Elément]],"")))) -> 0 | H36: En cours fini | J36: =IF(Tableau1[[#This Row],[Style]]="","",VLOOKUP(Tableau1[[#This Row],[Style]],Liste!$A$1:$B$11,2,FALSE)) -> 4 | K36: =COUNTIF($J$2:J36,J36)*(J36=1) -> 0 | L36: =COUNTIF($J$2:J36,J36)*(J36=2) -> 0 | M36: =COUNTIF($J$2:J36,J36)*(J36=3) -> 0
A37: =IF(Tableau1[[#This Row],[Niveau source]]=1,Tableau1[[#This Row],[N° Mandataire]], IF(Tableau1[[#This Row],[Niveau source]]=2,Tableau1[[#This Row],[N° Titre 1]], IF(Tableau1[[#This Row],[Niveau source]]=3,Tableau1[[#This Row],[N° Titre 2]], IF(Tableau1[[#This Row],[Niveau source]]=4,Tableau1[[#This Row],[N° Elément]],"")))) -> 0 | H37: En cours fini | J37: =IF(Tableau1[[#This Row],[Style]]="","",VLOOKUP(Tableau1[[#This Row],[Style]],Liste!$A$1:$B$11,2,FALSE)) -> 4 | K37: =COUNTIF($J$2:J37,J37)*(J37=1) -> 0 | L37: =COUNTIF($J$2:J37,J37)*(J37=2) -> 0 | M37: =COUNTIF($J$2:J37,J37)*(J37=3) -> 0
A38: =IF(Tableau1[[#This Row],[Niveau source]]=1,Tableau1[[#This Row],[N° Mandataire]], IF(Tableau1[[#This Row],[Niveau source]]=2,Tableau1[[#This Row],[N° Titre 1]], IF(Tableau1[[#This Row],[Niveau source]]=3,Tableau1[[#This Row],[N° Titre 2]], IF(Tableau1[[#This Row],[Niveau source]]=4,Tableau1[[#This Row],[N° Elément]],"")))) -> 4 | C38: Gaz : | H38: Titre 2 | J38: =IF(Tableau1[[#This Row],[Style]]="","",VLOOKUP(Tableau1[[#This Row],[Style]],Liste!$A$1:$B$11,2,FALSE)) -> 3 | K38: =COUNTIF($J$2:J38,J38)*(J38=1) -> 0 | L38: =COUNTIF($J$2:J38,J38)*(J38=2) -> 0 | M38: =COUNTIF($J$2:J38,J38)*(J38=3) -> 4
A39: =IF(Tableau1[[#This Row],[Niveau source]]=1,Tableau1[[#This Row],[N° Mandataire]], IF(Tableau1[[#This Row],[Niveau source]]=2,Tableau1[[#This Row],[N° Titre 1]], IF(Tableau1[[#This Row],[Niveau source]]=3,Tableau1[[#This Row],[N° Titre 2]], IF(Tableau1[[#This Row],[Niveau source]]=4,Tableau1[[#This Row],[N° Elément]],"")))) -> 0 | H39: En cours fini | J39: =IF(Tableau1[[#This Row],[Style]]="","",VLOOKUP(Tableau1[[#This Row],[Style]],Liste!$A$1:$B$11,2,FALSE)) -> 4 | K39: =COUNTIF($J$2:J39,J39)*(J39=1) -> 0 | L39: =COUNTIF($J$2:J39,J39)*(J39=2) -> 0 | M39: =COUNTIF($J$2:J39,J39)*(J39=3) -> 0
A40: =IF(Tableau1[[#This Row],[Niveau source]]=1,Tableau1[[#This Row],[N° Mandataire]], IF(Tableau1[[#This Row],[Niveau source]]=2,Tableau1[[#This Row],[N° Titre 1]], IF(Tableau1[[#This Row],[Niveau source]]=3,Tableau1[[#This Row],[N° Titre 2]], IF(Tableau1[[#This Row],[Niveau source]]=4,Tableau1[[#This Row],[N° Elément]],"")))) -> 0 | H40: En cours fini | J40: =IF(Tableau1[[#This Row],[Style]]="","",VLOOKUP(Tableau1[[#This Row],[Style]],Liste!$A$1:$B$11,2,FALSE)) -> 4 | K40: =COUNTIF($J$2:J40,J40)*(J40=1) -> 0 | L40: =COUNTIF($J$2:J40,J40)*(J40=2) -> 0 | M40: =COUNTIF($J$2:J40,J40)*(J40=3) -> 0
A41: =IF(Tableau1[[#This Row],[Niveau source]]=1,Tableau1[[#This Row],[N° Mandataire]], IF(Tableau1[[#This Row],[Niveau source]]=2,Tableau1[[#This Row],[N° Titre 1]], IF(Tableau1[[#This Row],[Niveau source]]=3,Tableau1[[#This Row],[N° Titre 2]], IF(Tableau1[[#This Row],[Niveau source]]=4,Tableau1[[#This Row],[N° Elément]],"")))) -> 6 | C41: Canton du Valais: | H41: Titre 1 | J41: =IF(Tableau1[[#This Row],[Style]]="","",VLOOKUP(Tableau1[[#This Row],[Style]],Liste!$A$1:$B$11,2,FALSE)) -> 2 | K41: =COUNTIF($J$2:J41,J41)*(J41=1) -> 0 | L41: =COUNTIF($J$2:J41,J41)*(J41=2) -> 6 | M41: =COUNTIF($J$2:J41,J41)*(J41=3) -> 0
A42: =IF(Tableau1[[#This Row],[Niveau source]]=1,Tableau1[[#This Row],[N° Mandataire]], IF(Tableau1[[#This Row],[Niveau source]]=2,Tableau1[[#This Row],[N° Titre 1]], IF(Tableau1[[#This Row],[Niveau source]]=3,Tableau1[[#This Row],[N° Titre 2]], IF(Tableau1[[#This Row],[Niveau source]]=4,Tableau1[[#This Row],[N° Elément]],"")))) -> 0 | H42: En cours | J42: =IF(Tableau1[[#This Row],[Style]]="","",VLOOKUP(Tableau1[[#This Row],[Style]],Liste!$A$1:$B$11,2,FALSE)) -> 4 | K42: =COUNTIF($J$2:J42,J42)*(J42=1) -> 0 | L42: =COUNTIF($J$2:J42,J42)*(J42=2) -> 0 | M42: =COUNTIF($J$2:J42,J42)*(J42=3) -> 0
A43: =IF(Tableau1[[#This Row],[Niveau source]]=1,Tableau1[[#This Row],[N° Mandataire]], IF(Tableau1[[#This Row],[Niveau source]]=2,Tableau1[[#This Row],[N° Titre 1]], IF(Tableau1[[#This Row],[Niveau source]]=3,Tableau1[[#This Row],[N° Titre 2]], IF(Tableau1[[#This Row],[Niveau source]]=4,Tableau1[[#This Row],[N° Elément]],"")))) -> 0 | H43: En cours | J43: =IF(Tableau1[[#This Row],[Style]]="","",VLOOKUP(Tableau1[[#This Row],[Style]],Liste!$A$1:$B$11,2,FALSE)) -> 4 | K43: =COUNTIF($J$2:J43,J43)*(J43=1) -> 0 | L43: =COUNTIF($J$2:J43,J43)*(J43=2) -> 0 | M43: =COUNTIF($J$2:J43,J43)*(J43=3) -> 0
A44: =IF(Tableau1[[#This Row],[Niveau source]]=1,Tableau1[[#This Row],[N° Mandataire]], IF(Tableau1[[#This Row],[Niveau source]]=2,Tableau1[[#This Row],[N° Titre 1]], IF(Tableau1[[#This Row],[Niveau source]]=3,Tableau1[[#This Row],[N° Titre 2]], IF(Tableau1[[#This Row],[Niveau source]]=4,Tableau1[[#This Row],[N° Elément]],"")))) -> 0 | H44: En cours | J44: =IF(Tableau1[[#This Row],[Style]]="","",VLOOKUP(Tableau1[[#This Row],[Style]],Liste!$A$1:$B$11,2,FALSE)) -> 4 | K44: =COUNTIF($J$2:J44,J44)*(J44=1) -> 0 | L44: =COUNTIF($J$2:J44,J44)*(J44=2) -> 0 | M44: =COUNTIF($J$2:J44,J44)*(J44=3) -> 0
A45: =IF(Tableau1[[#This Row],[Niveau source]]=1,Tableau1[[#This Row],[N° Mandataire]], IF(Tableau1[[#This Row],[Niveau source]]=2,Tableau1[[#This Row],[N° Titre 1]], IF(Tableau1[[#This Row],[Niveau source]]=3,Tableau1[[#This Row],[N° Titre 2]], IF(Tableau1[[#This Row],[Niveau source]]=4,Tableau1[[#This Row],[N° Elément]],"")))) -> 7 | C45: Cuve Mazout: | H45: Titre 1 | J45: =IF(Tableau1[[#This Row],[Style]]="","",VLOOKUP(Tableau1[[#This Row],[Style]],Liste!$A$1:$B$11,2,FALSE)) -> 2 | K45: =COUNTIF($J$2:J45,J45)*(J45=1) -> 0 | L45: =COUNTIF($J$2:J45,J45)*(J45=2) -> 7 | M45: =COUNTIF($J$2:J45,J45)*(J45=3) -> 0
A46: =IF(Tableau1[[#This Row],[Niveau source]]=1,Tableau1[[#This Row],[N° Mandataire]], IF(Tableau1[[#This Row],[Niveau source]]=2,Tableau1[[#This Row],[N° Titre 1]], IF(Tableau1[[#This Row],[Niveau source]]=3,Tableau1[[#This Row],[N° Titre 2]], IF(Tableau1[[#This Row],[Niveau source]]=4,Tableau1[[#This Row],[N° Elément]],"")))) -> 0 | H46: En cours | J46: =IF(Tableau1[[#This Row],[Style]]="","",VLOOKUP(Tableau1[[#This Row],[Style]],Liste!$A$1:$B$11,2,FALSE)) -> 4 | K46: =COUNTIF($J$2:J46,J46)*(J46=1) -> 0 | L46: =COUNTIF($J$2:J46,J46)*(J46=2) -> 0 | M46: =COUNTIF($J$2:J46,J46)*(J46=3) -> 0
A47: =IF(Tableau1[[#This Row],[Niveau source]]=1,Tableau1[[#This Row],[N° Mandataire]], IF(Tableau1[[#This Row],[Niveau source]]=2,Tableau1[[#This Row],[N° Titre 1]], IF(Tableau1[[#This Row],[Niveau source]]=3,Tableau1[[#This Row],[N° Titre 2]], IF(Tableau1[[#This Row],[Niveau source]]=4,Tableau1[[#This Row],[N° Elément]],"")))) -> 0 | H47: En cours | J47: =IF(Tableau1[[#This Row],[Style]]="","",VLOOKUP(Tableau1[[#This Row],[Style]],Liste!$A$1:$B$11,2,FALSE)) -> 4 | K47: =COUNTIF($J$2:J47,J47)*(J47=1) -> 0 | L47: =COUNTIF($J$2:J47,J47)*(J47=2) -> 0 | M47: =COUNTIF($J$2:J47,J47)*(J47=3) -> 0
A48: =IF(Tableau1[[#This Row],[Niveau source]]=1,Tableau1[[#This Row],[N° Mandataire]], IF(Tableau1[[#This Row],[Niveau source]]=2,Tableau1[[#This Row],[N° Titre 1]], IF(Tableau1[[#This Row],[Niveau source]]=3,Tableau1[[#This Row],[N° Titre 2]], IF(Tableau1[[#This Row],[Niveau source]]=4,Tableau1[[#This Row],[N° Elément]],"")))) -> 0 | H48: En cours | J48: =IF(Tableau1[[#This Row],[Style]]="","",VLOOKUP(Tableau1[[#This Row],[Style]],Liste!$A$1:$B$11,2,FALSE)) -> 4 | K48: =COUNTIF($J$2:J48,J48)*(J48=1) -> 0 | L48: =COUNTIF($J$2:J48,J48)*(J48=2) -> 0 | M48: =COUNTIF($J$2:J48,J48)*(J48=3) -> 0
A49: =IF(Tableau1[[#This Row],[Niveau source]]=1,Tableau1[[#This Row],[N° Mandataire]], IF(Tableau1[[#This Row],[Niveau source]]=2,Tableau1[[#This Row],[N° Titre 1]], IF(Tableau1[[#This Row],[Niveau source]]=3,Tableau1[[#This Row],[N° Titre 2]], IF(Tableau1[[#This Row],[Niveau source]]=4,Tableau1[[#This Row],[N° Elément]],"")))) -> 3 | C49: Mandataires | H49: Mandataire fini | J49: =IF(Tableau1[[#This Row],[Style]]="","",VLOOKUP(Tableau1[[#This Row],[Style]],Liste!$A$1:$B$11,2,FALSE)) -> 1 | K49: =COUNTIF($J$2:J49,J49)*(J49=1) -> 3 | L49: =COUNTIF($J$2:J49,J49)*(J49=2) -> 0 | M49: =COUNTIF($J$2:J49,J49)*(J49=3) -> 0
A50: =IF(Tableau1[[#This Row],[Niveau source]]=1,Tableau1[[#This Row],[N° Mandataire]], IF(Tableau1[[#This Row],[Niveau source]]=2,Tableau1[[#This Row],[N° Titre 1]], IF(Tableau1[[#This Row],[Niveau source]]=3,Tableau1[[#This Row],[N° Titre 2]], IF(Tableau1[[#This Row],[Niveau source]]=4,Tableau1[[#This Row],[N° Elément]],"")))) -> 8 | C50: Architectes : | H50: Titre 1 | J50: =IF(Tableau1[[#This Row],[Style]]="","",VLOOKUP(Tableau1[[#This Row],[Style]],Liste!$A$1:$B$11,2,FALSE)) -> 2 | K50: =COUNTIF($J$2:J50,J50)*(J50=1) -> 0 | L50: =COUNTIF($J$2:J50,J50)*(J50=2) -> 8 | M50: =COUNTIF($J$2:J50,J50)*(J50=3) -> 0
A51: =IF(Tableau1[[#This Row],[Niveau source]]=1,Tableau1[[#This Row],[N° Mandataire]], IF(Tableau1[[#This Row],[Niveau source]]=2,Tableau1[[#This Row],[N° Titre 1]], IF(Tableau1[[#This Row],[Niveau source]]=3,Tableau1[[#This Row],[N° Titre 2]], IF(Tableau1[[#This Row],[Niveau source]]=4,Tableau1[[#This Row],[N° Elément]],"")))) -> 0 | H51: En cours | J51: =IF(Tableau1[[#This Row],[Style]]="","",VLOOKUP(Tableau1[[#This Row],[Style]],Liste!$A$1:$B$11,2,FALSE)) -> 4 | K51: =COUNTIF($J$2:J51,J51)*(J51=1) -> 0 | L51: =COUNTIF($J$2:J51,J51)*(J51=2) -> 0 | M51: =COUNTIF($J$2:J51,J51)*(J51=3) -> 0
A52: =IF(Tableau1[[#This Row],[Niveau source]]=1,Tableau1[[#This Row],[N° Mandataire]], IF(Tableau1[[#This Row],[Niveau source]]=2,Tableau1[[#This Row],[N° Titre 1]], IF(Tableau1[[#This Row],[Niveau source]]=3,Tableau1[[#This Row],[N° Titre 2]], IF(Tableau1[[#This Row],[Niveau source]]=4,Tableau1[[#This Row],[N° Elément]],"")))) -> 0 | H52: En cours | J52: =IF(Tableau1[[#This Row],[Style]]="","",VLOOKUP(Tableau1[[#This Row],[Style]],Liste!$A$1:$B$11,2,FALSE)) -> 4 | K52: =COUNTIF($J$2:J52,J52)*(J52=1) -> 0 | L52: =COUNTIF($J$2:J52,J52)*(J52=2) -> 0 | M52: =COUNTIF($J$2:J52,J52)*(J52=3) -> 0
A53: =IF(Tableau1[[#This Row],[Niveau source]]=1,Tableau1[[#This Row],[N° Mandataire]], IF(Tableau1[[#This Row],[Niveau source]]=2,Tableau1[[#This Row],[N° Titre 1]], IF(Tableau1[[#This Row],[Niveau source]]=3,Tableau1[[#This Row],[N° Titre 2]], IF(Tableau1[[#This Row],[Niveau source]]=4,Tableau1[[#This Row],[N° Elément]],"")))) -> 9 | C53: Direction des travaux : | H53: Titre 1 | J53: =IF(Tableau1[[#This Row],[Style]]="","",VLOOKUP(Tableau1[[#This Row],[Style]],Liste!$A$1:$B$11,2,FALSE)) -> 2 | K53: =COUNTIF($J$2:J53,J53)*(J53=1) -> 0 | L53: =COUNTIF($J$2:J53,J53)*(J53=2) -> 9 | M53: =COUNTIF($J$2:J53,J53)*(J53=3) -> 0
A54: =IF(Tableau1[[#This Row],[Niveau source]]=1,Tableau1[[#This Row],[N° Mandataire]], IF(Tableau1[[#This Row],[Niveau source]]=2,Tableau1[[#This Row],[N° Titre 1]], IF(Tableau1[[#This Row],[Niveau source]]=3,Tableau1[[#This Row],[N° Titre 2]], IF(Tableau1[[#This Row],[Niveau source]]=4,Tableau1[[#This Row],[N° Elément]],"")))) -> 0 | H54: En cours | J54: =IF(Tableau1[[#This Row],[Style]]="","",VLOOKUP(Tableau1[[#This Row],[Style]],Liste!$A$1:$B$11,2,FALSE)) -> 4 | K54: =COUNTIF($J$2:J54,J54)*(J54=1) -> 0 | L54: =COUNTIF($J$2:J54,J54)*(J54=2) -> 0 | M54: =COUNTIF($J$2:J54,J54)*(J54=3) -> 0
A55: =IF(Tableau1[[#This Row],[Niveau source]]=1,Tableau1[[#This Row],[N° Mandataire]], IF(Tableau1[[#This Row],[Niveau source]]=2,Tableau1[[#This Row],[N° Titre 1]], IF(Tableau1[[#This Row],[Niveau source]]=3,Tableau1[[#This Row],[N° Titre 2]], IF(Tableau1[[#This Row],[Niveau source]]=4,Tableau1[[#This Row],[N° Elément]],"")))) -> 0 | H55: En cours | J55: =IF(Tableau1[[#This Row],[Style]]="","",VLOOKUP(Tableau1[[#This Row],[Style]],Liste!$A$1:$B$11,2,FALSE)) -> 4 | K55: =COUNTIF($J$2:J55,J55)*(J55=1) -> 0 | L55: =COUNTIF($J$2:J55,J55)*(J55=2) -> 0 | M55: =COUNTIF($J$2:J55,J55)*(J55=3) -> 0
A56: =IF(Tableau1[[#This Row],[Niveau source]]=1,Tableau1[[#This Row],[N° Mandataire]], IF(Tableau1[[#This Row],[Niveau source]]=2,Tableau1[[#This Row],[N° Titre 1]], IF(Tableau1[[#This Row],[Niveau source]]=3,Tableau1[[#This Row],[N° Titre 2]], IF(Tableau1[[#This Row],[Niveau source]]=4,Tableau1[[#This Row],[N° Elément]],"")))) -> 10 | C56: Ingénieur Civil : | H56: Titre 1 | J56: =IF(Tableau1[[#This Row],[Style]]="","",VLOOKUP(Tableau1[[#This Row],[Style]],Liste!$A$1:$B$11,2,FALSE)) -> 2 | K56: =COUNTIF($J$2:J56,J56)*(J56=1) -> 0 | L56: =COUNTIF($J$2:J56,J56)*(J56=2) -> 10 | M56: =COUNTIF($J$2:J56,J56)*(J56=3) -> 0
A57: =IF(Tableau1[[#This Row],[Niveau source]]=1,Tableau1[[#This Row],[N° Mandataire]], IF(Tableau1[[#This Row],[Niveau source]]=2,Tableau1[[#This Row],[N° Titre 1]], IF(Tableau1[[#This Row],[Niveau source]]=3,Tableau1[[#This Row],[N° Titre 2]], IF(Tableau1[[#This Row],[Niveau source]]=4,Tableau1[[#This Row],[N° Elément]],"")))) -> 0 | H57: En cours | J57: =IF(Tableau1[[#This Row],[Style]]="","",VLOOKUP(Tableau1[[#This Row],[Style]],Liste!$A$1:$B$11,2,FALSE)) -> 4 | K57: =COUNTIF($J$2:J57,J57)*(J57=1) -> 0 | L57: =COUNTIF($J$2:J57,J57)*(J57=2) -> 0 | M57: =COUNTIF($J$2:J57,J57)*(J57=3) -> 0
A58: =IF(Tableau1[[#This Row],[Niveau source]]=1,Tableau1[[#This Row],[N° Mandataire]], IF(Tableau1[[#This Row],[Niveau source]]=2,Tableau1[[#This Row],[N° Titre 1]], IF(Tableau1[[#This Row],[Niveau source]]=3,Tableau1[[#This Row],[N° Titre 2]], IF(Tableau1[[#This Row],[Niveau source]]=4,Tableau1[[#This Row],[N° Elément]],"")))) -> 0 | H58: En cours | J58: =IF(Tableau1[[#This Row],[Style]]="","",VLOOKUP(Tableau1[[#This Row],[Style]],Liste!$A$1:$B$11,2,FALSE)) -> 4 | K58: =COUNTIF($J$2:J58,J58)*(J58=1) -> 0 | L58: =COUNTIF($J$2:J58,J58)*(J58=2) -> 0 | M58: =COUNTIF($J$2:J58,J58)*(J58=3) -> 0
A59: =IF(Tableau1[[#This Row],[Niveau source]]=1,Tableau1[[#This Row],[N° Mandataire]], IF(Tableau1[[#This Row],[Niveau source]]=2,Tableau1[[#This Row],[N° Titre 1]], IF(Tableau1[[#This Row],[Niveau source]]=3,Tableau1[[#This Row],[N° Titre 2]], IF(Tableau1[[#This Row],[Niveau source]]=4,Tableau1[[#This Row],[N° Elément]],"")))) -> 11 | C59: Ingénieur Eléctricité : | H59: Titre 1 | J59: =IF(Tableau1[[#This Row],[Style]]="","",VLOOKUP(Tableau1[[#This Row],[Style]],Liste!$A$1:$B$11,2,FALSE)) -> 2 | K59: =COUNTIF($J$2:J59,J59)*(J59=1) -> 0 | L59: =COUNTIF($J$2:J59,J59)*(J59=2) -> 11 | M59: =COUNTIF($J$2:J59,J59)*(J59=3) -> 0
A60: =IF(Tableau1[[#This Row],[Niveau source]]=1,Tableau1[[#This Row],[N° Mandataire]], IF(Tableau1[[#This Row],[Niveau source]]=2,Tableau1[[#This Row],[N° Titre 1]], IF(Tableau1[[#This Row],[Niveau source]]=3,Tableau1[[#This Row],[N° Titre 2]], IF(Tableau1[[#This Row],[Niveau source]]=4,Tableau1[[#This Row],[N° Elément]],"")))) -> 0 | H60: En cours | J60: =IF(Tableau1[[#This Row],[Style]]="","",VLOOKUP(Tableau1[[#This Row],[Style]],Liste!$A$1:$B$11,2,FALSE)) -> 4 | K60: =COUNTIF($J$2:J60,J60)*(J60=1) -> 0 | L60: =COUNTIF($J$2:J60,J60)*(J60=2) -> 0 | M60: =COUNTIF($J$2:J60,J60)*(J60=3) -> 0
A61: =IF(Tableau1[[#This Row],[Niveau source]]=1,Tableau1[[#This Row],[N° Mandataire]], IF(Tableau1[[#This Row],[Niveau source]]=2,Tableau1[[#This Row],[N° Titre 1]], IF(Tableau1[[#This Row],[Niveau source]]=3,Tableau1[[#This Row],[N° Titre 2]], IF(Tableau1[[#This Row],[Niveau source]]=4,Tableau1[[#This Row],[N° Elément]],"")))) -> 0 | H61: En cours | J61: =IF(Tableau1[[#This Row],[Style]]="","",VLOOKUP(Tableau1[[#This Row],[Style]],Liste!$A$1:$B$11,2,FALSE)) -> 4 | K61: =COUNTIF($J$2:J61,J61)*(J61=1) -> 0 | L61: =COUNTIF($J$2:J61,J61)*(J61=2) -> 0 | M61: =COUNTIF($J$2:J61,J61)*(J61=3) -> 0
A62: =IF(Tableau1[[#This Row],[Niveau source]]=1,Tableau1[[#This Row],[N° Mandataire]], IF(Tableau1[[#This Row],[Niveau source]]=2,Tableau1[[#This Row],[N° Titre 1]], IF(Tableau1[[#This Row],[Niveau source]]=3,Tableau1[[#This Row],[N° Titre 2]], IF(Tableau1[[#This Row],[Niveau source]]=4,Tableau1[[#This Row],[N° Elément]],"")))) -> 12 | C62: Ingénieur CVS: | H62: Titre 1 | J62: =IF(Tableau1[[#This Row],[Style]]="","",VLOOKUP(Tableau1[[#This Row],[Style]],Liste!$A$1:$B$11,2,FALSE)) -> 2 | K62: =COUNTIF($J$2:J62,J62)*(J62=1) -> 0 | L62: =COUNTIF($J$2:J62,J62)*(J62=2) -> 12 | M62: =COUNTIF($J$2:J62,J62)*(J62=3) -> 0
A63: =IF(Tableau1[[#This Row],[Niveau source]]=1,Tableau1[[#This Row],[N° Mandataire]], IF(Tableau1[[#This Row],[Niveau source]]=2,Tableau1[[#This Row],[N° Titre 1]], IF(Tableau1[[#This Row],[Niveau source]]=3,Tableau1[[#This Row],[N° Titre 2]], IF(Tableau1[[#This Row],[Niveau source]]=4,Tableau1[[#This Row],[N° Elément]],"")))) -> 0 | H63: En cours | J63: =IF(Tableau1[[#This Row],[Style]]="","",VLOOKUP(Tableau1[[#This Row],[Style]],Liste!$A$1:$B$11,2,FALSE)) -> 4 | K63: =COUNTIF($J$2:J63,J63)*(J63=1) -> 0 | L63: =COUNTIF($J$2:J63,J63)*(J63=2) -> 0 | M63: =COUNTIF($J$2:J63,J63)*(J63=3) -> 0
A64: =IF(Tableau1[[#This Row],[Niveau source]]=1,Tableau1[[#This Row],[N° Mandataire]], IF(Tableau1[[#This Row],[Niveau source]]=2,Tableau1[[#This Row],[N° Titre 1]], IF(Tableau1[[#This Row],[Niveau source]]=3,Tableau1[[#This Row],[N° Titre 2]], IF(Tableau1[[#This Row],[Niveau source]]=4,Tableau1[[#This Row],[N° Elément]],"")))) -> 0 | H64: En cours | J64: =IF(Tableau1[[#This Row],[Style]]="","",VLOOKUP(Tableau1[[#This Row],[Style]],Liste!$A$1:$B$11,2,FALSE)) -> 4 | K64: =COUNTIF($J$2:J64,J64)*(J64=1) -> 0 | L64: =COUNTIF($J$2:J64,J64)*(J64=2) -> 0 | M64: =COUNTIF($J$2:J64,J64)*(J64=3) -> 0
A65: =IF(Tableau1[[#This Row],[Niveau source]]=1,Tableau1[[#This Row],[N° Mandataire]], IF(Tableau1[[#This Row],[Niveau source]]=2,Tableau1[[#This Row],[N° Titre 1]], IF(Tableau1[[#This Row],[Niveau source]]=3,Tableau1[[#This Row],[N° Titre 2]], IF(Tableau1[[#This Row],[Niveau source]]=4,Tableau1[[#This Row],[N° Elément]],"")))) -> 13 | C65: Ingénieur feu: | H65: Titre 1 | J65: =IF(Tableau1[[#This Row],[Style]]="","",VLOOKUP(Tableau1[[#This Row],[Style]],Liste!$A$1:$B$11,2,FALSE)) -> 2 | K65: =COUNTIF($J$2:J65,J65)*(J65=1) -> 0 | L65: =COUNTIF($J$2:J65,J65)*(J65=2) -> 13 | M65: =COUNTIF($J$2:J65,J65)*(J65=3) -> 0
A66: =IF(Tableau1[[#This Row],[Niveau source]]=1,Tableau1[[#This Row],[N° Mandataire]], IF(Tableau1[[#This Row],[Niveau source]]=2,Tableau1[[#This Row],[N° Titre 1]], IF(Tableau1[[#This Row],[Niveau source]]=3,Tableau1[[#This Row],[N° Titre 2]], IF(Tableau1[[#This Row],[Niveau source]]=4,Tableau1[[#This Row],[N° Elément]],"")))) -> 0 | H66: En cours | J66: =IF(Tableau1[[#This Row],[Style]]="","",VLOOKUP(Tableau1[[#This Row],[Style]],Liste!$A$1:$B$11,2,FALSE)) -> 4 | K66: =COUNTIF($J$2:J66,J66)*(J66=1) -> 0 | L66: =COUNTIF($J$2:J66,J66)*(J66=2) -> 0 | M66: =COUNTIF($J$2:J66,J66)*(J66=3) -> 0
A67: =IF(Tableau1[[#This Row],[Niveau source]]=1,Tableau1[[#This Row],[N° Mandataire]], IF(Tableau1[[#This Row],[Niveau source]]=2,Tableau1[[#This Row],[N° Titre 1]], IF(Tableau1[[#This Row],[Niveau source]]=3,Tableau1[[#This Row],[N° Titre 2]], IF(Tableau1[[#This Row],[Niveau source]]=4,Tableau1[[#This Row],[N° Elément]],"")))) -> 14 | C67: Physicien Bâtiment: | H67: Titre 1 | J67: =IF(Tableau1[[#This Row],[Style]]="","",VLOOKUP(Tableau1[[#This Row],[Style]],Liste!$A$1:$B$11,2,FALSE)) -> 2 | K67: =COUNTIF($J$2:J67,J67)*(J67=1) -> 0 | L67: =COUNTIF($J$2:J67,J67)*(J67=2) -> 14 | M67: =COUNTIF($J$2:J67,J67)*(J67=3) -> 0
A68: =IF(Tableau1[[#This Row],[Niveau source]]=1,Tableau1[[#This Row],[N° Mandataire]], IF(Tableau1[[#This Row],[Niveau source]]=2,Tableau1[[#This Row],[N° Titre 1]], IF(Tableau1[[#This Row],[Niveau source]]=3,Tableau1[[#This Row],[N° Titre 2]], IF(Tableau1[[#This Row],[Niveau source]]=4,Tableau1[[#This Row],[N° Elément]],"")))) -> 0 | H68: Nouveau | J68: =IF(Tableau1[[#This Row],[Style]]="","",VLOOKUP(Tableau1[[#This Row],[Style]],Liste!$A$1:$B$11,2,FALSE)) -> 4 | K68: =COUNTIF($J$2:J68,J68)*(J68=1) -> 0 | L68: =COUNTIF($J$2:J68,J68)*(J68=2) -> 0 | M68: =COUNTIF($J$2:J68,J68)*(J68=3) -> 0
A69: =IF(Tableau1[[#This Row],[Niveau source]]=1,Tableau1[[#This Row],[N° Mandataire]], IF(Tableau1[[#This Row],[Niveau source]]=2,Tableau1[[#This Row],[N° Titre 1]], IF(Tableau1[[#This Row],[Niveau source]]=3,Tableau1[[#This Row],[N° Titre 2]], IF(Tableau1[[#This Row],[Niveau source]]=4,Tableau1[[#This Row],[N° Elément]],"")))) -> 15 | C69: Géomètre: | H69: Titre 1 | J69: =IF(Tableau1[[#This Row],[Style]]="","",VLOOKUP(Tableau1[[#This Row],[Style]],Liste!$A$1:$B$11,2,FALSE)) -> 2 | K69: =COUNTIF($J$2:J69,J69)*(J69=1) -> 0 | L69: =COUNTIF($J$2:J69,J69)*(J69=2) -> 15 | M69: =COUNTIF($J$2:J69,J69)*(J69=3) -> 0
A70: =IF(Tableau1[[#This Row],[Niveau source]]=1,Tableau1[[#This Row],[N° Mandataire]], IF(Tableau1[[#This Row],[Niveau source]]=2,Tableau1[[#This Row],[N° Titre 1]], IF(Tableau1[[#This Row],[Niveau source]]=3,Tableau1[[#This Row],[N° Titre 2]], IF(Tableau1[[#This Row],[Niveau source]]=4,Tableau1[[#This Row],[N° Elément]],"")))) -> 0 | H70: Nouveau | J70: =IF(Tableau1[[#This Row],[Style]]="","",VLOOKUP(Tableau1[[#This Row],[Style]],Liste!$A$1:$B$11,2,FALSE)) -> 4 | K70: =COUNTIF($J$2:J70,J70)*(J70=1) -> 0 | L70: =COUNTIF($J$2:J70,J70)*(J70=2) -> 0 | M70: =COUNTIF($J$2:J70,J70)*(J70=3) -> 0
A71: =IF(Tableau1[[#This Row],[Niveau source]]=1,Tableau1[[#This Row],[N° Mandataire]], IF(Tableau1[[#This Row],[Niveau source]]=2,Tableau1[[#This Row],[N° Titre 1]], IF(Tableau1[[#This Row],[Niveau source]]=3,Tableau1[[#This Row],[N° Titre 2]], IF(Tableau1[[#This Row],[Niveau source]]=4,Tableau1[[#This Row],[N° Elément]],"")))) -> 0 | H71: Nouveau | J71: =IF(Tableau1[[#This Row],[Style]]="","",VLOOKUP(Tableau1[[#This Row],[Style]],Liste!$A$1:$B$11,2,FALSE)) -> 4 | K71: =COUNTIF($J$2:J71,J71)*(J71=1) -> 0 | L71: =COUNTIF($J$2:J71,J71)*(J71=2) -> 0 | M71: =COUNTIF($J$2:J71,J71)*(J71=3) -> 0
A72: =IF(Tableau1[[#This Row],[Niveau source]]=1,Tableau1[[#This Row],[N° Mandataire]], IF(Tableau1[[#This Row],[Niveau source]]=2,Tableau1[[#This Row],[N° Titre 1]], IF(Tableau1[[#This Row],[Niveau source]]=3,Tableau1[[#This Row],[N° Titre 2]], IF(Tableau1[[#This Row],[Niveau source]]=4,Tableau1[[#This Row],[N° Elément]],"")))) -> 16 | C72: Etude acoustique: | H72: Titre 1 | J72: =IF(Tableau1[[#This Row],[Style]]="","",VLOOKUP(Tableau1[[#This Row],[Style]],Liste!$A$1:$B$11,2,FALSE)) -> 2 | K72: =COUNTIF($J$2:J72,J72)*(J72=1) -> 0 | L72: =COUNTIF($J$2:J72,J72)*(J72=2) -> 16 | M72: =COUNTIF($J$2:J72,J72)*(J72=3) -> 0
A73: =IF(Tableau1[[#This Row],[Niveau source]]=1,Tableau1[[#This Row],[N° Mandataire]], IF(Tableau1[[#This Row],[Niveau source]]=2,Tableau1[[#This Row],[N° Titre 1]], IF(Tableau1[[#This Row],[Niveau source]]=3,Tableau1[[#This Row],[N° Titre 2]], IF(Tableau1[[#This Row],[Niveau source]]=4,Tableau1[[#This Row],[N° Elément]],"")))) -> 0 | H73: Nouveau | J73: =IF(Tableau1[[#This Row],[Style]]="","",VLOOKUP(Tableau1[[#This Row],[Style]],Liste!$A$1:$B$11,2,FALSE)) -> 4 | K73: =COUNTIF($J$2:J73,J73)*(J73=1) -> 0 | L73: =COUNTIF($J$2:J73,J73)*(J73=2) -> 0 | M73: =COUNTIF($J$2:J73,J73)*(J73=3) -> 0
A74: =IF(Tableau1[[#This Row],[Niveau source]]=1,Tableau1[[#This Row],[N° Mandataire]], IF(Tableau1[[#This Row],[Niveau source]]=2,Tableau1[[#This Row],[N° Titre 1]], IF(Tableau1[[#This Row],[Niveau source]]=3,Tableau1[[#This Row],[N° Titre 2]], IF(Tableau1[[#This Row],[Niveau source]]=4,Tableau1[[#This Row],[N° Elément]],"")))) -> 0 | H74: Nouveau | J74: =IF(Tableau1[[#This Row],[Style]]="","",VLOOKUP(Tableau1[[#This Row],[Style]],Liste!$A$1:$B$11,2,FALSE)) -> 4 | K74: =COUNTIF($J$2:J74,J74)*(J74=1) -> 0 | L74: =COUNTIF($J$2:J74,J74)*(J74=2) -> 0 | M74: =COUNTIF($J$2:J74,J74)*(J74=3) -> 0
A75: =IF(Tableau1[[#This Row],[Niveau source]]=1,Tableau1[[#This Row],[N° Mandataire]], IF(Tableau1[[#This Row],[Niveau source]]=2,Tableau1[[#This Row],[N° Titre 1]], IF(Tableau1[[#This Row],[Niveau source]]=3,Tableau1[[#This Row],[N° Titre 2]], IF(Tableau1[[#This Row],[Niveau source]]=4,Tableau1[[#This Row],[N° Elément]],"")))) -> 17 | C75: Géologue: | H75: Titre 1 | J75: =IF(Tableau1[[#This Row],[Style]]="","",VLOOKUP(Tableau1[[#This Row],[Style]],Liste!$A$1:$B$11,2,FALSE)) -> 2 | K75: =COUNTIF($J$2:J75,J75)*(J75=1) -> 0 | L75: =COUNTIF($J$2:J75,J75)*(J75=2) -> 17 | M75: =COUNTIF($J$2:J75,J75)*(J75=3) -> 0
A76: =IF(Tableau1[[#This Row],[Niveau source]]=1,Tableau1[[#This Row],[N° Mandataire]], IF(Tableau1[[#This Row],[Niveau source]]=2,Tableau1[[#This Row],[N° Titre 1]], IF(Tableau1[[#This Row],[Niveau source]]=3,Tableau1[[#This Row],[N° Titre 2]], IF(Tableau1[[#This Row],[Niveau source]]=4,Tableau1[[#This Row],[N° Elément]],"")))) -> 0 | H76: Nouveau | J76: =IF(Tableau1[[#This Row],[Style]]="","",VLOOKUP(Tableau1[[#This Row],[Style]],Liste!$A$1:$B$11,2,FALSE)) -> 4 | K76: =COUNTIF($J$2:J76,J76)*(J76=1) -> 0 | L76: =COUNTIF($J$2:J76,J76)*(J76=2) -> 0 | M76: =COUNTIF($J$2:J76,J76)*(J76=3) -> 0
A77: =IF(Tableau1[[#This Row],[Niveau source]]=1,Tableau1[[#This Row],[N° Mandataire]], IF(Tableau1[[#This Row],[Niveau source]]=2,Tableau1[[#This Row],[N° Titre 1]], IF(Tableau1[[#This Row],[Niveau source]]=3,Tableau1[[#This Row],[N° Titre 2]], IF(Tableau1[[#This Row],[Niveau source]]=4,Tableau1[[#This Row],[N° Elément]],"")))) -> 0 | H77: Nouveau | J77: =IF(Tableau1[[#This Row],[Style]]="","",VLOOKUP(Tableau1[[#This Row],[Style]],Liste!$A$1:$B$11,2,FALSE)) -> 4 | K77: =COUNTIF($J$2:J77,J77)*(J77=1) -> 0 | L77: =COUNTIF($J$2:J77,J77)*(J77=2) -> 0 | M77: =COUNTIF($J$2:J77,J77)*(J77=3) -> 0
A78: =IF(Tableau1[[#This Row],[Niveau source]]=1,Tableau1[[#This Row],[N° Mandataire]], IF(Tableau1[[#This Row],[Niveau source]]=2,Tableau1[[#This Row],[N° Titre 1]], IF(Tableau1[[#This Row],[Niveau source]]=3,Tableau1[[#This Row],[N° Titre 2]], IF(Tableau1[[#This Row],[Niveau source]]=4,Tableau1[[#This Row],[N° Elément]],"")))) -> 4 | C78: Entreprises | H78: Mandataire | J78: =IF(Tableau1[[#This Row],[Style]]="","",VLOOKUP(Tableau1[[#This Row],[Style]],Liste!$A$1:$B$11,2,FALSE)) -> 1 | K78: =COUNTIF($J$2:J78,J78)*(J78=1) -> 4 | L78: =COUNTIF($J$2:J78,J78)*(J78=2) -> 0 | M78: =COUNTIF($J$2:J78,J78)*(J78=3) -> 0
A79: =IF(Tableau1[[#This Row],[Niveau source]]=1,Tableau1[[#This Row],[N° Mandataire]], IF(Tableau1[[#This Row],[Niveau source]]=2,Tableau1[[#This Row],[N° Titre 1]], IF(Tableau1[[#This Row],[Niveau source]]=3,Tableau1[[#This Row],[N° Titre 2]], IF(Tableau1[[#This Row],[Niveau source]]=4,Tableau1[[#This Row],[N° Elément]],"")))) -> 18 | B79: CFC112 | C79: Démolitions - Désamiantage : | H79: Titre 1 | J79: =IF(Tableau1[[#This Row],[Style]]="","",VLOOKUP(Tableau1[[#This Row],[Style]],Liste!$A$1:$B$11,2,FALSE)) -> 2 | K79: =COUNTIF($J$2:J79,J79)*(J79=1) -> 0 | L79: =COUNTIF($J$2:J79,J79)*(J79=2) -> 18 | M79: =COUNTIF($J$2:J79,J79)*(J79=3) -> 0
A80: =IF(Tableau1[[#This Row],[Niveau source]]=1,Tableau1[[#This Row],[N° Mandataire]], IF(Tableau1[[#This Row],[Niveau source]]=2,Tableau1[[#This Row],[N° Titre 1]], IF(Tableau1[[#This Row],[Niveau source]]=3,Tableau1[[#This Row],[N° Titre 2]], IF(Tableau1[[#This Row],[Niveau source]]=4,Tableau1[[#This Row],[N° Elément]],"")))) | J80: =IF(Tableau1[[#This Row],[Style]]="","",VLOOKUP(Tableau1[[#This Row],[Style]],Liste!$A$1:$B$11,2,FALSE)) | K80: =COUNTIF($J$2:J80,J80)*(J80=1) -> 0 | L80: =COUNTIF($J$2:J80,J80)*(J80=2) -> 0 | M80: =COUNTIF($J$2:J80,J80)*(J80=3) -> 0
A81: =IF(Tableau1[[#This Row],[Niveau source]]=1,Tableau1[[#This Row],[N° Mandataire]], IF(Tableau1[[#This Row],[Niveau source]]=2,Tableau1[[#This Row],[N° Titre 1]], IF(Tableau1[[#This Row],[Niveau source]]=3,Tableau1[[#This Row],[N° Titre 2]], IF(Tableau1[[#This Row],[Niveau source]]=4,Tableau1[[#This Row],[N° Elément]],"")))) | J81: =IF(Tableau1[[#This Row],[Style]]="","",VLOOKUP(Tableau1[[#This Row],[Style]],Liste!$A$1:$B$11,2,FALSE)) | K81: =COUNTIF($J$2:J81,J81)*(J81=1) -> 0 | L81: =COUNTIF($J$2:J81,J81)*(J81=2) -> 0 | M81: =COUNTIF($J$2:J81,J81)*(J81=3) -> 0
A82: =IF(Tableau1[[#This Row],[Niveau source]]=1,Tableau1[[#This Row],[N° Mandataire]], IF(Tableau1[[#This Row],[Niveau source]]=2,Tableau1[[#This Row],[N° Titre 1]], IF(Tableau1[[#This Row],[Niveau source]]=3,Tableau1[[#This Row],[N° Titre 2]], IF(Tableau1[[#This Row],[Niveau source]]=4,Tableau1[[#This Row],[N° Elément]],"")))) -> 19 | B82: CFC135.1 | C82: Eléctricité Provisoire : | H82: Titre 1 | J82: =IF(Tableau1[[#This Row],[Style]]="","",VLOOKUP(Tableau1[[#This Row],[Style]],Liste!$A$1:$B$11,2,FALSE)) -> 2 | K82: =COUNTIF($J$2:J82,J82)*(J82=1) -> 0 | L82: =COUNTIF($J$2:J82,J82)*(J82=2) -> 19 | M82: =COUNTIF($J$2:J82,J82)*(J82=3) -> 0
A83: =IF(Tableau1[[#This Row],[Niveau source]]=1,Tableau1[[#This Row],[N° Mandataire]], IF(Tableau1[[#This Row],[Niveau source]]=2,Tableau1[[#This Row],[N° Titre 1]], IF(Tableau1[[#This Row],[Niveau source]]=3,Tableau1[[#This Row],[N° Titre 2]], IF(Tableau1[[#This Row],[Niveau source]]=4,Tableau1[[#This Row],[N° Elément]],"")))) | J83: =IF(Tableau1[[#This Row],[Style]]="","",VLOOKUP(Tableau1[[#This Row],[Style]],Liste!$A$1:$B$11,2,FALSE)) | K83: =COUNTIF($J$2:J83,J83)*(J83=1) -> 0 | L83: =COUNTIF($J$2:J83,J83)*(J83=2) -> 0 | M83: =COUNTIF($J$2:J83,J83)*(J83=3) -> 0
A84: =IF(Tableau1[[#This Row],[Niveau source]]=1,Tableau1[[#This Row],[N° Mandataire]], IF(Tableau1[[#This Row],[Niveau source]]=2,Tableau1[[#This Row],[N° Titre 1]], IF(Tableau1[[#This Row],[Niveau source]]=3,Tableau1[[#This Row],[N° Titre 2]], IF(Tableau1[[#This Row],[Niveau source]]=4,Tableau1[[#This Row],[N° Elément]],"")))) | J84: =IF(Tableau1[[#This Row],[Style]]="","",VLOOKUP(Tableau1[[#This Row],[Style]],Liste!$A$1:$B$11,2,FALSE)) | K84: =COUNTIF($J$2:J84,J84)*(J84=1) -> 0 | L84: =COUNTIF($J$2:J84,J84)*(J84=2) -> 0 | M84: =COUNTIF($J$2:J84,J84)*(J84=3) -> 0
A85: =IF(Tableau1[[#This Row],[Niveau source]]=1,Tableau1[[#This Row],[N° Mandataire]], IF(Tableau1[[#This Row],[Niveau source]]=2,Tableau1[[#This Row],[N° Titre 1]], IF(Tableau1[[#This Row],[Niveau source]]=3,Tableau1[[#This Row],[N° Titre 2]], IF(Tableau1[[#This Row],[Niveau source]]=4,Tableau1[[#This Row],[N° Elément]],"")))) -> 20 | B85: CFC135.3 | C85: Eau Provisoire: | H85: Titre 1 | J85: =IF(Tableau1[[#This Row],[Style]]="","",VLOOKUP(Tableau1[[#This Row],[Style]],Liste!$A$1:$B$11,2,FALSE)) -> 2 | K85: =COUNTIF($J$2:J85,J85)*(J85=1) -> 0 | L85: =COUNTIF($J$2:J85,J85)*(J85=2) -> 20 | M85: =COUNTIF($J$2:J85,J85)*(J85=3) -> 0
A86: =IF(Tableau1[[#This Row],[Niveau source]]=1,Tableau1[[#This Row],[N° Mandataire]], IF(Tableau1[[#This Row],[Niveau source]]=2,Tableau1[[#This Row],[N° Titre 1]], IF(Tableau1[[#This Row],[Niveau source]]=3,Tableau1[[#This Row],[N° Titre 2]], IF(Tableau1[[#This Row],[Niveau source]]=4,Tableau1[[#This Row],[N° Elément]],"")))) | J86: =IF(Tableau1[[#This Row],[Style]]="","",VLOOKUP(Tableau1[[#This Row],[Style]],Liste!$A$1:$B$11,2,FALSE)) | K86: =COUNTIF($J$2:J86,J86)*(J86=1) -> 0 | L86: =COUNTIF($J$2:J86,J86)*(J86=2) -> 0 | M86: =COUNTIF($J$2:J86,J86)*(J86=3) -> 0
A87: =IF(Tableau1[[#This Row],[Niveau source]]=1,Tableau1[[#This Row],[N° Mandataire]], IF(Tableau1[[#This Row],[Niveau source]]=2,Tableau1[[#This Row],[N° Titre 1]], IF(Tableau1[[#This Row],[Niveau source]]=3,Tableau1[[#This Row],[N° Titre 2]], IF(Tableau1[[#This Row],[Niveau source]]=4,Tableau1[[#This Row],[N° Elément]],"")))) | J87: =IF(Tableau1[[#This Row],[Style]]="","",VLOOKUP(Tableau1[[#This Row],[Style]],Liste!$A$1:$B$11,2,FALSE)) | K87: =COUNTIF($J$2:J87,J87)*(J87=1) -> 0 | L87: =COUNTIF($J$2:J87,J87)*(J87=2) -> 0 | M87: =COUNTIF($J$2:J87,J87)*(J87=3) -> 0
A88: =IF(Tableau1[[#This Row],[Niveau source]]=1,Tableau1[[#This Row],[N° Mandataire]], IF(Tableau1[[#This Row],[Niveau source]]=2,Tableau1[[#This Row],[N° Titre 1]], IF(Tableau1[[#This Row],[Niveau source]]=3,Tableau1[[#This Row],[N° Titre 2]], IF(Tableau1[[#This Row],[Niveau source]]=4,Tableau1[[#This Row],[N° Elément]],"")))) -> 21 | B88: CFC171 | C88: Micropieux: | H88: Titre 1 | J88: =IF(Tableau1[[#This Row],[Style]]="","",VLOOKUP(Tableau1[[#This Row],[Style]],Liste!$A$1:$B$11,2,FALSE)) -> 2 | K88: =COUNTIF($J$2:J88,J88)*(J88=1) -> 0 | L88: =COUNTIF($J$2:J88,J88)*(J88=2) -> 21 | M88: =COUNTIF($J$2:J88,J88)*(J88=3) -> 0
A89: =IF(Tableau1[[#This Row],[Niveau source]]=1,Tableau1[[#This Row],[N° Mandataire]], IF(Tableau1[[#This Row],[Niveau source]]=2,Tableau1[[#This Row],[N° Titre 1]], IF(Tableau1[[#This Row],[Niveau source]]=3,Tableau1[[#This Row],[N° Titre 2]], IF(Tableau1[[#This Row],[Niveau source]]=4,Tableau1[[#This Row],[N° Elément]],"")))) | J89: =IF(Tableau1[[#This Row],[Style]]="","",VLOOKUP(Tableau1[[#This Row],[Style]],Liste!$A$1:$B$11,2,FALSE)) | K89: =COUNTIF($J$2:J89,J89)*(J89=1) -> 0 | L89: =COUNTIF($J$2:J89,J89)*(J89=2) -> 0 | M89: =COUNTIF($J$2:J89,J89)*(J89=3) -> 0
A90: =IF(Tableau1[[#This Row],[Niveau source]]=1,Tableau1[[#This Row],[N° Mandataire]], IF(Tableau1[[#This Row],[Niveau source]]=2,Tableau1[[#This Row],[N° Titre 1]], IF(Tableau1[[#This Row],[Niveau source]]=3,Tableau1[[#This Row],[N° Titre 2]], IF(Tableau1[[#This Row],[Niveau source]]=4,Tableau1[[#This Row],[N° Elément]],"")))) | J90: =IF(Tableau1[[#This Row],[Style]]="","",VLOOKUP(Tableau1[[#This Row],[Style]],Liste!$A$1:$B$11,2,FALSE)) | K90: =COUNTIF($J$2:J90,J90)*(J90=1) -> 0 | L90: =COUNTIF($J$2:J90,J90)*(J90=2) -> 0 | M90: =COUNTIF($J$2:J90,J90)*(J90=3) -> 0
A91: =IF(Tableau1[[#This Row],[Niveau source]]=1,Tableau1[[#This Row],[N° Mandataire]], IF(Tableau1[[#This Row],[Niveau source]]=2,Tableau1[[#This Row],[N° Titre 1]], IF(Tableau1[[#This Row],[Niveau source]]=3,Tableau1[[#This Row],[N° Titre 2]], IF(Tableau1[[#This Row],[Niveau source]]=4,Tableau1[[#This Row],[N° Elément]],"")))) -> 22 | B91: CFC112-201-211 | C91: Travaux entreprise de maçonnerie: | H91: Titre 1 | J91: =IF(Tableau1[[#This Row],[Style]]="","",VLOOKUP(Tableau1[[#This Row],[Style]],Liste!$A$1:$B$11,2,FALSE)) -> 2 | K91: =COUNTIF($J$2:J91,J91)*(J91=1) -> 0 | L91: =COUNTIF($J$2:J91,J91)*(J91=2) -> 22 | M91: =COUNTIF($J$2:J91,J91)*(J91=3) -> 0
A92: =IF(Tableau1[[#This Row],[Niveau source]]=1,Tableau1[[#This Row],[N° Mandataire]], IF(Tableau1[[#This Row],[Niveau source]]=2,Tableau1[[#This Row],[N° Titre 1]], IF(Tableau1[[#This Row],[Niveau source]]=3,Tableau1[[#This Row],[N° Titre 2]], IF(Tableau1[[#This Row],[Niveau source]]=4,Tableau1[[#This Row],[N° Elément]],"")))) | J92: =IF(Tableau1[[#This Row],[Style]]="","",VLOOKUP(Tableau1[[#This Row],[Style]],Liste!$A$1:$B$11,2,FALSE)) | K92: =COUNTIF($J$2:J92,J92)*(J92=1) -> 0 | L92: =COUNTIF($J$2:J92,J92)*(J92=2) -> 0 | M92: =COUNTIF($J$2:J92,J92)*(J92=3) -> 0
A93: =IF(Tableau1[[#This Row],[Niveau source]]=1,Tableau1[[#This Row],[N° Mandataire]], IF(Tableau1[[#This Row],[Niveau source]]=2,Tableau1[[#This Row],[N° Titre 1]], IF(Tableau1[[#This Row],[Niveau source]]=3,Tableau1[[#This Row],[N° Titre 2]], IF(Tableau1[[#This Row],[Niveau source]]=4,Tableau1[[#This Row],[N° Elément]],"")))) | J93: =IF(Tableau1[[#This Row],[Style]]="","",VLOOKUP(Tableau1[[#This Row],[Style]],Liste!$A$1:$B$11,2,FALSE)) | K93: =COUNTIF($J$2:J93,J93)*(J93=1) -> 0 | L93: =COUNTIF($J$2:J93,J93)*(J93=2) -> 0 | M93: =COUNTIF($J$2:J93,J93)*(J93=3) -> 0
A94: =IF(Tableau1[[#This Row],[Niveau source]]=1,Tableau1[[#This Row],[N° Mandataire]], IF(Tableau1[[#This Row],[Niveau source]]=2,Tableau1[[#This Row],[N° Titre 1]], IF(Tableau1[[#This Row],[Niveau source]]=3,Tableau1[[#This Row],[N° Titre 2]], IF(Tableau1[[#This Row],[Niveau source]]=4,Tableau1[[#This Row],[N° Elément]],"")))) -> 23 | B94: CFC213 | C94: Charpente métallique : | H94: Titre 1 | J94: =IF(Tableau1[[#This Row],[Style]]="","",VLOOKUP(Tableau1[[#This Row],[Style]],Liste!$A$1:$B$11,2,FALSE)) -> 2 | K94: =COUNTIF($J$2:J94,J94)*(J94=1) -> 0 | L94: =COUNTIF($J$2:J94,J94)*(J94=2) -> 23 | M94: =COUNTIF($J$2:J94,J94)*(J94=3) -> 0
A95: =IF(Tableau1[[#This Row],[Niveau source]]=1,Tableau1[[#This Row],[N° Mandataire]], IF(Tableau1[[#This Row],[Niveau source]]=2,Tableau1[[#This Row],[N° Titre 1]], IF(Tableau1[[#This Row],[Niveau source]]=3,Tableau1[[#This Row],[N° Titre 2]], IF(Tableau1[[#This Row],[Niveau source]]=4,Tableau1[[#This Row],[N° Elément]],"")))) | J95: =IF(Tableau1[[#This Row],[Style]]="","",VLOOKUP(Tableau1[[#This Row],[Style]],Liste!$A$1:$B$11,2,FALSE)) | K95: =COUNTIF($J$2:J95,J95)*(J95=1) -> 0 | L95: =COUNTIF($J$2:J95,J95)*(J95=2) -> 0 | M95: =COUNTIF($J$2:J95,J95)*(J95=3) -> 0
A96: =IF(Tableau1[[#This Row],[Niveau source]]=1,Tableau1[[#This Row],[N° Mandataire]], IF(Tableau1[[#This Row],[Niveau source]]=2,Tableau1[[#This Row],[N° Titre 1]], IF(Tableau1[[#This Row],[Niveau source]]=3,Tableau1[[#This Row],[N° Titre 2]], IF(Tableau1[[#This Row],[Niveau source]]=4,Tableau1[[#This Row],[N° Elément]],"")))) | J96: =IF(Tableau1[[#This Row],[Style]]="","",VLOOKUP(Tableau1[[#This Row],[Style]],Liste!$A$1:$B$11,2,FALSE)) | K96: =COUNTIF($J$2:J96,J96)*(J96=1) -> 0 | L96: =COUNTIF($J$2:J96,J96)*(J96=2) -> 0 | M96: =COUNTIF($J$2:J96,J96)*(J96=3) -> 0
A97: =IF(Tableau1[[#This Row],[Niveau source]]=1,Tableau1[[#This Row],[N° Mandataire]], IF(Tableau1[[#This Row],[Niveau source]]=2,Tableau1[[#This Row],[N° Titre 1]], IF(Tableau1[[#This Row],[Niveau source]]=3,Tableau1[[#This Row],[N° Titre 2]], IF(Tableau1[[#This Row],[Niveau source]]=4,Tableau1[[#This Row],[N° Elément]],"")))) -> 24 | B97: CFC214 | C97: Charpente bois: | H97: Titre 1 | J97: =IF(Tableau1[[#This Row],[Style]]="","",VLOOKUP(Tableau1[[#This Row],[Style]],Liste!$A$1:$B$11,2,FALSE)) -> 2 | K97: =COUNTIF($J$2:J97,J97)*(J97=1) -> 0 | L97: =COUNTIF($J$2:J97,J97)*(J97=2) -> 24 | M97: =COUNTIF($J$2:J97,J97)*(J97=3) -> 0
A98: =IF(Tableau1[[#This Row],[Niveau source]]=1,Tableau1[[#This Row],[N° Mandataire]], IF(Tableau1[[#This Row],[Niveau source]]=2,Tableau1[[#This Row],[N° Titre 1]], IF(Tableau1[[#This Row],[Niveau source]]=3,Tableau1[[#This Row],[N° Titre 2]], IF(Tableau1[[#This Row],[Niveau source]]=4,Tableau1[[#This Row],[N° Elément]],"")))) | J98: =IF(Tableau1[[#This Row],[Style]]="","",VLOOKUP(Tableau1[[#This Row],[Style]],Liste!$A$1:$B$11,2,FALSE)) | K98: =COUNTIF($J$2:J98,J98)*(J98=1) -> 0 | L98: =COUNTIF($J$2:J98,J98)*(J98=2) -> 0 | M98: =COUNTIF($J$2:J98,J98)*(J98=3) -> 0
A99: =IF(Tableau1[[#This Row],[Niveau source]]=1,Tableau1[[#This Row],[N° Mandataire]], IF(Tableau1[[#This Row],[Niveau source]]=2,Tableau1[[#This Row],[N° Titre 1]], IF(Tableau1[[#This Row],[Niveau source]]=3,Tableau1[[#This Row],[N° Titre 2]], IF(Tableau1[[#This Row],[Niveau source]]=4,Tableau1[[#This Row],[N° Elément]],"")))) | J99: =IF(Tableau1[[#This Row],[Style]]="","",VLOOKUP(Tableau1[[#This Row],[Style]],Liste!$A$1:$B$11,2,FALSE)) | K99: =COUNTIF($J$2:J99,J99)*(J99=1) -> 0 | L99: =COUNTIF($J$2:J99,J99)*(J99=2) -> 0 | M99: =COUNTIF($J$2:J99,J99)*(J99=3) -> 0
A100: =IF(Tableau1[[#This Row],[Niveau source]]=1,Tableau1[[#This Row],[N° Mandataire]], IF(Tableau1[[#This Row],[Niveau source]]=2,Tableau1[[#This Row],[N° Titre 1]], IF(Tableau1[[#This Row],[Niveau source]]=3,Tableau1[[#This Row],[N° Titre 2]], IF(Tableau1[[#This Row],[Niveau source]]=4,Tableau1[[#This Row],[N° Elément]],"")))) -> 25 | B100: CFC219 | C100: Echafaudage: | H100: Titre 1 | J100: =IF(Tableau1[[#This Row],[Style]]="","",VLOOKUP(Tableau1[[#This Row],[Style]],Liste!$A$1:$B$11,2,FALSE)) -> 2 | K100: =COUNTIF($J$2:J100,J100)*(J100=1) -> 0 | L100: =COUNTIF($J$2:J100,J100)*(J100=2) -> 25 | M100: =COUNTIF($J$2:J100,J100)*(J100=3) -> 0
...

Sheet Liste
A1: Mandataire | B1: 1
A2: Mandataire fini | B2: 1
A3: Titre 1 | B3: 2
A4: Titre 1 fini | B4: 2
A5: Titre 2 | B5: 3
A6: Titre 2 fini | B6: 3
A7: Nouveau | B7: 4
A8: En cours | B8: 4
A9: En cours fini | B9: 4
A10: Important | B10: 4
A11: Important fini | B11: 4

Sheet Base
A1: Présence
A3: P
A4: A
A5: E
A7: Style de texte
A9: Nouveau
A10: Fini
A11: Mandataire
A12: Titre
A13: Important
A14: MandataireFini
A15: TitreFini
A16: ImportantFini
