Workbook
Name Présence: Base!$A$3:$A$5
Name Style: Liste!$A$1:$A$11

Sheet Intervenant
A9: Numéro d'affaire:
A11: Nom du projet
A14: Commune
A16: Maitre de l'ouvrage
A18: Type de séance | C18: Séance de chantier
A20: N° du PV | C20: 36
A21: Date et heure | C21: 14.05.2024 à 8h00
A22: Lieu | C22: Sur chantier
A23: Auteur du PV
A24: Prochaine séance | C24: 21.05.2024 à 8h00
A25: Code Cadenas | C25: 1964
A27: * P = présent, A = absent, E = excusé, C=convoqué prochaine séance
A28: CFC | B28: Corp d'état | C28: Entreprise | D28: Abréviation | E28: Prénom, Nom | F28: E-mail | G28: Téléphone | H28: Présent | I28: Convoqué | J28: Heure | K28: Diffusion PV
A30: Maitre d'ouvrage - Autorités
B32: Maitre de l'ouvrage | K32: X
K34: X
K36: X
K38: X
K40: X
A42: Services
B43: Thermoréseau | K43: x
B45: Electricité
B49: Eau potable
B51: Canalisations EU-EC
B53: Téléréseaux -FO
B55: Téléréseaux -FO
B57: Gaz
B59: Cuve à Mazout | K59: X
A61: Mandataires
A63: 291.1 | B63: Architecte
A65: 291.2 | B65: Direction des travaux
A67: 292 | B67: Ingénieur Civil
A69: 293 | B69: Ingénieur Eléctricien
A71: 294 | B71: Ingénieur CVS
A73: 297 | B73: Géomètre
A75: 297.1 | B75: Géologue
A77: 297.3 | B77: Ingénieur Physicien
A79: 297.4 | B79: Ingénieur Acoustique
A81: 298.5 | B81: Ingénieur Feu
A83: Entreprises
...

Sheet Généralité
A1: Ma | B1: Pos | C1: Ind | D1: N° | E1: Libellé | F1: Resp. Conc. | G1: Délai | H1: Style | I1: Caché
A2: 0 | B2: 0 | C2: =IF(H2="Titre","a",IF(H2="Mandataire","",CHAR(CODE(C1)+1))) | D2: =IF(A2&B2=A1&B1,"",A2&"."&B2) -> 0.0 | E2: Généralité | H2: Mandataire
A3: 0 | B3: 1 | C3: 0 | D3: =IF(A3&B3=A2&B2,"",A3&"."&B3) -> 0.1 | E3: Approbation PV | H3: Titre
A4: 0 | B4: 1 | C4: 1 | D4: =Tableau14[[#This Row],[Ind]] -> 1 | E4: Sans remarque dans les 5 jours après réception, le présent PV est considéré comme accepté
A5: 0 | B5: 1 | C5: 2 | D5: =Tableau14[[#This Row],[Ind]] -> 2 | E5: Toutes les personnes sont priées de lire le PV en entier et de rester attentif à la colonne des responsables.
A6: 0 | B6: 1 | C6: 3 | D6: =Tableau14[[#This Row],[Ind]] -> 3 | E6: Remaques PV précédent :
A7: 0 | B7: 1 | C7: 4
A8: 0 | B8: 2 | C8: 0 | D8: =IF(A8&B8=A7&B7,"",A8&"."&B8) -> 0.2 | E8: Ordre du jour | H8: Titre
A9: 0 | B9: 2 | C9: 1 | D9: =Tableau14[[#This Row],[Ind]] -> 1 | E9: Coordination entreprise
A10: 0 | B10: 2 | C10: 2 | D10: =Tableau14[[#This Row],[Ind]] -> 2 | E10: Plannification chantier.
A11: 0 | B11: 3 | C11: 0 | D11: =IF(A11&B11=A10&B10,"",A11&"."&B11) -> 0.3 | E11: Accès au chantier | H11: Titre
A12: 0 | B12: 3 | C12: 1 | D12: =Tableau14[[#This Row],[Ind]] -> 1 | E12: Code des cadenas pour rentrer sur le chantier: 1964.
A13: 0 | B13: 3 | C13: 2
A14: 0 | B14: 4 | C14: 0 | D14: =IF(A14&B14=A10&B10,"",A14&"."&B14) -> 0.4 | E14: Légende du PV | H14: Titre
A15: 0 | B15: 4 | C15: 1 | D15: =Tableau14[[#This Row],[Ind]] -> 1 | E15: Nouveau point au PV | H15: Nouveau
A16: 0 | B16: 4 | C16: 2 | D16: =Tableau14[[#This Row],[Ind]] -> 2 | E16: Point en cours
A17: 0 | B17: 4 | C17: 3 | D17: =Tableau14[[#This Row],[Ind]] -> 3 | E17: Point important / décision | H17: Important
A18: 0 | B18: 4 | C18: 4 | D18: =Tableau14[[#This Row],[Ind]] -> 4 | E18: Point TERMINE | H18: Fini
A19: 0 | B19: 4 | C19: 5 | D19: =Tableau14[[#This Row],[Ind]] -> 5 | E19: Point important / décision TERMINE | H19: ImportantFini
A20: 0 | B20: 4 | C20: 6
A21: 0 | B21: 5 | C21: =IF(H21="Titre","0",IF(H21="Mandataire","",CHAR(CODE(#REF!)+1))) -> 0 | D21: =IF(A21&B21=A20&B20,"",A21&"."&B21) -> 0.5 | E21: Facturation | H21: Titre
A22: 0 | B22: 5 | C22: 1 | D22: =Tableau14[[#This Row],[Ind]] -> 1 | E22: Toutes les factures/situations doivent indiquer rabais, escompte, prorata, assurance et retenue de garantie. Elles seront libellées au nom du maître de l'ouvrage. Commune de
A23: 0 | B23: 5 | C23: 2 | D23: =Tableau14[[#This Row],[Ind]] -> 2 | E23: Et envoyées au bureau . Une copie de la facture sera transmise au bureau mandataire concerné soit:
A24: 0 | B24: 5 | C24: 3 | D24: =Tableau14[[#This Row],[Ind]] -> 3 | E24: - Démolition, Maçonnerie, Charpente bois: - Installation Eléctrique: - Installation Chauffage, Ventilation, Sanitaire: - Tous les autres corps d'états:
A25: 0 | B25: 5 | C25: 4 | D25: =Tableau14[[#This Row],[Ind]] -> 4 | E25: Les bureaux concernés transmettront les factures au bureau pour suivie financier et contrôle des coûts.
A26: 0 | B26: 6 | C26: 0 | D26: =IF(A26&B26=A25&B25,"",A26&"."&B26) -> 0.6 | E26: Généralités | H26: Titre 1
A27: 0 | B27: 6 | C27: 1 | D27: =Tableau14[[#This Row],[Ind]] -> 1 | E27: Horaire de travail: 7h00-12h00 / 13h00- 18h00
A28: 0 | B28: 6 | C28: 2 | D28: =Tableau14[[#This Row],[Ind]] -> 2 | E28: Propreté: - Chaque entreprise est tenue d’évacuer, à ses frais et par ses propres moyens, les déchets générés par son intervention - Le chantier doit être tenu en permanence propre et sécurisé
A29: 0 | B29: 6 | C29: 3 | D29: =Tableau14[[#This Row],[Ind]] -> 3 | E29: L’accès au chantier par camion se fera exclusivement par la rue du dans le sens de circulation - .
A30: 0 | B30: 6 | C30: 4 | D30: =Tableau14[[#This Row],[Ind]] -> 4 | E30: Les portails d'accès au chantier seront maintenus en permanence libres.
A31: 0 | B31: 6 | C31: 5 | D31: =Tableau14[[#This Row],[Ind]] -> 5 | E31: Les entreprises sont tenues de respecter le tonnage des voies de circulation communale en vigueur.
A32: 0 | B32: 7 | C32: =IF(H32="Titre","0",IF(H32="Mandataire","",CHAR(CODE(#REF!)+1))) -> 0 | D32: =IF(A32&B32=A31&B31,"",A32&"."&B32) -> 0.7 | E32: Effectifs | H32: Titre
A33: 0 | B33: 7 | C33: 1 | D33: =Tableau14[[#This Row],[Ind]] -> 1 | E33: - : 0
A34: 0 | B34: 7 | C34: 2 | D34: =Tableau14[[#This Row],[Ind]] -> 2 | E34: - A : 0
A35: 0 | B35: 7 | C35: 3 | D35: =Tableau14[[#This Row],[Ind]] -> 3 | E35: - A : 7
A36: 0 | B36: 7 | C36: 4 | D36: =Tableau14[[#This Row],[Ind]] -> 4 | E36: - : 0
A37: 0 | B37: 7 | C37: 5 | D37: =Tableau14[[#This Row],[Ind]] -> 5 | E37: - G : 0
A38: 0 | B38: 7 | C38: 6 | D38: =Tableau14[[#This Row],[Ind]] -> 6 | E38: - Da : 0
A39: 0 | B39: 7 | C39: 7 | D39: =IF(A39&B39=A35&B35,"",A39&"."&B39)
A40: 0 | B40: 8 | C40: =IF(H40="Titre","0",IF(H40="Mandataire","",CHAR(CODE(#REF!)+1))) -> 0 | D40: =IF(A40&B40=A34&B34,"",A40&"."&B40) -> 0.8 | E40: Météo | H40: Titre
...

Sheet PV
A1: N° | B1: Séance du | C1: Libellé | D1: Resp. Conc. | E1: Début | F1: Fin-Délai | G1: Etat | H1: Style | I1: Caché | J1: Niveau source | K1: N° Mandataire | L1: N° Titre 1 | M1: N° Titre 2 | N1: Clé parent | O1: N° Elément
A2: =IF(Tableau1[[#This Row],[Niveau source]]=1,Tableau1[[#This Row],[N° Mandataire]], IF(Tableau1[[#This Row],[Niveau source]]=2,Tableau1[[#This Row],[N° Titre 1]], IF(Tableau1[[#This Row],[Niveau source]]=3,Tableau1[[#This Row],[N° Titre 2]], IF(Tableau1[[#This Row],[Niveau source]]=4,Tableau1[[#This Row],[N° Elément]],"")))) -> 1 | C2: Information générale | H2: Mandataire | J2: =IF(Tableau1[[#This Row],[Style]]="","",VLOOKUP(Tableau1[[#This Row],[Style]],Liste!$A$1:$B$11,2,FALSE)) -> 1 | K2: =COUNTIF($J$2:J2,J2)*(J2=1) -> 1 | L2: =COUNTIF($J$2:J2,J2)*(J2=2) -> 0 | M2: =COUNTIF($J$2:J2,J2)*(J2=3) -> 0
A3: =IF(Tableau1[[#This Row],[Niveau source]]=1,Tableau1[[#This Row],[N° Mandataire]], IF(Tableau1[[#This Row],[Niveau source]]=2,Tableau1[[#This Row],[N° Titre 1]], IF(Tableau1[[#This Row],[Niveau source]]=3,Tableau1[[#This Row],[N° Titre 2]], IF(Tableau1[[#This Row],[Niveau source]]=4,Tableau1[[#This Row],[N° Elément]],"")))) -> 1 | C3: Planification générale des travaux | H3: Titre 1 | J3: =IF(Tableau1[[#This Row],[Style]]="","",VLOOKUP(Tableau1[[#This Row],[Style]],Liste!$A$1:$B$11,2,FALSE)) -> 2 | K3: =COUNTIF($J$2:J3,J3)*(J3=1) -> 0 | L3: =COUNTIF($J$2:J3,J3)*(J3=2) -> 1 | M3: =COUNTIF($J$2:J3,J3)*(J3=3) -> 0
A4: =IF(Tableau1[[#This Row],[Niveau source]]=1,Tableau1[[#This Row],[N° Mandataire]], IF(Tableau1[[#This Row],[Niveau source]]=2,Tableau1[[#This Row],[N° Titre 1]], IF(Tableau1[[#This Row],[Niveau source]]=3,Tableau1[[#This Row],[N° Titre 2]], IF(Tableau1[[#This Row],[Niveau source]]=4,Tableau1[[#This Row],[N° Elément]],"")))) -> 0 | C4: Démoltions intérieurs - Désamiantage | G4: Terminé | H4: En cours | J4: =IF(Tableau1[[#This Row],[Style]]="","",VLOOKUP(Tableau1[[#This Row],[Style]],Liste!$A$1:$B$11,2,FALSE)) -> 4 | K4: =COUNTIF($J$2:J4,J4)*(J4=1) -> 0 | L4: =COUNTIF($J$2:J4,J4)*(J4=2) -> 0 | M4: =COUNTIF($J$2:J4,J4)*(J4=3) -> 0
A5: =IF(Tableau1[[#This Row],[Niveau source]]=1,Tableau1[[#This Row],[N° Mandataire]], IF(Tableau1[[#This Row],[Niveau source]]=2,Tableau1[[#This Row],[N° Titre 1]], IF(Tableau1[[#This Row],[Niveau source]]=3,Tableau1[[#This Row],[N° Titre 2]], IF(Tableau1[[#This Row],[Niveau source]]=4,Tableau1[[#This Row],[N° Elément]],"")))) -> 0 | C5: Gros œuvre (Démolitions, Béton, Bois) | E5: 45231 | F5: 45566 | H5: En cours | J5: =IF(Tableau1[[#This Row],[Style]]="","",VLOOKUP(Tableau1[[#This Row],[Style]],Liste!$A$1:$B$11,2,FALSE)) -> 4 | K5: =COUNTIF($J$2:J5,J5)*(J5=1) -> 0 | L5: =COUNTIF($J$2:J5,J5)*(J5=2) -> 0 | M5: =COUNTIF($J$2:J5,J5)*(J5=3) -> 0
A6: =IF(Tableau1[[#This Row],[Niveau source]]=1,Tableau1[[#This Row],[N° Mandataire]], IF(Tableau1[[#This Row],[Niveau source]]=2,Tableau1[[#This Row],[N° Titre 1]], IF(Tableau1[[#This Row],[Niveau source]]=3,Tableau1[[#This Row],[N° Titre 2]], IF(Tableau1[[#This Row],[Niveau source]]=4,Tableau1[[#This Row],[N° Elément]],"")))) -> 0 | C6: Charpente toiture | F6: 45597 | H6: En cours | J6: =IF(Tableau1[[#This Row],[Style]]="","",VLOOKUP(Tableau1[[#This Row],[Style]],Liste!$A$1:$B$11,2,FALSE)) -> 4 | K6: =COUNTIF($J$2:J6,J6)*(J6=1) -> 0 | L6: =COUNTIF($J$2:J6,J6)*(J6=2) -> 0 | M6: =COUNTIF($J$2:J6,J6)*(J6=3) -> 0
A7: =IF(Tableau1[[#This Row],[Niveau source]]=1,Tableau1[[#This Row],[N° Mandataire]], IF(Tableau1[[#This Row],[Niveau source]]=2,Tableau1[[#This Row],[N° Titre 1]], IF(Tableau1[[#This Row],[Niveau source]]=3,Tableau1[[#This Row],[N° Titre 2]], IF(Tableau1[[#This Row],[Niveau source]]=4,Tableau1[[#This Row],[N° Elément]],"")))) -> 0 | C7: Mise hors d'eau du bâtiment | F7: 45627 | H7: En cours | J7: =IF(Tableau1[[#This Row],[Style]]="","",VLOOKUP(Tableau1[[#This Row],[Style]],Liste!$A$1:$B$11,2,FALSE)) -> 4 | K7: =COUNTIF($J$2:J7,J7)*(J7=1) -> 0 | L7: =COUNTIF($J$2:J7,J7)*(J7=2) -> 0 | M7: =COUNTIF($J$2:J7,J7)*(J7=3) -> 0
A8: =IF(Tableau1[[#This Row],[Niveau source]]=1,Tableau1[[#This Row],[N° Mandataire]], IF(Tableau1[[#This Row],[Niveau source]]=2,Tableau1[[#This Row],[N° Titre 1]], IF(Tableau1[[#This Row],[Niveau source]]=3,Tableau1[[#This Row],[N° Titre 2]], IF(Tableau1[[#This Row],[Niveau source]]=4,Tableau1[[#This Row],[N° Elément]],"")))) -> 0 | C8: Réception de l'ouvrage | F8: 45901 | H8: En cours | J8: =IF(Tableau1[[#This Row],[Style]]="","",VLOOKUP(Tableau1[[#This Row],[Style]],Liste!$A$1:$B$11,2,FALSE)) -> 4 | K8: =COUNTIF($J$2:J8,J8)*(J8=1) -> 0 | L8: =COUNTIF($J$2:J8,J8)*(J8=2) -> 0 | M8: =COUNTIF($J$2:J8,J8)*(J8=3) -> 0
A9: =IF(Tableau1[[#This Row],[Niveau source]]=1,Tableau1[[#This Row],[N° Mandataire]], IF(Tableau1[[#This Row],[Niveau source]]=2,Tableau1[[#This Row],[N° Titre 1]], IF(Tableau1[[#This Row],[Niveau source]]=3,Tableau1[[#This Row],[N° Titre 2]], IF(Tableau1[[#This Row],[Niveau source]]=4,Tableau1[[#This Row],[N° Elément]],"")))) -> 0 | C9: Planification travaux détaillé | H9: En cours | J9: =IF(Tableau1[[#This Row],[Style]]="","",VLOOKUP(Tableau1[[#This Row],[Style]],Liste!$A$1:$B$11,2,FALSE)) -> 4 | K9: =COUNTIF($J$2:J9,J9)*(J9=1) -> 0 | L9: =COUNTIF($J$2:J9,J9)*(J9=2) -> 0 | M9: =COUNTIF($J$2:J9,J9)*(J9=3) -> 0
A10: =IF(Tableau1[[#This Row],[Niveau source]]=1,Tableau1[[#This Row],[N° Mandataire]], IF(Tableau1[[#This Row],[Niveau source]]=2,Tableau1[[#This Row],[N° Titre 1]], IF(Tableau1[[#This Row],[Niveau source]]=3,Tableau1[[#This Row],[N° Titre 2]], IF(Tableau1[[#This Row],[Niveau source]]=4,Tableau1[[#This Row],[N° Elément]],"")))) -> 0 | C10: Démolitions intérieurs - 2ème étage | F10: 45044 | H10: En cours | J10: =IF(Tableau1[[#This Row],[Style]]="","",VLOOKUP(Tableau1[[#This Row],[Style]],Liste!$A$1:$B$11,2,FALSE)) -> 4 | K10: =COUNTIF($J$2:J10,J10)*(J10=1) -> 0 | L10: =COUNTIF($J$2:J10,J10)*(J10=2) -> 0 | M10: =COUNTIF($J$2:J10,J10)*(J10=3) -> 0
A11: =IF(Tableau1[[#This Row],[Niveau source]]=1,Tableau1[[#This Row],[N° Mandataire]], IF(Tableau1[[#This Row],[Niveau source]]=2,Tableau1[[#This Row],[N° Titre 1]], IF(Tableau1[[#This Row],[Niveau source]]=3,Tableau1[[#This Row],[N° Titre 2]], IF(Tableau1[[#This Row],[Niveau source]]=4,Tableau1[[#This Row],[N° Elément]],"")))) -> 0 | C11: Démolitions intérieurs - 1er étage et RDC | F11: 45056 | H11: En cours | J11: =IF(Tableau1[[#This Row],[Style]]="","",VLOOKUP(Tableau1[[#This Row],[Style]],Liste!$A$1:$B$11,2,FALSE)) -> 4 | K11: =COUNTIF($J$2:J11,J11)*(J11=1) -> 0 | L11: =COUNTIF($J$2:J11,J11)*(J11=2) -> 0 | M11: =COUNTIF($J$2:J11,J11)*(J11=3) -> 0
A12: =IF(Tableau1[[#This Row],[Niveau source]]=1,Tableau1[[#This Row],[N° Mandataire]], IF(Tableau1[[#This Row],[Niveau source]]=2,Tableau1[[#This Row],[N° Titre 1]], IF(Tableau1[[#This Row],[Niveau source]]=3,Tableau1[[#This Row],[N° Titre 2]], IF(Tableau1[[#This Row],[Niveau source]]=4,Tableau1[[#This Row],[N° Elément]],"")))) -> 0 | C12: Démolitions intérieurs - Sous sol | F12: 45063 | H12: En cours | J12: =IF(Tableau1[[#This Row],[Style]]="","",VLOOKUP(Tableau1[[#This Row],[Style]],Liste!$A$1:$B$11,2,FALSE)) -> 4 | K12: =COUNTIF($J$2:J12,J12)*(J12=1) -> 0 | L12: =COUNTIF($J$2:J12,J12)*(J12=2) -> 0 | M12: =COUNTIF($J$2:J12,J12)*(J12=3) -> 0
A13: =IF(Tableau1[[#This Row],[Niveau source]]=1,Tableau1[[#This Row],[N° Mandataire]], IF(Tableau1[[#This Row],[Niveau source]]=2,Tableau1[[#This Row],[N° Titre 1]], IF(Tableau1[[#This Row],[Niveau source]]=3,Tableau1[[#This Row],[N° Titre 2]], IF(Tableau1[[#This Row],[Niveau source]]=4,Tableau1[[#This Row],[N° Elément]],"")))) -> 0 | C13: Garage box: Evacuation de tout le mobilier | F13: 45063 | H13: En cours | J13: =IF(Tableau1[[#This Row],[Style]]="","",VLOOKUP(Tableau1[[#This Row],[Style]],Liste!$A$1:$B$11,2,FALSE)) -> 4 | K13: =COUNTIF($J$2:J13,J13)*(J13=1) -> 0 | L13: =COUNTIF($J$2:J13,J13)*(J13=2) -> 0 | M13: =COUNTIF($J$2:J13,J13)*(J13=3) -> 0
A14: =IF(Tableau1[[#This Row],[Niveau source]]=1,Tableau1[[#This Row],[N° Mandataire]], IF(Tableau1[[#This Row],[Niveau source]]=2,Tableau1[[#This Row],[N° Titre 1]], IF(Tableau1[[#This Row],[Niveau source]]=3,Tableau1[[#This Row],[N° Titre 2]], IF(Tableau1[[#This Row],[Niveau source]]=4,Tableau1[[#This Row],[N° Elément]],"")))) -> 2 | C14: Autorités / Propriétaires / Services. | H14: Mandataire | J14: =IF(Tableau1[[#This Row],[Style]]="","",VLOOKUP(Tableau1[[#This Row],[Style]],Liste!$A$1:$B$11,2,FALSE)) -> 1 | K14: =COUNTIF($J$2:J14,J14)*(J14=1) -> 2 | L14: =COUNTIF($J$2:J14,J14)*(J14=2) -> 0 | M14: =COUNTIF($J$2:J14,J14)*(J14=3) -> 0
A15: =IF(Tableau1[[#This Row],[Niveau source]]=1,Tableau1[[#This Row],[N° Mandataire]], IF(Tableau1[[#This Row],[Niveau source]]=2,Tableau1[[#This Row],[N° Titre 1]], IF(Tableau1[[#This Row],[Niveau source]]=3,Tableau1[[#This Row],[N° Titre 2]], IF(Tableau1[[#This Row],[Niveau source]]=4,Tableau1[[#This Row],[N° Elément]],"")))) -> 2 | C15: Maitre de l'ouvrage: | H15: Titre 1 | J15: =IF(Tableau1[[#This Row],[Style]]="","",VLOOKUP(Tableau1[[#This Row],[Style]],Liste!$A$1:$B$11,2,FALSE)) -> 2 | K15: =COUNTIF($J$2:J15,J15)*(J15=1) -> 0 | L15: =COUNTIF($J$2:J15,J15)*(J15=2) -> 2 | M15: =COUNTIF($J$2:J15,J15)*(J15=3) -> 0
A16: =IF(Tableau1[[#This Row],[Niveau source]]=1,Tableau1[[#This Row],[N° Mandataire]], IF(Tableau1[[#This Row],[Niveau source]]=2,Tableau1[[#This Row],[N° Titre 1]], IF(Tableau1[[#This Row],[Niveau source]]=3,Tableau1[[#This Row],[N° Titre 2]], IF(Tableau1[[#This Row],[Niveau source]]=4,Tableau1[[#This Row],[N° Elément]],"")))) -> 0 | B16: 45237 | C16: Signature contrat CFC112 | D16: MO | F16: De suite | H16: Nouveau | J16: =IF(Tableau1[[#This Row],[Style]]="","",VLOOKUP(Tableau1[[#This Row],[Style]],Liste!$A$1:$B$11,2,FALSE)) -> 4 | K16: =COUNTIF($J$2:J16,J16)*(J16=1) -> 0 | L16: =COUNTIF($J$2:J16,J16)*(J16=2) -> 0 | M16: =COUNTIF($J$2:J16,J16)*(J16=3) -> 0
A17: =IF(Tableau1[[#This Row],[Niveau source]]=1,Tableau1[[#This Row],[N° Mandataire]], IF(Tableau1[[#This Row],[Niveau source]]=2,Tableau1[[#This Row],[N° Titre 1]], IF(Tableau1[[#This Row],[Niveau source]]=3,Tableau1[[#This Row],[N° Titre 2]], IF(Tableau1[[#This Row],[Niveau source]]=4,Tableau1[[#This Row],[N° Elément]],"")))) -> 0 | B17: 45238 | C17: Installer cadenas à code sur les 2 portails qui seront posées par | D17: MO | F17: A suivre | H17: Nouveau | J17: =IF(Tableau1[[#This Row],[Style]]="","",VLOOKUP(Tableau1[[#This Row],[Style]],Liste!$A$1:$B$11,2,FALSE)) -> 4 | K17: =COUNTIF($J$2:J17,J17)*(J17=1) -> 0 | L17: =COUNTIF($J$2:J17,J17)*(J17=2) -> 0 | M17: =COUNTIF($J$2:J17,J17)*(J17=3) -> 0
A18: =IF(Tableau1[[#This Row],[Niveau source]]=1,Tableau1[[#This Row],[N° Mandataire]], IF(Tableau1[[#This Row],[Niveau source]]=2,Tableau1[[#This Row],[N° Titre 1]], IF(Tableau1[[#This Row],[Niveau source]]=3,Tableau1[[#This Row],[N° Titre 2]], IF(Tableau1[[#This Row],[Niveau source]]=4,Tableau1[[#This Row],[N° Elément]],"")))) -> 0 | B18: 45239 | C18: MO confirme l'enlèvement et la mise en décharge de tous les stores exterieurs des fenêtres du RDC | D18: MO | G18: Infos | H18: Important | J18: =IF(Tableau1[[#This Row],[Style]]="","",VLOOKUP(Tableau1[[#This Row],[Style]],Liste!$A$1:$B$11,2,FALSE)) -> 4 | K18: =COUNTIF($J$2:J18,J18)*(J18=1) -> 0 | L18: =COUNTIF($J$2:J18,J18)*(J18=2) -> 0 | M18: =COUNTIF($J$2:J18,J18)*(J18=3) -> 0
A19: =IF(Tableau1[[#This Row],[Niveau source]]=1,Tableau1[[#This Row],[N° Mandataire]], IF(Tableau1[[#This Row],[Niveau source]]=2,Tableau1[[#This Row],[N° Titre 1]], IF(Tableau1[[#This Row],[Niveau source]]=3,Tableau1[[#This Row],[N° Titre 2]], IF(Tableau1[[#This Row],[Niveau source]]=4,Tableau1[[#This Row],[N° Elément]],"")))) -> 0 | B19: 45240 | C19: Mise en dépôt de toutes les menuiseries qui seront réutilisés dans l'ancienne Hall de stockage IME. La paroi bois intérieur sera démontée par BTSA | D19: MO | G19: Infos | H19: Important | J19: =IF(Tableau1[[#This Row],[Style]]="","",VLOOKUP(Tableau1[[#This Row],[Style]],Liste!$A$1:$B$11,2,FALSE)) -> 4 | K19: =COUNTIF($J$2:J19,J19)*(J19=1) -> 0 | L19: =COUNTIF($J$2:J19,J19)*(J19=2) -> 0 | M19: =COUNTIF($J$2:J19,J19)*(J19=3) -> 0
A20: =IF(Tableau1[[#This Row],[Niveau source]]=1,Tableau1[[#This Row],[N° Mandataire]], IF(Tableau1[[#This Row],[Niveau source]]=2,Tableau1[[#This Row],[N° Titre 1]], IF(Tableau1[[#This Row],[Niveau source]]=3,Tableau1[[#This Row],[N° Titre 2]], IF(Tableau1[[#This Row],[Niveau source]]=4,Tableau1[[#This Row],[N° Elément]],"")))) -> 3 | C20: Thermoréseau: | H20: Titre 1 | J20: =IF(Tableau1[[#This Row],[Style]]="","",VLOOKUP(Tableau1[[#This Row],[Style]],Liste!$A$1:$B$11,2,FALSE)) -> 2 | K20: =COUNTIF($J$2:J20,J20)*(J20=1) -> 0 | L20: =COUNTIF($J$2:J20,J20)*(J20=2) -> 3 | M20: =COUNTIF($J$2:J20,J20)*(J20=3) -> 0
A21: =IF(Tableau1[[#This Row],[Niveau source]]=1,Tableau1[[#This Row],[N° Mandataire]], IF(Tableau1[[#This Row],[Niveau source]]=2,Tableau1[[#This Row],[N° Titre 1]], IF(Tableau1[[#This Row],[Niveau source]]=3,Tableau1[[#This Row],[N° Titre 2]], IF(Tableau1[[#This Row],[Niveau source]]=4,Tableau1[[#This Row],[N° Elément]],"")))) -> 0 | H21: En cours fini | J21: =IF(Tableau1[[#This Row],[Style]]="","",VLOOKUP(Tableau1[[#This Row],[Style]],Liste!$A$1:$B$11,2,FALSE)) -> 4 | K21: =COUNTIF($J$2:J21,J21)*(J21=1) -> 0 | L21: =COUNTIF($J$2:J21,J21)*(J21=2) -> 0 | M21: =COUNTIF($J$2:J21,J21)*(J21=3) -> 0
A22: =IF(Tableau1[[#This Row],[Niveau source]]=1,Tableau1[[#This Row],[N° Mandataire]], IF(Tableau1[[#This Row],[Niveau source]]=2,Tableau1[[#This Row],[N° Titre 1]], IF(Tableau1[[#This Row],[Niveau source]]=3,Tableau1[[#This Row],[N° Titre 2]], IF(Tableau1[[#This Row],[Niveau source]]=4,Tableau1[[#This Row],[N° Elément]],"")))) -> 0 | H22: Nouveau | J22: =IF(Tableau1[[#This Row],[Style]]="","",VLOOKUP(Tableau1[[#This Row],[Style]],Liste!$A$1:$B$11,2,FALSE)) -> 4 | K22: =COUNTIF($J$2:J22,J22)*(J22=1) -> 0 | L22: =COUNTIF($J$2:J22,J22)*(J22=2) -> 0 | M22: =COUNTIF($J$2:J22,J22)*(J22=3) -> 0
A23: =IF(Tableau1[[#This Row],[Niveau source]]=1,Tableau1[[#This Row],[N° Mandataire]], IF(Tableau1[[#This Row],[Niveau source]]=2,Tableau1[[#This Row],[N° Titre 1]], IF(Tableau1[[#This Row],[Niveau source]]=3,Tableau1[[#This Row],[N° Titre 2]], IF(Tableau1[[#This Row],[Niveau source]]=4,Tableau1[[#This Row],[N° Elément]],"")))) -> 4 | C23: Service Eletrique: | H23: Titre 1 | J23: =IF(Tableau1[[#This Row],[Style]]="","",VLOOKUP(Tableau1[[#This Row],[Style]],Liste!$A$1:$B$11,2,FALSE)) -> 2 | K23: =COUNTIF($J$2:J23,J23)*(J23=1) -> 0 | L23: =COUNTIF($J$2:J23,J23)*(J23=2) -> 4 | M23: =COUNTIF($J$2:J23,J23)*(J23=3) -> 0
A24: =IF(Tableau1[[#This Row],[Niveau source]]=1,Tableau1[[#This Row],[N° Mandataire]], IF(Tableau1[[#This Row],[Niveau source]]=2,Tableau1[[#This Row],[N° Titre 1]], IF(Tableau1[[#This Row],[Niveau source]]=3,Tableau1[[#This Row],[N° Titre 2]], IF(Tableau1[[#This Row],[Niveau source]]=4,Tableau1[[#This Row],[N° Elément]],"")))) -> 0 | H24: En cours fini | J24: =IF(Tableau1[[#This Row],[Style]]="","",VLOOKUP(Tableau1[[#This Row],[Style]],Liste!$A$1:$B$11,2,FALSE)) -> 4 | K24: =COUNTIF($J$2:J24,J24)*(J24=1) -> 0 | L24: =COUNTIF($J$2:J24,J24)*(J24=2) -> 0 | M24: =COUNTIF($J$2:J24,J24)*(J24=3) -> 0
A25: =IF(Tableau1[[#This Row],[Niveau source]]=1,Tableau1[[#This Row],[N° Mandataire]], IF(Tableau1[[#This Row],[Niveau source]]=2,Tableau1[[#This Row],[N° Titre 1]], IF(Tableau1[[#This Row],[Niveau source]]=3,Tableau1[[#This Row],[N° Titre 2]], IF(Tableau1[[#This Row],[Niveau source]]=4,Tableau1[[#This Row],[N° Elément]],"")))) -> 0 | H25: Nouveau | J25: =IF(Tableau1[[#This Row],[Style]]="","",VLOOKUP(Tableau1[[#This Row],[Style]],Liste!$A$1:$B$11,2,FALSE)) -> 4 | K25: =COUNTIF($J$2:J25,J25)*(J25=1) -> 0 | L25: =COUNTIF($J$2:J25,J25)*(J25=2) -> 0 | M25: =COUNTIF($J$2:J25,J25)*(J25=3) -> 0
A26: =IF(Tableau1[[#This Row],[Niveau source]]=1,Tableau1[[#This Row],[N° Mandataire]], IF(Tableau1[[#This Row],[Niveau source]]=2,Tableau1[[#This Row],[N° Titre 1]], IF(Tableau1[[#This Row],[Niveau source]]=3,Tableau1[[#This Row],[N° Titre 2]], IF(Tableau1[[#This Row],[Niveau source]]=4,Tableau1[[#This Row],[N° Elément]],"")))) -> 5 | C26: Service eaux : Service Infrastructure, Mobilité & environnement | H26: Titre 1 | J26: =IF(Tableau1[[#This Row],[Style]]="","",VLOOKUP(Tableau1[[#This Row],[Style]],Liste!$A$1:$B$11,2,FALSE)) -> 2 | K26: =COUNTIF($J$2:J26,J26)*(J26=1) -> 0 | L26: =COUNTIF($J$2:J26,J26)*(J26=2) -> 5 | M26: =COUNTIF($J$2:J26,J26)*(J26=3) -> 0
A27: =IF(Tableau1[[#This Row],[Niveau source]]=1,Tableau1[[#This Row],[N° Mandataire]], IF(Tableau1[[#This Row],[Niveau source]]=2,Tableau1[[#This Row],[N° Titre 1]], IF(Tableau1[[#This Row],[Niveau source]]=3,Tableau1[[#This Row],[N° Titre 2]], IF(Tableau1[[#This Row],[Niveau source]]=4,Tableau1[[#This Row],[N° Elément]],"")))) -> 0 | H27: En cours fini | J27: =IF(Tableau1[[#This Row],[Style]]="","",VLOOKUP(Tableau1[[#This Row],[Style]],Liste!$A$1:$B$11,2,FALSE)) -> 4 | K27: =COUNTIF($J$2:J27,J27)*(J27=1) -> 0 | L27: =COUNTIF($J$2:J27,J27)*(J27=2) -> 0 | M27: =COUNTIF($J$2:J27,J27)*(J27=3) -> 0
A28: =IF(Tableau1[[#This Row],[Niveau source]]=1,Tableau1[[#This Row],[N° Mandataire]], IF(Tableau1[[#This Row],[Niveau source]]=2,Tableau1[[#This Row],[N° Titre 1]], IF(Tableau1[[#This Row],[Niveau source]]=3,Tableau1[[#This Row],[N° Titre 2]], IF(Tableau1[[#This Row],[Niveau source]]=4,Tableau1[[#This Row],[N° Elément]],"")))) -> 0 | H28: Nouveau | J28: =IF(Tableau1[[#This Row],[Style]]="","",VLOOKUP(Tableau1[[#This Row],[Style]],Liste!$A$1:$B$11,2,FALSE)) -> 4 | K28: =COUNTIF($J$2:J28,J28)*(J28=1) -> 0 | L28: =COUNTIF($J$2:J28,J28)*(J28=2) -> 0 | M28: =COUNTIF($J$2:J28,J28)*(J28=3) -> 0
A29: =IF(Tableau1[[#This Row],[Niveau source]]=1,Tableau1[[#This Row],[N° Mandataire]], IF(Tableau1[[#This Row],[Niveau source]]=2,Tableau1[[#This Row],[N° Titre 1]], IF(Tableau1[[#This Row],[Niveau source]]=3,Tableau1[[#This Row],[N° Titre 2]], IF(Tableau1[[#This Row],[Niveau source]]=4,Tableau1[[#This Row],[N° Elément]],"")))) -> 1 | C29: Canalisation EU+EC : Service Infrastructure, Mobilité & environnement | H29: Titre 2 | J29: =IF(Tableau1[[#This Row],[Style]]="","",VLOOKUP(Tableau1[[#This Row],[Style]],Liste!$A$1:$B$11,2,FALSE)) -> 3 | K29: =COUNTIF($J$2:J29,J29)*(J29=1) -> 0 | L29: =COUNTIF($J$2:J29,J29)*(J29=2) -> 0 | M29: =COUNTIF($J$2:J29,J29)*(J29=3) -> 1
A30: =IF(Tableau1[[#This Row],[Niveau source]]=1,Tableau1[[#This Row],[N° Mandataire]], IF(Tableau1[[#This Row],[Niveau source]]=2,Tableau1[[#This Row],[N° Titre 1]], IF(Tableau1[[#This Row],[Niveau source]]=3,Tableau1[[#This Row],[N° Titre 2]], IF(Tableau1[[#This Row],[Niveau source]]=4,Tableau1[[#This Row],[N° Elément]],"")))) -> 0 | H30: Nouveau | J30: =IF(Tableau1[[#This Row],[Style]]="","",VLOOKUP(Tableau1[[#This Row],[Style]],Liste!$A$1:$B$11,2,FALSE)) -> 4 | K30: =COUNTIF($J$2:J30,J30)*(J30=1) -> 0 | L30: =COUNTIF($J$2:J30,J30)*(J30=2) -> 0 | M30: =COUNTIF($J$2:J30,J30)*(J30=3) -> 0
A31: =IF(Tableau1[[#This Row],[Niveau source]]=1,Tableau1[[#This Row],[N° Mandataire]], IF(Tableau1[[#This Row],[Niveau source]]=2,Tableau1[[#This Row],[N° Titre 1]], IF(Tableau1[[#This Row],[Niveau source]]=3,Tableau1[[#This Row],[N° Titre 2]], IF(Tableau1[[#This Row],[Niveau source]]=4,Tableau1[[#This Row],[N° Elément]],"")))) -> 0 | H31: En cours | J31: =IF(Tableau1[[#This Row],[Style]]="","",VLOOKUP(Tableau1[[#This Row],[Style]],Liste!$A$1:$B$11,2,FALSE)) -> 4 | K31: =COUNTIF($J$2:J31,J31)*(J31=1) -> 0 | L31: =COUNTIF($J$2:J31,J31)*(J31=2) -> 0 | M31: =COUNTIF($J$2:J31,J31)*(J31=3) -> 0
A32: =IF(Tableau1[[#This Row],[Niveau source]]=1,Tableau1[[#This Row],[N° Mandataire]], IF(Tableau1[[#This Row],[Niveau source]]=2,Tableau1[[#This Row],[N° Titre 1]], IF(Tableau1[[#This Row],[Niveau source]]=3,Tableau1[[#This Row],[N° Titre 2]], IF(Tableau1[[#This Row],[Niveau source]]=4,Tableau1[[#This Row],[N° Elément]],"")))) -> 2 | C32: Téléphonie - FO : | H32: Titre 2 fini | J32: =IF(Tableau1[[#This Row],[Style]]="","",VLOOKUP(Tableau1[[#This Row],[Style]],Liste!$A$1:$B$11,2,FALSE)) -> 3 | K32: =COUNTIF($J$2:J32,J32)*(J32=1) -> 0 | L32: =COUNTIF($J$2:J32,J32)*(J32=2) -> 0 | M32: =COUNTIF($J$2:J32,J32)*(J32=3) -> 2
A33: =IF(Tableau1[[#This Row],[Niveau source]]=1,Tableau1[[#This Row],[N° Mandataire]], IF(Tableau1[[#This Row],[Niveau source]]=2,Tableau1[[#This Row],[N° Titre 1]], IF(Tableau1[[#This Row],[Niveau source]]=3,Tableau1[[#This Row],[N° Titre 2]], IF(Tableau1[[#This Row],[Niveau source]]=4,Tableau1[[#This Row],[N° Elément]],"")))) -> 0 | H33: En cours fini | J33: =IF(Tableau1[[#This Row],[Style]]="","",VLOOKUP(Tableau1[[#This Row],[Style]],Liste!$A$1:$B$11,2,FALSE)) -> 4 | K33: =COUNTIF($J$2:J33,J33)*(J33=1) -> 0 | L33: =COUNTIF($J$2:J33,J33)*(J33=2) -> 0 | M33: =COUNTIF($J$2:J33,J33)*(J33=3) -> 0
A34: =IF(Tableau1[[#This Row],[Niveau source]]=1,Tableau1[[#This Row],[N° Mandataire]], IF(Tableau1[[#This Row],[Niveau source]]=2,Tableau1[[#This Row],[N° Titre 1]], IF(Tableau1[[#This Row],[Niveau source]]=3,Tableau1[[#This Row],[N° Titre 2]], IF(Tableau1[[#This Row],[Niveau source]]=4,Tableau1[[#This Row],[N° Elément]],"")))) -> 0 | H34: En cours fini | J34: =IF(Tableau1[[#This Row],[Style]]="","",VLOOKUP(Tableau1[[#This Row],[Style]],Liste!$A$1:$B$11,2,FALSE)) -> 4 | K34: =COUNTIF($J$2:J34,J34)*(J34=1) -> 0 | L34: =COUNTIF($J$2:J34,J34)*(J34=2) -> 0 | M34: =COUNTIF($J$2:J34,J34)*(J34=3) -> 0
A35: =IF(Tableau1[[#This Row],[Niveau source]]=1,Tableau1[[#This Row],[N° Mandataire]], IF(Tableau1[[#This Row],[Niveau source]]=2,Tableau1[[#This Row],[N° Titre 1]], IF(Tableau1[[#This Row],[Niveau source]]=3,Tableau1[[#This Row],[N° Titre 2]], IF(Tableau1[[#This Row],[Niveau source]]=4,Tableau1[[#This Row],[N° Elément]],"")))) -> 3 | C35: Téléréseaux - FO : | H35: Titre 2 fini | J35: =IF(Tableau1[[#This Row],[Style]]="","",VLOOKUP(Tableau1[[#This Row],[Style]],Liste!$A$1:$B$11,2,FALSE)) -> 3 | K35: =COUNTIF($J$2:J35,J35)*(J35=1) -> 0 | L35: =COUNTIF($J$2:J35,J35)*(J35=2) -> 0 | M35: =COUNTIF($J$2:J35,J35)*(J35=3) -> 3
A36: =IF(Tableau1[[#This Row],[Niveau source]]=1,Tableau1[[#This Row],[N° Mandataire]], IF(Tableau1[[#This Row],[Niveau source]]=2,Tableau1[[#This Row],[N° Titre 1]], IF(Tableau1[[#This Row],[Niveau source]]=3,Tableau1[[#This Row],[N° Titre 2]], IF(Tableau1[[#This Row],[Niveau source]]=4,Tableau1[[#This Row],[N° Elément]],"")))) -> 0 | H36: En cours fini | J36: =IF(Tableau1[[#This Row],[Style]]="","",VLOOKUP(Tableau1[[#This Row],[Style]],Liste!$A$1:$B$11,2,FALSE)) -> 4 | K36: =COUNTIF($J$2:J36,J36)*(J36=1) -> 0 | L36: =COUNTIF($J$2:J36,J36)*(J36=2) -> 0 | M36: =COUNTIF($J$2:J36,J36)*(J36=3) -> 0
A37: =IF(Tableau1[[#This Row],[Niveau source]]=1,Tableau1[[#This Row],[N° Mandataire]], IF(Tableau1[[#This Row],[Niveau source]]=2,Tableau1[[#This Row],[N° Titre 1]], IF(Tableau1[[#This Row],[Niveau source]]=3,Tableau1[[#This Row],[N° Titre 2]], IF(Tableau1[[#This Row],[Niveau source]]=4,Tableau1[[#This Row],[N° Elément]],"")))) -> 0 | H37: En cours fini | J37: =IF(Tableau1[[#This Row],[Style]]="","",VLOOKUP(Tableau1[[#This Row],[Style]],Liste!$A$1:$B$11,2,FALSE)) -> 4 | K37: =COUNTIF($J$2:J37,J37)*(J37=1) -> 0 | L37: =COUNTIF($J$2:J37,J37)*(J37=2) -> 0 | M37: =COUNTIF($J$2:J37,J37)*(J37=3) -> 0
A38: =IF(Tableau1[[#This Row],[Niveau source]]=1,Tableau1[[#This Row],[N° Mandataire]], IF(Tableau1[[#This Row],[Niveau source]]=2,Tableau1[[#This Row],[N° Titre 1]], IF(Tableau1[[#This Row],[Niveau source]]=3,Tableau1[[#This Row],[N° Titre 2]], IF(Tableau1[[#This Row],[Niveau source]]=4,Tableau1[[#This Row],[N° Elément]],"")))) -> 4 | C38: Gaz : | H38: Titre 2 | J38: =IF(Tableau1[[#This Row],[Style]]="","",VLOOKUP(Tableau1[[#This Row],[Style]],Liste!$A$1:$B$11,2,FALSE)) -> 3 | K38: =COUNTIF($J$2:J38,J38)*(J38=1) -> 0 | L38: =COUNTIF($J$2:J38,J38)*(J38=2) -> 0 | M38: =COUNTIF($J$2:J38,J38)*(J38=3) -> 4
A39: =IF(Tableau1[[#This Row],[Niveau source]]=1,Tableau1[[#This Row],[N° Mandataire]], IF(Tableau1[[#This Row],[Niveau source]]=2,Tableau1[[#This Row],[N° Titre 1]], IF(Tableau1[[#This Row],[Niveau source]]=3,Tableau1[[#This Row],[N° Titre 2]], IF(Tableau1[[#This Row],[Niveau source]]=4,Tableau1[[#This Row],[N° Elément]],"")))) -> 0 | H39: En cours fini | J39: =IF(Tableau1[[#This Row],[Style]]="","",VLOOKUP(Tableau1[[#This Row],[Style]],Liste!$A$1:$B$11,2,FALSE)) -> 4 | K39: =COUNTIF($J$2:J39,J39)*(J39=1) -> 0 | L39: =COUNTIF($J$2:J39,J39)*(J39=2) -> 0 | M39: =COUNTIF($J$2:J39,J39)*(J39=3) -> 0
A40: =IF(Tableau1[[#This Row],[Niveau source]]=1,Tableau1[[#This Row],[N° Mandataire]], IF(Tableau1[[#This Row],[Niveau source]]=2,Tableau1[[#This Row],[N° Titre 1]], IF(Tableau1[[#This Row],[Niveau source]]=3,Tableau1[[#This Row],[N° Titre 2]], IF(Tableau1[[#This Row],[Niveau source]]=4,Tableau1[[#This Row],[N° Elément]],"")))) -> 0 | H40: En cours fini | J40: =IF(Tableau1[[#This Row],[Style]]="","",VLOOKUP(Tableau1[[#This Row],[Style]],Liste!$A$1:$B$11,2,FALSE)) -> 4 | K40: =COUNTIF($J$2:J40,J40)*(J40=1) -> 0 | L40: =COUNTIF($J$2:J40,J40)*(J40=2) -> 0 | M40: =COUNTIF($J$2:J40,J40)*(J40=3) -> 0
...

Sheet Liste
A1: Mandataire | B1: 1
A2: Mandataire fini | B2: 1
A3: Titre 1 | B3: 2
A4: Titre 1 fini | B4: 2
A5: Titre 2 | B5: 3
A6: Titre 2 fini | B6: 3
A7: Nouveau | B7: 4
A8: En cours | B8: 4
A9: En cours fini | B9: 4
A10: Important | B10: 4
A11: Important fini | B11: 4

Sheet Base
A1: Présence
A3: P
A4: A
A5: E
A7: Style de texte
A9: Nouveau
A10: Fini
A11: Mandataire
A12: Titre
A13: Important
A14: MandataireFini
A15: TitreFini
A16: ImportantFini
