Workbook
Name colGamme: UfGamme[GAMME_TYPE]
Name headGamme: UfGamme[[#Headers],[PROFIL]]

Sheet Calculs_OF1
A1: Gamme | B1: SERENITE_68
A2: Montant Gauche | B2: Montant Dormant/Ouvrant 114 | E2: =VLOOKUP(B2,UfGamme[[PROFIL]:[Largeur profil]],5,0) -> 117.5 | G2: Montant
A3: Montant Droit | B3: Montant Dormant/Ouvrant 114 | E3: =VLOOKUP(B3,UfGamme[[PROFIL]:[Largeur profil]],5,0) -> 117.5 | G3: Montant
B5: =OFFSET('Uf (2)'!$D$1,MATCH(Calculs_OF1!$B$1&"_"&Calculs_OF1!G3,'Uf (2)'!$C$2:$C$34,0),,COUNTIF('Uf (2)'!$C$2:$C$34,Calculs_OF1!$B$1&"_"&Calculs_OF1!G3)) -> Montant 148 DM/DT Large | D5: {=OFFSET(INDIRECT("UfGamme[[#Headers];[PROFIL]]"),MATCH($B$1&"_"&G2,INDIRECT("UfGamme[GAMME_TYPE]"),0),,COUNTIF(INDIRECT("UfGamme[GAMME_TYPE]"),$B$1&"_"&G2))} -> Montant Dormant/Ouvrant 114 | F5: {=OFFSET(headGamme,MATCH(Calculs_OF1!$B$1&"_"&Calculs_OF1!G2,colGamme,0),,COUNTIF(colGamme,Calculs_OF1!$B$1&"_"&Calculs_OF1!G2))} -> Montant Dormant/Ouvrant 114
D6: Montant 148 DM/DT Large | F6: Montant 148 DM/DT Large
D7: Montant 148 MO/TO Large | F7: Montant 148 MO/TO Large
D8: Montant Dormant/Ouvrant 182 | F8: Montant Dormant/Ouvrant 182
D9: Montant Fixe 76 | F9: Montant Fixe 76
D10: Montant Fixe 110 | F10: Montant Fixe 110
D11: Montant Fixe 120 | F11: Montant Fixe 120
D12: Montant Fixe 154 | F12: Montant Fixe 154
D14: ↑ avec indirect (anglais) | F14: ↑ avec plages nommées

Sheet Uf
A1: GAMME | B1: TYPE PROFIL | C1: GAMME_TYPE | D1: PROFIL | E1: Uf (Conductivité 0,13) | F1: Uf (Conductivité 0,16) | G1: Uf (Conductivité 0,18) | H1: Largeur profil
A2: SERENITE_68 | B2: Battement_central | C2: =UfGamme[[#This Row],[GAMME]]&"_"&UfGamme[[#This Row],[TYPE PROFIL]] -> SERENITE_68_Battement_central | D2: Battement central 124 | E2: 1.333 | F2: 1.492 | G2: 1.591 | H2: 126
A3: SERENITE_68 | B3: Battement_central | C3: =UfGamme[[#This Row],[GAMME]]&"_"&UfGamme[[#This Row],[TYPE PROFIL]] -> SERENITE_68_Battement_central | D3: Battement central 152 | E3: 1.352 | F3: 1.527 | G3: 1.634
A4: SERENITE_68 | B4: Montant | C4: =UfGamme[[#This Row],[GAMME]]&"_"&UfGamme[[#This Row],[TYPE PROFIL]] -> SERENITE_68_Montant | D4: Montant Dormant/Ouvrant 114 | E4: 1.341 | F4: 1.517 | G4: 1.625 | H4: 117.5
A5: SERENITE_68 | B5: Montant | C5: =UfGamme[[#This Row],[GAMME]]&"_"&UfGamme[[#This Row],[TYPE PROFIL]] -> SERENITE_68_Montant | D5: Montant 148 DM/DT Large | E5: 1.366 | F5: 1.556 | G5: 1.672
A6: SERENITE_68 | B6: Montant | C6: =UfGamme[[#This Row],[GAMME]]&"_"&UfGamme[[#This Row],[TYPE PROFIL]] -> SERENITE_68_Montant | D6: Montant 148 MO/TO Large | E6: 1.367 | F6: 1.559 | G6: 1.678
A7: SERENITE_68 | B7: Montant | C7: =UfGamme[[#This Row],[GAMME]]&"_"&UfGamme[[#This Row],[TYPE PROFIL]] -> SERENITE_68_Montant | D7: Montant Dormant/Ouvrant 182 | E7: 1.382 | F7: 1.583 | G7: 1.706
A8: SERENITE_68 | B8: Montant | C8: =UfGamme[[#This Row],[GAMME]]&"_"&UfGamme[[#This Row],[TYPE PROFIL]] -> SERENITE_68_Montant | D8: Montant Fixe 76 | E8: 1.384 | F8: 1.579 | G8: 1.698
A9: SERENITE_68 | B9: Montant | C9: =UfGamme[[#This Row],[GAMME]]&"_"&UfGamme[[#This Row],[TYPE PROFIL]] -> SERENITE_68_Montant | D9: Montant Fixe 110 | E9: 1.402 | F9: 1.61 | G9: 1.737
A10: SERENITE_68 | B10: Montant | C10: =UfGamme[[#This Row],[GAMME]]&"_"&UfGamme[[#This Row],[TYPE PROFIL]] -> SERENITE_68_Montant | D10: Montant Fixe 120 | E10: 1.41 | F10: 1.621 | G10: 1.751
A11: SERENITE_68 | B11: Montant | C11: =UfGamme[[#This Row],[GAMME]]&"_"&UfGamme[[#This Row],[TYPE PROFIL]] -> SERENITE_68_Montant | D11: Montant Fixe 154 | E11: 1.417 | F11: 1.634 | G11: 1.768
A12: SERENITE_68 | B12: Montant_Intermédiaire | C12: =UfGamme[[#This Row],[GAMME]]&"_"&UfGamme[[#This Row],[TYPE PROFIL]] -> SERENITE_68_Montant_Intermédiaire | D12: Montant intermédiaire fixe ouvrant 136 | E12: 1.329 | F12: 1.493 | G12: 1.594
A13: SERENITE_68 | B13: Montant_Intermédiaire | C13: =UfGamme[[#This Row],[GAMME]]&"_"&UfGamme[[#This Row],[TYPE PROFIL]] -> SERENITE_68_Montant_Intermédiaire | D13: Montant intermédiaire fixe ouvrant 170 | E13: 1.354 | F13: 1.535 | G13: 1.646
A14: SERENITE_68 | B14: Montant_Intermédiaire | C14: =UfGamme[[#This Row],[GAMME]]&"_"&UfGamme[[#This Row],[TYPE PROFIL]] -> SERENITE_68_Montant_Intermédiaire | D14: Montant intermédiaire ouvrant ouvrant 174 | E14: 1.31 | F14: 1.47 | G14: 1.568
A15: SERENITE_68 | B15: Montant_Intermédiaire | C15: =UfGamme[[#This Row],[GAMME]]&"_"&UfGamme[[#This Row],[TYPE PROFIL]] -> SERENITE_68_Montant_Intermédiaire | D15: Montant intermédiaire fixe fixe 76 | E15: 1.316 | F15: 1.461 | G15: 1.551
A16: SERENITE_68 | B16: Montant_Intermédiaire | C16: =UfGamme[[#This Row],[GAMME]]&"_"&UfGamme[[#This Row],[TYPE PROFIL]] -> SERENITE_68_Montant_Intermédiaire | D16: Montant intermédiaire fixe fixe 110 | E16: 1.361 | F16: 1.538 | G16: 1.648
A17: SERENITE_68 | B17: Traverse Basse | C17: =UfGamme[[#This Row],[GAMME]]&"_"&UfGamme[[#This Row],[TYPE PROFIL]] -> SERENITE_68_Traverse Basse | D17: Pièce d'appui Dormant/Ouvrant 120 | E17: 1.256 | F17: 1.428 | G17: 1.535 | H17: 116.5
A18: SERENITE_68 | B18: Traverse Basse | C18: =UfGamme[[#This Row],[GAMME]]&"_"&UfGamme[[#This Row],[TYPE PROFIL]] -> SERENITE_68_Traverse Basse | D18: Seuil 117 | E18: 1.797 | F18: 1.969 | G18: 2.074
A19: SERENITE_68 | B19: Traverse Basse | C19: =UfGamme[[#This Row],[GAMME]]&"_"&UfGamme[[#This Row],[TYPE PROFIL]] -> SERENITE_68_Traverse Basse | D19: Seuil 217 | E19: 1.634 | F19: 1.837 | G19: 1.96
A20: SERENITE_68 | B20: Traverse Basse | C20: =UfGamme[[#This Row],[GAMME]]&"_"&UfGamme[[#This Row],[TYPE PROFIL]] -> SERENITE_68_Traverse Basse | D20: Pièce d'appui Fixe 76 | E20: 1.311 | F20: 1.497 | G20: 1.613
A21: SERENITE_68 | B21: Traverse Basse | C21: =UfGamme[[#This Row],[GAMME]]&"_"&UfGamme[[#This Row],[TYPE PROFIL]] -> SERENITE_68_Traverse Basse | D21: Pièce d'appui Fixe 120 | E21: 1.362 | F21: 1.568 | G21: 1.696
A22: SERENITE_68 | B22: Traverse Haute | C22: =UfGamme[[#This Row],[GAMME]]&"_"&UfGamme[[#This Row],[TYPE PROFIL]] -> SERENITE_68_Traverse Haute | D22: Traverse Dormant/Ouvrant 114 | E22: 1.341 | F22: 1.517 | G22: 1.625 | H22: 117.5
A23: SERENITE_68 | B23: Traverse Haute | C23: =UfGamme[[#This Row],[GAMME]]&"_"&UfGamme[[#This Row],[TYPE PROFIL]] -> SERENITE_68_Traverse Haute | D23: Traverse 148 DM/DT Large | E23: 1.366 | F23: 1.556 | G23: 1.672
A24: SERENITE_68 | B24: Traverse Haute | C24: =UfGamme[[#This Row],[GAMME]]&"_"&UfGamme[[#This Row],[TYPE PROFIL]] -> SERENITE_68_Traverse Haute | D24: Traverse 148 MO/TO Large | E24: 1.367 | F24: 1.559 | G24: 1.678
A25: SERENITE_68 | B25: Traverse Haute | C25: =UfGamme[[#This Row],[GAMME]]&"_"&UfGamme[[#This Row],[TYPE PROFIL]] -> SERENITE_68_Traverse Haute | D25: Traverse Dormant/Ouvrant 182 | E25: 1.382 | F25: 1.583 | G25: 1.706
A26: SERENITE_68 | B26: Traverse Haute | C26: =UfGamme[[#This Row],[GAMME]]&"_"&UfGamme[[#This Row],[TYPE PROFIL]] -> SERENITE_68_Traverse Haute | D26: Traverse Fixe 76 | E26: 1.384 | F26: 1.579 | G26: 1.698
A27: SERENITE_68 | B27: Traverse Haute | C27: =UfGamme[[#This Row],[GAMME]]&"_"&UfGamme[[#This Row],[TYPE PROFIL]] -> SERENITE_68_Traverse Haute | D27: Traverse Fixe 110 | E27: 1.402 | F27: 1.61 | G27: 1.737
A28: SERENITE_68 | B28: Traverse Haute | C28: =UfGamme[[#This Row],[GAMME]]&"_"&UfGamme[[#This Row],[TYPE PROFIL]] -> SERENITE_68_Traverse Haute | D28: Traverse Fixe 120 | E28: 1.41 | F28: 1.621 | G28: 1.751
A29: SERENITE_68 | B29: Traverse Haute | C29: =UfGamme[[#This Row],[GAMME]]&"_"&UfGamme[[#This Row],[TYPE PROFIL]] -> SERENITE_68_Traverse Haute | D29: Traverse Fixe 154 | E29: 1.417 | F29: 1.634 | G29: 1.768
A30: SERENITE_68 | B30: Traverse_Intermédiaire | C30: =UfGamme[[#This Row],[GAMME]]&"_"&UfGamme[[#This Row],[TYPE PROFIL]] -> SERENITE_68_Traverse_Intermédiaire | D30: Traverse intermédiaire fixe ouvrant 136 | E30: 1.329 | F30: 1.493 | G30: 1.594
A31: SERENITE_68 | B31: Traverse_Intermédiaire | C31: =UfGamme[[#This Row],[GAMME]]&"_"&UfGamme[[#This Row],[TYPE PROFIL]] -> SERENITE_68_Traverse_Intermédiaire | D31: Traverse intermédiaire fixe ouvrant 170 | E31: 1.354 | F31: 1.535 | G31: 1.646
A32: SERENITE_68 | B32: Traverse_Intermédiaire | C32: =UfGamme[[#This Row],[GAMME]]&"_"&UfGamme[[#This Row],[TYPE PROFIL]] -> SERENITE_68_Traverse_Intermédiaire | D32: Traverse intermédiaire ouvrant ouvrant 174 | E32: 1.31 | F32: 1.47 | G32: 1.568
A33: SERENITE_68 | B33: Traverse_Intermédiaire | C33: =UfGamme[[#This Row],[GAMME]]&"_"&UfGamme[[#This Row],[TYPE PROFIL]] -> SERENITE_68_Traverse_Intermédiaire | D33: Traverse intermédiaire fixe fixe 76 | E33: 1.316 | F33: 1.461 | G33: 1.551
A34: SERENITE_68 | B34: Traverse_Intermédiaire | C34: =UfGamme[[#This Row],[GAMME]]&"_"&UfGamme[[#This Row],[TYPE PROFIL]] -> SERENITE_68_Traverse_Intermédiaire | D34: Traverse intermédiaire fixe fixe 110 | E34: 1.361 | F34: 1.538 | G34: 1.648

Sheet Uf (2)
A1: GAMME | B1: TYPE PROFIL | C1: GAMME_TYPE | D1: PROFIL | E1: Uf (Conductivité 0,13) | F1: Uf (Conductivité 0,16) | G1: Uf (Conductivité 0,18) | H1: Largeur profil
A2: SERENITE_68 | B2: Battement_central | C2: ='Uf (2)'!$A2&"_"&'Uf (2)'!$B2 -> SERENITE_68_Battement_central | D2: Battement central 124 | E2: 1.333 | F2: 1.492 | G2: 1.591 | H2: 126
A3: SERENITE_68 | B3: Battement_central | C3: ='Uf (2)'!$A3&"_"&'Uf (2)'!$B3 -> SERENITE_68_Battement_central | D3: Battement central 152 | E3: 1.352 | F3: 1.527 | G3: 1.634
A4: SERENITE_68 | B4: Montant | C4: ='Uf (2)'!$A4&"_"&'Uf (2)'!$B4 -> SERENITE_68_Montant | D4: Montant Dormant/Ouvrant 114 | E4: 1.341 | F4: 1.517 | G4: 1.625 | H4: 117.5
A5: SERENITE_68 | B5: Montant | C5: ='Uf (2)'!$A5&"_"&'Uf (2)'!$B5 -> SERENITE_68_Montant | D5: Montant 148 DM/DT Large | E5: 1.366 | F5: 1.556 | G5: 1.672
A6: SERENITE_68 | B6: Montant | C6: ='Uf (2)'!$A6&"_"&'Uf (2)'!$B6 -> SERENITE_68_Montant | D6: Montant 148 MO/TO Large | E6: 1.367 | F6: 1.559 | G6: 1.678
A7: SERENITE_68 | B7: Montant | C7: ='Uf (2)'!$A7&"_"&'Uf (2)'!$B7 -> SERENITE_68_Montant | D7: Montant Dormant/Ouvrant 182 | E7: 1.382 | F7: 1.583 | G7: 1.706
A8: SERENITE_68 | B8: Montant | C8: ='Uf (2)'!$A8&"_"&'Uf (2)'!$B8 -> SERENITE_68_Montant | D8: Montant Fixe 76 | E8: 1.384 | F8: 1.579 | G8: 1.698
A9: SERENITE_68 | B9: Montant | C9: ='Uf (2)'!$A9&"_"&'Uf (2)'!$B9 -> SERENITE_68_Montant | D9: Montant Fixe 110 | E9: 1.402 | F9: 1.61 | G9: 1.737
A10: SERENITE_68 | B10: Montant | C10: ='Uf (2)'!$A10&"_"&'Uf (2)'!$B10 -> SERENITE_68_Montant | D10: Montant Fixe 120 | E10: 1.41 | F10: 1.621 | G10: 1.751
A11: SERENITE_68 | B11: Montant | C11: ='Uf (2)'!$A11&"_"&'Uf (2)'!$B11 -> SERENITE_68_Montant | D11: Montant Fixe 154 | E11: 1.417 | F11: 1.634 | G11: 1.768
A12: SERENITE_68 | B12: Montant_Intermédiaire | C12: ='Uf (2)'!$A12&"_"&'Uf (2)'!$B12 -> SERENITE_68_Montant_Intermédiaire | D12: Montant intermédiaire fixe ouvrant 136 | E12: 1.329 | F12: 1.493 | G12: 1.594
A13: SERENITE_68 | B13: Montant_Intermédiaire | C13: ='Uf (2)'!$A13&"_"&'Uf (2)'!$B13 -> SERENITE_68_Montant_Intermédiaire | D13: Montant intermédiaire fixe ouvrant 170 | E13: 1.354 | F13: 1.535 | G13: 1.646
A14: SERENITE_68 | B14: Montant_Intermédiaire | C14: ='Uf (2)'!$A14&"_"&'Uf (2)'!$B14 -> SERENITE_68_Montant_Intermédiaire | D14: Montant intermédiaire ouvrant ouvrant 174 | E14: 1.31 | F14: 1.47 | G14: 1.568
A15: SERENITE_68 | B15: Montant_Intermédiaire | C15: ='Uf (2)'!$A15&"_"&'Uf (2)'!$B15 -> SERENITE_68_Montant_Intermédiaire | D15: Montant intermédiaire fixe fixe 76 | E15: 1.316 | F15: 1.461 | G15: 1.551
A16: SERENITE_68 | B16: Montant_Intermédiaire | C16: ='Uf (2)'!$A16&"_"&'Uf (2)'!$B16 -> SERENITE_68_Montant_Intermédiaire | D16: Montant intermédiaire fixe fixe 110 | E16: 1.361 | F16: 1.538 | G16: 1.648
A17: SERENITE_68 | B17: Traverse Basse | C17: ='Uf (2)'!$A17&"_"&'Uf (2)'!$B17 -> SERENITE_68_Traverse Basse | D17: Pièce d'appui Dormant/Ouvrant 120 | E17: 1.256 | F17: 1.428 | G17: 1.535 | H17: 116.5
A18: SERENITE_68 | B18: Traverse Basse | C18: ='Uf (2)'!$A18&"_"&'Uf (2)'!$B18 -> SERENITE_68_Traverse Basse | D18: Seuil 117 | E18: 1.797 | F18: 1.969 | G18: 2.074
A19: SERENITE_68 | B19: Traverse Basse | C19: ='Uf (2)'!$A19&"_"&'Uf (2)'!$B19 -> SERENITE_68_Traverse Basse | D19: Seuil 217 | E19: 1.634 | F19: 1.837 | G19: 1.96
A20: SERENITE_68 | B20: Traverse Basse | C20: ='Uf (2)'!$A20&"_"&'Uf (2)'!$B20 -> SERENITE_68_Traverse Basse | D20: Pièce d'appui Fixe 76 | E20: 1.311 | F20: 1.497 | G20: 1.613
A21: SERENITE_68 | B21: Traverse Basse | C21: ='Uf (2)'!$A21&"_"&'Uf (2)'!$B21 -> SERENITE_68_Traverse Basse | D21: Pièce d'appui Fixe 120 | E21: 1.362 | F21: 1.568 | G21: 1.696
A22: SERENITE_68 | B22: Traverse Haute | C22: ='Uf (2)'!$A22&"_"&'Uf (2)'!$B22 -> SERENITE_68_Traverse Haute | D22: Traverse Dormant/Ouvrant 114 | E22: 1.341 | F22: 1.517 | G22: 1.625 | H22: 117.5
A23: SERENITE_68 | B23: Traverse Haute | C23: ='Uf (2)'!$A23&"_"&'Uf (2)'!$B23 -> SERENITE_68_Traverse Haute | D23: Traverse 148 DM/DT Large | E23: 1.366 | F23: 1.556 | G23: 1.672
A24: SERENITE_68 | B24: Traverse Haute | C24: ='Uf (2)'!$A24&"_"&'Uf (2)'!$B24 -> SERENITE_68_Traverse Haute | D24: Traverse 148 MO/TO Large | E24: 1.367 | F24: 1.559 | G24: 1.678
A25: SERENITE_68 | B25: Traverse Haute | C25: ='Uf (2)'!$A25&"_"&'Uf (2)'!$B25 -> SERENITE_68_Traverse Haute | D25: Traverse Dormant/Ouvrant 182 | E25: 1.382 | F25: 1.583 | G25: 1.706
A26: SERENITE_68 | B26: Traverse Haute | C26: ='Uf (2)'!$A26&"_"&'Uf (2)'!$B26 -> SERENITE_68_Traverse Haute | D26: Traverse Fixe 76 | E26: 1.384 | F26: 1.579 | G26: 1.698
A27: SERENITE_68 | B27: Traverse Haute | C27: ='Uf (2)'!$A27&"_"&'Uf (2)'!$B27 -> SERENITE_68_Traverse Haute | D27: Traverse Fixe 110 | E27: 1.402 | F27: 1.61 | G27: 1.737
A28: SERENITE_68 | B28: Traverse Haute | C28: ='Uf (2)'!$A28&"_"&'Uf (2)'!$B28 -> SERENITE_68_Traverse Haute | D28: Traverse Fixe 120 | E28: 1.41 | F28: 1.621 | G28: 1.751
A29: SERENITE_68 | B29: Traverse Haute | C29: ='Uf (2)'!$A29&"_"&'Uf (2)'!$B29 -> SERENITE_68_Traverse Haute | D29: Traverse Fixe 154 | E29: 1.417 | F29: 1.634 | G29: 1.768
A30: SERENITE_68 | B30: Traverse_Intermédiaire | C30: ='Uf (2)'!$A30&"_"&'Uf (2)'!$B30 -> SERENITE_68_Traverse_Intermédiaire | D30: Traverse intermédiaire fixe ouvrant 136 | E30: 1.329 | F30: 1.493 | G30: 1.594
A31: SERENITE_68 | B31: Traverse_Intermédiaire | C31: ='Uf (2)'!$A31&"_"&'Uf (2)'!$B31 -> SERENITE_68_Traverse_Intermédiaire | D31: Traverse intermédiaire fixe ouvrant 170 | E31: 1.354 | F31: 1.535 | G31: 1.646
A32: SERENITE_68 | B32: Traverse_Intermédiaire | C32: ='Uf (2)'!$A32&"_"&'Uf (2)'!$B32 -> SERENITE_68_Traverse_Intermédiaire | D32: Traverse intermédiaire ouvrant ouvrant 174 | E32: 1.31 | F32: 1.47 | G32: 1.568
A33: SERENITE_68 | B33: Traverse_Intermédiaire | C33: ='Uf (2)'!$A33&"_"&'Uf (2)'!$B33 -> SERENITE_68_Traverse_Intermédiaire | D33: Traverse intermédiaire fixe fixe 76 | E33: 1.316 | F33: 1.461 | G33: 1.551
A34: SERENITE_68 | B34: Traverse_Intermédiaire | C34: ='Uf (2)'!$A34&"_"&'Uf (2)'!$B34 -> SERENITE_68_Traverse_Intermédiaire | D34: Traverse intermédiaire fixe fixe 110 | E34: 1.361 | F34: 1.538 | G34: 1.648
