Workbook

Sheet F1
A1: Pays | B1: indicateur | C1: Valeur | D1: Semestre
A2: ANGOLA | B2: 1 | C2: 10 | D2: S1 2024
A3: ANGOLA | B3: 1 | C3: 20 | D3: S2 2024
A4: ZIMBABWE | B4: 1 | C4: 30 | D4: S1 2024
A5: NEPAL | B5: 2 | C5: 40 | D5: S2 2024
A6: RWANDA | B6: 3 | C6: 50 | D6: S1 2024
A7: EAU | B7: 3 | C7: 60 | D7: S2 2024
A8: ARGENTINE | B8: 3 | C8: 40 | D8: S1 2024
A9: LETTONIE | B9: 2 | C9: 20 | D9: S2 2024
A10: JAMAIQUE | B10: 1 | C10: 10 | D10: S1 2024
A11: MALDIVES | B11: 3 | C11: 20 | D11: S2 2024
A12: COSTA RICA | B12: 3 | C12: 20 | D12: S1 2024
A13: BIELORUSSIE | B13: 3 | C13: 20 | D13: S2 2024
... A21: NOUVELLE GUINEE | B21: 2 | C21: 1 | D21: S2 2024

Sheet F2
A1: AFRIQUE | B1: Par pays
A2: ANGOLA | B2: {=SUMPRODUCT(('F1'!$C$2:$C$100),--(('F1'!$A$2:$A$100=Tableau3[[#This Row],[AFRIQUE]])),--('F1'!$D$2:$D$100="S1 2024"),--('F1'!$B$2:$B$100=1))} -> 20
A3: BOTSWANA | B3: {=SUMPRODUCT(('F1'!$C$2:$C$100),--(('F1'!$A$2:$A$100=Tableau3[[#This Row],[AFRIQUE]])),--('F1'!$D$2:$D$100="S1 2024"),--('F1'!$B$2:$B$100=1))} -> 0
A4: ESWATINI | B4: {=SUMPRODUCT(('F1'!$C$2:$C$100),--(('F1'!$A$2:$A$100=Tableau3[[#This Row],[AFRIQUE]])),--('F1'!$D$2:$D$100="S1 2024"),--('F1'!$B$2:$B$100=1))} -> 0
A5: LESOTHO | B5: {=SUMPRODUCT(('F1'!$C$2:$C$100),--(('F1'!$A$2:$A$100=Tableau3[[#This Row],[AFRIQUE]])),--('F1'!$D$2:$D$100="S1 2024"),--('F1'!$B$2:$B$100=1))} -> 0 | E5: =SUMPRODUCT(('F1'!C2:C100)*((('F1'!A2:A100="ANGOLA")+('F1'!A2:A100="JAMAIQUE"))>0)*('F1'!D2:D100="S1 2024")*('F1'!B2:B100=1)) -> 30
A6: MALAWI | B6: {=SUMPRODUCT(('F1'!$C$2:$C$100),--(('F1'!$A$2:$A$100=Tableau3[[#This Row],[AFRIQUE]])),--('F1'!$D$2:$D$100="S1 2024"),--('F1'!$B$2:$B$100=1))} -> 0 | E6: Total pays listés
A7: MOZAMBIQUE | B7: {=SUMPRODUCT(('F1'!$C$2:$C$100),--(('F1'!$A$2:$A$100=Tableau3[[#This Row],[AFRIQUE]])),--('F1'!$D$2:$D$100="S1 2024"),--('F1'!$B$2:$B$100=1))} -> 0 | E7: =SUM(Tableau3[Par pays]) -> 50
A8: NAMIBIE | B8: {=SUMPRODUCT(('F1'!$C$2:$C$100),--(('F1'!$A$2:$A$100=Tableau3[[#This Row],[AFRIQUE]])),--('F1'!$D$2:$D$100="S1 2024"),--('F1'!$B$2:$B$100=1))} -> 0
A9: AFRIQUE DU SUD | B9: {=SUMPRODUCT(('F1'!$C$2:$C$100),--(('F1'!$A$2:$A$100=Tableau3[[#This Row],[AFRIQUE]])),--('F1'!$D$2:$D$100="S1 2024"),--('F1'!$B$2:$B$100=1))} -> 0
A10: ZAMBIE | B10: {=SUMPRODUCT(('F1'!$C$2:$C$100),--(('F1'!$A$2:$A$100=Tableau3[[#This Row],[AFRIQUE]])),--('F1'!$D$2:$D$100="S1 2024"),--('F1'!$B$2:$B$100=1))} -> 0
A11: ZIMBABWE | B11: {=SUMPRODUCT(('F1'!$C$2:$C$100),--(('F1'!$A$2:$A$100=Tableau3[[#This Row],[AFRIQUE]])),--('F1'!$D$2:$D$100="S1 2024"),--('F1'!$B$2:$B$100=1))} -> 30
A12: BENIN | B12: {=SUMPRODUCT(('F1'!$C$2:$C$100),--(('F1'!$A$2:$A$100=Tableau3[[#This Row],[AFRIQUE]])),--('F1'!$D$2:$D$100="S1 2024"),--('F1'!$B$2:$B$100=1))} -> 0
A13: GUINEE EQUATORIALE | B13: {=SUMPRODUCT(('F1'!$C$2:$C$100),--(('F1'!$A$2:$A$100=Tableau3[[#This Row],[AFRIQUE]])),--('F1'!$D$2:$D$100="S1 2024"),--('F1'!$B$2:$B$100=1))} -> 0
A14: CAMEROUN | B14: {=SUMPRODUCT(('F1'!$C$2:$C$100),--(('F1'!$A$2:$A$100=Tableau3[[#This Row],[AFRIQUE]])),--('F1'!$D$2:$D$100="S1 2024"),--('F1'!$B$2:$B$100=1))} -> 0
A15: TANZANIE | B15: {=SUMPRODUCT(('F1'!$C$2:$C$100),--(('F1'!$A$2:$A$100=Tableau3[[#This Row],[AFRIQUE]])),--('F1'!$D$2:$D$100="S1 2024"),--('F1'!$B$2:$B$100=1))} -> 0
A16: LIBERIA | B16: {=SUMPRODUCT(('F1'!$C$2:$C$100),--(('F1'!$A$2:$A$100=Tableau3[[#This Row],[AFRIQUE]])),--('F1'!$D$2:$D$100="S1 2024"),--('F1'!$B$2:$B$100=1))} -> 0
A17: ERYTHREE | B17: {=SUMPRODUCT(('F1'!$C$2:$C$100),--(('F1'!$A$2:$A$100=Tableau3[[#This Row],[AFRIQUE]])),--('F1'!$D$2:$D$100="S1 2024"),--('F1'!$B$2:$B$100=1))} -> 0
A18: ETHIOPIE | B18: {=SUMPRODUCT(('F1'!$C$2:$C$100),--(('F1'!$A$2:$A$100=Tableau3[[#This Row],[AFRIQUE]])),--('F1'!$D$2:$D$100="S1 2024"),--('F1'!$B$2:$B$100=1))} -> 0
A19: KENYA | B19: {=SUMPRODUCT(('F1'!$C$2:$C$100),--(('F1'!$A$2:$A$100=Tableau3[[#This Row],[AFRIQUE]])),--('F1'!$D$2:$D$100="S1 2024"),--('F1'!$B$2:$B$100=1))} -> 0
... A31: TOGO | B31: {=SUMPRODUCT(('F1'!$C$2:$C$100),--(('F1'!$A$2:$A$100=Tableau3[[#This Row],[AFRIQUE]])),--('F1'!$D$2:$D$100="S1 2024"),--('F1'!$B$2:$B$100=1))} -> 0
