Workbook

Sheet CALCUL FACONS
A1: NOM:
A2: DATE DE CLOTURE: | B2: 45412
A4: CALCUL DES FACONS CULTURALES
A7: Cultures | B7: Surfaces | C7: Coût | D7: Total
A8: Blé hiver | C8: =INDEX(COUTS!$B$7:$C$21,MATCH('CALCUL FACONS'!$A8,COUTS!$A$7:$A$21,0),MATCH($B$2,COUTS!$B$5:$C$5,0)) -> 231 | D8: =B8*C8 -> 0
A9: Escourgeon | C9: =INDEX(COUTS!$B$7:$C$21,MATCH('CALCUL FACONS'!$A9,COUTS!$A$7:$A$21,0),MATCH($B$2,COUTS!$B$5:$C$5,0)) -> 231 | D9: =B9*C9 -> 0
A10: Orge printemps | C10: =INDEX(COUTS!$B$7:$C$21,MATCH('CALCUL FACONS'!$A10,COUTS!$A$7:$A$21,0),MATCH($B$2,COUTS!$B$5:$C$5,0)) -> 180 | D10: =B10*C10 -> 0
A11: Avoine | C11: =INDEX(COUTS!$B$7:$C$21,MATCH('CALCUL FACONS'!$A11,COUTS!$A$7:$A$21,0),MATCH($B$2,COUTS!$B$5:$C$5,0)) -> 180 | D11: =B11*C11 -> 0
A12: Colza hiver | C12: =INDEX(COUTS!$B$7:$C$21,MATCH('CALCUL FACONS'!$A12,COUTS!$A$7:$A$21,0),MATCH($B$2,COUTS!$B$5:$C$5,0)) -> 251 | D12: =B12*C12 -> 0
A13: Colza industriel | C13: =INDEX(COUTS!$B$7:$C$21,MATCH('CALCUL FACONS'!$A13,COUTS!$A$7:$A$21,0),MATCH($B$2,COUTS!$B$5:$C$5,0)) -> 0 | D13: =B13*C13 -> 0
A14: Jachère | C14: =INDEX(COUTS!$B$7:$C$21,MATCH('CALCUL FACONS'!$A14,COUTS!$A$7:$A$21,0),MATCH($B$2,COUTS!$B$5:$C$5,0)) -> 0 | D14: =B14*C14 -> 0
A15: Maïs grain | C15: =INDEX(COUTS!$B$7:$C$21,MATCH('CALCUL FACONS'!$A15,COUTS!$A$7:$A$21,0),MATCH($B$2,COUTS!$B$5:$C$5,0)) -> 138 | D15: =B15*C15 -> 0
A16: Maïs ensilage | C16: =INDEX(COUTS!$B$7:$C$21,MATCH('CALCUL FACONS'!$A16,COUTS!$A$7:$A$21,0),MATCH($B$2,COUTS!$B$5:$C$5,0)) -> 138 | D16: =B16*C16 -> 0
A17: Prairie année implantation | C17: =INDEX(COUTS!$B$7:$C$21,MATCH('CALCUL FACONS'!$A17,COUTS!$A$7:$A$21,0),MATCH($B$2,COUTS!$B$5:$C$5,0)) -> 0 | D17: =B17*C17 -> 0
A18: Prairie temporaire | C18: =INDEX(COUTS!$B$7:$C$21,MATCH('CALCUL FACONS'!$A18,COUTS!$A$7:$A$21,0),MATCH($B$2,COUTS!$B$5:$C$5,0)) -> 0 | D18: =B18*C18 -> 0
A19: Prairie permanente | C19: =INDEX(COUTS!$B$7:$C$21,MATCH('CALCUL FACONS'!$A19,COUTS!$A$7:$A$21,0),MATCH($B$2,COUTS!$B$5:$C$5,0)) -> 0 | D19: =B19*C19 -> 0
... A22: Triticales | C22: =INDEX(COUTS!$B$7:$C$21,MATCH('CALCUL FACONS'!$A22,COUTS!$A$7:$A$21,0),MATCH($B$2,COUTS!$B$5:$C$5,0)) -> 231 | D22: =B22*C22 -> 0
C23: =INDEX(COUTS!$B$7:$C$21,MATCH('CALCUL FACONS'!$A23,COUTS!$A$7:$A$21,0),MATCH($B$2,COUTS!$B$5:$C$5,0)) -> #N/A | D23: =B23*C23 -> #N/A
A24: Autres surfaces | C24: =INDEX(COUTS!$B$7:$C$21,MATCH('CALCUL FACONS'!$A24,COUTS!$A$7:$A$21,0),MATCH($B$2,COUTS!$B$5:$C$5,0)) -> #N/A | D24: =B24*C24 -> #N/A
A25: TOTAUX | B25: =SUM(B8:B24) -> 0 | D25: =SUM(D8:D24) -> #N/A

Sheet COUTS
A1: COUT DES FACONS CULTURALES 2023 2024
A5: CULTURES | B5: 45412 | C5: 45443
A7: Blé hiver | B7: 231 | C7: 246
A8: Escourgeon | B8: 231 | C8: 246
A9: Orge printemps | B9: 180 | C9: 189
A10: Avoine | B10: 180 | C10: 189
A11: Colza hiver | B11: 251 | C11: 251
A12: Maïs grain | B12: 138 | C12: 148
A13: Maïs ensilage | B13: 138 | C13: 148
A14: Pois printemps | B14: 170 | C14: 175
A15: Féverolles | B15: 170 | C15: 175
A16: Triticales | B16: 231 | C16: 246
A17: Colza industriel
A18: Jachère
A19: Prairie année implantation
A20: Prairie temporaire
A21: Prairie permanente
