Workbook

Sheet BDD
A1: index | B1: valeur | C1: Description
A2: 11.7 | B2: -2 | C2: Exclusion des populations de l’accès à la biodiversité et aux ressources naturelles
A3: 12.2 | B3: -2 | C3: Surexploitation des ressources naturelles altérant de façon irréversible leur capacité de renouvellement
A4: 12.8 | B4: -2 | C4: Détérioration des capacités collectives à améliorer les connaissances scientifiques et les technologies permettant de prévenir l’extinction d’espèces ou la dégradation irréversible de milieux
A5: 15.1 | B5: 0 | C5: Réduction voire suppression des services dits de « régulation » 7 ou de « soutien » (cycle de l’eau, régulation du climat, séquestration du carbone, productivité des sols, etc.) 8
A6: 15.5 | B6: -2 | C6: Destruction ou altération significative d’habitats essentiels pour la diversité des espèces
A7: 15.8 | B7: 0 | C7: Propagation d’espèces exotiques invasives menaçant les espèces indigènes et la fonctionnalité des écosystèmes
A8: 15.a | B8: 0 | C8: Réglementations, incitations économiques et financement encourageant la destruction des écosystèmes et la surexploitation des ressources

Sheet BIODIV
A1: Destruction ou altération significative d’habitats essentiels pour la diversité des espèces | B1: Réduction voire suppression des services dits de « régulation » 7 ou de « soutien » (cycle de l’eau, régulation du climat, séquestration du carbone, productivité des sols, etc.) 8 | C1: Propagation d’espèces exotiques invasives menaçant les espèces indigènes et la fonctionnalité des écosystèmes | E1: Destruction ou altération significative d’habitats essentiels pour la diversité des espèces | F1: Réduction voire suppression des services dits de « régulation » 7 ou de « soutien » (cycle de l’eau, régulation du climat, séquestration du carbone, productivité des sols, etc.) 8 | G1: Propagation d’espèces exotiques invasives menaçant les espèces indigènes et la fonctionnalité des écosystèmes
A3: 15.5 | B3: 15.1 | C3: 15.8 | E3: 15.5 | F3: 15.1 | G3: 15.8
A4: -2 | E4: =_xlfn.XLOOKUP(E3,Table2[index],Table2[valeur],0,0) -> -2 | F4: =_xlfn.XLOOKUP(F3,Table2[valeur],Table2[Description],0,0) -> 0 | G4: =_xlfn.XLOOKUP(G3,Table2[Description],Table2[index],0,0) -> 0
A5: Surexploitation des ressources naturelles altérant de façon irréversible leur capacité de renouvellement | E5: Surexploitation des ressources naturelles altérant de façon irréversible leur capacité de renouvellement
A7: 12.2 | E7: 12.2
A8: -2 | E8: =_xlfn.XLOOKUP(E7,Table2[index],Table2[valeur],0,0) -> -2 | F8: =_xlfn.XLOOKUP(F7,Table2[index],Table2[valeur],0,0) -> 0 | G8: =_xlfn.XLOOKUP(G7,Table2[index],Table2[valeur],0,0) -> 0
A9: Exclusion des populations de l’accès à la biodiversité et aux ressources naturelles | E9: Exclusion des populations de l’accès à la biodiversité et aux ressources naturelles
A10: 11.7 | E10: 11.7
A11: -2 | E11: =_xlfn.XLOOKUP(E10,Table2[index],Table2[valeur],0,0) -> -2 | F11: =_xlfn.XLOOKUP(F10,Table2[index],Table2[valeur],0,0) -> 0 | G11: =_xlfn.XLOOKUP(G10,Table2[index],Table2[valeur],0,0) -> 0
A12: Détérioration des capacités collectives à améliorer les connaissances scientifiques et les technologies permettant de prévenir l’extinction d’espèces ou la dégradation irréversible de milieux | E12: Détérioration des capacités collectives à améliorer les connaissances scientifiques et les technologies permettant de prévenir l’extinction d’espèces ou la dégradation irréversible de milieux
A14: 12.8 | E14: 12.8
A15: -2 | E15: =_xlfn.XLOOKUP(E14,Table2[index],Table2[valeur],0,0) -> -2 | F15: =_xlfn.XLOOKUP(F14,Table2[index],Table2[valeur],0,0) -> 0 | G15: =_xlfn.XLOOKUP(G14,Table2[index],Table2[valeur],0,0) -> 0
A16: Réglementations, incitations économiques et financement encourageant la destruction des écosystèmes et la surexploitation des ressources | E16: Réglementations, incitations économiques et financement encourageant la destruction des écosystèmes et la surexploitation des ressources
A18: 15.a | E18: 15.a
E19: =_xlfn.XLOOKUP(E18,Table2[index],Table2[valeur],0,0) -> 0 | F19: =_xlfn.XLOOKUP(F18,Table2[index],Table2[valeur],0,0) -> 0 | G19: =_xlfn.XLOOKUP(G18,Table2[index],Table2[valeur],0,0) -> 0
B21: ↑ statique | F21: ↑ dynamique

Sheet ODD
A2: ID_CIBLE | B2: B | C2: Résultat local | D2: Somme
A3: 11.1 | B3: {=IFERROR(IF(AND(INDEX(BIODIV!A:A,MATCH(A3,BIODIV!A:A,0)+1)="",INDEX(BIODIV!B:B,MATCH(A3,BIODIV!A:A,0)+1)="",INDEX(BIODIV!C:C,MATCH(A3,BIODIV!A:A,0)+1)=""),"",INDEX(BIODIV!A:A,MATCH(A3,BIODIV!A:A,0)+1)&INDEX(BIODIV!B:B,MATCH(A3,BIODIV!A:A,0)+1)&INDEX(BIODIV!C:C,MATCH(A3,BIODIV!A:A, 0)+1)),"")} | C3: =_xlfn.XLOOKUP($A3,Table2[index],Table2[valeur],0,0) -> 0 | D3: =SUM($C$3:$C3) -> 0
A4: 11.2 | B4: {=IFERROR(IF(AND(INDEX(BIODIV!A:A,MATCH(A4,BIODIV!A:A,0)+1)="",INDEX(BIODIV!B:B,MATCH(A4,BIODIV!A:A,0)+1)="",INDEX(BIODIV!C:C,MATCH(A4,BIODIV!A:A,0)+1)=""),"",INDEX(BIODIV!A:A,MATCH(A4,BIODIV!A:A,0)+1)&INDEX(BIODIV!B:B,MATCH(A4,BIODIV!A:A,0)+1)&INDEX(BIODIV!C:C,MATCH(A4,BIODIV!A:A, 0)+1)),"")} | C4: =_xlfn.XLOOKUP($A4,Table2[index],Table2[valeur],0,0) -> 0 | D4: =SUM($C$3:$C4) -> 0
A5: 11.3 | B5: {=IFERROR(IF(AND(INDEX(BIODIV!A:A,MATCH(A5,BIODIV!A:A,0)+1)="",INDEX(BIODIV!B:B,MATCH(A5,BIODIV!A:A,0)+1)="",INDEX(BIODIV!C:C,MATCH(A5,BIODIV!A:A,0)+1)=""),"",INDEX(BIODIV!A:A,MATCH(A5,BIODIV!A:A,0)+1)&INDEX(BIODIV!B:B,MATCH(A5,BIODIV!A:A,0)+1)&INDEX(BIODIV!C:C,MATCH(A5,BIODIV!A:A, 0)+1)),"")} | C5: =_xlfn.XLOOKUP($A5,Table2[index],Table2[valeur],0,0) -> 0 | D5: =SUM($C$3:$C5) -> 0
A6: 11.4 | B6: {=IFERROR(IF(AND(INDEX(BIODIV!A:A,MATCH(A6,BIODIV!A:A,0)+1)="",INDEX(BIODIV!B:B,MATCH(A6,BIODIV!A:A,0)+1)="",INDEX(BIODIV!C:C,MATCH(A6,BIODIV!A:A,0)+1)=""),"",INDEX(BIODIV!A:A,MATCH(A6,BIODIV!A:A,0)+1)&INDEX(BIODIV!B:B,MATCH(A6,BIODIV!A:A,0)+1)&INDEX(BIODIV!C:C,MATCH(A6,BIODIV!A:A, 0)+1)),"")} | C6: =_xlfn.XLOOKUP($A6,Table2[index],Table2[valeur],0,0) -> 0 | D6: =SUM($C$3:$C6) -> 0
A7: 11.5 | B7: {=IFERROR(IF(AND(INDEX(BIODIV!A:A,MATCH(A7,BIODIV!A:A,0)+1)="",INDEX(BIODIV!B:B,MATCH(A7,BIODIV!A:A,0)+1)="",INDEX(BIODIV!C:C,MATCH(A7,BIODIV!A:A,0)+1)=""),"",INDEX(BIODIV!A:A,MATCH(A7,BIODIV!A:A,0)+1)&INDEX(BIODIV!B:B,MATCH(A7,BIODIV!A:A,0)+1)&INDEX(BIODIV!C:C,MATCH(A7,BIODIV!A:A, 0)+1)),"")} | C7: =_xlfn.XLOOKUP($A7,Table2[index],Table2[valeur],0,0) -> 0 | D7: =SUM($C$3:$C7) -> 0
A8: 11.6 | B8: {=IFERROR(IF(AND(INDEX(BIODIV!A:A,MATCH(A8,BIODIV!A:A,0)+1)="",INDEX(BIODIV!B:B,MATCH(A8,BIODIV!A:A,0)+1)="",INDEX(BIODIV!C:C,MATCH(A8,BIODIV!A:A,0)+1)=""),"",INDEX(BIODIV!A:A,MATCH(A8,BIODIV!A:A,0)+1)&INDEX(BIODIV!B:B,MATCH(A8,BIODIV!A:A,0)+1)&INDEX(BIODIV!C:C,MATCH(A8,BIODIV!A:A, 0)+1)),"")} | C8: =_xlfn.XLOOKUP($A8,Table2[index],Table2[valeur],0,0) -> 0 | D8: =SUM($C$3:$C8) -> 0
A9: 11.7 | B9: {=IFERROR(IF(AND(INDEX(BIODIV!A:A,MATCH(A9,BIODIV!A:A,0)+1)="",INDEX(BIODIV!B:B,MATCH(A9,BIODIV!A:A,0)+1)="",INDEX(BIODIV!C:C,MATCH(A9,BIODIV!A:A,0)+1)=""),"",INDEX(BIODIV!A:A,MATCH(A9,BIODIV!A:A,0)+1)&INDEX(BIODIV!B:B,MATCH(A9,BIODIV!A:A,0)+1)&INDEX(BIODIV!C:C,MATCH(A9,BIODIV!A:A, 0)+1)),"")} -> -2 | C9: =_xlfn.XLOOKUP($A9,Table2[index],Table2[valeur],0,0) -> -2 | D9: =SUM($C$3:$C9) -> -2
A10: 11.a | B10: {=IFERROR(IF(AND(INDEX(BIODIV!A:A,MATCH(A10,BIODIV!A:A,0)+1)="",INDEX(BIODIV!B:B,MATCH(A10,BIODIV!A:A,0)+1)="",INDEX(BIODIV!C:C,MATCH(A10,BIODIV!A:A,0)+1)=""),"",INDEX(BIODIV!A:A,MATCH(A10,BIODIV!A:A,0)+1)&INDEX(BIODIV!B:B,MATCH(A10,BIODIV!A:A,0)+1)&INDEX(BIODIV!C:C,MATCH(A10,BIODIV!A:A, 0)+1)),"")} | C10: =_xlfn.XLOOKUP($A10,Table2[index],Table2[valeur],0,0) -> 0 | D10: =SUM($C$3:$C10) -> -2
A11: 11.b | B11: {=IFERROR(IF(AND(INDEX(BIODIV!A:A,MATCH(A11,BIODIV!A:A,0)+1)="",INDEX(BIODIV!B:B,MATCH(A11,BIODIV!A:A,0)+1)="",INDEX(BIODIV!C:C,MATCH(A11,BIODIV!A:A,0)+1)=""),"",INDEX(BIODIV!A:A,MATCH(A11,BIODIV!A:A,0)+1)&INDEX(BIODIV!B:B,MATCH(A11,BIODIV!A:A,0)+1)&INDEX(BIODIV!C:C,MATCH(A11,BIODIV!A:A, 0)+1)),"")} | C11: =_xlfn.XLOOKUP($A11,Table2[index],Table2[valeur],0,0) -> 0 | D11: =SUM($C$3:$C11) -> -2
A12: 11.c | B12: {=IFERROR(IF(AND(INDEX(BIODIV!A:A,MATCH(A12,BIODIV!A:A,0)+1)="",INDEX(BIODIV!B:B,MATCH(A12,BIODIV!A:A,0)+1)="",INDEX(BIODIV!C:C,MATCH(A12,BIODIV!A:A,0)+1)=""),"",INDEX(BIODIV!A:A,MATCH(A12,BIODIV!A:A,0)+1)&INDEX(BIODIV!B:B,MATCH(A12,BIODIV!A:A,0)+1)&INDEX(BIODIV!C:C,MATCH(A12,BIODIV!A:A, 0)+1)),"")} | C12: =_xlfn.XLOOKUP($A12,Table2[index],Table2[valeur],0,0) -> 0 | D12: =SUM($C$3:$C12) -> -2
A13: 12.1 | B13: {=IFERROR(IF(AND(INDEX(BIODIV!A:A,MATCH(A13,BIODIV!A:A,0)+1)="",INDEX(BIODIV!B:B,MATCH(A13,BIODIV!A:A,0)+1)="",INDEX(BIODIV!C:C,MATCH(A13,BIODIV!A:A,0)+1)=""),"",INDEX(BIODIV!A:A,MATCH(A13,BIODIV!A:A,0)+1)&INDEX(BIODIV!B:B,MATCH(A13,BIODIV!A:A,0)+1)&INDEX(BIODIV!C:C,MATCH(A13,BIODIV!A:A, 0)+1)),"")} | C13: =_xlfn.XLOOKUP($A13,Table2[index],Table2[valeur],0,0) -> 0 | D13: =SUM($C$3:$C13) -> -2
A14: 12.2 | B14: {=IFERROR(IF(AND(INDEX(BIODIV!A:A,MATCH(A14,BIODIV!A:A,0)+1)="",INDEX(BIODIV!B:B,MATCH(A14,BIODIV!A:A,0)+1)="",INDEX(BIODIV!C:C,MATCH(A14,BIODIV!A:A,0)+1)=""),"",INDEX(BIODIV!A:A,MATCH(A14,BIODIV!A:A,0)+1)&INDEX(BIODIV!B:B,MATCH(A14,BIODIV!A:A,0)+1)&INDEX(BIODIV!C:C,MATCH(A14,BIODIV!A:A, 0)+1)),"")} -> -2 | C14: =_xlfn.XLOOKUP($A14,Table2[index],Table2[valeur],0,0) -> -2 | D14: =SUM($C$3:$C14) -> -4
... A48: 15.a | B48: {=IFERROR(IF(AND(INDEX(BIODIV!A:A,MATCH(A48,BIODIV!A:A,0)+1)="",INDEX(BIODIV!B:B,MATCH(A48,BIODIV!A:A,0)+1)="",INDEX(BIODIV!C:C,MATCH(A48,BIODIV!A:A,0)+1)=""),"",INDEX(BIODIV!A:A,MATCH(A48,BIODIV!A:A,0)+1)&INDEX(BIODIV!B:B,MATCH(A48,BIODIV!A:A,0)+1)&INDEX(BIODIV!C:C,MATCH(A48,BIODIV!A:A, 0)+1)),"")} | C48: =_xlfn.XLOOKUP($A48,Table2[index],Table2[valeur],0,0) -> 0 | D48: =SUM($C$3:$C48) -> -8
