Workbook

Sheet Feuil2
A1: Matériel | B1: Lundi | C1: Mardi | D1: Mercredi | E1: Jeudi | F1: Vendredi | G1: Samedi | H1: Dimanche | I1: Lundi | J1: Mardi | K1: Mercredi | L1: Jeudi | M1: Vendredi | N1: Samedi | O1: Dimanche | P1: Lundi | Q1: Mardi | R1: Lundi | S1: Mardi | T1: Mercredi | U1: Jeudi | V1: Vendredi | W1: Samedi | X1: Dimanche
B2: 45292 | C2: 45293 | D2: 45294 | E2: 45295 | F2: 45296 | G2: 45297 | H2: 45298 | I2: 45299 | J2: 45300 | K2: 45301 | L2: 45302 | M2: 45303 | N2: 45304 | O2: 45305 | P2: 45306 | Q2: 45307 | R2: 45308 | S2: 45309 | T2: 45310 | U2: 45311 | V2: 45312 | W2: 45313 | X2: 45314
A3: n° semaine | B3: =WEEKNUM(B2,2) -> 1 | C3: =WEEKNUM(C2,2) -> 1 | D3: =WEEKNUM(D2,2) -> 1 | E3: =WEEKNUM(E2,2) -> 1 | F3: =WEEKNUM(F2,2) -> 1 | G3: =WEEKNUM(G2,2) -> 1 | H3: =WEEKNUM(H2,2) -> 1 | I3: =WEEKNUM(I2,2) -> 2 | ... X3: =WEEKNUM(X2,2) -> 4
A4: 1 | B4: 1 | C4: 0 | D4: 1 | E4: 0 | F4: 1 | G4: 0 | H4: 1 | I4: 0 | J4: 1 | K4: 0 | L4: 1 | M4: 0 | N4: 1 | O4: 0 | P4: 1 | Q4: 0 | R4: 1 | S4: 0 | T4: 1 | U4: 0 | V4: 1 | W4: 0 | X4: 1
A5: 2 | B5: 0 | C5: 1 | D5: 0 | E5: 1 | F5: 0 | G5: 1 | H5: 0 | I5: 1 | J5: 0 | K5: 1 | L5: 0 | M5: 1 | N5: 0 | O5: 1 | P5: 0 | Q5: 1 | R5: 0 | S5: 1 | T5: 0 | U5: 1 | V5: 0 | W5: 1 | X5: 0
A6: 3 | B6: 0 | C6: 1 | D6: 0 | E6: 1 | F6: 0 | G6: 1 | H6: 0 | I6: 1 | J6: 0 | K6: 1 | L6: 0 | M6: 1 | N6: 0 | O6: 1 | P6: 0 | Q6: 1 | R6: 0 | S6: 1 | T6: 0 | U6: 1 | V6: 0 | W6: 1 | X6: 0
A7: 4 | B7: 1 | C7: 0 | D7: 1 | E7: 0 | F7: 1 | G7: 0 | H7: 1 | I7: 0 | J7: 1 | K7: 0 | L7: 1 | M7: 0 | N7: 1 | O7: 0 | P7: 1 | Q7: 0 | R7: 1 | S7: 0 | T7: 1 | U7: 0 | V7: 1 | W7: 0 | X7: 1
A8: 5 | B8: 1 | C8: 0 | D8: 1 | E8: 0 | F8: 1 | G8: 0 | H8: 1 | I8: 0 | J8: 1 | K8: 0 | L8: 1 | M8: 0 | N8: 1 | O8: 0 | P8: 1 | Q8: 0 | R8: 1 | S8: 0 | T8: 1 | U8: 0 | V8: 1 | W8: 0 | X8: 1

Sheet Feuil1
A1: Matériel | B1: 1 | C1: 2 | D1: 3 | E1: 4 | F1: 5
A2: 1 | B2: =AVERAGEIF(Feuil2!$B$3:$X$3,Feuil1!B$1,Feuil2!$B4:$X4) -> 0.57142857 | C2: =AVERAGEIF(Feuil2!$B$3:$X$3,Feuil1!C$1,Feuil2!$B4:$X4) -> 0.42857143 | D2: =AVERAGEIF(Feuil2!$B$3:$X$3,Feuil1!D$1,Feuil2!$B4:$X4) -> 0.57142857 | E2: =AVERAGEIF(Feuil2!$B$3:$X$3,Feuil1!E$1,Feuil2!$B4:$X4) -> 0.5 | F2: =AVERAGEIF(Feuil2!$B$3:$X$3,Feuil1!F$1,Feuil2!$B4:$X4) -> #DIV/0!
A3: 2 | B3: =AVERAGEIF(Feuil2!$B$3:$X$3,Feuil1!B$1,Feuil2!$B5:$X5) -> 0.42857143 | C3: =AVERAGEIF(Feuil2!$B$3:$X$3,Feuil1!C$1,Feuil2!$B5:$X5) -> 0.57142857 | D3: =AVERAGEIF(Feuil2!$B$3:$X$3,Feuil1!D$1,Feuil2!$B5:$X5) -> 0.42857143 | E3: =AVERAGEIF(Feuil2!$B$3:$X$3,Feuil1!E$1,Feuil2!$B5:$X5) -> 0.5 | F3: =AVERAGEIF(Feuil2!$B$3:$X$3,Feuil1!F$1,Feuil2!$B5:$X5) -> #DIV/0!
A4: 3 | B4: =AVERAGEIF(Feuil2!$B$3:$X$3,Feuil1!B$1,Feuil2!$B6:$X6) -> 0.42857143 | C4: =AVERAGEIF(Feuil2!$B$3:$X$3,Feuil1!C$1,Feuil2!$B6:$X6) -> 0.57142857 | D4: =AVERAGEIF(Feuil2!$B$3:$X$3,Feuil1!D$1,Feuil2!$B6:$X6) -> 0.42857143 | E4: =AVERAGEIF(Feuil2!$B$3:$X$3,Feuil1!E$1,Feuil2!$B6:$X6) -> 0.5 | F4: =AVERAGEIF(Feuil2!$B$3:$X$3,Feuil1!F$1,Feuil2!$B6:$X6) -> #DIV/0!
A5: 4 | B5: =AVERAGEIF(Feuil2!$B$3:$X$3,Feuil1!B$1,Feuil2!$B7:$X7) -> 0.57142857 | C5: =AVERAGEIF(Feuil2!$B$3:$X$3,Feuil1!C$1,Feuil2!$B7:$X7) -> 0.42857143 | D5: =AVERAGEIF(Feuil2!$B$3:$X$3,Feuil1!D$1,Feuil2!$B7:$X7) -> 0.57142857 | E5: =AVERAGEIF(Feuil2!$B$3:$X$3,Feuil1!E$1,Feuil2!$B7:$X7) -> 0.5 | F5: =AVERAGEIF(Feuil2!$B$3:$X$3,Feuil1!F$1,Feuil2!$B7:$X7) -> #DIV/0!
A6: 5 | B6: =AVERAGEIF(Feuil2!$B$3:$X$3,Feuil1!B$1,Feuil2!$B8:$X8) -> 0.57142857 | C6: =AVERAGEIF(Feuil2!$B$3:$X$3,Feuil1!C$1,Feuil2!$B8:$X8) -> 0.42857143 | D6: =AVERAGEIF(Feuil2!$B$3:$X$3,Feuil1!D$1,Feuil2!$B8:$X8) -> 0.57142857 | E6: =AVERAGEIF(Feuil2!$B$3:$X$3,Feuil1!E$1,Feuil2!$B8:$X8) -> 0.5 | F6: =AVERAGEIF(Feuil2!$B$3:$X$3,Feuil1!F$1,Feuil2!$B8:$X8) -> #DIV/0!
F8: ^ pas de semaine 5 dans les données
