Workbook

Sheet feuil1
A1: résultat final | B1: ← 3. filtrer | E1: BLOC | F1: Désignation | R1: INDEX | UL1: INDEX
A2: =IFERROR(VLOOKUP(feuil2!A8,tblDesign[],2) & " " & feuil2!E8 & " - " & feuil2!D8,"") | E2: BA | F2: Bobine d'allumage | R2: =ROW()-1 -> 1 | UL2: =ROW()-1 -> 1
A3: =IFERROR(VLOOKUP(feuil2!A11,tblDesign[],2) & " " & feuil2!E11 & " - " & feuil2!D11,"") -> Bobine d'allumage 2 - Bureau 3 | E3: DI | F3: Détécteur d'incendie | R3: =ROW()-1 -> 2 | UL3: =ROW()-1 -> 2
A4: =IFERROR(VLOOKUP(feuil2!A5,tblDesign[],2) & " " & feuil2!E5 & " - " & feuil2!D5,"") -> Bobine d'allumage 4 - Bureau 2 | R4: =ROW()-1 -> 3 | UL4: =ROW()-1 -> 3
A5: =IFERROR(VLOOKUP(feuil2!A9,tblDesign[],2) & " " & feuil2!E9 & " - " & feuil2!D9,"") -> Bobine d'allumage 4 - Bureau 5 | E5: ↑ 1. renseigner ici les désignations | R5: =ROW()-1 -> 4 | UL5: =ROW()-1 -> 4
A6: =IFERROR(VLOOKUP(feuil2!A6,tblDesign[],2) & " " & feuil2!E6 & " - " & feuil2!D6,"") -> Bobine d'allumage 5 - Bureau 1 | R6: =ROW()-1 -> 5 | UL6: =ROW()-1 -> 5
A7: =IFERROR(VLOOKUP(feuil2!A7,tblDesign[],2) & " " & feuil2!E7 & " - " & feuil2!D7,"") -> Bobine d'allumage 5 - Bureau 4 | R7: =ROW()-1 -> 6 | UL7: =ROW()-1 -> 6
A8: =IFERROR(VLOOKUP(feuil2!A2,tblDesign[],2) & " " & feuil2!E2 & " - " & feuil2!D2,"") -> Détécteur d'incendie 2 - Local tech R+2 | R8: =ROW()-1 -> 7 | UL8: =ROW()-1 -> 7
A9: =IFERROR(VLOOKUP(feuil2!A10,tblDesign[],2) & " " & feuil2!E10 & " - " & feuil2!D10,"") -> Détécteur d'incendie 4 - Local tech r+1 | R9: =ROW()-1 -> 8 | UL9: =ROW()-1 -> 8
A10: =IFERROR(VLOOKUP(feuil2!A4,tblDesign[],2) & " " & feuil2!E4 & " - " & feuil2!D4,"") -> Détécteur d'incendie 5 - Cocal clim | R10: =ROW()-1 -> 9 | UL10: =ROW()-1 -> 9
A11: =IFERROR(VLOOKUP(feuil2!A3,tblDesign[],2) & " " & feuil2!E3 & " - " & feuil2!D3,"") -> Détécteur d'incendie 5 - Cuisine | R11: =ROW()-1 -> 10 | UL11: =ROW()-1 -> 10
B12: ← 2. étendre vers le vas si besoin | R12: =ROW()-1 -> 11 | UL12: =ROW()-1 -> 11
R13: =ROW()-1 -> 12 | UL13: =ROW()-1 -> 12
R14: =ROW()-1 -> 13 | UL14: =ROW()-1 -> 13
R15: =ROW()-1 -> 14 | UL15: =ROW()-1 -> 14
R16: =ROW()-1 -> 15 | UL16: =ROW()-1 -> 15
R17: =ROW()-1 -> 16 | UL17: =ROW()-1 -> 16
R18: =ROW()-1 -> 17 | UL18: =ROW()-1 -> 17
R19: =ROW()-1 -> 18 | UL19: =ROW()-1 -> 18
R20: =ROW()-1 -> 19 | UL20: =ROW()-1 -> 19
R21: =ROW()-1 -> 20 | UL21: =ROW()-1 -> 20
R22: =ROW()-1 -> 21 | UL22: =ROW()-1 -> 21
R23: =ROW()-1 -> 22 | UL23: =ROW()-1 -> 22
R24: =ROW()-1 -> 23 | UL24: =ROW()-1 -> 23
... R1000: =ROW()-1 -> 999 | UL1000: =ROW()-1 -> 999

Sheet feuil2
A1: BLOC | B1: FAMILLE | C1: SOUS-FAMILLE | D1: Zone | E1: Groupe | F1: ID_GROUPE | G1: ETAT | H1: NUM | I1: ID
A2: DI | B2: BAT | C2: elec | D2: Local tech R+2 | E2: 2 | F2: null | G2: _COMMANDE | H2: 1 | I2: 0.146
A3: DI | B3: BAT | C3: elec | D3: Cuisine | E3: 5 | F3: null | G3: _COMMANDE | H3: 2 | I3: 0.154
A4: DI | B4: BAT | C4: elec | D4: Cocal clim | E4: 5 | F4: null | G4: _COMMANDE | H4: 4 | I4: 0.221
A5: BA | B5: BAT | C5: elec | D5: Bureau 2 | E5: 4 | F5: null | G5: _COMMANDE | H5: 5 | I5: 0.112
A6: BA | B6: BAT | C6: elec | D6: Bureau 1 | E6: 5 | F6: null | G6: _COMMANDE | H6: 6 | I6: 0.106
A7: BA | B7: BAT | C7: elec | D7: Bureau 4 | E7: 5 | F7: null | G7: _COMMANDE | H7: 8 | I7: 0.200
F8: null | G8: _COMMANDE | H8: 11 | I8: 0.217
A9: BA | B9: BAT | C9: elec | D9: Bureau 5 | E9: 4 | F9: null | G9: _COMMANDE | H9: 13 | I9: 0.205
A10: DI | B10: BAT | C10: elec | D10: Local tech r+1 | E10: 4 | F10: null | G10: _COMMANDE | H10: 13 | I10: 0.231
A11: BA | B11: BAT | C11: elec | D11: Bureau 3 | E11: 2 | F11: null | G11: _COMMANDE | H11: 54 | I11: 0.190
