Workbook
Name gérald: ref!$D$22:$D$32
Name gérald1: ref!$D$22:$E$32
Name gerald2: ref!$D$22:$D$35
Name gerald3: ref!$D$22:$D$37
Name gérald4: ref!$D$21:$D$37
Name listeMois: ref!$L$2:$M$13

Sheet Bilan
I14: hs +35 / 25h par mois
I15: mois | K15: n°
I16: janvier | J16: {=SUM(IFERROR(( MONTH('planning '!D:D)=Bilan!K16)*'planning '!K:K, 0))} -> 8.1486111 | K16: =VLOOKUP(I16,listeMois,2) -> 1
I17: février | J17: {=SUM(IFERROR(( MONTH('planning '!D:D)=Bilan!K17)*'planning '!K:K, 0))} -> 7.2826389 | K17: =VLOOKUP(I17,listeMois,2) -> 2
I18: mars | J18: {=SUM(IFERROR(( MONTH('planning '!D:D)=Bilan!K18)*'planning '!K:K, 0))} -> 0.29166667 | K18: =VLOOKUP(I18,listeMois,2) -> 3

Sheet planning 
S2: pause repas midi | X2: pause repas soir | AA2: divers pause
D3: jour | E3: type de journée | G3: Début | H3: pause | I3: Fin | K3: H Jour réel | L3: hc de | M3: H amp | N3: hc de | O3: hs semaine | Q3: non | R3: début | S3: fin | T3: résultat | U3: hc de | V3: oui/non | W3: début | X3: fin | Y3: résultat | Z3: hc de
B5: date | C5: Vscolaire | D5: =DATE(ref!E$2,B$9,B$7) -> 43830 | E5: férié | F5: =IF(AND(I5="",G5=""),"",D5+G5) | H5: =SUM(T5+Y5+AA5) -> 0 | J5: =IF(AND(G5="",I5=""),"",D5+I5+(G5>I5)) | K5: =IF(OR(E5="télétravail",E5="férié travaillé",E5="travail"),(I5-G5+IF(G5>I5,1)-H5),INDEX(ref!$E$22:'ref'!$E$37,MATCH(E5,gerald3,0))) -> 0.29166667 | L5: =IF(SUM(K5-ref!E$8)<0,0,SUM(K5-ref!E$8)) -> 0 | M5: =IF(OR(E5="férié travaillé",E5="travail",E5="asa",E5="rtt"),I5-G5+IF(G5>I5,1),INDEX(ref!$E$22:'ref'!$E$37,MATCH(E5,gerald2,0))) -> 0.29166667 | N5: =IF(SUM(M5-ref!E$4)<0,0,SUM(M5-ref!E$4)) -> 0 | O5: =K5 -> 0.29166667 | T5: =S5-R5 -> 0 | U5: =IF(T5="","",IF(SUM(T5-ref!E$38)>0,0,IF(T5=0, "0:00", SUM(T5-ref!E$38)))) -> 0:00 | V5: non | Y5: =X5-W5 -> 0 | Z5: =IF(Y5="","",IF(SUM(Y5-ref!E$38)>0,0,IF(Y5=0, "0:00", SUM(Y5-ref!E$38)))) -> 0:00
B6: date | C6: Vscolaire | D6: =D5+1 -> 43831 | E6: récupération | F6: =IF(AND(I6="",G6=""),"",D6+G6) | H6: =SUM(T6+Y6+AA6) -> 0 | J6: =IF(AND(G6="",I6=""),"",D6+I6+(G6>I6)) | K6: =IF(OR(E6="télétravail",E6="férié travaillé",E6="travail"),(I6-G6+IF(G6>I6,1)-H6),INDEX(ref!$E$22:'ref'!$E$37,MATCH(E6,gerald3,0))) -> 0.29166667 | L6: =IF(SUM(K6-ref!E$8)<0,0,SUM(K6-ref!E$8)) -> 0 | M6: =IF(OR(E6="férié travaillé",E6="travail",E6="asa",E6="rtt"),I6-G6+IF(G6>I6,1),INDEX(ref!$E$22:'ref'!$E$37,MATCH(E6,gerald2,0))) -> 0.29166667 | N6: =IF(SUM(M6-ref!E$4)<0,0,SUM(M6-ref!E$4)) -> 0 | O6: =O5+K6 -> 0.58333333 | T6: =S6-R6 -> 0 | U6: =IF(T6="","",IF(SUM(T6-ref!E$38)>0,0,IF(T6=0, "0:00", SUM(T6-ref!E$38)))) -> 0:00 | Y6: =X6-W6 -> 0 | Z6: =IF(Y6="","",IF(SUM(Y6-ref!E$38)>0,0,IF(Y6=0, "0:00", SUM(Y6-ref!E$38)))) -> 0:00
B7: 1 | C7: Vscolaire | D7: =D6+1 -> 43832 | E7: récupération | F7: =IF(AND(I7="",G7=""),"",D7+G7) | H7: =SUM(T7+Y7+AA7) -> 0 | J7: =IF(AND(G7="",I7=""),"",D7+I7+(G7>I7)) | K7: =IF(OR(E7="télétravail",E7="férié travaillé",E7="travail"),(I7-G7+IF(G7>I7,1)-H7),INDEX(ref!$E$22:'ref'!$E$37,MATCH(E7,gerald3,0))) -> 0.29166667 | L7: =IF(SUM(K7-ref!E$8)<0,0,SUM(K7-ref!E$8)) -> 0 | M7: =IF(OR(E7="férié travaillé",E7="travail",E7="asa",E7="rtt"),I7-G7+IF(G7>I7,1),INDEX(ref!$E$22:'ref'!$E$37,MATCH(E7,gerald2,0))) -> 0.29166667 | N7: =IF(SUM(M7-ref!E$4)<0,0,SUM(M7-ref!E$4)) -> 0 | O7: =O6+K7 -> 0.875 | T7: =S7-R7 -> 0 | U7: =IF(T7="","",IF(SUM(T7-ref!E$38)>0,0,IF(T7=0, "0:00", SUM(T7-ref!E$38)))) -> 0:00 | Y7: =X7-W7 -> 0 | Z7: =IF(Y7="","",IF(SUM(Y7-ref!E$38)>0,0,IF(Y7=0, "0:00", SUM(Y7-ref!E$38)))) -> 0:00
B8: mois | C8: Vscolaire | D8: =D7+1 -> 43833 | E8: récupération | F8: =IF(AND(I8="",G8=""),"",D8+G8) | H8: =SUM(T8+Y8+AA8) -> 0 | J8: =IF(AND(G8="",I8=""),"",D8+I8+(G8>I8)) | K8: =IF(OR(E8="télétravail",E8="férié travaillé",E8="travail"),(I8-G8+IF(G8>I8,1)-H8),INDEX(ref!$E$22:'ref'!$E$37,MATCH(E8,gerald3,0))) -> 0.29166667 | L8: =IF(SUM(K8-ref!E$8)<0,0,SUM(K8-ref!E$8)) -> 0 | M8: =IF(OR(E8="férié travaillé",E8="travail",E8="asa",E8="rtt"),I8-G8+IF(G8>I8,1),INDEX(ref!$E$22:'ref'!$E$37,MATCH(E8,gerald2,0))) -> 0.29166667 | N8: =IF(SUM(M8-ref!E$4)<0,0,SUM(M8-ref!E$4)) -> 0 | O8: =O7+K8 -> 1.1666667 | T8: =S8-R8 -> 0 | U8: =IF(T8="","",IF(SUM(T8-ref!E$38)>0,0,IF(T8=0, "0:00", SUM(T8-ref!E$38)))) -> 0:00 | Y8: =X8-W8 -> 0 | Z8: =IF(Y8="","",IF(SUM(Y8-ref!E$38)>0,0,IF(Y8=0, "0:00", SUM(Y8-ref!E$38)))) -> 0:00
B9: 1 | C9: Vscolaire | D9: =D8+1 -> 43834 | E9: récupération | F9: =IF(AND(I9="",G9=""),"",D9+G9) | H9: =SUM(T9+Y9+AA9) -> 0 | J9: =IF(AND(G9="",I9=""),"",D9+I9+(G9>I9)) | K9: =IF(OR(E9="télétravail",E9="férié travaillé",E9="travail"),(I9-G9+IF(G9>I9,1)-H9),INDEX(ref!$E$22:'ref'!$E$37,MATCH(E9,gerald3,0))) -> 0.29166667 | L9: =IF(SUM(K9-ref!E$8)<0,0,SUM(K9-ref!E$8)) -> 0 | M9: =IF(OR(E9="férié travaillé",E9="travail",E9="asa",E9="rtt"),I9-G9+IF(G9>I9,1),INDEX(ref!$E$22:'ref'!$E$37,MATCH(E9,gerald2,0))) -> 0.29166667 | N9: =IF(SUM(M9-ref!E$4)<0,0,SUM(M9-ref!E$4)) -> 0 | O9: =O8+K9 -> 1.4583333 | T9: =S9-R9 -> 0 | U9: =IF(T9="","",IF(SUM(T9-ref!E$38)>0,0,IF(T9=0, "0:00", SUM(T9-ref!E$38)))) -> 0:00 | Y9: =X9-W9 -> 0 | Z9: =IF(Y9="","",IF(SUM(Y9-ref!E$38)>0,0,IF(Y9=0, "0:00", SUM(Y9-ref!E$38)))) -> 0:00
D10: =D9+1 -> 43835 | E10: travail | F10: =IF(AND(I10="",G10=""),"",D10+G10) | H10: =SUM(T10+Y10+AA10) -> 0 | J10: =IF(AND(G10="",I10=""),"",D10+I10+(G10>I10)) | K10: =IF(OR(E10="télétravail",E10="férié travaillé",E10="travail"),(I10-G10+IF(G10>I10,1)-H10),INDEX(ref!$E$22:'ref'!$E$37,MATCH(E10,gerald3,0))) -> 0 | L10: =IF(SUM(K10-ref!E$8)<0,0,SUM(K10-ref!E$8)) -> 0 | M10: =IF(OR(E10="férié travaillé",E10="travail",E10="asa",E10="rtt"),I10-G10+IF(G10>I10,1),INDEX(ref!$E$22:'ref'!$E$37,MATCH(E10,gerald2,0))) -> 0 | N10: =IF(SUM(M10-ref!E$4)<0,0,SUM(M10-ref!E$4)) -> 0 | O10: =O9+K10 -> 1.4583333 | T10: =S10-R10 -> 0 | U10: =IF(T10="","",IF(SUM(T10-ref!E$38)>0,0,IF(T10=0, "0:00", SUM(T10-ref!E$38)))) -> 0:00 | Y10: =X10-W10 -> 0 | Z10: =IF(Y10="","",IF(SUM(Y10-ref!E$38)>0,0,IF(Y10=0, "0:00", SUM(Y10-ref!E$38)))) -> 0:00
D11: =D10+1 -> 43836 | E11: off | F11: =IF(AND(I11="",G11=""),"",D11+G11) | H11: =SUM(T11+Y11+AA11) -> 0 | J11: =IF(AND(G11="",I11=""),"",D11+I11+(G11>I11)) | K11: =IF(OR(E11="télétravail",E11="férié travaillé",E11="travail"),(I11-G11+IF(G11>I11,1)-H11),INDEX(ref!$E$22:'ref'!$E$37,MATCH(E11,gerald3,0))) -> 0 | L11: =IF(SUM(K11-ref!E$8)<0,0,SUM(K11-ref!E$8)) -> 0 | M11: =IF(OR(E11="férié travaillé",E11="travail",E11="asa",E11="rtt"),I11-G11+IF(G11>I11,1),INDEX(ref!$E$22:'ref'!$E$37,MATCH(E11,gerald2,0))) -> 0 | N11: =IF(SUM(M11-ref!E$4)<0,0,SUM(M11-ref!E$4)) -> 0 | O11: =O10+K11 -> 1.4583333 | T11: =S11-R11 -> 0 | U11: =IF(T11="","",IF(SUM(T11-ref!E$38)>0,0,IF(T11=0, "0:00", SUM(T11-ref!E$38)))) -> 0:00 | Y11: =X11-W11 -> 0 | Z11: =IF(Y11="","",IF(SUM(Y11-ref!E$38)>0,0,IF(Y11=0, "0:00", SUM(Y11-ref!E$38)))) -> 0:00
B15: date | C15: travail | D15: =DATE(ref!E$2,B19,B17) -> 43837 | E15: travail | F15: =IF(AND(I15="",G15=""),"",D15+G15) -> 43837.375 | G15: 0.375 | H15: =SUM(T15+Y15+AA15) -> 0.034027778 | I15: 0.70833333 | J15: =IF(AND(G15="",I15=""),"",D15+I15+(G15>I15)) -> 43837.708 | K15: =IF(OR(E15="télétravail",E15="férié travaillé",E15="travail"),(I15-G15+IF(G15>I15,1)-H15),INDEX(ref!$E$22:'ref'!$E$37,MATCH(E15,gerald3,0))) -> 0.29930556 | L15: =IF(SUM(K15-ref!E$8)<0,0,SUM(K15-ref!E$8)) -> 0 | M15: =IF(OR(E15="férié travaillé",E15="travail",E15="asa",E15="rtt"),I15-G15+IF(G15>I15,1),INDEX(ref!$E$22:'ref'!$E$37,MATCH(E15,gerald2,0))) -> 0.33333333 | N15: =IF(SUM(M15-ref!E$4)<0,0,SUM(M15-ref!E$4)) -> 0 | O15: =K15 -> 0.29930556 | R15: 0.52152778 | S15: 0.55555556 | T15: =S15-R15 -> 0.034027778 | U15: =IF(T15="","",IF(SUM(T15-ref!E$38)>0,0,IF(T15=0, "0:00", SUM(T15-ref!E$38)))) -> 0 | Y15: =X15-W15 -> 0 | Z15: =IF(Y15="","",IF(SUM(Y15-ref!E$38)>0,0,IF(Y15=0, "0:00", SUM(Y15-ref!E$38)))) -> 0:00
B16: date | C16: travail | D16: =D15+1 -> 43838 | E16: travail | F16: =IF(AND(I16="",G16=""),"",D16+G16) -> 43838.378 | G16: 0.37777778 | H16: =SUM(T16+Y16+AA16) -> 0.035416667 | I16: 0.76180556 | J16: =IF(AND(G16="",I16=""),"",D16+I16+(G16>I16)) -> 43838.762 | K16: =IF(OR(E16="télétravail",E16="férié travaillé",E16="travail"),(I16-G16+IF(G16>I16,1)-H16),INDEX(ref!$E$22:'ref'!$E$37,MATCH(E16,gerald3,0))) -> 0.34861111 | L16: =IF(SUM(K16-ref!E$8)<0,0,SUM(K16-ref!E$8)) -> 0 | M16: =IF(OR(E16="férié travaillé",E16="travail",E16="asa",E16="rtt"),I16-G16+IF(G16>I16,1),INDEX(ref!$E$22:'ref'!$E$37,MATCH(E16,gerald2,0))) -> 0.38402778 | N16: =IF(SUM(M16-ref!E$4)<0,0,SUM(M16-ref!E$4)) -> 0 | O16: =O15+K16 -> 0.64791667 | R16: 0.50625 | S16: 0.54166667 | T16: =S16-R16 -> 0.035416667 | U16: =IF(T16="","",IF(SUM(T16-ref!E$38)>0,0,IF(T16=0, "0:00", SUM(T16-ref!E$38)))) -> 0 | Y16: =X16-W16 -> 0 | Z16: =IF(Y16="","",IF(SUM(Y16-ref!E$38)>0,0,IF(Y16=0, "0:00", SUM(Y16-ref!E$38)))) -> 0:00
B17: 8 | C17: travail | D17: =D16+1 -> 43839 | E17: travail | F17: =IF(AND(I17="",G17=""),"",D17+G17) -> 43839.381 | G17: 0.38125 | H17: =SUM(T17+Y17+AA17) -> 0.036805556 | I17: 0.78333333 | J17: =IF(AND(G17="",I17=""),"",D17+I17+(G17>I17)) -> 43839.783 | K17: =IF(OR(E17="télétravail",E17="férié travaillé",E17="travail"),(I17-G17+IF(G17>I17,1)-H17),INDEX(ref!$E$22:'ref'!$E$37,MATCH(E17,gerald3,0))) -> 0.36527778 | L17: =IF(SUM(K17-ref!E$8)<0,0,SUM(K17-ref!E$8)) -> 0 | M17: =IF(OR(E17="férié travaillé",E17="travail",E17="asa",E17="rtt"),I17-G17+IF(G17>I17,1),INDEX(ref!$E$22:'ref'!$E$37,MATCH(E17,gerald2,0))) -> 0.40208333 | N17: =IF(SUM(M17-ref!E$4)<0,0,SUM(M17-ref!E$4)) -> 0 | O17: =O16+K17 -> 1.0131944 | R17: 0.52152778 | S17: 0.55833333 | T17: =S17-R17 -> 0.036805556 | U17: =IF(T17="","",IF(SUM(T17-ref!E$38)>0,0,IF(T17=0, "0:00", SUM(T17-ref!E$38)))) -> 0 | Y17: =X17-W17 -> 0 | Z17: =IF(Y17="","",IF(SUM(Y17-ref!E$38)>0,0,IF(Y17=0, "0:00", SUM(Y17-ref!E$38)))) -> 0:00
B18: mois | C18: travail | D18: =D17+1 -> 43840 | E18: travail | F18: =IF(AND(I18="",G18=""),"",D18+G18) -> 43840.387 | G18: 0.38680556 | H18: =SUM(T18+Y18+AA18) -> 0.033333333 | I18: 0.74444444 | J18: =IF(AND(G18="",I18=""),"",D18+I18+(G18>I18)) -> 43840.744 | K18: =IF(OR(E18="télétravail",E18="férié travaillé",E18="travail"),(I18-G18+IF(G18>I18,1)-H18),INDEX(ref!$E$22:'ref'!$E$37,MATCH(E18,gerald3,0))) -> 0.32430556 | L18: =IF(SUM(K18-ref!E$8)<0,0,SUM(K18-ref!E$8)) -> 0 | M18: =IF(OR(E18="férié travaillé",E18="travail",E18="asa",E18="rtt"),I18-G18+IF(G18>I18,1),INDEX(ref!$E$22:'ref'!$E$37,MATCH(E18,gerald2,0))) -> 0.35763889 | N18: =IF(SUM(M18-ref!E$4)<0,0,SUM(M18-ref!E$4)) -> 0 | O18: =O17+K18 -> 1.3375 | R18: 0.51875 | S18: 0.55208333 | T18: =S18-R18 -> 0.033333333 | U18: =IF(T18="","",IF(SUM(T18-ref!E$38)>0,0,IF(T18=0, "0:00", SUM(T18-ref!E$38)))) -> 0 | Y18: =X18-W18 -> 0 | Z18: =IF(Y18="","",IF(SUM(Y18-ref!E$38)>0,0,IF(Y18=0, "0:00", SUM(Y18-ref!E$38)))) -> 0:00
B19: 1 | C19: travail | D19: =D18+1 -> 43841 | E19: travail | F19: =IF(AND(I19="",G19=""),"",D19+G19) -> 43841.375 | G19: 0.375 | H19: =SUM(T19+Y19+AA19) -> 0.020833333 | I19: 0.74652778 | J19: =IF(AND(G19="",I19=""),"",D19+I19+(G19>I19)) -> 43841.747 | K19: =IF(OR(E19="télétravail",E19="férié travaillé",E19="travail"),(I19-G19+IF(G19>I19,1)-H19),INDEX(ref!$E$22:'ref'!$E$37,MATCH(E19,gerald3,0))) -> 0.35069444 | L19: =IF(SUM(K19-ref!E$8)<0,0,SUM(K19-ref!E$8)) -> 0 | M19: =IF(OR(E19="férié travaillé",E19="travail",E19="asa",E19="rtt"),I19-G19+IF(G19>I19,1),INDEX(ref!$E$22:'ref'!$E$37,MATCH(E19,gerald2,0))) -> 0.37152778 | N19: =IF(SUM(M19-ref!E$4)<0,0,SUM(M19-ref!E$4)) -> 0 | O19: =O18+K19 -> 1.6881944 | R19: 0.55555556 | S19: 0.57638889 | T19: =S19-R19 -> 0.020833333 | U19: =IF(T19="","",IF(SUM(T19-ref!E$38)>0,0,IF(T19=0, "0:00", SUM(T19-ref!E$38)))) -> -0.010416667 | Y19: =X19-W19 -> 0 | Z19: =IF(Y19="","",IF(SUM(Y19-ref!E$38)>0,0,IF(Y19=0, "0:00", SUM(Y19-ref!E$38)))) -> 0:00
D20: =D19+1 -> 43842 | E20: off | F20: =IF(AND(I20="",G20=""),"",D20+G20) | H20: =SUM(T20+Y20+AA20) -> 0 | J20: =IF(AND(G20="",I20=""),"",D20+I20+(G20>I20)) | K20: =IF(OR(E20="télétravail",E20="férié travaillé",E20="travail"),(I20-G20+IF(G20>I20,1)-H20),INDEX(ref!$E$22:'ref'!$E$37,MATCH(E20,gerald3,0))) -> 0 | L20: =IF(SUM(K20-ref!E$8)<0,0,SUM(K20-ref!E$8)) -> 0 | M20: =IF(OR(E20="férié travaillé",E20="travail",E20="asa",E20="rtt"),I20-G20+IF(G20>I20,1),INDEX(ref!$E$22:'ref'!$E$37,MATCH(E20,gerald2,0))) -> 0 | N20: =IF(SUM(M20-ref!E$4)<0,0,SUM(M20-ref!E$4)) -> 0 | O20: =O19+K20 -> 1.6881944 | T20: =S20-R20 -> 0 | U20: =IF(T20="","",IF(SUM(T20-ref!E$38)>0,0,IF(T20=0, "0:00", SUM(T20-ref!E$38)))) -> 0:00 | Y20: =X20-W20 -> 0 | Z20: =IF(Y20="","",IF(SUM(Y20-ref!E$38)>0,0,IF(Y20=0, "0:00", SUM(Y20-ref!E$38)))) -> 0:00
D21: =D20+1 -> 43843 | E21: off | F21: =IF(AND(I21="",G21=""),"",D21+G21) | H21: =SUM(T21+Y21+AA21) -> 0 | J21: =IF(AND(G21="",I21=""),"",D21+I21+(G21>I21)) | K21: =IF(OR(E21="télétravail",E21="férié travaillé",E21="travail"),(I21-G21+IF(G21>I21,1)-H21),INDEX(ref!$E$22:'ref'!$E$37,MATCH(E21,gerald3,0))) -> 0 | L21: =IF(SUM(K21-ref!E$8)<0,0,SUM(K21-ref!E$8)) -> 0 | M21: =IF(OR(E21="férié travaillé",E21="travail",E21="asa",E21="rtt"),I21-G21+IF(G21>I21,1),INDEX(ref!$E$22:'ref'!$E$37,MATCH(E21,gerald2,0))) -> 0 | N21: =IF(SUM(M21-ref!E$4)<0,0,SUM(M21-ref!E$4)) -> 0 | O21: =O20+K21 -> 1.6881944 | T21: =S21-R21 -> 0 | U21: =IF(T21="","",IF(SUM(T21-ref!E$38)>0,0,IF(T21=0, "0:00", SUM(T21-ref!E$38)))) -> 0:00 | Y21: =X21-W21 -> 0 | Z21: =IF(Y21="","",IF(SUM(Y21-ref!E$38)>0,0,IF(Y21=0, "0:00", SUM(Y21-ref!E$38)))) -> 0:00
B25: date | C25: travail | D25: =DATE(ref!E$2,B29,B27) -> 43844 | E25: travail | F25: =IF(AND(I25="",G25=""),"",D25+G25) -> 43844.378 | G25: 0.37777778 | H25: =SUM(T25+Y25+AA25) -> 0.033333333 | I25: 0.71180556 | J25: =IF(AND(G25="",I25=""),"",D25+I25+(G25>I25)) -> 43844.712 | K25: =IF(OR(E25="télétravail",E25="férié travaillé",E25="travail"),(I25-G25+IF(G25>I25,1)-H25),INDEX(ref!$E$22:'ref'!$E$37,MATCH(E25,gerald3,0))) -> 0.30069444 | L25: =IF(SUM(K25-ref!E$8)<0,0,SUM(K25-ref!E$8)) -> 0 | M25: =IF(OR(E25="férié travaillé",E25="travail",E25="asa",E25="rtt"),I25-G25+IF(G25>I25,1),INDEX(ref!$E$22:'ref'!$E$37,MATCH(E25,gerald2,0))) -> 0.33402778 | N25: =IF(SUM(M25-ref!E$4)<0,0,SUM(M25-ref!E$4)) -> 0 | O25: =K25 -> 0.30069444 | R25: 0.53958333 | S25: 0.57291667 | T25: =S25-R25 -> 0.033333333 | U25: =IF(T25="","",IF(SUM(T25-ref!E$38)>0,0,IF(T25=0, "0:00", SUM(T25-ref!E$38)))) -> 0 | Y25: =X25-W25 -> 0 | Z25: =IF(Y25="","",IF(SUM(Y25-ref!E$38)>0,0,IF(Y25=0, "0:00", SUM(Y25-ref!E$38)))) -> 0:00
B26: date | C26: travail | D26: =D25+1 -> 43845 | E26: travail | F26: =IF(AND(I26="",G26=""),"",D26+G26) -> 43845.381 | G26: 0.38055556 | H26: =SUM(T26+Y26+AA26) -> 0.032638889 | I26: 0.85555556 | J26: =IF(AND(G26="",I26=""),"",D26+I26+(G26>I26)) -> 43845.856 | K26: =IF(OR(E26="télétravail",E26="férié travaillé",E26="travail"),(I26-G26+IF(G26>I26,1)-H26),INDEX(ref!$E$22:'ref'!$E$37,MATCH(E26,gerald3,0))) -> 0.44236111 | L26: =IF(SUM(K26-ref!E$8)<0,0,SUM(K26-ref!E$8)) -> 0.025694444 | M26: =IF(OR(E26="férié travaillé",E26="travail",E26="asa",E26="rtt"),I26-G26+IF(G26>I26,1),INDEX(ref!$E$22:'ref'!$E$37,MATCH(E26,gerald2,0))) -> 0.475 | N26: =IF(SUM(M26-ref!E$4)<0,0,SUM(M26-ref!E$4)) -> 0 | O26: =O25+K26 -> 0.74305556 | R26: 0.50972222 | S26: 0.54236111 | T26: =S26-R26 -> 0.032638889 | U26: =IF(T26="","",IF(SUM(T26-ref!E$38)>0,0,IF(T26=0, "0:00", SUM(T26-ref!E$38)))) -> 0 | Y26: =X26-W26 -> 0 | Z26: =IF(Y26="","",IF(SUM(Y26-ref!E$38)>0,0,IF(Y26=0, "0:00", SUM(Y26-ref!E$38)))) -> 0:00
B27: 15 | C27: travail | D27: =D26+1 -> 43846 | E27: travail | F27: =IF(AND(I27="",G27=""),"",D27+G27) -> 43846.428 | G27: 0.42777778 | H27: =SUM(T27+Y27+AA27) -> 0.034722222 | I27: 0.78888889 | J27: =IF(AND(G27="",I27=""),"",D27+I27+(G27>I27)) -> 43846.789 | K27: =IF(OR(E27="télétravail",E27="férié travaillé",E27="travail"),(I27-G27+IF(G27>I27,1)-H27),INDEX(ref!$E$22:'ref'!$E$37,MATCH(E27,gerald3,0))) -> 0.32638889 | L27: =IF(SUM(K27-ref!E$8)<0,0,SUM(K27-ref!E$8)) -> 0 | M27: =IF(OR(E27="férié travaillé",E27="travail",E27="asa",E27="rtt"),I27-G27+IF(G27>I27,1),INDEX(ref!$E$22:'ref'!$E$37,MATCH(E27,gerald2,0))) -> 0.36111111 | N27: =IF(SUM(M27-ref!E$4)<0,0,SUM(M27-ref!E$4)) -> 0 | O27: =O26+K27 -> 1.0694444 | R27: 0.51319444 | S27: 0.54791667 | T27: =S27-R27 -> 0.034722222 | U27: =IF(T27="","",IF(SUM(T27-ref!E$38)>0,0,IF(T27=0, "0:00", SUM(T27-ref!E$38)))) -> 0 | Y27: =X27-W27 -> 0 | Z27: =IF(Y27="","",IF(SUM(Y27-ref!E$38)>0,0,IF(Y27=0, "0:00", SUM(Y27-ref!E$38)))) -> 0:00
B28: mois | C28: travail | D28: =D27+1 -> 43847 | E28: travail | F28: =IF(AND(I28="",G28=""),"",D28+G28) -> 43847.375 | G28: 0.375 | H28: =SUM(T28+Y28+AA28) -> 0.03125 | I28: 0.775 | J28: =IF(AND(G28="",I28=""),"",D28+I28+(G28>I28)) -> 43847.775 | K28: =IF(OR(E28="télétravail",E28="férié travaillé",E28="travail"),(I28-G28+IF(G28>I28,1)-H28),INDEX(ref!$E$22:'ref'!$E$37,MATCH(E28,gerald3,0))) -> 0.36875 | L28: =IF(SUM(K28-ref!E$8)<0,0,SUM(K28-ref!E$8)) -> 0 | M28: =IF(OR(E28="férié travaillé",E28="travail",E28="asa",E28="rtt"),I28-G28+IF(G28>I28,1),INDEX(ref!$E$22:'ref'!$E$37,MATCH(E28,gerald2,0))) -> 0.4 | N28: =IF(SUM(M28-ref!E$4)<0,0,SUM(M28-ref!E$4)) -> 0 | O28: =O27+K28 -> 1.4381944 | R28: 0.54166667 | S28: 0.57291667 | T28: =S28-R28 -> 0.03125 | U28: =IF(T28="","",IF(SUM(T28-ref!E$38)>0,0,IF(T28=0, "0:00", SUM(T28-ref!E$38)))) -> 0 | Y28: =X28-W28 -> 0 | Z28: =IF(Y28="","",IF(SUM(Y28-ref!E$38)>0,0,IF(Y28=0, "0:00", SUM(Y28-ref!E$38)))) -> 0:00
B29: 1 | C29: travail | D29: =D28+1 -> 43848 | E29: travail | F29: =IF(AND(I29="",G29=""),"",D29+G29) -> 43848.378 | G29: 0.37847222 | H29: =SUM(T29+Y29+AA29) -> 0.020138889 | I29: 0.76736111 | J29: =IF(AND(G29="",I29=""),"",D29+I29+(G29>I29)) -> 43848.767 | K29: =IF(OR(E29="télétravail",E29="férié travaillé",E29="travail"),(I29-G29+IF(G29>I29,1)-H29),INDEX(ref!$E$22:'ref'!$E$37,MATCH(E29,gerald3,0))) -> 0.36875 | L29: =IF(SUM(K29-ref!E$8)<0,0,SUM(K29-ref!E$8)) -> 0 | M29: =IF(OR(E29="férié travaillé",E29="travail",E29="asa",E29="rtt"),I29-G29+IF(G29>I29,1),INDEX(ref!$E$22:'ref'!$E$37,MATCH(E29,gerald2,0))) -> 0.38888889 | N29: =IF(SUM(M29-ref!E$4)<0,0,SUM(M29-ref!E$4)) -> 0 | O29: =O28+K29 -> 1.8069444 | R29: 0.57291667 | S29: 0.59305556 | T29: =S29-R29 -> 0.020138889 | U29: =IF(T29="","",IF(SUM(T29-ref!E$38)>0,0,IF(T29=0, "0:00", SUM(T29-ref!E$38)))) -> -0.011111111 | Y29: =X29-W29 -> 0 | Z29: =IF(Y29="","",IF(SUM(Y29-ref!E$38)>0,0,IF(Y29=0, "0:00", SUM(Y29-ref!E$38)))) -> 0:00
D30: =D29+1 -> 43849 | E30: travail | F30: =IF(AND(I30="",G30=""),"",D30+G30) -> 43849.571 | G30: 0.57083333 | H30: =SUM(T30+Y30+AA30) -> 0 | I30: 0.85763889 | J30: =IF(AND(G30="",I30=""),"",D30+I30+(G30>I30)) -> 43849.858 | K30: =IF(OR(E30="télétravail",E30="férié travaillé",E30="travail"),(I30-G30+IF(G30>I30,1)-H30),INDEX(ref!$E$22:'ref'!$E$37,MATCH(E30,gerald3,0))) -> 0.28680556 | L30: =IF(SUM(K30-ref!E$8)<0,0,SUM(K30-ref!E$8)) -> 0 | M30: =IF(OR(E30="férié travaillé",E30="travail",E30="asa",E30="rtt"),I30-G30+IF(G30>I30,1),INDEX(ref!$E$22:'ref'!$E$37,MATCH(E30,gerald2,0))) -> 0.28680556 | N30: =IF(SUM(M30-ref!E$4)<0,0,SUM(M30-ref!E$4)) -> 0 | O30: =O29+K30 -> 2.09375 | T30: =S30-R30 -> 0 | U30: =IF(T30="","",IF(SUM(T30-ref!E$38)>0,0,IF(T30=0, "0:00", SUM(T30-ref!E$38)))) -> 0:00 | Y30: =X30-W30 -> 0 | Z30: =IF(Y30="","",IF(SUM(Y30-ref!E$38)>0,0,IF(Y30=0, "0:00", SUM(Y30-ref!E$38)))) -> 0:00
D31: =D30+1 -> 43850 | E31: off | F31: =IF(AND(I31="",G31=""),"",D31+G31) | H31: =SUM(T31+Y31+AA31) -> 0 | J31: =IF(AND(G31="",I31=""),"",D31+I31+(G31>I31)) | K31: =IF(OR(E31="télétravail",E31="férié travaillé",E31="travail"),(I31-G31+IF(G31>I31,1)-H31),INDEX(ref!$E$22:'ref'!$E$37,MATCH(E31,gerald3,0))) -> 0 | L31: =IF(SUM(K31-ref!E$8)<0,0,SUM(K31-ref!E$8)) -> 0 | M31: =IF(OR(E31="férié travaillé",E31="travail",E31="asa",E31="rtt"),I31-G31+IF(G31>I31,1),INDEX(ref!$E$22:'ref'!$E$37,MATCH(E31,gerald2,0))) -> 0 | N31: =IF(SUM(M31-ref!E$4)<0,0,SUM(M31-ref!E$4)) -> 0 | O31: =O30+K31 -> 2.09375 | T31: =S31-R31 -> 0 | U31: =IF(T31="","",IF(SUM(T31-ref!E$38)>0,0,IF(T31=0, "0:00", SUM(T31-ref!E$38)))) -> 0:00 | Y31: =X31-W31 -> 0 | Z31: =IF(Y31="","",IF(SUM(Y31-ref!E$38)>0,0,IF(Y31=0, "0:00", SUM(Y31-ref!E$38)))) -> 0:00
B35: date | C35: travail | D35: =DATE(ref!E$2,B39,B37) -> 43851 | E35: travail | F35: =IF(AND(I35="",G35=""),"",D35+G35) -> 43851.386 | G35: 0.38611111 | H35: =SUM(T35+Y35+AA35) -> 0.034027778 | I35: 0.70833333 | J35: =IF(AND(G35="",I35=""),"",D35+I35+(G35>I35)) -> 43851.708 | K35: =IF(OR(E35="télétravail",E35="férié travaillé",E35="travail"),(I35-G35+IF(G35>I35,1)-H35),INDEX(ref!$E$22:'ref'!$E$37,MATCH(E35,gerald3,0))) -> 0.28819444 | L35: =IF(SUM(K35-ref!E$8)<0,0,SUM(K35-ref!E$8)) -> 0 | M35: =IF(OR(E35="férié travaillé",E35="travail",E35="asa",E35="rtt"),I35-G35+IF(G35>I35,1),INDEX(ref!$E$22:'ref'!$E$37,MATCH(E35,gerald2,0))) -> 0.32222222 | N35: =IF(SUM(M35-ref!E$4)<0,0,SUM(M35-ref!E$4)) -> 0 | O35: =K35 -> 0.28819444 | R35: 0.50763889 | S35: 0.54166667 | T35: =S35-R35 -> 0.034027778 | U35: =IF(T35="","",IF(SUM(T35-ref!E$38)>0,0,IF(T35=0, "0:00", SUM(T35-ref!E$38)))) -> 0 | Y35: =X35-W35 -> 0 | Z35: =IF(Y35="","",IF(SUM(Y35-ref!E$38)>0,0,IF(Y35=0, "0:00", SUM(Y35-ref!E$38)))) -> 0:00
B36: date | C36: travail | D36: =D35+1 -> 43852 | E36: travail | F36: =IF(AND(I36="",G36=""),"",D36+G36) -> 43852.375 | G36: 0.375 | H36: =SUM(T36+Y36+AA36) -> 0.031944444 | I36: 0.71944444 | J36: =IF(AND(G36="",I36=""),"",D36+I36+(G36>I36)) -> 43852.719 | K36: =IF(OR(E36="télétravail",E36="férié travaillé",E36="travail"),(I36-G36+IF(G36>I36,1)-H36),INDEX(ref!$E$22:'ref'!$E$37,MATCH(E36,gerald3,0))) -> 0.3125 | L36: =IF(SUM(K36-ref!E$8)<0,0,SUM(K36-ref!E$8)) -> 0 | M36: =IF(OR(E36="férié travaillé",E36="travail",E36="asa",E36="rtt"),I36-G36+IF(G36>I36,1),INDEX(ref!$E$22:'ref'!$E$37,MATCH(E36,gerald2,0))) -> 0.34444444 | N36: =IF(SUM(M36-ref!E$4)<0,0,SUM(M36-ref!E$4)) -> 0 | O36: =O35+K36 -> 0.60069444 | R36: 0.54236111 | S36: 0.57430556 | T36: =S36-R36 -> 0.031944444 | U36: =IF(T36="","",IF(SUM(T36-ref!E$38)>0,0,IF(T36=0, "0:00", SUM(T36-ref!E$38)))) -> 0 | Y36: =X36-W36 -> 0 | Z36: =IF(Y36="","",IF(SUM(Y36-ref!E$38)>0,0,IF(Y36=0, "0:00", SUM(Y36-ref!E$38)))) -> 0:00
B37: 22 | C37: travail | D37: =D36+1 -> 43853 | E37: travail | F37: =IF(AND(I37="",G37=""),"",D37+G37) -> 43853.433 | G37: 0.43333333 | H37: =SUM(T37+Y37+AA37) -> 0.033333333 | I37: 0.82916667 | J37: =IF(AND(G37="",I37=""),"",D37+I37+(G37>I37)) -> 43853.829 | K37: =IF(OR(E37="télétravail",E37="férié travaillé",E37="travail"),(I37-G37+IF(G37>I37,1)-H37),INDEX(ref!$E$22:'ref'!$E$37,MATCH(E37,gerald3,0))) -> 0.3625 | L37: =IF(SUM(K37-ref!E$8)<0,0,SUM(K37-ref!E$8)) -> 0 | M37: =IF(OR(E37="férié travaillé",E37="travail",E37="asa",E37="rtt"),I37-G37+IF(G37>I37,1),INDEX(ref!$E$22:'ref'!$E$37,MATCH(E37,gerald2,0))) -> 0.39583333 | N37: =IF(SUM(M37-ref!E$4)<0,0,SUM(M37-ref!E$4)) -> 0 | O37: =O36+K37 -> 0.96319444 | R37: 0.54166667 | S37: 0.575 | T37: =S37-R37 -> 0.033333333 | U37: =IF(T37="","",IF(SUM(T37-ref!E$38)>0,0,IF(T37=0, "0:00", SUM(T37-ref!E$38)))) -> 0 | Y37: =X37-W37 -> 0 | Z37: =IF(Y37="","",IF(SUM(Y37-ref!E$38)>0,0,IF(Y37=0, "0:00", SUM(Y37-ref!E$38)))) -> 0:00
B38: mois | C38: travail | D38: =D37+1 -> 43854 | E38: travail | F38: =IF(AND(I38="",G38=""),"",D38+G38) -> 43854.381 | G38: 0.38055556 | H38: =SUM(T38+Y38+AA38) -> 0.034027778 | I38: 0.77222222 | J38: =IF(AND(G38="",I38=""),"",D38+I38+(G38>I38)) -> 43854.772 | K38: =IF(OR(E38="télétravail",E38="férié travaillé",E38="travail"),(I38-G38+IF(G38>I38,1)-H38),INDEX(ref!$E$22:'ref'!$E$37,MATCH(E38,gerald3,0))) -> 0.35763889 | L38: =IF(SUM(K38-ref!E$8)<0,0,SUM(K38-ref!E$8)) -> 0 | M38: =IF(OR(E38="férié travaillé",E38="travail",E38="asa",E38="rtt"),I38-G38+IF(G38>I38,1),INDEX(ref!$E$22:'ref'!$E$37,MATCH(E38,gerald2,0))) -> 0.39166667 | N38: =IF(SUM(M38-ref!E$4)<0,0,SUM(M38-ref!E$4)) -> 0 | O38: =O37+K38 -> 1.3208333 | R38: 0.52013889 | S38: 0.55416667 | T38: =S38-R38 -> 0.034027778 | U38: =IF(T38="","",IF(SUM(T38-ref!E$38)>0,0,IF(T38=0, "0:00", SUM(T38-ref!E$38)))) -> 0 | Y38: =X38-W38 -> 0 | Z38: =IF(Y38="","",IF(SUM(Y38-ref!E$38)>0,0,IF(Y38=0, "0:00", SUM(Y38-ref!E$38)))) -> 0:00
B39: 1 | C39: travail | D39: =D38+1 -> 43855 | E39: travail | F39: =IF(AND(I39="",G39=""),"",D39+G39) -> 43855.381 | G39: 0.38125 | H39: =SUM(T39+Y39+AA39) -> 0.020833333 | I39: 0.90625 | J39: =IF(AND(G39="",I39=""),"",D39+I39+(G39>I39)) -> 43855.906 | K39: =IF(OR(E39="télétravail",E39="férié travaillé",E39="travail"),(I39-G39+IF(G39>I39,1)-H39),INDEX(ref!$E$22:'ref'!$E$37,MATCH(E39,gerald3,0))) -> 0.50416667 | L39: =IF(SUM(K39-ref!E$8)<0,0,SUM(K39-ref!E$8)) -> 0.0875 | M39: =IF(OR(E39="férié travaillé",E39="travail",E39="asa",E39="rtt"),I39-G39+IF(G39>I39,1),INDEX(ref!$E$22:'ref'!$E$37,MATCH(E39,gerald2,0))) -> 0.525 | N39: =IF(SUM(M39-ref!E$4)<0,0,SUM(M39-ref!E$4)) -> 0.025 | O39: =O38+K39 -> 1.825 | R39: 0.56180556 | S39: 0.58263889 | T39: =S39-R39 -> 0.020833333 | U39: =IF(T39="","",IF(SUM(T39-ref!E$38)>0,0,IF(T39=0, "0:00", SUM(T39-ref!E$38)))) -> -0.010416667 | Y39: =X39-W39 -> 0 | Z39: =IF(Y39="","",IF(SUM(Y39-ref!E$38)>0,0,IF(Y39=0, "0:00", SUM(Y39-ref!E$38)))) -> 0:00
D40: =D39+1 -> 43856 | E40: off | F40: =IF(AND(I40="",G40=""),"",D40+G40) | H40: =SUM(T40+Y40+AA40) -> 0 | J40: =IF(AND(G40="",I40=""),"",D40+I40+(G40>I40)) | K40: =IF(OR(E40="télétravail",E40="férié travaillé",E40="travail"),(I40-G40+IF(G40>I40,1)-H40),INDEX(ref!$E$22:'ref'!$E$37,MATCH(E40,gerald3,0))) -> 0 | L40: =IF(SUM(K40-ref!E$8)<0,0,SUM(K40-ref!E$8)) -> 0 | M40: =IF(OR(E40="férié travaillé",E40="travail",E40="asa",E40="rtt"),I40-G40+IF(G40>I40,1),INDEX(ref!$E$22:'ref'!$E$37,MATCH(E40,gerald2,0))) -> 0 | N40: =IF(SUM(M40-ref!E$4)<0,0,SUM(M40-ref!E$4)) -> 0 | O40: =O39+K40 -> 1.825 | T40: =S40-R40 -> 0 | U40: =IF(T40="","",IF(SUM(T40-ref!E$38)>0,0,IF(T40=0, "0:00", SUM(T40-ref!E$38)))) -> 0:00 | Y40: =X40-W40 -> 0 | Z40: =IF(Y40="","",IF(SUM(Y40-ref!E$38)>0,0,IF(Y40=0, "0:00", SUM(Y40-ref!E$38)))) -> 0:00
D41: =D40+1 -> 43857 | E41: off | F41: =IF(AND(I41="",G41=""),"",D41+G41) | H41: =SUM(T41+Y41+AA41) -> 0 | J41: =IF(AND(G41="",I41=""),"",D41+I41+(G41>I41)) | K41: =IF(OR(E41="télétravail",E41="férié travaillé",E41="travail"),(I41-G41+IF(G41>I41,1)-H41),INDEX(ref!$E$22:'ref'!$E$37,MATCH(E41,gerald3,0))) -> 0 | L41: =IF(SUM(K41-ref!E$8)<0,0,SUM(K41-ref!E$8)) -> 0 | M41: =IF(OR(E41="férié travaillé",E41="travail",E41="asa",E41="rtt"),I41-G41+IF(G41>I41,1),INDEX(ref!$E$22:'ref'!$E$37,MATCH(E41,gerald2,0))) -> 0 | N41: =IF(SUM(M41-ref!E$4)<0,0,SUM(M41-ref!E$4)) -> 0 | O41: =O40+K41 -> 1.825 | T41: =S41-R41 -> 0 | U41: =IF(T41="","",IF(SUM(T41-ref!E$38)>0,0,IF(T41=0, "0:00", SUM(T41-ref!E$38)))) -> 0:00 | Y41: =X41-W41 -> 0 | Z41: =IF(Y41="","",IF(SUM(Y41-ref!E$38)>0,0,IF(Y41=0, "0:00", SUM(Y41-ref!E$38)))) -> 0:00
B45: date | C45: travail | D45: =DATE(ref!E$2,B49,B47) -> 43858 | E45: travail | F45: =IF(AND(I45="",G45=""),"",D45+G45) -> 43858.386 | G45: 0.38611111 | H45: =SUM(T45+Y45+AA45) -> 0.045138889 | I45: 0.82638889 | J45: =IF(AND(G45="",I45=""),"",D45+I45+(G45>I45)) -> 43858.826 | K45: =IF(OR(E45="télétravail",E45="férié travaillé",E45="travail"),(I45-G45+IF(G45>I45,1)-H45),INDEX(ref!$E$22:'ref'!$E$37,MATCH(E45,gerald3,0))) -> 0.39513889 | L45: =IF(SUM(K45-ref!E$8)<0,0,SUM(K45-ref!E$8)) -> 0 | M45: =IF(OR(E45="férié travaillé",E45="travail",E45="asa",E45="rtt"),I45-G45+IF(G45>I45,1),INDEX(ref!$E$22:'ref'!$E$37,MATCH(E45,gerald2,0))) -> 0.44027778 | N45: =IF(SUM(M45-ref!E$4)<0,0,SUM(M45-ref!E$4)) -> 0 | O45: =K45 -> 0.39513889 | R45: 0.52847222 | S45: 0.57361111 | T45: =S45-R45 -> 0.045138889 | U45: =IF(T45="","",IF(SUM(T45-ref!E$38)>0,0,IF(T45=0, "0:00", SUM(T45-ref!E$38)))) -> 0 | Y45: =X45-W45 -> 0 | Z45: =IF(Y45="","",IF(SUM(Y45-ref!E$38)>0,0,IF(Y45=0, "0:00", SUM(Y45-ref!E$38)))) -> 0:00
B46: date | C46: travail | D46: =D45+1 -> 43859 | E46: travail | F46: =IF(AND(I46="",G46=""),"",D46+G46) -> 43859.379 | G46: 0.37916667 | H46: =SUM(T46+Y46+AA46) -> 0.034722222 | I46: 0.77013889 | J46: =IF(AND(G46="",I46=""),"",D46+I46+(G46>I46)) -> 43859.77 | K46: =IF(OR(E46="télétravail",E46="férié travaillé",E46="travail"),(I46-G46+IF(G46>I46,1)-H46),INDEX(ref!$E$22:'ref'!$E$37,MATCH(E46,gerald3,0))) -> 0.35625 | L46: =IF(SUM(K46-ref!E$8)<0,0,SUM(K46-ref!E$8)) -> 0 | M46: =IF(OR(E46="férié travaillé",E46="travail",E46="asa",E46="rtt"),I46-G46+IF(G46>I46,1),INDEX(ref!$E$22:'ref'!$E$37,MATCH(E46,gerald2,0))) -> 0.39097222 | N46: =IF(SUM(M46-ref!E$4)<0,0,SUM(M46-ref!E$4)) -> 0 | O46: =O45+K46 -> 0.75138889 | R46: 0.52083333 | S46: 0.55555556 | T46: =S46-R46 -> 0.034722222 | U46: =IF(T46="","",IF(SUM(T46-ref!E$38)>0,0,IF(T46=0, "0:00", SUM(T46-ref!E$38)))) -> 0 | Y46: =X46-W46 -> 0 | Z46: =IF(Y46="","",IF(SUM(Y46-ref!E$38)>0,0,IF(Y46=0, "0:00", SUM(Y46-ref!E$38)))) -> 0:00
B47: 29 | C47: travail | D47: =D46+1 -> 43860 | E47: travail | F47: =IF(AND(I47="",G47=""),"",D47+G47) -> 43860.399 | G47: 0.39930556 | H47: =SUM(T47+Y47+AA47) -> 0.034722222 | I47: 0.76597222 | J47: =IF(AND(G47="",I47=""),"",D47+I47+(G47>I47)) -> 43860.766 | K47: =IF(OR(E47="télétravail",E47="férié travaillé",E47="travail"),(I47-G47+IF(G47>I47,1)-H47),INDEX(ref!$E$22:'ref'!$E$37,MATCH(E47,gerald3,0))) -> 0.33194444 | L47: =IF(SUM(K47-ref!E$8)<0,0,SUM(K47-ref!E$8)) -> 0 | M47: =IF(OR(E47="férié travaillé",E47="travail",E47="asa",E47="rtt"),I47-G47+IF(G47>I47,1),INDEX(ref!$E$22:'ref'!$E$37,MATCH(E47,gerald2,0))) -> 0.36666667 | N47: =IF(SUM(M47-ref!E$4)<0,0,SUM(M47-ref!E$4)) -> 0 | O47: =O46+K47 -> 1.0833333 | R47: 0.52361111 | S47: 0.55833333 | T47: =S47-R47 -> 0.034722222 | U47: =IF(T47="","",IF(SUM(T47-ref!E$38)>0,0,IF(T47=0, "0:00", SUM(T47-ref!E$38)))) -> 0 | Y47: =X47-W47 -> 0 | Z47: =IF(Y47="","",IF(SUM(Y47-ref!E$38)>0,0,IF(Y47=0, "0:00", SUM(Y47-ref!E$38)))) -> 0:00
B48: mois | C48: travail | D48: =D47+1 -> 43861 | E48: travail | F48: =IF(AND(I48="",G48=""),"",D48+G48) -> 43861.377 | G48: 0.37708333 | H48: =SUM(T48+Y48+AA48) -> 0.032638889 | I48: 0.84722222 | J48: =IF(AND(G48="",I48=""),"",D48+I48+(G48>I48)) -> 43861.847 | K48: =IF(OR(E48="télétravail",E48="férié travaillé",E48="travail"),(I48-G48+IF(G48>I48,1)-H48),INDEX(ref!$E$22:'ref'!$E$37,MATCH(E48,gerald3,0))) -> 0.4375 | L48: =IF(SUM(K48-ref!E$8)<0,0,SUM(K48-ref!E$8)) -> 0.020833333 | M48: =IF(OR(E48="férié travaillé",E48="travail",E48="asa",E48="rtt"),I48-G48+IF(G48>I48,1),INDEX(ref!$E$22:'ref'!$E$37,MATCH(E48,gerald2,0))) -> 0.47013889 | N48: =IF(SUM(M48-ref!E$4)<0,0,SUM(M48-ref!E$4)) -> 0 | O48: =O47+K48 -> 1.5208333 | R48: 0.52152778 | S48: 0.55416667 | T48: =S48-R48 -> 0.032638889 | U48: =IF(T48="","",IF(SUM(T48-ref!E$38)>0,0,IF(T48=0, "0:00", SUM(T48-ref!E$38)))) -> 0 | Y48: =X48-W48 -> 0 | Z48: =IF(Y48="","",IF(SUM(Y48-ref!E$38)>0,0,IF(Y48=0, "0:00", SUM(Y48-ref!E$38)))) -> 0:00
B49: 1 | C49: travail | D49: =D48+1 -> 43862 | E49: travail | F49: =IF(AND(I49="",G49=""),"",D49+G49) -> 43862.378 | G49: 0.37847222 | H49: =SUM(T49+Y49+AA49) -> 0.033333333 | I49: 0.775 | J49: =IF(AND(G49="",I49=""),"",D49+I49+(G49>I49)) -> 43862.775 | K49: =IF(OR(E49="télétravail",E49="férié travaillé",E49="travail"),(I49-G49+IF(G49>I49,1)-H49),INDEX(ref!$E$22:'ref'!$E$37,MATCH(E49,gerald3,0))) -> 0.36319444 | L49: =IF(SUM(K49-ref!E$8)<0,0,SUM(K49-ref!E$8)) -> 0 | M49: =IF(OR(E49="férié travaillé",E49="travail",E49="asa",E49="rtt"),I49-G49+IF(G49>I49,1),INDEX(ref!$E$22:'ref'!$E$37,MATCH(E49,gerald2,0))) -> 0.39652778 | N49: =IF(SUM(M49-ref!E$4)<0,0,SUM(M49-ref!E$4)) -> 0 | O49: =O48+K49 -> 1.8840278 | R49: 0.50972222 | S49: 0.54305556 | T49: =S49-R49 -> 0.033333333 | U49: =IF(T49="","",IF(SUM(T49-ref!E$38)>0,0,IF(T49=0, "0:00", SUM(T49-ref!E$38)))) -> 0 | Y49: =X49-W49 -> 0 | Z49: =IF(Y49="","",IF(SUM(Y49-ref!E$38)>0,0,IF(Y49=0, "0:00", SUM(Y49-ref!E$38)))) -> 0:00
D50: =D49+1 -> 43863 | E50: off | F50: =IF(AND(I50="",G50=""),"",D50+G50) | H50: =SUM(T50+Y50+AA50) -> 0 | J50: =IF(AND(G50="",I50=""),"",D50+I50+(G50>I50)) | K50: =IF(OR(E50="télétravail",E50="férié travaillé",E50="travail"),(I50-G50+IF(G50>I50,1)-H50),INDEX(ref!$E$22:'ref'!$E$37,MATCH(E50,gerald3,0))) -> 0 | L50: =IF(SUM(K50-ref!E$8)<0,0,SUM(K50-ref!E$8)) -> 0 | M50: =IF(OR(E50="férié travaillé",E50="travail",E50="asa",E50="rtt"),I50-G50+IF(G50>I50,1),INDEX(ref!$E$22:'ref'!$E$37,MATCH(E50,gerald2,0))) -> 0 | N50: =IF(SUM(M50-ref!E$4)<0,0,SUM(M50-ref!E$4)) -> 0 | O50: =O49+K50 -> 1.8840278 | T50: =S50-R50 -> 0 | U50: =IF(T50="","",IF(SUM(T50-ref!E$38)>0,0,IF(T50=0, "0:00", SUM(T50-ref!E$38)))) -> 0:00 | Y50: =X50-W50 -> 0 | Z50: =IF(Y50="","",IF(SUM(Y50-ref!E$38)>0,0,IF(Y50=0, "0:00", SUM(Y50-ref!E$38)))) -> 0:00
D51: =D50+1 -> 43864 | E51: off | F51: =IF(AND(I51="",G51=""),"",D51+G51) | H51: =SUM(T51+Y51+AA51) -> 0 | J51: =IF(AND(G51="",I51=""),"",D51+I51+(G51>I51)) | K51: =IF(OR(E51="télétravail",E51="férié travaillé",E51="travail"),(I51-G51+IF(G51>I51,1)-H51),INDEX(ref!$E$22:'ref'!$E$37,MATCH(E51,gerald3,0))) -> 0 | L51: =IF(SUM(K51-ref!E$8)<0,0,SUM(K51-ref!E$8)) -> 0 | M51: =IF(OR(E51="férié travaillé",E51="travail",E51="asa",E51="rtt"),I51-G51+IF(G51>I51,1),INDEX(ref!$E$22:'ref'!$E$37,MATCH(E51,gerald2,0))) -> 0 | N51: =IF(SUM(M51-ref!E$4)<0,0,SUM(M51-ref!E$4)) -> 0 | O51: =O50+K51 -> 1.8840278 | T51: =S51-R51 -> 0 | U51: =IF(T51="","",IF(SUM(T51-ref!E$38)>0,0,IF(T51=0, "0:00", SUM(T51-ref!E$38)))) -> 0:00 | Y51: =X51-W51 -> 0 | Z51: =IF(Y51="","",IF(SUM(Y51-ref!E$38)>0,0,IF(Y51=0, "0:00", SUM(Y51-ref!E$38)))) -> 0:00
B55: date | C55: travail | D55: =DATE(ref!E$2,B59,B57) -> 43865 | E55: travail | F55: =IF(AND(I55="",G55=""),"",D55+G55) -> 43865.378 | G55: 0.37777778 | H55: =SUM(T55+Y55+AA55) -> 0.033333333 | I55: 0.71388889 | J55: =IF(AND(G55="",I55=""),"",D55+I55+(G55>I55)) -> 43865.714 | K55: =IF(OR(E55="télétravail",E55="férié travaillé",E55="travail"),(I55-G55+IF(G55>I55,1)-H55),INDEX(ref!$E$22:'ref'!$E$37,MATCH(E55,gerald3,0))) -> 0.30277778 | L55: =IF(SUM(K55-ref!E$8)<0,0,SUM(K55-ref!E$8)) -> 0 | M55: =IF(OR(E55="férié travaillé",E55="travail",E55="asa",E55="rtt"),I55-G55+IF(G55>I55,1),INDEX(ref!$E$22:'ref'!$E$37,MATCH(E55,gerald2,0))) -> 0.33611111 | N55: =IF(SUM(M55-ref!E$4)<0,0,SUM(M55-ref!E$4)) -> 0 | O55: =K55 -> 0.30277778 | R55: 0.51597222 | S55: 0.54930556 | T55: =S55-R55 -> 0.033333333 | U55: =IF(T55="","",IF(SUM(T55-ref!E$38)>0,0,IF(T55=0, "0:00", SUM(T55-ref!E$38)))) -> 0 | Y55: =X55-W55 -> 0 | Z55: =IF(Y55="","",IF(SUM(Y55-ref!E$38)>0,0,IF(Y55=0, "0:00", SUM(Y55-ref!E$38)))) -> 0:00
B56: date | C56: travail | D56: =D55+1 -> 43866 | E56: travail | F56: =IF(AND(I56="",G56=""),"",D56+G56) -> 43866.38 | G56: 0.37986111 | H56: =SUM(T56+Y56+AA56) -> 0.03125 | I56: 0.83333333 | J56: =IF(AND(G56="",I56=""),"",D56+I56+(G56>I56)) -> 43866.833 | K56: =IF(OR(E56="télétravail",E56="férié travaillé",E56="travail"),(I56-G56+IF(G56>I56,1)-H56),INDEX(ref!$E$22:'ref'!$E$37,MATCH(E56,gerald3,0))) -> 0.42222222 | L56: =IF(SUM(K56-ref!E$8)<0,0,SUM(K56-ref!E$8)) -> 0.0055555556 | M56: =IF(OR(E56="férié travaillé",E56="travail",E56="asa",E56="rtt"),I56-G56+IF(G56>I56,1),INDEX(ref!$E$22:'ref'!$E$37,MATCH(E56,gerald2,0))) -> 0.45347222 | N56: =IF(SUM(M56-ref!E$4)<0,0,SUM(M56-ref!E$4)) -> 0 | O56: =O55+K56 -> 0.725 | R56: 0.54513889 | S56: 0.57638889 | T56: =S56-R56 -> 0.03125 | U56: =IF(T56="","",IF(SUM(T56-ref!E$38)>0,0,IF(T56=0, "0:00", SUM(T56-ref!E$38)))) -> 0 | Y56: =X56-W56 -> 0 | Z56: =IF(Y56="","",IF(SUM(Y56-ref!E$38)>0,0,IF(Y56=0, "0:00", SUM(Y56-ref!E$38)))) -> 0:00
B57: 5 | C57: travail | D57: =D56+1 -> 43867 | E57: travail | F57: =IF(AND(I57="",G57=""),"",D57+G57) -> 43867.417 | G57: 0.41666667 | H57: =SUM(T57+Y57+AA57) -> 0.041666667 | I57: 0.76805556 | J57: =IF(AND(G57="",I57=""),"",D57+I57+(G57>I57)) -> 43867.768 | K57: =IF(OR(E57="télétravail",E57="férié travaillé",E57="travail"),(I57-G57+IF(G57>I57,1)-H57),INDEX(ref!$E$22:'ref'!$E$37,MATCH(E57,gerald3,0))) -> 0.30972222 | L57: =IF(SUM(K57-ref!E$8)<0,0,SUM(K57-ref!E$8)) -> 0 | M57: =IF(OR(E57="férié travaillé",E57="travail",E57="asa",E57="rtt"),I57-G57+IF(G57>I57,1),INDEX(ref!$E$22:'ref'!$E$37,MATCH(E57,gerald2,0))) -> 0.35138889 | N57: =IF(SUM(M57-ref!E$4)<0,0,SUM(M57-ref!E$4)) -> 0 | O57: =O56+K57 -> 1.0347222 | R57: 0.5125 | S57: 0.55416667 | T57: =S57-R57 -> 0.041666667 | U57: =IF(T57="","",IF(SUM(T57-ref!E$38)>0,0,IF(T57=0, "0:00", SUM(T57-ref!E$38)))) -> 0 | Y57: =X57-W57 -> 0 | Z57: =IF(Y57="","",IF(SUM(Y57-ref!E$38)>0,0,IF(Y57=0, "0:00", SUM(Y57-ref!E$38)))) -> 0:00
B58: mois | C58: travail | D58: =D57+1 -> 43868 | E58: travail | F58: =IF(AND(I58="",G58=""),"",D58+G58) -> 43868.384 | G58: 0.38402778 | H58: =SUM(T58+Y58+AA58) -> 0.036111111 | I58: 0.9375 | J58: =IF(AND(G58="",I58=""),"",D58+I58+(G58>I58)) -> 43868.938 | K58: =IF(OR(E58="télétravail",E58="férié travaillé",E58="travail"),(I58-G58+IF(G58>I58,1)-H58),INDEX(ref!$E$22:'ref'!$E$37,MATCH(E58,gerald3,0))) -> 0.51736111 | L58: =IF(SUM(K58-ref!E$8)<0,0,SUM(K58-ref!E$8)) -> 0.10069444 | M58: =IF(OR(E58="férié travaillé",E58="travail",E58="asa",E58="rtt"),I58-G58+IF(G58>I58,1),INDEX(ref!$E$22:'ref'!$E$37,MATCH(E58,gerald2,0))) -> 0.55347222 | N58: =IF(SUM(M58-ref!E$4)<0,0,SUM(M58-ref!E$4)) -> 0.053472222 | O58: =O57+K58 -> 1.5520833 | R58: 0.52361111 | S58: 0.55972222 | T58: =S58-R58 -> 0.036111111 | U58: =IF(T58="","",IF(SUM(T58-ref!E$38)>0,0,IF(T58=0, "0:00", SUM(T58-ref!E$38)))) -> 0 | Y58: =X58-W58 -> 0 | Z58: =IF(Y58="","",IF(SUM(Y58-ref!E$38)>0,0,IF(Y58=0, "0:00", SUM(Y58-ref!E$38)))) -> 0:00
B59: 2 | C59: travail | D59: =D58+1 -> 43869 | E59: travail | F59: =IF(AND(I59="",G59=""),"",D59+G59) -> 43869.383 | G59: 0.38333333 | H59: =SUM(T59+Y59+AA59) -> 0.0125 | I59: 0.75486111 | J59: =IF(AND(G59="",I59=""),"",D59+I59+(G59>I59)) -> 43869.755 | K59: =IF(OR(E59="télétravail",E59="férié travaillé",E59="travail"),(I59-G59+IF(G59>I59,1)-H59),INDEX(ref!$E$22:'ref'!$E$37,MATCH(E59,gerald3,0))) -> 0.35902778 | L59: =IF(SUM(K59-ref!E$8)<0,0,SUM(K59-ref!E$8)) -> 0 | M59: =IF(OR(E59="férié travaillé",E59="travail",E59="asa",E59="rtt"),I59-G59+IF(G59>I59,1),INDEX(ref!$E$22:'ref'!$E$37,MATCH(E59,gerald2,0))) -> 0.37152778 | N59: =IF(SUM(M59-ref!E$4)<0,0,SUM(M59-ref!E$4)) -> 0 | O59: =O58+K59 -> 1.9111111 | R59: 0.57291667 | S59: 0.58541667 | T59: =S59-R59 -> 0.0125 | U59: =IF(T59="","",IF(SUM(T59-ref!E$38)>0,0,IF(T59=0, "0:00", SUM(T59-ref!E$38)))) -> -0.01875 | Y59: =X59-W59 -> 0 | Z59: =IF(Y59="","",IF(SUM(Y59-ref!E$38)>0,0,IF(Y59=0, "0:00", SUM(Y59-ref!E$38)))) -> 0:00
D60: =D59+1 -> 43870 | E60: off | F60: =IF(AND(I60="",G60=""),"",D60+G60) | H60: =SUM(T60+Y60+AA60) -> 0 | J60: =IF(AND(G60="",I60=""),"",D60+I60+(G60>I60)) | K60: =IF(OR(E60="télétravail",E60="férié travaillé",E60="travail"),(I60-G60+IF(G60>I60,1)-H60),INDEX(ref!$E$22:'ref'!$E$37,MATCH(E60,gerald3,0))) -> 0 | L60: =IF(SUM(K60-ref!E$8)<0,0,SUM(K60-ref!E$8)) -> 0 | M60: =IF(OR(E60="férié travaillé",E60="travail",E60="asa",E60="rtt"),I60-G60+IF(G60>I60,1),INDEX(ref!$E$22:'ref'!$E$37,MATCH(E60,gerald2,0))) -> 0 | N60: =IF(SUM(M60-ref!E$4)<0,0,SUM(M60-ref!E$4)) -> 0 | O60: =O59+K60 -> 1.9111111 | T60: =S60-R60 -> 0 | U60: =IF(T60="","",IF(SUM(T60-ref!E$38)>0,0,IF(T60=0, "0:00", SUM(T60-ref!E$38)))) -> 0:00 | Y60: =X60-W60 -> 0 | Z60: =IF(Y60="","",IF(SUM(Y60-ref!E$38)>0,0,IF(Y60=0, "0:00", SUM(Y60-ref!E$38)))) -> 0:00
D61: =D60+1 -> 43871 | E61: off | F61: =IF(AND(I61="",G61=""),"",D61+G61) | H61: =SUM(T61+Y61+AA61) -> 0 | J61: =IF(AND(G61="",I61=""),"",D61+I61+(G61>I61)) | K61: =IF(OR(E61="télétravail",E61="férié travaillé",E61="travail"),(I61-G61+IF(G61>I61,1)-H61),INDEX(ref!$E$22:'ref'!$E$37,MATCH(E61,gerald3,0))) -> 0 | L61: =IF(SUM(K61-ref!E$8)<0,0,SUM(K61-ref!E$8)) -> 0 | M61: =IF(OR(E61="férié travaillé",E61="travail",E61="asa",E61="rtt"),I61-G61+IF(G61>I61,1),INDEX(ref!$E$22:'ref'!$E$37,MATCH(E61,gerald2,0))) -> 0 | N61: =IF(SUM(M61-ref!E$4)<0,0,SUM(M61-ref!E$4)) -> 0 | O61: =O60+K61 -> 1.9111111 | T61: =S61-R61 -> 0 | U61: =IF(T61="","",IF(SUM(T61-ref!E$38)>0,0,IF(T61=0, "0:00", SUM(T61-ref!E$38)))) -> 0:00 | Y61: =X61-W61 -> 0 | Z61: =IF(Y61="","",IF(SUM(Y61-ref!E$38)>0,0,IF(Y61=0, "0:00", SUM(Y61-ref!E$38)))) -> 0:00
B65: date | C65: travail | D65: =DATE(ref!E$2,B69,B67) -> 43872 | E65: travail | F65: =IF(AND(I65="",G65=""),"",D65+G65) -> 43872.383 | G65: 0.38333333 | H65: =SUM(T65+Y65+AA65) -> 0.029861111 | I65: 0.71944444 | J65: =IF(AND(G65="",I65=""),"",D65+I65+(G65>I65)) -> 43872.719 | K65: =IF(OR(E65="télétravail",E65="férié travaillé",E65="travail"),(I65-G65+IF(G65>I65,1)-H65),INDEX(ref!$E$22:'ref'!$E$37,MATCH(E65,gerald3,0))) -> 0.30625 | L65: =IF(SUM(K65-ref!E$8)<0,0,SUM(K65-ref!E$8)) -> 0 | M65: =IF(OR(E65="férié travaillé",E65="travail",E65="asa",E65="rtt"),I65-G65+IF(G65>I65,1),INDEX(ref!$E$22:'ref'!$E$37,MATCH(E65,gerald2,0))) -> 0.33611111 | N65: =IF(SUM(M65-ref!E$4)<0,0,SUM(M65-ref!E$4)) -> 0 | O65: =K65 -> 0.30625 | R65: 0.51944444 | S65: 0.54930556 | T65: =S65-R65 -> 0.029861111 | U65: =IF(T65="","",IF(SUM(T65-ref!E$38)>0,0,IF(T65=0, "0:00", SUM(T65-ref!E$38)))) -> -0.0013888889 | Y65: =X65-W65 -> 0 | Z65: =IF(Y65="","",IF(SUM(Y65-ref!E$38)>0,0,IF(Y65=0, "0:00", SUM(Y65-ref!E$38)))) -> 0:00
B66: date | C66: travail | D66: =D65+1 -> 43873 | E66: travail | F66: =IF(AND(I66="",G66=""),"",D66+G66) -> 43873.386 | G66: 0.38611111 | H66: =SUM(T66+Y66+AA66) -> 0.032638889 | I66: 0.83611111 | J66: =IF(AND(G66="",I66=""),"",D66+I66+(G66>I66)) -> 43873.836 | K66: =IF(OR(E66="télétravail",E66="férié travaillé",E66="travail"),(I66-G66+IF(G66>I66,1)-H66),INDEX(ref!$E$22:'ref'!$E$37,MATCH(E66,gerald3,0))) -> 0.41736111 | L66: =IF(SUM(K66-ref!E$8)<0,0,SUM(K66-ref!E$8)) -> 0.00069444444 | M66: =IF(OR(E66="férié travaillé",E66="travail",E66="asa",E66="rtt"),I66-G66+IF(G66>I66,1),INDEX(ref!$E$22:'ref'!$E$37,MATCH(E66,gerald2,0))) -> 0.45 | N66: =IF(SUM(M66-ref!E$4)<0,0,SUM(M66-ref!E$4)) -> 0 | O66: =O65+K66 -> 0.72361111 | R66: 0.5 | S66: 0.53263889 | T66: =S66-R66 -> 0.032638889 | U66: =IF(T66="","",IF(SUM(T66-ref!E$38)>0,0,IF(T66=0, "0:00", SUM(T66-ref!E$38)))) -> 0 | Y66: =X66-W66 -> 0 | Z66: =IF(Y66="","",IF(SUM(Y66-ref!E$38)>0,0,IF(Y66=0, "0:00", SUM(Y66-ref!E$38)))) -> 0:00
B67: 12 | C67: travail | D67: =D66+1 -> 43874 | E67: travail | F67: =IF(AND(I67="",G67=""),"",D67+G67) -> 43874.423 | G67: 0.42291667 | H67: =SUM(T67+Y67+AA67) -> 0.033333333 | I67: 0.84305556 | J67: =IF(AND(G67="",I67=""),"",D67+I67+(G67>I67)) -> 43874.843 | K67: =IF(OR(E67="télétravail",E67="férié travaillé",E67="travail"),(I67-G67+IF(G67>I67,1)-H67),INDEX(ref!$E$22:'ref'!$E$37,MATCH(E67,gerald3,0))) -> 0.38680556 | L67: =IF(SUM(K67-ref!E$8)<0,0,SUM(K67-ref!E$8)) -> 0 | M67: =IF(OR(E67="férié travaillé",E67="travail",E67="asa",E67="rtt"),I67-G67+IF(G67>I67,1),INDEX(ref!$E$22:'ref'!$E$37,MATCH(E67,gerald2,0))) -> 0.42013889 | N67: =IF(SUM(M67-ref!E$4)<0,0,SUM(M67-ref!E$4)) -> 0 | O67: =O66+K67 -> 1.1104167 | R67: 0.51666667 | S67: 0.55 | T67: =S67-R67 -> 0.033333333 | U67: =IF(T67="","",IF(SUM(T67-ref!E$38)>0,0,IF(T67=0, "0:00", SUM(T67-ref!E$38)))) -> 0 | Y67: =X67-W67 -> 0 | Z67: =IF(Y67="","",IF(SUM(Y67-ref!E$38)>0,0,IF(Y67=0, "0:00", SUM(Y67-ref!E$38)))) -> 0:00
B68: mois | C68: travail | D68: =D67+1 -> 43875 | E68: travail | F68: =IF(AND(I68="",G68=""),"",D68+G68) -> 43875.378 | G68: 0.37847222 | H68: =SUM(T68+Y68+AA68) -> 0.033333333 | I68: 0.90486111 | J68: =IF(AND(G68="",I68=""),"",D68+I68+(G68>I68)) -> 43875.905 | K68: =IF(OR(E68="télétravail",E68="férié travaillé",E68="travail"),(I68-G68+IF(G68>I68,1)-H68),INDEX(ref!$E$22:'ref'!$E$37,MATCH(E68,gerald3,0))) -> 0.49305556 | L68: =IF(SUM(K68-ref!E$8)<0,0,SUM(K68-ref!E$8)) -> 0.076388889 | M68: =IF(OR(E68="férié travaillé",E68="travail",E68="asa",E68="rtt"),I68-G68+IF(G68>I68,1),INDEX(ref!$E$22:'ref'!$E$37,MATCH(E68,gerald2,0))) -> 0.52638889 | N68: =IF(SUM(M68-ref!E$4)<0,0,SUM(M68-ref!E$4)) -> 0.026388889 | O68: =O67+K68 -> 1.6034722 | R68: 0.51666667 | S68: 0.55 | T68: =S68-R68 -> 0.033333333 | U68: =IF(T68="","",IF(SUM(T68-ref!E$38)>0,0,IF(T68=0, "0:00", SUM(T68-ref!E$38)))) -> 0 | Y68: =X68-W68 -> 0 | Z68: =IF(Y68="","",IF(SUM(Y68-ref!E$38)>0,0,IF(Y68=0, "0:00", SUM(Y68-ref!E$38)))) -> 0:00
B69: 2 | C69: travail | D69: =D68+1 -> 43876 | E69: travail | F69: =IF(AND(I69="",G69=""),"",D69+G69) -> 43876.379 | G69: 0.37916667 | H69: =SUM(T69+Y69+AA69) -> 0.019444444 | I69: 0.74097222 | J69: =IF(AND(G69="",I69=""),"",D69+I69+(G69>I69)) -> 43876.741 | K69: =IF(OR(E69="télétravail",E69="férié travaillé",E69="travail"),(I69-G69+IF(G69>I69,1)-H69),INDEX(ref!$E$22:'ref'!$E$37,MATCH(E69,gerald3,0))) -> 0.34236111 | L69: =IF(SUM(K69-ref!E$8)<0,0,SUM(K69-ref!E$8)) -> 0 | M69: =IF(OR(E69="férié travaillé",E69="travail",E69="asa",E69="rtt"),I69-G69+IF(G69>I69,1),INDEX(ref!$E$22:'ref'!$E$37,MATCH(E69,gerald2,0))) -> 0.36180556 | N69: =IF(SUM(M69-ref!E$4)<0,0,SUM(M69-ref!E$4)) -> 0 | O69: =O68+K69 -> 1.9458333 | R69: 0.55972222 | S69: 0.57916667 | T69: =S69-R69 -> 0.019444444 | U69: =IF(T69="","",IF(SUM(T69-ref!E$38)>0,0,IF(T69=0, "0:00", SUM(T69-ref!E$38)))) -> -0.011805556 | Y69: =X69-W69 -> 0 | Z69: =IF(Y69="","",IF(SUM(Y69-ref!E$38)>0,0,IF(Y69=0, "0:00", SUM(Y69-ref!E$38)))) -> 0:00
D70: =D69+1 -> 43877 | E70: off | F70: =IF(AND(I70="",G70=""),"",D70+G70) | H70: =SUM(T70+Y70+AA70) -> 0 | J70: =IF(AND(G70="",I70=""),"",D70+I70+(G70>I70)) | K70: =IF(OR(E70="télétravail",E70="férié travaillé",E70="travail"),(I70-G70+IF(G70>I70,1)-H70),INDEX(ref!$E$22:'ref'!$E$37,MATCH(E70,gerald3,0))) -> 0 | L70: =IF(SUM(K70-ref!E$8)<0,0,SUM(K70-ref!E$8)) -> 0 | M70: =IF(OR(E70="férié travaillé",E70="travail",E70="asa",E70="rtt"),I70-G70+IF(G70>I70,1),INDEX(ref!$E$22:'ref'!$E$37,MATCH(E70,gerald2,0))) -> 0 | N70: =IF(SUM(M70-ref!E$4)<0,0,SUM(M70-ref!E$4)) -> 0 | O70: =O69+K70 -> 1.9458333 | T70: =S70-R70 -> 0 | U70: =IF(T70="","",IF(SUM(T70-ref!E$38)>0,0,IF(T70=0, "0:00", SUM(T70-ref!E$38)))) -> 0:00 | Y70: =X70-W70 -> 0 | Z70: =IF(Y70="","",IF(SUM(Y70-ref!E$38)>0,0,IF(Y70=0, "0:00", SUM(Y70-ref!E$38)))) -> 0:00
D71: =D70+1 -> 43878 | E71: off | F71: =IF(AND(I71="",G71=""),"",D71+G71) | H71: =SUM(T71+Y71+AA71) -> 0 | J71: =IF(AND(G71="",I71=""),"",D71+I71+(G71>I71)) | K71: =IF(OR(E71="télétravail",E71="férié travaillé",E71="travail"),(I71-G71+IF(G71>I71,1)-H71),INDEX(ref!$E$22:'ref'!$E$37,MATCH(E71,gerald3,0))) -> 0 | L71: =IF(SUM(K71-ref!E$8)<0,0,SUM(K71-ref!E$8)) -> 0 | M71: =IF(OR(E71="férié travaillé",E71="travail",E71="asa",E71="rtt"),I71-G71+IF(G71>I71,1),INDEX(ref!$E$22:'ref'!$E$37,MATCH(E71,gerald2,0))) -> 0 | N71: =IF(SUM(M71-ref!E$4)<0,0,SUM(M71-ref!E$4)) -> 0 | O71: =O70+K71 -> 1.9458333 | T71: =S71-R71 -> 0 | U71: =IF(T71="","",IF(SUM(T71-ref!E$38)>0,0,IF(T71=0, "0:00", SUM(T71-ref!E$38)))) -> 0:00 | Y71: =X71-W71 -> 0 | Z71: =IF(Y71="","",IF(SUM(Y71-ref!E$38)>0,0,IF(Y71=0, "0:00", SUM(Y71-ref!E$38)))) -> 0:00
B75: date | C75: Vscolaire | D75: =DATE(ref!E$2,B79,B77) -> 43879 | E75: congé 1 jour | F75: =IF(AND(I75="",G75=""),"",D75+G75) | H75: =SUM(T75+Y75+AA75) -> 0 | J75: =IF(AND(G75="",I75=""),"",D75+I75+(G75>I75)) | K75: =IF(OR(E75="télétravail",E75="férié travaillé",E75="travail"),(I75-G75+IF(G75>I75,1)-H75),INDEX(ref!$E$22:'ref'!$E$37,MATCH(E75,gerald3,0))) -> 0.29166667 | L75: =IF(SUM(K75-ref!E$8)<0,0,SUM(K75-ref!E$8)) -> 0 | M75: =IF(OR(E75="férié travaillé",E75="travail",E75="asa",E75="rtt"),I75-G75+IF(G75>I75,1),INDEX(ref!$E$22:'ref'!$E$37,MATCH(E75,gerald2,0))) -> 0.29166667 | N75: =IF(SUM(M75-ref!E$4)<0,0,SUM(M75-ref!E$4)) -> 0 | O75: =K75 -> 0.29166667 | T75: =S75-R75 -> 0 | U75: =IF(T75="","",IF(SUM(T75-ref!E$38)>0,0,IF(T75=0, "0:00", SUM(T75-ref!E$38)))) -> 0:00 | Y75: =X75-W75 -> 0 | Z75: =IF(Y75="","",IF(SUM(Y75-ref!E$38)>0,0,IF(Y75=0, "0:00", SUM(Y75-ref!E$38)))) -> 0:00
B76: date | C76: Vscolaire | D76: =D75+1 -> 43880 | E76: congé 1 jour | F76: =IF(AND(I76="",G76=""),"",D76+G76) | H76: =SUM(T76+Y76+AA76) -> 0 | J76: =IF(AND(G76="",I76=""),"",D76+I76+(G76>I76)) | K76: =IF(OR(E76="télétravail",E76="férié travaillé",E76="travail"),(I76-G76+IF(G76>I76,1)-H76),INDEX(ref!$E$22:'ref'!$E$37,MATCH(E76,gerald3,0))) -> 0.29166667 | L76: =IF(SUM(K76-ref!E$8)<0,0,SUM(K76-ref!E$8)) -> 0 | M76: =IF(OR(E76="férié travaillé",E76="travail",E76="asa",E76="rtt"),I76-G76+IF(G76>I76,1),INDEX(ref!$E$22:'ref'!$E$37,MATCH(E76,gerald2,0))) -> 0.29166667 | N76: =IF(SUM(M76-ref!E$4)<0,0,SUM(M76-ref!E$4)) -> 0 | O76: =O75+K76 -> 0.58333333 | T76: =S76-R76 -> 0 | U76: =IF(T76="","",IF(SUM(T76-ref!E$38)>0,0,IF(T76=0, "0:00", SUM(T76-ref!E$38)))) -> 0:00 | Y76: =X76-W76 -> 0 | Z76: =IF(Y76="","",IF(SUM(Y76-ref!E$38)>0,0,IF(Y76=0, "0:00", SUM(Y76-ref!E$38)))) -> 0:00
B77: 19 | C77: Vscolaire | D77: =D76+1 -> 43881 | E77: congé 1 jour | F77: =IF(AND(I77="",G77=""),"",D77+G77) | H77: =SUM(T77+Y77+AA77) -> 0 | J77: =IF(AND(G77="",I77=""),"",D77+I77+(G77>I77)) | K77: =IF(OR(E77="télétravail",E77="férié travaillé",E77="travail"),(I77-G77+IF(G77>I77,1)-H77),INDEX(ref!$E$22:'ref'!$E$37,MATCH(E77,gerald3,0))) -> 0.29166667 | L77: =IF(SUM(K77-ref!E$8)<0,0,SUM(K77-ref!E$8)) -> 0 | M77: =IF(OR(E77="férié travaillé",E77="travail",E77="asa",E77="rtt"),I77-G77+IF(G77>I77,1),INDEX(ref!$E$22:'ref'!$E$37,MATCH(E77,gerald2,0))) -> 0.29166667 | N77: =IF(SUM(M77-ref!E$4)<0,0,SUM(M77-ref!E$4)) -> 0 | O77: =O76+K77 -> 0.875 | T77: =S77-R77 -> 0 | U77: =IF(T77="","",IF(SUM(T77-ref!E$38)>0,0,IF(T77=0, "0:00", SUM(T77-ref!E$38)))) -> 0:00 | Y77: =X77-W77 -> 0 | Z77: =IF(Y77="","",IF(SUM(Y77-ref!E$38)>0,0,IF(Y77=0, "0:00", SUM(Y77-ref!E$38)))) -> 0:00
B78: mois | C78: Vscolaire | D78: =D77+1 -> 43882 | E78: congé 1 jour | F78: =IF(AND(I78="",G78=""),"",D78+G78) | H78: =SUM(T78+Y78+AA78) -> 0 | J78: =IF(AND(G78="",I78=""),"",D78+I78+(G78>I78)) | K78: =IF(OR(E78="télétravail",E78="férié travaillé",E78="travail"),(I78-G78+IF(G78>I78,1)-H78),INDEX(ref!$E$22:'ref'!$E$37,MATCH(E78,gerald3,0))) -> 0.29166667 | L78: =IF(SUM(K78-ref!E$8)<0,0,SUM(K78-ref!E$8)) -> 0 | M78: =IF(OR(E78="férié travaillé",E78="travail",E78="asa",E78="rtt"),I78-G78+IF(G78>I78,1),INDEX(ref!$E$22:'ref'!$E$37,MATCH(E78,gerald2,0))) -> 0.29166667 | N78: =IF(SUM(M78-ref!E$4)<0,0,SUM(M78-ref!E$4)) -> 0 | O78: =O77+K78 -> 1.1666667 | T78: =S78-R78 -> 0 | U78: =IF(T78="","",IF(SUM(T78-ref!E$38)>0,0,IF(T78=0, "0:00", SUM(T78-ref!E$38)))) -> 0:00 | Y78: =X78-W78 -> 0 | Z78: =IF(Y78="","",IF(SUM(Y78-ref!E$38)>0,0,IF(Y78=0, "0:00", SUM(Y78-ref!E$38)))) -> 0:00
B79: 2 | C79: Vscolaire | D79: =D78+1 -> 43883 | E79: congé 1 jour | F79: =IF(AND(I79="",G79=""),"",D79+G79) | H79: =SUM(T79+Y79+AA79) -> 0 | J79: =IF(AND(G79="",I79=""),"",D79+I79+(G79>I79)) | K79: =IF(OR(E79="télétravail",E79="férié travaillé",E79="travail"),(I79-G79+IF(G79>I79,1)-H79),INDEX(ref!$E$22:'ref'!$E$37,MATCH(E79,gerald3,0))) -> 0.29166667 | L79: =IF(SUM(K79-ref!E$8)<0,0,SUM(K79-ref!E$8)) -> 0 | M79: =IF(OR(E79="férié travaillé",E79="travail",E79="asa",E79="rtt"),I79-G79+IF(G79>I79,1),INDEX(ref!$E$22:'ref'!$E$37,MATCH(E79,gerald2,0))) -> 0.29166667 | N79: =IF(SUM(M79-ref!E$4)<0,0,SUM(M79-ref!E$4)) -> 0 | O79: =O78+K79 -> 1.4583333 | T79: =S79-R79 -> 0 | U79: =IF(T79="","",IF(SUM(T79-ref!E$38)>0,0,IF(T79=0, "0:00", SUM(T79-ref!E$38)))) -> 0:00 | Y79: =X79-W79 -> 0 | Z79: =IF(Y79="","",IF(SUM(Y79-ref!E$38)>0,0,IF(Y79=0, "0:00", SUM(Y79-ref!E$38)))) -> 0:00
D80: =D79+1 -> 43884 | E80: off | F80: =IF(AND(I80="",G80=""),"",D80+G80) | H80: =SUM(T80+Y80+AA80) -> 0 | J80: =IF(AND(G80="",I80=""),"",D80+I80+(G80>I80)) | K80: =IF(OR(E80="télétravail",E80="férié travaillé",E80="travail"),(I80-G80+IF(G80>I80,1)-H80),INDEX(ref!$E$22:'ref'!$E$37,MATCH(E80,gerald3,0))) -> 0 | L80: =IF(SUM(K80-ref!E$8)<0,0,SUM(K80-ref!E$8)) -> 0 | M80: =IF(OR(E80="férié travaillé",E80="travail",E80="asa",E80="rtt"),I80-G80+IF(G80>I80,1),INDEX(ref!$E$22:'ref'!$E$37,MATCH(E80,gerald2,0))) -> 0 | N80: =IF(SUM(M80-ref!E$4)<0,0,SUM(M80-ref!E$4)) -> 0 | O80: =O79+K80 -> 1.4583333 | T80: =S80-R80 -> 0 | U80: =IF(T80="","",IF(SUM(T80-ref!E$38)>0,0,IF(T80=0, "0:00", SUM(T80-ref!E$38)))) -> 0:00 | Y80: =X80-W80 -> 0 | Z80: =IF(Y80="","",IF(SUM(Y80-ref!E$38)>0,0,IF(Y80=0, "0:00", SUM(Y80-ref!E$38)))) -> 0:00
D81: =D80+1 -> 43885 | E81: off | F81: =IF(AND(I81="",G81=""),"",D81+G81) | H81: =SUM(T81+Y81+AA81) -> 0 | J81: =IF(AND(G81="",I81=""),"",D81+I81+(G81>I81)) | K81: =IF(OR(E81="télétravail",E81="férié travaillé",E81="travail"),(I81-G81+IF(G81>I81,1)-H81),INDEX(ref!$E$22:'ref'!$E$37,MATCH(E81,gerald3,0))) -> 0 | L81: =IF(SUM(K81-ref!E$8)<0,0,SUM(K81-ref!E$8)) -> 0 | M81: =IF(OR(E81="férié travaillé",E81="travail",E81="asa",E81="rtt"),I81-G81+IF(G81>I81,1),INDEX(ref!$E$22:'ref'!$E$37,MATCH(E81,gerald2,0))) -> 0 | N81: =IF(SUM(M81-ref!E$4)<0,0,SUM(M81-ref!E$4)) -> 0 | O81: =O80+K81 -> 1.4583333 | T81: =S81-R81 -> 0 | U81: =IF(T81="","",IF(SUM(T81-ref!E$38)>0,0,IF(T81=0, "0:00", SUM(T81-ref!E$38)))) -> 0:00 | Y81: =X81-W81 -> 0 | Z81: =IF(Y81="","",IF(SUM(Y81-ref!E$38)>0,0,IF(Y81=0, "0:00", SUM(Y81-ref!E$38)))) -> 0:00
B85: date | C85: Vscolaire | D85: =DATE(ref!E$2,B89,B87) -> 43886 | E85: arrêt maladie | F85: =IF(AND(I85="",G85=""),"",D85+G85) | H85: =SUM(T85+Y85+AA85) -> 0 | J85: =IF(AND(G85="",I85=""),"",D85+I85+(G85>I85)) | K85: =IF(OR(E85="télétravail",E85="férié travaillé",E85="travail"),(I85-G85+IF(G85>I85,1)-H85),INDEX(ref!$E$22:'ref'!$E$37,MATCH(E85,gerald3,0))) -> 0.29166667 | L85: =IF(SUM(K85-ref!E$8)<0,0,SUM(K85-ref!E$8)) -> 0 | M85: =IF(OR(E85="férié travaillé",E85="travail",E85="asa",E85="rtt"),I85-G85+IF(G85>I85,1),INDEX(ref!$E$22:'ref'!$E$37,MATCH(E85,gerald2,0))) -> 0.29166667 | N85: =IF(SUM(M85-ref!E$4)<0,0,SUM(M85-ref!E$4)) -> 0 | O85: =K85 -> 0.29166667 | T85: =S85-R85 -> 0 | U85: =IF(T85="","",IF(SUM(T85-ref!E$38)>0,0,IF(T85=0, "0:00", SUM(T85-ref!E$38)))) -> 0:00 | Y85: =X85-W85 -> 0 | Z85: =IF(Y85="","",IF(SUM(Y85-ref!E$38)>0,0,IF(Y85=0, "0:00", SUM(Y85-ref!E$38)))) -> 0:00
B86: date | C86: Vscolaire | D86: =D85+1 -> 43887 | E86: arrêt maladie | F86: =IF(AND(I86="",G86=""),"",D86+G86) | H86: =SUM(T86+Y86+AA86) -> 0 | J86: =IF(AND(G86="",I86=""),"",D86+I86+(G86>I86)) | K86: =IF(OR(E86="télétravail",E86="férié travaillé",E86="travail"),(I86-G86+IF(G86>I86,1)-H86),INDEX(ref!$E$22:'ref'!$E$37,MATCH(E86,gerald3,0))) -> 0.29166667 | L86: =IF(SUM(K86-ref!E$8)<0,0,SUM(K86-ref!E$8)) -> 0 | M86: =IF(OR(E86="férié travaillé",E86="travail",E86="asa",E86="rtt"),I86-G86+IF(G86>I86,1),INDEX(ref!$E$22:'ref'!$E$37,MATCH(E86,gerald2,0))) -> 0.29166667 | N86: =IF(SUM(M86-ref!E$4)<0,0,SUM(M86-ref!E$4)) -> 0 | O86: =O85+K86 -> 0.58333333 | T86: =S86-R86 -> 0 | U86: =IF(T86="","",IF(SUM(T86-ref!E$38)>0,0,IF(T86=0, "0:00", SUM(T86-ref!E$38)))) -> 0:00 | Y86: =X86-W86 -> 0 | Z86: =IF(Y86="","",IF(SUM(Y86-ref!E$38)>0,0,IF(Y86=0, "0:00", SUM(Y86-ref!E$38)))) -> 0:00
B87: 26 | C87: Vscolaire | D87: =D86+1 -> 43888 | E87: arrêt maladie | F87: =IF(AND(I87="",G87=""),"",D87+G87) | H87: =SUM(T87+Y87+AA87) -> 0 | J87: =IF(AND(G87="",I87=""),"",D87+I87+(G87>I87)) | K87: =IF(OR(E87="télétravail",E87="férié travaillé",E87="travail"),(I87-G87+IF(G87>I87,1)-H87),INDEX(ref!$E$22:'ref'!$E$37,MATCH(E87,gerald3,0))) -> 0.29166667 | L87: =IF(SUM(K87-ref!E$8)<0,0,SUM(K87-ref!E$8)) -> 0 | M87: =IF(OR(E87="férié travaillé",E87="travail",E87="asa",E87="rtt"),I87-G87+IF(G87>I87,1),INDEX(ref!$E$22:'ref'!$E$37,MATCH(E87,gerald2,0))) -> 0.29166667 | N87: =IF(SUM(M87-ref!E$4)<0,0,SUM(M87-ref!E$4)) -> 0 | O87: =O86+K87 -> 0.875 | T87: =S87-R87 -> 0 | U87: =IF(T87="","",IF(SUM(T87-ref!E$38)>0,0,IF(T87=0, "0:00", SUM(T87-ref!E$38)))) -> 0:00 | Y87: =X87-W87 -> 0 | Z87: =IF(Y87="","",IF(SUM(Y87-ref!E$38)>0,0,IF(Y87=0, "0:00", SUM(Y87-ref!E$38)))) -> 0:00
B88: mois | C88: Vscolaire | D88: =D87+1 -> 43889 | E88: arrêt maladie | F88: =IF(AND(I88="",G88=""),"",D88+G88) | H88: =SUM(T88+Y88+AA88) -> 0 | J88: =IF(AND(G88="",I88=""),"",D88+I88+(G88>I88)) | K88: =IF(OR(E88="télétravail",E88="férié travaillé",E88="travail"),(I88-G88+IF(G88>I88,1)-H88),INDEX(ref!$E$22:'ref'!$E$37,MATCH(E88,gerald3,0))) -> 0.29166667 | L88: =IF(SUM(K88-ref!E$8)<0,0,SUM(K88-ref!E$8)) -> 0 | M88: =IF(OR(E88="férié travaillé",E88="travail",E88="asa",E88="rtt"),I88-G88+IF(G88>I88,1),INDEX(ref!$E$22:'ref'!$E$37,MATCH(E88,gerald2,0))) -> 0.29166667 | N88: =IF(SUM(M88-ref!E$4)<0,0,SUM(M88-ref!E$4)) -> 0 | O88: =O87+K88 -> 1.1666667 | T88: =S88-R88 -> 0 | U88: =IF(T88="","",IF(SUM(T88-ref!E$38)>0,0,IF(T88=0, "0:00", SUM(T88-ref!E$38)))) -> 0:00 | Y88: =X88-W88 -> 0 | Z88: =IF(Y88="","",IF(SUM(Y88-ref!E$38)>0,0,IF(Y88=0, "0:00", SUM(Y88-ref!E$38)))) -> 0:00
B89: 2 | C89: Vscolaire | D89: =D88+1 -> 43890 | E89: arrêt maladie | F89: =IF(AND(I89="",G89=""),"",D89+G89) | H89: =SUM(T89+Y89+AA89) -> 0 | J89: =IF(AND(G89="",I89=""),"",D89+I89+(G89>I89)) | K89: =IF(OR(E89="télétravail",E89="férié travaillé",E89="travail"),(I89-G89+IF(G89>I89,1)-H89),INDEX(ref!$E$22:'ref'!$E$37,MATCH(E89,gerald3,0))) -> 0.29166667 | L89: =IF(SUM(K89-ref!E$8)<0,0,SUM(K89-ref!E$8)) -> 0 | M89: =IF(OR(E89="férié travaillé",E89="travail",E89="asa",E89="rtt"),I89-G89+IF(G89>I89,1),INDEX(ref!$E$22:'ref'!$E$37,MATCH(E89,gerald2,0))) -> 0.29166667 | N89: =IF(SUM(M89-ref!E$4)<0,0,SUM(M89-ref!E$4)) -> 0 | O89: =O88+K89 -> 1.4583333 | T89: =S89-R89 -> 0 | U89: =IF(T89="","",IF(SUM(T89-ref!E$38)>0,0,IF(T89=0, "0:00", SUM(T89-ref!E$38)))) -> 0:00 | Y89: =X89-W89 -> 0 | Z89: =IF(Y89="","",IF(SUM(Y89-ref!E$38)>0,0,IF(Y89=0, "0:00", SUM(Y89-ref!E$38)))) -> 0:00
D90: =D89+1 -> 43891 | E90: off | F90: =IF(AND(I90="",G90=""),"",D90+G90) | H90: =SUM(T90+Y90+AA90) -> 0 | J90: =IF(AND(G90="",I90=""),"",D90+I90+(G90>I90)) | K90: =IF(OR(E90="télétravail",E90="férié travaillé",E90="travail"),(I90-G90+IF(G90>I90,1)-H90),INDEX(ref!$E$22:'ref'!$E$37,MATCH(E90,gerald3,0))) -> 0 | L90: =IF(SUM(K90-ref!E$8)<0,0,SUM(K90-ref!E$8)) -> 0 | M90: =IF(OR(E90="férié travaillé",E90="travail",E90="asa",E90="rtt"),I90-G90+IF(G90>I90,1),INDEX(ref!$E$22:'ref'!$E$37,MATCH(E90,gerald2,0))) -> 0 | N90: =IF(SUM(M90-ref!E$4)<0,0,SUM(M90-ref!E$4)) -> 0 | O90: =O89+K90 -> 1.4583333 | T90: =S90-R90 -> 0 | U90: =IF(T90="","",IF(SUM(T90-ref!E$38)>0,0,IF(T90=0, "0:00", SUM(T90-ref!E$38)))) -> 0:00 | Y90: =X90-W90 -> 0 | Z90: =IF(Y90="","",IF(SUM(Y90-ref!E$38)>0,0,IF(Y90=0, "0:00", SUM(Y90-ref!E$38)))) -> 0:00
D91: =D90+1 -> 43892 | E91: off | F91: =IF(AND(I91="",G91=""),"",D91+G91) | H91: =SUM(T91+Y91+AA91) -> 0 | J91: =IF(AND(G91="",I91=""),"",D91+I91+(G91>I91)) | K91: =IF(OR(E91="télétravail",E91="férié travaillé",E91="travail"),(I91-G91+IF(G91>I91,1)-H91),INDEX(ref!$E$22:'ref'!$E$37,MATCH(E91,gerald3,0))) -> 0 | L91: =IF(SUM(K91-ref!E$8)<0,0,SUM(K91-ref!E$8)) -> 0 | M91: =IF(OR(E91="férié travaillé",E91="travail",E91="asa",E91="rtt"),I91-G91+IF(G91>I91,1),INDEX(ref!$E$22:'ref'!$E$37,MATCH(E91,gerald2,0))) -> 0 | N91: =IF(SUM(M91-ref!E$4)<0,0,SUM(M91-ref!E$4)) -> 0 | O91: =O90+K91 -> 1.4583333 | T91: =S91-R91 -> 0 | U91: =IF(T91="","",IF(SUM(T91-ref!E$38)>0,0,IF(T91=0, "0:00", SUM(T91-ref!E$38)))) -> 0:00 | Y91: =X91-W91 -> 0 | Z91: =IF(Y91="","",IF(SUM(Y91-ref!E$38)>0,0,IF(Y91=0, "0:00", SUM(Y91-ref!E$38)))) -> 0:00

Sheet ref
D2: année | E2: 2024 | K2: mois | L2: aout | M2: 8
D3: heures annueltravail | E3: 66.958333 | I3: pause | L3: avril | M3: 4
D4: amplitude du temps | E4: 0.5 | L4: décembre | M4: 12
D5: heure jour | E5: 0.29166667 | I5: non | L5: février | M5: 2
D6: jour semaine | E6: 5 | L6: janvier | M6: 1
D7: jour semaine maximun | E7: 6 | L7: juillet | M7: 7
D8: la durée de travail jour | E8: 0.41666667 | L8: juin | M8: 6
D9: repos quotidien | E9: 0.45833333 | L9: mai | M9: 5
D10: durée du travail hebdomadaire | E10: 1.4583333 | L10: mars | M10: 3 | Q10: nuit | R10: dimanche
D11: durée du travail hebdomadaire max | E11: 2 | L11: novembre | M11: 11 | O11: 6 | P11: 0.1875 | Q11: 0.041666667
D12: repos hebdomadaire | E12: 1.4583333 | L12: octobre | M12: 10 | O12: 7 | P12: 0.125
D13: heures sup mensuel max par mois | E13: 1.0416667 | L13: septembre | M13: 9 | O13: 8 | P13: 0.12638889
D14: congés | E14: 7.7083333 | O14: 9 | P14: 0.42708333 | Q14: 0.048611111
D15: rtt | E15: 3.4166667 | O15: 10 | P15: 0.40555556 | R15: 0.40555556
D16: heures sup 1 à 25 | E16: 0.052083333 | O16: 12 | P16: 0.14583333 | Q16: 0.020833333
D17: début H nuit | E17: 22 | O17: 13 | P17: 0.16666667
D18: heures de nuit | E18: 0.10416667 | O18: 15 | P18: 0.19791667 | Q18: 0.052083333
D19: heures de dimanche | E19: 0.083333333 | O19: 20 | P19: 0.13541667
D20: heures de samedi | E20: 0.052083333 | O20: 21 | P20: 0.16666667 | Q20: 0.053472222
D21: Férié travaillé | E21: 0.069444444 | P21: =P11+P12+P13+P14+P15+P16+P17+P18+P19+P20 -> 2.0840278 | Q21: =Q11+Q12+Q13+Q14+Q15+Q16+Q17+Q18+Q19+Q20 -> 0.21666667 | R21: =R11+R12+R13+R14+R15+R16+R17+R18+R19+R20 -> 0.40555556
D22: off | E22: 0
D23: travail | E23: 0
D24: récupération | E24: =E5 -> 0.29166667
D25: congé 1 jour | E25: =E5 -> 0.29166667
D26: congé 1/2 jour | E26: 0.16388889
D27: congé 4H | E27: 0.16666667
D28: arrêt maladie | E28: =E5 -> 0.29166667
D29: arrêt travail | E29: =E5 -> 0.29166667
D30: férié | E30: =E5 -> 0.29166667
D31: télétravail | E31: 0
D32: férié travaillé | E32: 0
D33: congé parentale | E33: =E5 -> 0.29166667
D34: congé parentale week end | E34: 0
D35: congé de naissance | E35: =E5 -> 0.29166667
D36: asa | E36: =E5 -> 0.29166667
D37: rtt | E37: =E5 -> 0.29166667
D38: heure de pause repas | E38: 0.03125
