Workbook

Sheet Données
A1: Grille d'analyse des projets
A4: Dossier :
A6: Nom du porteur de projet :
P7: nombre | Q7: classement | R7: gagnats | S7: Rank | T7: Exaequo rank
A8: Indicateurs | D8: Evaluation | P8: =D10*10000 + E10*100 + F10*10+G10 -> 180000 | Q8: =RANK(P8,$P$8:$P$21,0) + COUNTIF($P$8:P8, P8) - 1 -> 1 | R8: =INDEX($B$10:$B$23, MATCH(Q8, $Q$8:$Q$21,0)) -> fabio | S8: =RANK(P8,$P$8:$P$21,0) -> 1 | T8: =IF(COUNTIF($S$8:$S$22,S8)>1,S8 & " Ex-aequo",S8) -> 1
D9: 1 | E9: 2 | F9: 3 | G9: encouragement | H9: total point | I9: nb de voix jury | P9: =D11*10000 + E11*100 + F11*10+G11 -> 1800 | Q9: =RANK(P9,$P$8:$P$21,0) + COUNTIF($P$8:P9, P9) - 1 -> 2 | R9: =INDEX($B$10:$B$23, MATCH(Q9, $Q$8:$Q$21,0)) -> Raphael | S9: =RANK(P9,$P$8:$P$21,0) -> 2 | T9: =IF(COUNTIF($S$8:$S$22,S9)>1,S9 & " Ex-aequo",S9) -> 2
A10: Dossier 1 | B10: fabio | C10: Ferronerie | D10: 18 | H10: =SUM(D10:G10) -> 18 | I10: 18 | N10: =D10*10000 + E10*100 + F10*10 + G10 + IF(RANK(D10, P:P, 0) <> RANK(D10, P:P, 1), 0, IF(RANK(E10, Q:Q, 0) <> RANK(E10, Q:Q, 1), 0, IF(RANK(F10, R:R, 0) <> RANK(F10, R:R, 1), 0, IF(RANK(G10, R:R, 0) <> RANK(G10, R:R, 1), 0, 1)))) -> 180000 | P10: =D12*10000 + E12*100 + F12*10+G12 -> 180 | Q10: =RANK(P10,$P$8:$P$21,0) + COUNTIF($P$8:P10, P10) - 1 -> 3 | R10: =INDEX($B$10:$B$23, MATCH(Q10, $Q$8:$Q$21,0)) -> Hugo | S10: =RANK(P10,$P$8:$P$21,0) -> 3 | T10: =IF(COUNTIF($S$8:$S$22,S10)>1,S10 & " Ex-aequo",S10) -> 3
A11: Dossier 2 | B11: Raphael | C11: Illustrateur | E11: 18 | H11: =SUM(D11:G11) -> 18 | I11: 18 | N11: =D11*10000 + E11*100 + F11*10 + G11 + IF(RANK(D11, P:P, 0) <> RANK(D11, P:P, 1), 0, IF(RANK(E11, Q:Q, 0) <> RANK(E11, Q:Q, 1), 0, IF(RANK(F11, R:R, 0) <> RANK(F11, R:R, 1), 0, IF(RANK(G11, R:R, 0) <> RANK(G11, R:R, 1), 0, 1)))) -> 1800 | P11: =D13*10000 + E13*100 + F13*10+G13 -> 18 | Q11: =RANK(P11,$P$8:$P$21,0) + COUNTIF($P$8:P11, P11) - 1 -> 4 | R11: =INDEX($B$10:$B$23, MATCH(Q11, $Q$8:$Q$21,0)) -> Dylan | S11: =RANK(P11,$P$8:$P$21,0) -> 4 | T11: =IF(COUNTIF($S$8:$S$22,S11)>1,S11 & " Ex-aequo",S11) -> 4 Ex-aequo
A12: Dossier 3 | B12: Hugo | C12: Montage vidéo | F12: 18 | H12: =SUM(D12:G12) -> 18 | I12: 18 | N12: =D12*10000 + E12*100 + F12*10 + G12 + IF(RANK(D12, P:P, 0) <> RANK(D12, P:P, 1), 0, IF(RANK(E12, Q:Q, 0) <> RANK(E12, Q:Q, 1), 0, IF(RANK(F12, R:R, 0) <> RANK(F12, R:R, 1), 0, IF(RANK(G12, R:R, 0) <> RANK(G12, R:R, 1), 0, 1)))) -> 180 | P12: =D14*10000 + E14*100 + F14*10+G14 -> 18 | Q12: =RANK(P12,$P$8:$P$21,0) + COUNTIF($P$8:P12, P12) - 1 -> 5 | R12: =INDEX($B$10:$B$23, MATCH(Q12, $Q$8:$Q$21,0)) -> Sarah | S12: =RANK(P12,$P$8:$P$21,0) -> 4 | T12: =IF(COUNTIF($S$8:$S$22,S12)>1,S12 & " Ex-aequo",S12) -> 4 Ex-aequo
A13: Dossier 4 | B13: Dylan | C13: Convoyeur de véhicules | G13: 18 | H13: =SUM(D13:G13) -> 18 | I13: 18 | N13: =D13*10000 + E13*100 + F13*10 + G13 + IF(RANK(D13, P:P, 0) <> RANK(D13, P:P, 1), 0, IF(RANK(E13, Q:Q, 0) <> RANK(E13, Q:Q, 1), 0, IF(RANK(F13, R:R, 0) <> RANK(F13, R:R, 1), 0, IF(RANK(G13, R:R, 0) <> RANK(G13, R:R, 1), 0, 1)))) -> 18 | P13: =D15*10000 + E15*100 + F15*10+G15 -> 0 | Q13: =RANK(P13,$P$8:$P$21,0) + COUNTIF($P$8:P13, P13) - 1 -> 6 | R13: =INDEX($B$10:$B$23, MATCH(Q13, $Q$8:$Q$21,0)) -> Ornella | S13: =RANK(P13,$P$8:$P$21,0) -> 6 | T13: =IF(COUNTIF($S$8:$S$22,S13)>1,S13 & " Ex-aequo",S13) -> 6 Ex-aequo
A14: Dossier 5 | B14: Sarah | C14: Bar à parfum | G14: 18 | H14: =SUM(D14:G14) -> 18 | I14: 18 | N14: =D14*10000 + E14*100 + F14*10 + G14 + IF(RANK(D14, P:P, 0) <> RANK(D14, P:P, 1), 0, IF(RANK(E14, Q:Q, 0) <> RANK(E14, Q:Q, 1), 0, IF(RANK(F14, R:R, 0) <> RANK(F14, R:R, 1), 0, IF(RANK(G14, R:R, 0) <> RANK(G14, R:R, 1), 0, 1)))) -> 18 | P14: =D16*10000 + E16*100 + F16*10+G16 -> 0 | Q14: =RANK(P14,$P$8:$P$21,0) + COUNTIF($P$8:P14, P14) - 1 -> 7 | R14: =INDEX($B$10:$B$23, MATCH(Q14, $Q$8:$Q$21,0)) -> Théo | S14: =RANK(P14,$P$8:$P$21,0) -> 6 | T14: =IF(COUNTIF($S$8:$S$22,S14)>1,S14 & " Ex-aequo",S14) -> 6 Ex-aequo
A15: Dossier 6 | B15: Ornella | C15: Esthétique Sourcil | H15: =SUM(D15:G15) -> 0 | I15: 18 | N15: =D15*10000 + E15*100 + F15*10 + G15 + IF(RANK(D15, P:P, 0) <> RANK(D15, P:P, 1), 0, IF(RANK(E15, Q:Q, 0) <> RANK(E15, Q:Q, 1), 0, IF(RANK(F15, R:R, 0) <> RANK(F15, R:R, 1), 0, IF(RANK(G15, R:R, 0) <> RANK(G15, R:R, 1), 0, 1)))) -> 0 | P15: =D17*10000 + E17*100 + F17*10+G17 -> 0 | Q15: =RANK(P15,$P$8:$P$21,0) + COUNTIF($P$8:P15, P15) - 1 -> 8 | R15: =INDEX($B$10:$B$23, MATCH(Q15, $Q$8:$Q$21,0)) -> Carla CANEZI | S15: =RANK(P15,$P$8:$P$21,0) -> 6 | T15: =IF(COUNTIF($S$8:$S$22,S15)>1,S15 & " Ex-aequo",S15) -> 6 Ex-aequo
A16: Dossier 7 | B16: Théo | C16: Electricien | H16: =SUM(D16:G16) -> 0 | I16: 18 | N16: =D16*10000 + E16*100 + F16*10 + G16 + IF(RANK(D16, P:P, 0) <> RANK(D16, P:P, 1), 0, IF(RANK(E16, Q:Q, 0) <> RANK(E16, Q:Q, 1), 0, IF(RANK(F16, R:R, 0) <> RANK(F16, R:R, 1), 0, IF(RANK(G16, R:R, 0) <> RANK(G16, R:R, 1), 0, 1)))) -> 0 | P16: =D18*10000 + E18*100 + F18*10+G18 -> 0 | Q16: =RANK(P16,$P$8:$P$21,0) + COUNTIF($P$8:P16, P16) - 1 -> 9 | R16: =INDEX($B$10:$B$23, MATCH(Q16, $Q$8:$Q$21,0)) -> Noemie | S16: =RANK(P16,$P$8:$P$21,0) -> 6 | T16: =IF(COUNTIF($S$8:$S$22,S16)>1,S16 & " Ex-aequo",S16) -> 6 Ex-aequo
A17: Dossier 8 | B17: Carla CANEZI | C17: Friperies | H17: =SUM(D17:G17) -> 0 | I17: 18 | N17: =D17*10000 + E17*100 + F17*10 + G17 + IF(RANK(D17, P:P, 0) <> RANK(D17, P:P, 1), 0, IF(RANK(E17, Q:Q, 0) <> RANK(E17, Q:Q, 1), 0, IF(RANK(F17, R:R, 0) <> RANK(F17, R:R, 1), 0, IF(RANK(G17, R:R, 0) <> RANK(G17, R:R, 1), 0, 1)))) -> 0 | P17: =D19*10000 + E19*100 + F19*10+G19 -> 0 | Q17: =RANK(P17,$P$8:$P$21,0) + COUNTIF($P$8:P17, P17) - 1 -> 10 | R17: =INDEX($B$10:$B$23, MATCH(Q17, $Q$8:$Q$21,0)) -> Morgane | S17: =RANK(P17,$P$8:$P$21,0) -> 6 | T17: =IF(COUNTIF($S$8:$S$22,S17)>1,S17 & " Ex-aequo",S17) -> 6 Ex-aequo
A18: Dossier 9 | B18: Noemie | C18: Friperies grossiste et particuliers | H18: =SUM(D18:G18) -> 0 | I18: 18 | N18: =D18*10000 + E18*100 + F18*10 + G18 + IF(RANK(D18, P:P, 0) <> RANK(D18, P:P, 1), 0, IF(RANK(E18, Q:Q, 0) <> RANK(E18, Q:Q, 1), 0, IF(RANK(F18, R:R, 0) <> RANK(F18, R:R, 1), 0, IF(RANK(G18, R:R, 0) <> RANK(G18, R:R, 1), 0, 1)))) -> 0 | P18: =D20*10000 + E20*100 + F20*10+G20 -> 0 | Q18: =RANK(P18,$P$8:$P$21,0) + COUNTIF($P$8:P18, P18) - 1 -> 11 | R18: =INDEX($B$10:$B$23, MATCH(Q18, $Q$8:$Q$21,0)) -> Tom | S18: =RANK(P18,$P$8:$P$21,0) -> 6 | T18: =IF(COUNTIF($S$8:$S$22,S18)>1,S18 & " Ex-aequo",S18) -> 6 Ex-aequo
A19: Dossier 10 | B19: Morgane | C19: Éducatrice canin | H19: =SUM(D19:G19) -> 0 | I19: 18 | N19: =D19*10000 + E19*100 + F19*10 + G19 + IF(RANK(D19, P:P, 0) <> RANK(D19, P:P, 1), 0, IF(RANK(E19, Q:Q, 0) <> RANK(E19, Q:Q, 1), 0, IF(RANK(F19, R:R, 0) <> RANK(F19, R:R, 1), 0, IF(RANK(G19, R:R, 0) <> RANK(G19, R:R, 1), 0, 1)))) -> 0 | P19: =D21*10000 + E21*100 + F21*10+G21 -> 0 | Q19: =RANK(P19,$P$8:$P$21,0) + COUNTIF($P$8:P19, P19) - 1 -> 12 | R19: =INDEX($B$10:$B$23, MATCH(Q19, $Q$8:$Q$21,0)) -> Denis | S19: =RANK(P19,$P$8:$P$21,0) -> 6 | T19: =IF(COUNTIF($S$8:$S$22,S19)>1,S19 & " Ex-aequo",S19) -> 6 Ex-aequo
A20: Dossier 11 | B20: Tom | C20: Écrivain/Auteur | H20: =SUM(D20:G20) -> 0 | I20: 18 | P20: =D22*10000 + E22*100 + F22*10+G22 -> 0 | Q20: =RANK(P20,$P$8:$P$21,0) + COUNTIF($P$8:P20, P20) - 1 -> 13 | R20: =INDEX($B$10:$B$23, MATCH(Q20, $Q$8:$Q$21,0)) -> Martine | S20: =RANK(P20,$P$8:$P$21,0) -> 6 | T20: =IF(COUNTIF($S$8:$S$22,S20)>1,S20 & " Ex-aequo",S20) -> 6 Ex-aequo
A21: Dossier 12 | B21: Denis | C21: Boutique Coréenne | H21: =SUM(D21:G21) -> 0 | I21: 18 | P21: =D23*10000 + E23*100 + F23*10+G23 -> 0 | Q21: =RANK(P21,$P$8:$P$21,0) + COUNTIF($P$8:P21, P21) - 1 -> 14 | R21: =INDEX($B$10:$B$23, MATCH(Q21, $Q$8:$Q$21,0)) -> Jessica | S21: =RANK(P21,$P$8:$P$21,0) -> 6 | T21: =IF(COUNTIF($S$8:$S$22,S21)>1,S21 & " Ex-aequo",S21) -> 6 Ex-aequo
A22: Dossier 13 | B22: Martine | C22: Centre esthétique | H22: =SUM(D22:G22) -> 0 | I22: 18 | P22: =D24*10000 + E24*100 + F24*10+G24 -> 0 | S22: =RANK(P22,$P$8:$P$21,0) -> 6 | T22: =IF(COUNTIF($S$8:$S$22,S22)>1,S22 & " Ex-aequo",S22) -> 6 Ex-aequo
A23: Dossier 14 | B23: Jessica | C23: Boulangerie - Pâtisserie | H23: =SUM(D23:G23) -> 0 | I23: 18

Sheet Résultats
A6: RESULTATS/ Laureats
A8: 1er Prix | B8: 2e Prix | C8: 3e Prix | D8: 4e Prix | E8: 5e Prix | F8: 6e Prix | G8: 7e Prix | H8: 8e Prix | I8: 9e Prix | J8: 10e Prix | K8: 11e Prix | L8: 12e Prix | M8: 13e Prix | N8: 14e Prix
A9: {=IFERROR(INDEX(Données!R:R, SMALL(IF(Données!P:P=MAX(Données!P:P), ROW(Données!P:P)), ROW(A1))), "")} -> fabio | B9: {=IFERROR(INDEX(Données!R:R, SMALL(IF(Données!P:P=LARGE(Données!P:P,2), ROW(Données!P:P)), ROW(A1))), "")} -> Raphael | C9: {=IFERROR(INDEX(Données!R:R, SMALL(IF(Données!P:P=LARGE(Données!P:P,3), ROW(Données!P:P)), ROW(A1))), "")} -> Hugo | D9: {=IFERROR(INDEX(Données!R:R, SMALL(IF(Données!P:P=LARGE(Données!P:P,4), ROW(Données!P:P)), ROW(A1))), "")} -> Dylan | F9: {=IFERROR(INDEX(Données!R:R, SMALL(IF(Données!P:P=LARGE(Données!P:P,6), ROW(Données!P:P)), ROW(A1))), "")} -> 0 | G9: {=INDEX(Données!R:R, MATCH(LARGE(IF(ISNUMBER(Données!P:P), Données!P:P), 7), Données!P:P, 0))} -> Ornella | H9: {=INDEX(Données!R:R, MATCH(LARGE(IF(ISNUMBER(Données!P:P), Données!P:P), 8), Données!P:P, 0))} -> Ornella | I9: {=INDEX(Données!R:R, MATCH(LARGE(IF(ISNUMBER(Données!P:P), Données!P:P), 9), Données!P:P, 0))} -> Ornella | J9: {=INDEX(Données!R:R, MATCH(LARGE(IF(ISNUMBER(Données!P:P), Données!P:P), 10), Données!P:P, 0))} -> Ornella | K9: {=INDEX(Données!R:R, MATCH(LARGE(IF(ISNUMBER(Données!P:P), Données!P:P), 11), Données!P:P, 0))} -> Ornella | L9: {=INDEX(Données!R:R, MATCH(LARGE(IF(ISNUMBER(Données!P:P), Données!P:P), 12), Données!P:P, 0))} -> Ornella | M9: {=INDEX(Données!R:R, MATCH(LARGE(IF(ISNUMBER(Données!P:P), Données!P:P), 13), Données!P:P, 0))} -> Ornella | N9: {=INDEX(Données!R:R, MATCH(LARGE(IF(ISNUMBER(Données!P:P), Données!P:P), 14), Données!P:P, 0))} -> Ornella
A11: =IF( COUNTIF($A$9:$N$9,A9) > 1, "Ex aequo","") | B11: =IF( COUNTIF($A$9:$N$9,B9) > 1, "Ex aequo","") | C11: =IF( COUNTIF($A$9:$N$9,C9) > 1, "Ex aequo","") | D11: =IF( COUNTIF($A$9:$N$9,D9) > 1, "Ex aequo","") | E11: =IF( COUNTIF($A$9:$N$9,E9) > 1, "Ex aequo","") | F11: =IF( COUNTIF($A$9:$N$9,F9) > 1, "Ex aequo","") | G11: =IF( COUNTIF($A$9:$N$9,G9) > 1, "Ex aequo","") -> Ex aequo | H11: =IF( COUNTIF($A$9:$N$9,H9) > 1, "Ex aequo","") -> Ex aequo | ... N11: =IF( COUNTIF($A$9:$N$9,N9) > 1, "Ex aequo","") -> Ex aequo
