Workbook
Name Segment_Client: #N/A
Name Segment_Règlement_effectué: #N/A

Sheet Synthèse
A1: 2024 | B1: Transport | D1: Factures | G1: Chiffre d'affaire
B2: Effectués | C2: Frais | D2: Établies | E2: Réglées | F2: Impayées | G2: H.T | H2: T.T.C | J2: Impayées mensuelles
A3: =DATE($A$1,ROW()-2,1) -> 45292 | B3: =COUNTIFS(Tableau1[n° bon de livraison],"<>",Tableau1[Date livraison],">="&Synthèse!$A3,Tableau1[Date livraison],"<"&Synthèse!$A4) -> 0 | C3: =SUMIFS(Tableau1[Frais],Tableau1[Date livraison],">="&Synthèse!$A3,Tableau1[Date livraison],"<"&Synthèse!$A4) -> 0 | D3: =COUNTIFS(Tableau1[Date facture],">="&Synthèse!$A3,Tableau1[Date facture],"<"&Synthèse!$A4) -> 0 | E3: =COUNTIFS(Tableau1[Date facture],">="&Synthèse!$A3,Tableau1[Date facture],"<"&Synthèse!$A4,Tableau1[Règlement effectué],"Oui") -> 0 | F3: =COUNTIFS(Tableau1[Date facture],">="&Synthèse!$A3,Tableau1[Date facture],"<"&Synthèse!$A4,Tableau1[Règlement effectué],"") -> 0 | G3: =SUMIFS(Tableau1[Montant HT],Tableau1[Date facture],">="&Synthèse!$A3,Tableau1[Date facture],"<"&Synthèse!$A4) -> 0 | H3: =SUMIFS(Tableau1[Montant TTC],Tableau1[Date facture],">="&Synthèse!$A3,Tableau1[Date facture],"<"&Synthèse!$A4) -> 0 | J3: {=SUMPRODUCT((Tableau1[Montant TTC])*(Tableau1[Règlement effectué]<>"Oui")*(MONTH(Tableau1[Date facture])=MONTH(A3)))} -> 1232.928
A4: =DATE($A$1,ROW()-2,1) -> 45323 | B4: =COUNTIFS(Tableau1[n° bon de livraison],"<>",Tableau1[Date livraison],">="&Synthèse!$A4,Tableau1[Date livraison],"<"&Synthèse!$A5) -> 0 | C4: =SUMIFS(Tableau1[Frais],Tableau1[Date livraison],">="&Synthèse!$A4,Tableau1[Date livraison],"<"&Synthèse!$A5) -> 0 | D4: =COUNTIFS(Tableau1[Date facture],">="&Synthèse!$A4,Tableau1[Date facture],"<"&Synthèse!$A5) -> 0 | E4: =COUNTIFS(Tableau1[Date facture],">="&Synthèse!$A4,Tableau1[Date facture],"<"&Synthèse!$A5,Tableau1[Règlement effectué],"Oui") -> 0 | F4: =COUNTIFS(Tableau1[Date facture],">="&Synthèse!$A4,Tableau1[Date facture],"<"&Synthèse!$A5,Tableau1[Règlement effectué],"") -> 0 | G4: =SUMIFS(Tableau1[Montant HT],Tableau1[Date facture],">="&Synthèse!$A4,Tableau1[Date facture],"<"&Synthèse!$A5) -> 0 | H4: =SUMIFS(Tableau1[Montant TTC],Tableau1[Date facture],">="&Synthèse!$A4,Tableau1[Date facture],"<"&Synthèse!$A5) -> 0 | J4: {=SUMPRODUCT((Tableau1[Montant TTC])*(Tableau1[Règlement effectué]<>"Oui")*(MONTH(Tableau1[Date facture])=MONTH(A4)))} -> 0
A5: =DATE($A$1,ROW()-2,1) -> 45352 | B5: =COUNTIFS(Tableau1[n° bon de livraison],"<>",Tableau1[Date livraison],">="&Synthèse!$A5,Tableau1[Date livraison],"<"&Synthèse!$A6) -> 0 | C5: =SUMIFS(Tableau1[Frais],Tableau1[Date livraison],">="&Synthèse!$A5,Tableau1[Date livraison],"<"&Synthèse!$A6) -> 0 | D5: =COUNTIFS(Tableau1[Date facture],">="&Synthèse!$A5,Tableau1[Date facture],"<"&Synthèse!$A6) -> 0 | E5: =COUNTIFS(Tableau1[Date facture],">="&Synthèse!$A5,Tableau1[Date facture],"<"&Synthèse!$A6,Tableau1[Règlement effectué],"Oui") -> 0 | F5: =COUNTIFS(Tableau1[Date facture],">="&Synthèse!$A5,Tableau1[Date facture],"<"&Synthèse!$A6,Tableau1[Règlement effectué],"") -> 0 | G5: =SUMIFS(Tableau1[Montant HT],Tableau1[Date facture],">="&Synthèse!$A5,Tableau1[Date facture],"<"&Synthèse!$A6) -> 0 | H5: =SUMIFS(Tableau1[Montant TTC],Tableau1[Date facture],">="&Synthèse!$A5,Tableau1[Date facture],"<"&Synthèse!$A6) -> 0 | J5: {=SUMPRODUCT((Tableau1[Montant TTC])*(Tableau1[Règlement effectué]<>"Oui")*(MONTH(Tableau1[Date facture])=MONTH(A5)))} -> 0
A6: =DATE($A$1,ROW()-2,1) -> 45383 | B6: =COUNTIFS(Tableau1[n° bon de livraison],"<>",Tableau1[Date livraison],">="&Synthèse!$A6,Tableau1[Date livraison],"<"&Synthèse!$A7) -> 1 | C6: =SUMIFS(Tableau1[Frais],Tableau1[Date livraison],">="&Synthèse!$A6,Tableau1[Date livraison],"<"&Synthèse!$A7) -> 0 | D6: =COUNTIFS(Tableau1[Date facture],">="&Synthèse!$A6,Tableau1[Date facture],"<"&Synthèse!$A7) -> 1 | E6: =COUNTIFS(Tableau1[Date facture],">="&Synthèse!$A6,Tableau1[Date facture],"<"&Synthèse!$A7,Tableau1[Règlement effectué],"Oui") -> 0 | F6: =COUNTIFS(Tableau1[Date facture],">="&Synthèse!$A6,Tableau1[Date facture],"<"&Synthèse!$A7,Tableau1[Règlement effectué],"") -> 1 | G6: =SUMIFS(Tableau1[Montant HT],Tableau1[Date facture],">="&Synthèse!$A6,Tableau1[Date facture],"<"&Synthèse!$A7) -> 2475.61 | H6: =SUMIFS(Tableau1[Montant TTC],Tableau1[Date facture],">="&Synthèse!$A6,Tableau1[Date facture],"<"&Synthèse!$A7) -> 2970.732 | J6: {=SUMPRODUCT((Tableau1[Montant TTC])*(Tableau1[Règlement effectué]<>"Oui")*(MONTH(Tableau1[Date facture])=MONTH(A6)))} -> 2970.732
A7: =DATE($A$1,ROW()-2,1) -> 45413 | B7: =COUNTIFS(Tableau1[n° bon de livraison],"<>",Tableau1[Date livraison],">="&Synthèse!$A7,Tableau1[Date livraison],"<"&Synthèse!$A8) -> 2 | C7: =SUMIFS(Tableau1[Frais],Tableau1[Date livraison],">="&Synthèse!$A7,Tableau1[Date livraison],"<"&Synthèse!$A8) -> 0 | D7: =COUNTIFS(Tableau1[Date facture],">="&Synthèse!$A7,Tableau1[Date facture],"<"&Synthèse!$A8) -> 1 | E7: =COUNTIFS(Tableau1[Date facture],">="&Synthèse!$A7,Tableau1[Date facture],"<"&Synthèse!$A8,Tableau1[Règlement effectué],"Oui") -> 0 | F7: =COUNTIFS(Tableau1[Date facture],">="&Synthèse!$A7,Tableau1[Date facture],"<"&Synthèse!$A8,Tableau1[Règlement effectué],"") -> 1 | G7: =SUMIFS(Tableau1[Montant HT],Tableau1[Date facture],">="&Synthèse!$A7,Tableau1[Date facture],"<"&Synthèse!$A8) -> 3311.12 | H7: =SUMIFS(Tableau1[Montant TTC],Tableau1[Date facture],">="&Synthèse!$A7,Tableau1[Date facture],"<"&Synthèse!$A8) -> 3973.344 | J7: {=SUMPRODUCT((Tableau1[Montant TTC])*(Tableau1[Règlement effectué]<>"Oui")*(MONTH(Tableau1[Date facture])=MONTH(A7)))} -> 3973.344
A8: =DATE($A$1,ROW()-2,1) -> 45444 | B8: =COUNTIFS(Tableau1[n° bon de livraison],"<>",Tableau1[Date livraison],">="&Synthèse!$A8,Tableau1[Date livraison],"<"&Synthèse!$A9) -> 1 | C8: =SUMIFS(Tableau1[Frais],Tableau1[Date livraison],">="&Synthèse!$A8,Tableau1[Date livraison],"<"&Synthèse!$A9) -> 0 | D8: =COUNTIFS(Tableau1[Date facture],">="&Synthèse!$A8,Tableau1[Date facture],"<"&Synthèse!$A9) -> 1 | E8: =COUNTIFS(Tableau1[Date facture],">="&Synthèse!$A8,Tableau1[Date facture],"<"&Synthèse!$A9,Tableau1[Règlement effectué],"Oui") -> 0 | F8: =COUNTIFS(Tableau1[Date facture],">="&Synthèse!$A8,Tableau1[Date facture],"<"&Synthèse!$A9,Tableau1[Règlement effectué],"") -> 1 | G8: =SUMIFS(Tableau1[Montant HT],Tableau1[Date facture],">="&Synthèse!$A8,Tableau1[Date facture],"<"&Synthèse!$A9) -> 927.56 | H8: =SUMIFS(Tableau1[Montant TTC],Tableau1[Date facture],">="&Synthèse!$A8,Tableau1[Date facture],"<"&Synthèse!$A9) -> 1113.072 | J8: {=SUMPRODUCT((Tableau1[Montant TTC])*(Tableau1[Règlement effectué]<>"Oui")*(MONTH(Tableau1[Date facture])=MONTH(A8)))} -> 1113.072
A9: =DATE($A$1,ROW()-2,1) -> 45474 | B9: =COUNTIFS(Tableau1[n° bon de livraison],"<>",Tableau1[Date livraison],">="&Synthèse!$A9,Tableau1[Date livraison],"<"&Synthèse!$A10) -> 0 | C9: =SUMIFS(Tableau1[Frais],Tableau1[Date livraison],">="&Synthèse!$A9,Tableau1[Date livraison],"<"&Synthèse!$A10) -> 0 | D9: =COUNTIFS(Tableau1[Date facture],">="&Synthèse!$A9,Tableau1[Date facture],"<"&Synthèse!$A10) -> 0 | E9: =COUNTIFS(Tableau1[Date facture],">="&Synthèse!$A9,Tableau1[Date facture],"<"&Synthèse!$A10,Tableau1[Règlement effectué],"Oui") -> 0 | F9: =COUNTIFS(Tableau1[Date facture],">="&Synthèse!$A9,Tableau1[Date facture],"<"&Synthèse!$A10,Tableau1[Règlement effectué],"") -> 0 | G9: =SUMIFS(Tableau1[Montant HT],Tableau1[Date facture],">="&Synthèse!$A9,Tableau1[Date facture],"<"&Synthèse!$A10) -> 0 | H9: =SUMIFS(Tableau1[Montant TTC],Tableau1[Date facture],">="&Synthèse!$A9,Tableau1[Date facture],"<"&Synthèse!$A10) -> 0 | J9: {=SUMPRODUCT((Tableau1[Montant TTC])*(Tableau1[Règlement effectué]<>"Oui")*(MONTH(Tableau1[Date facture])=MONTH(A9)))} -> 0
A10: =DATE($A$1,ROW()-2,1) -> 45505 | B10: =COUNTIFS(Tableau1[n° bon de livraison],"<>",Tableau1[Date livraison],">="&Synthèse!$A10,Tableau1[Date livraison],"<"&Synthèse!$A11) -> 0 | C10: =SUMIFS(Tableau1[Frais],Tableau1[Date livraison],">="&Synthèse!$A10,Tableau1[Date livraison],"<"&Synthèse!$A11) -> 0 | D10: =COUNTIFS(Tableau1[Date facture],">="&Synthèse!$A10,Tableau1[Date facture],"<"&Synthèse!$A11) -> 0 | E10: =COUNTIFS(Tableau1[Date facture],">="&Synthèse!$A10,Tableau1[Date facture],"<"&Synthèse!$A11,Tableau1[Règlement effectué],"Oui") -> 0 | F10: =COUNTIFS(Tableau1[Date facture],">="&Synthèse!$A10,Tableau1[Date facture],"<"&Synthèse!$A11,Tableau1[Règlement effectué],"") -> 0 | G10: =SUMIFS(Tableau1[Montant HT],Tableau1[Date facture],">="&Synthèse!$A10,Tableau1[Date facture],"<"&Synthèse!$A11) -> 0 | H10: =SUMIFS(Tableau1[Montant TTC],Tableau1[Date facture],">="&Synthèse!$A10,Tableau1[Date facture],"<"&Synthèse!$A11) -> 0 | J10: {=SUMPRODUCT((Tableau1[Montant TTC])*(Tableau1[Règlement effectué]<>"Oui")*(MONTH(Tableau1[Date facture])=MONTH(A10)))} -> 0
A11: =DATE($A$1,ROW()-2,1) -> 45536 | B11: =COUNTIFS(Tableau1[n° bon de livraison],"<>",Tableau1[Date livraison],">="&Synthèse!$A11,Tableau1[Date livraison],"<"&Synthèse!$A12) -> 1 | C11: =SUMIFS(Tableau1[Frais],Tableau1[Date livraison],">="&Synthèse!$A11,Tableau1[Date livraison],"<"&Synthèse!$A12) -> 0 | D11: =COUNTIFS(Tableau1[Date facture],">="&Synthèse!$A11,Tableau1[Date facture],"<"&Synthèse!$A12) -> 1 | E11: =COUNTIFS(Tableau1[Date facture],">="&Synthèse!$A11,Tableau1[Date facture],"<"&Synthèse!$A12,Tableau1[Règlement effectué],"Oui") -> 1 | F11: =COUNTIFS(Tableau1[Date facture],">="&Synthèse!$A11,Tableau1[Date facture],"<"&Synthèse!$A12,Tableau1[Règlement effectué],"") -> 0 | G11: =SUMIFS(Tableau1[Montant HT],Tableau1[Date facture],">="&Synthèse!$A11,Tableau1[Date facture],"<"&Synthèse!$A12) -> 988.69 | H11: =SUMIFS(Tableau1[Montant TTC],Tableau1[Date facture],">="&Synthèse!$A11,Tableau1[Date facture],"<"&Synthèse!$A12) -> 1186.428 | J11: {=SUMPRODUCT((Tableau1[Montant TTC])*(Tableau1[Règlement effectué]<>"Oui")*(MONTH(Tableau1[Date facture])=MONTH(A11)))} -> 0
A12: =DATE($A$1,ROW()-2,1) -> 45566 | B12: =COUNTIFS(Tableau1[n° bon de livraison],"<>",Tableau1[Date livraison],">="&Synthèse!$A12,Tableau1[Date livraison],"<"&Synthèse!$A13) -> 2 | C12: =SUMIFS(Tableau1[Frais],Tableau1[Date livraison],">="&Synthèse!$A12,Tableau1[Date livraison],"<"&Synthèse!$A13) -> 0 | D12: =COUNTIFS(Tableau1[Date facture],">="&Synthèse!$A12,Tableau1[Date facture],"<"&Synthèse!$A13) -> 2 | E12: =COUNTIFS(Tableau1[Date facture],">="&Synthèse!$A12,Tableau1[Date facture],"<"&Synthèse!$A13,Tableau1[Règlement effectué],"Oui") -> 1 | F12: =COUNTIFS(Tableau1[Date facture],">="&Synthèse!$A12,Tableau1[Date facture],"<"&Synthèse!$A13,Tableau1[Règlement effectué],"") -> 1 | G12: =SUMIFS(Tableau1[Montant HT],Tableau1[Date facture],">="&Synthèse!$A12,Tableau1[Date facture],"<"&Synthèse!$A13) -> 9092.33 | H12: =SUMIFS(Tableau1[Montant TTC],Tableau1[Date facture],">="&Synthèse!$A12,Tableau1[Date facture],"<"&Synthèse!$A13) -> 10910.796 | J12: {=SUMPRODUCT((Tableau1[Montant TTC])*(Tableau1[Règlement effectué]<>"Oui")*(MONTH(Tableau1[Date facture])=MONTH(A12)))} -> 10391.196
A13: =DATE($A$1,ROW()-2,1) -> 45597 | B13: =COUNTIFS(Tableau1[n° bon de livraison],"<>",Tableau1[Date livraison],">="&Synthèse!$A13,Tableau1[Date livraison],"<"&Synthèse!$A14) -> 1 | C13: =SUMIFS(Tableau1[Frais],Tableau1[Date livraison],">="&Synthèse!$A13,Tableau1[Date livraison],"<"&Synthèse!$A14) -> 0 | D13: =COUNTIFS(Tableau1[Date facture],">="&Synthèse!$A13,Tableau1[Date facture],"<"&Synthèse!$A14) -> 1 | E13: =COUNTIFS(Tableau1[Date facture],">="&Synthèse!$A13,Tableau1[Date facture],"<"&Synthèse!$A14,Tableau1[Règlement effectué],"Oui") -> 0 | F13: =COUNTIFS(Tableau1[Date facture],">="&Synthèse!$A13,Tableau1[Date facture],"<"&Synthèse!$A14,Tableau1[Règlement effectué],"") -> 1 | G13: =SUMIFS(Tableau1[Montant HT],Tableau1[Date facture],">="&Synthèse!$A13,Tableau1[Date facture],"<"&Synthèse!$A14) -> 4545.27 | H13: =SUMIFS(Tableau1[Montant TTC],Tableau1[Date facture],">="&Synthèse!$A13,Tableau1[Date facture],"<"&Synthèse!$A14) -> 5454.324 | J13: {=SUMPRODUCT((Tableau1[Montant TTC])*(Tableau1[Règlement effectué]<>"Oui")*(MONTH(Tableau1[Date facture])=MONTH(A13)))} -> 5454.324
A14: =DATE($A$1,ROW()-2,1) -> 45627 | B14: =COUNTIFS(Tableau1[n° bon de livraison],"<>",Tableau1[Date livraison],">="&Synthèse!$A14) -> 0 | C14: =SUMIFS(Tableau1[Frais],Tableau1[Date livraison],">="&Synthèse!$A14) -> 0 | D14: =COUNTIFS(Tableau1[Date facture],">="&Synthèse!$A14) -> 0 | E14: =COUNTIFS(Tableau1[Date facture],">="&Synthèse!$A14,Tableau1[Règlement effectué],"Oui") -> 0 | F14: =COUNTIFS(Tableau1[Date facture],">="&Synthèse!$A14,Tableau1[Règlement effectué],"") -> 0 | G14: =SUMIFS(Tableau1[Montant HT],Tableau1[Date facture],">="&Synthèse!$A14) -> 0 | H14: =SUMIFS(Tableau1[Montant TTC],Tableau1[Date facture],">="&Synthèse!$A14) -> 0 | J14: {=SUMPRODUCT((Tableau1[Montant TTC])*(Tableau1[Règlement effectué]<>"Oui")*(MONTH(Tableau1[Date facture])=MONTH(A14)))} -> 0
A15: Totaux | B15: =SUM(B3:B14) -> 8 | C15: =SUM(C3:C14) -> 0 | D15: =SUM(D3:D14) -> 7 | E15: =SUM(E3:E14) -> 2 | F15: =SUM(F3:F14) -> 5 | G15: =SUM(G3:G14) -> 21340.58 | H15: =SUM(H3:H14) -> 25608.696 | J15: =SUM(J3:J14) -> 25135.596
A17: Panier moyen | B17: =IFERROR(G15/D15,"") -> 3048.6543 | C17: =IFERROR(H15/D15,"") -> 3658.3851 | D17: Total Factures impayées TTC | F17: =SUMIFS(Tableau1[Montant TTC],Tableau1[Règlement effectué],"<>"&"Oui") -> 25135.596
D18: Total Factures impayées de plus de deux mois TTC | F18: {=SUMPRODUCT((Tableau1[Montant TTC])*(Tableau1[Règlement effectué]<>"Oui")*(MONTH(Tableau1[Date facture])<=MONTH(TODAY())-2))} -> 9290.076

Sheet Facturation
E1: =COUNTA(E3:E10) -> 8 | H1: =SUM(Tableau1[Frais]) -> 0 | I1: =COUNTA(Tableau1[n° facture]) -> 0 | K1: =COUNTIF(Tableau1[Règlement effectué],"Oui") -> 2 | L1: =SUM(Tableau1[Montant HT]) -> 22368.02 | M1: =SUM(Tableau1[Montant TTC]) -> 26841.624
A2: Client | B2: n° client | C2: n° devis | D2: n° commande | E2: n° bon de livraison | F2: Date livraison | G2: Transporteur | H2: Frais | I2: n° facture | J2: Date facture | K2: Règlement effectué | L2: Montant HT | M2: Montant TTC
A3: Louis | B3: 1 | E3: 473 | F3: 45397 | J3: 45397 | L3: 2475.61 | M3: =(L3+H3)*1.2 -> 2970.732
A4: Jacques | B4: 2 | E4: 456 | F4: 45431 | J4: 45431 | L4: 3311.12 | M4: =(L4+H4)*1.2 -> 3973.344
A5: Laurent | B5: 3 | D5: bl | E5: 422 | F5: 45433 | L5: 1027.44 | M5: =(L5+H5)*1.2 -> 1232.928
A6: Michel | B6: 4 | E6: 478 | F6: 45445 | J6: 45445 | L6: 927.56 | M6: =(L6+H6)*1.2 -> 1113.072
A7: Bertrand | B7: 5 | E7: 479 | F7: 45558 | J7: 45558 | K7: Oui | L7: 988.69 | M7: =(L7+H7)*1.2 -> 1186.428
A8: Nicolas | B8: 6 | E8: 533 | F8: 45582 | J8: 45582 | K8: Oui | L8: 433 | M8: =(L8+H8)*1.2 -> 519.6
A9: Louis | B9: 1 | E9: 421 | F9: 45586 | J9: 45586 | L9: 8659.33 | M9: =(L9+H9)*1.2 -> 10391.196
A10: Michel | B10: 4 | E10: 127 | F10: 45608 | J10: 45608 | L10: 4545.27 | M10: =(L10+H10)*1.2 -> 5454.324
