Workbook
Name Segment_Client: #N/A
Name Segment_Règlement_effectué: #N/A

Sheet Synthèse
A1: 2024 | B1: Transport | D1: Factures | G1: Chiffre d'affaire
B2: Effectués | C2: Frais | D2: Établies | E2: Réglées | F2: Impayées | G2: H.T | H2: T.T.C
A3: Janvier | B3: =BDD!E1 -> 0 | C3: =BDD!H1 -> 0 | D3: =BDD!I1 -> 17 | E3: =BDD!K1 -> 5 | F3: =BDD!#REF! -> #REF! | G3: =BDD!L1 -> 22879.64 | H3: =BDD!M1 -> 27455.568
A4: Février | B4: =#REF! -> #REF! | C4: =#REF! -> #REF! | D4: =#REF! -> #REF! | E4: =#REF! -> #REF! | F4: =#REF! -> #REF! | G4: =#REF! -> #REF! | H4: =#REF! -> #REF!
A5: Mars | B5: =#REF! -> #REF! | C5: =#REF! -> #REF! | D5: =#REF! -> #REF! | E5: =#REF! -> #REF! | F5: =#REF! -> #REF! | G5: =#REF! -> #REF! | H5: =#REF! -> #REF!
A6: Avril | B6: =#REF! -> #REF! | C6: =#REF! -> #REF! | D6: =#REF! -> #REF! | E6: =#REF! -> #REF! | F6: =#REF! -> #REF! | G6: =#REF! -> #REF! | H6: =#REF! -> #REF!
A7: Mai | B7: =#REF! -> #REF! | C7: =#REF! -> #REF! | D7: =#REF! -> #REF! | E7: =#REF! -> #REF! | F7: =#REF! -> #REF! | G7: =#REF! -> #REF! | H7: =#REF! -> #REF!
A8: Juin | B8: =#REF! -> #REF! | C8: =#REF! -> #REF! | D8: =#REF! -> #REF! | E8: =#REF! -> #REF! | F8: =#REF! -> #REF! | G8: =#REF! -> #REF! | H8: =#REF! -> #REF!
A9: Juillet | B9: =#REF! -> #REF! | C9: =#REF! -> #REF! | D9: =#REF! -> #REF! | E9: =#REF! -> #REF! | F9: =#REF! -> #REF! | G9: =#REF! -> #REF! | H9: =#REF! -> #REF!
A10: Août | B10: =#REF! -> #REF! | C10: =#REF! -> #REF! | D10: =#REF! -> #REF! | E10: =#REF! -> #REF! | F10: =#REF! -> #REF! | G10: =#REF! -> #REF! | H10: =#REF! -> #REF!
A11: Septembre | B11: =#REF! -> #REF! | C11: =#REF! -> #REF! | D11: =#REF! -> #REF! | E11: =#REF! -> #REF! | F11: =#REF! -> #REF! | G11: =#REF! -> #REF! | H11: =#REF! -> #REF!
A12: Octobre | B12: =#REF! -> #REF! | C12: =#REF! -> #REF! | D12: =#REF! -> #REF! | E12: =#REF! -> #REF! | F12: =#REF! -> #REF! | G12: =#REF! -> #REF! | H12: =#REF! -> #REF!
A13: Novembre | B13: =#REF! -> #REF! | C13: =#REF! -> #REF! | D13: =#REF! -> #REF! | E13: =#REF! -> #REF! | F13: =#REF! -> #REF! | G13: =#REF! -> #REF! | H13: =#REF! -> #REF!
A14: Décembre | B14: =#REF! -> #REF! | C14: =#REF! -> #REF! | D14: =#REF! -> #REF! | E14: =#REF! -> #REF! | F14: =#REF! -> #REF! | G14: =#REF! -> #REF! | H14: =#REF! -> #REF!
A15: Totaux | B15: =SUM(B3:B14) -> #REF! | C15: =SUM(C3:C14) -> #REF! | D15: =SUM(D3:D14) -> #REF! | E15: =SUM(E3:E14) -> #REF! | F15: =SUM(F3:F14) -> #REF! | G15: =SUM(G3:G14) -> #REF! | H15: =SUM(H3:H14) -> #REF!

Sheet BDD
E1: =COUNTA(E3:E20) -> 0 | H1: =SUM(H3:H20) -> 0 | I1: =COUNTA(I3:I20) -> 17 | K1: =COUNTIF(K3:K20,"Oui") -> 5 | L1: =SUM(L3:L20) -> 22879.64 | M1: =SUM(M3:M20) -> 27455.568
A2: Client | B2: n° client | C2: n° devis | D2: n° commande | E2: n° bon de livraison | F2: Date Commande | G2: Transporteur | H2: Frais | I2: n° facture | J2: Date règlement | K2: Règlement effectué | L2: Montant HT | M2: Montant TTC
A3: 1 | B3: 4110011 | F3: 45292 | I3: 1 | J3: 45292 | K3: Oui | L3: 1624.23 | M3: =(L3+H3)*1.2 -> 1949.076
A4: 2 | B4: 4110012 | F4: 45293 | I4: =I3+1 -> 2 | L4: 1847.14 | M4: =(L4+H4)*1.2 -> 2216.568
A5: 2 | B5: 4110012 | F5: 45294 | I5: =I4+1 -> 3 | L5: 737.1 | M5: =(L5+H5)*1.2 -> 884.52
A6: 3 | B6: 4110013 | F6: 45295 | I6: =I5+1 -> 4 | J6: 45296 | K6: Oui | L6: 846.93 | M6: =(L6+H6)*1.2 -> 1016.316
A7: 2 | B7: 4110012 | F7: 45296 | I7: =I6+1 -> 5 | L7: 863.21 | M7: =(L7+H7)*1.2 -> 1035.852
A8: 5 | B8: 4110015 | F8: 45297 | I8: =I7+1 -> 6 | L8: 1421.2 | M8: =(L8+H8)*1.2 -> 1705.44
A9: 8 | B9: 4110018 | F9: 45298 | I9: =I8+1 -> 7 | L9: 1697.45 | M9: =(L9+H9)*1.2 -> 2036.94
A10: 9 | B10: 4110019 | F10: 45299 | I10: =I9+1 -> 8 | L10: 4325.6 | M10: =(L10+H10)*1.2 -> 5190.72
A11: 7 | B11: 4110017 | F11: 45300 | I11: =I10+1 -> 9 | J11: 45302 | K11: Oui | L11: 5214.63 | M11: =(L11+H11)*1.2 -> 6257.556
A12: 5 | B12: 4110015 | F12: 45301 | I12: =I11+1 -> 10 | J12: 45306 | K12: Oui | L12: 473.71 | M12: =(L12+H12)*1.2 -> 568.452
A13: 6 | B13: 4110016 | F13: 45302 | I13: =I12+1 -> 11 | J13: 45306 | K13: Oui | L13: 498.21 | M13: =(L13+H13)*1.2 -> 597.852
A14: 1 | B14: 4110011 | F14: 45303 | I14: =I13+1 -> 12 | L14: 698.98 | M14: =(L14+H14)*1.2 -> 838.776
A15: 4 | B15: 4110014 | F15: 45304 | I15: =I14+1 -> 13 | L15: 432.14 | M15: =(L15+H15)*1.2 -> 518.568
A16: 3 | B16: 4110013 | F16: 45305 | I16: =I15+1 -> 14 | L16: 1111.68 | M16: =(L16+H16)*1.2 -> 1334.016
A17: 3 | B17: 4110013 | F17: 45323 | I17: =I16+1 -> 15 | L17: 475.88 | M17: =(L17+H17)*1.2 -> 571.056
A18: 3 | B18: 4110013 | F18: 45324 | I18: 16 | L18: 77.86 | M18: =(L18+H18)*1.2 -> 93.432
A19: 6 | B19: 4110016 | F19: 45325 | I19: 17 | L19: 533.69 | M19: =(L19+H19)*1.2 -> 640.428
A20: 5 | M20: =(L20+H20)*1.2 -> 0
