Workbook

Sheet Synthèse
A1: 2024 | B1: Transport | D1: Factures | G1: Chiffre d'affaire
B2: Effectués | C2: Frais | D2: Établies | E2: Réglées | F2: Impayées | G2: H.T | H2: T.T.C
A3: Janvier | B3: =Janvier!E1 -> 0 | C3: =Janvier!H1 -> 0 | D3: =Janvier!I1 -> 15 | E3: =Janvier!K1 -> 5 | F3: =Janvier!L1 -> 10 | G3: =Janvier!M1 -> 22268.09 | H3: =Janvier!N1 -> 26721.708
A4: Février | B4: =Février!E1 -> 0 | C4: =Février!H1 -> 0 | D4: =Février!I1 -> 2 | E4: =Février!K1 -> 0 | F4: =Février!L1 -> 2 | G4: =Février!M1 -> 611.55 | H4: =Février!N1 -> 733.86
A5: Mars | B5: =Mars!E1 -> 0 | C5: =Mars!H1 -> 0 | D5: =Mars!I1 -> 0 | E5: =Mars!K1 -> 0 | F5: =Mars!L1 -> 0 | G5: =Mars!M1 -> 0 | H5: =Mars!N1 -> 0
A6: Avril | B6: =Avril!E1 -> 0 | C6: =Avril!H1 -> 0 | D6: =Avril!I1 -> 0 | E6: =Avril!K1 -> 0 | F6: =Avril!L1 -> 0 | G6: =Avril!M1 -> 0 | H6: =Avril!N1 -> 0
A7: Mai | B7: =Mai!E1 -> 0 | C7: =Mai!H1 -> 0 | D7: =Mai!I1 -> 0 | E7: =Mai!K1 -> 0 | F7: =Mai!L1 -> 0 | G7: =Mai!M1 -> 0 | H7: =Mai!N1 -> 0
A8: Juin | B8: =Juin!E1 -> 0 | C8: =Juin!H1 -> 0 | D8: =Juin!I1 -> 0 | E8: =Juin!K1 -> 0 | F8: =Juin!L1 -> 0 | G8: =Juin!M1 -> 0 | H8: =Juin!N1 -> 0
A9: Juillet | B9: =Juillet!E1 -> 0 | C9: =Juillet!H1 -> 0 | D9: =Juillet!I1 -> 0 | E9: =Juillet!K1 -> 0 | F9: =Juillet!L1 -> 0 | G9: =Juillet!M1 -> 0 | H9: =Juillet!N1 -> 0
A10: Août | B10: =Août!E1 -> 0 | C10: =Août!H1 -> 0 | D10: =Août!I1 -> 0 | E10: =Août!K1 -> 0 | F10: =Août!L1 -> 0 | G10: =Août!M1 -> 0 | H10: =Août!N1 -> 0
A11: Septembre | B11: =Septembre!E1 -> 0 | C11: =Septembre!H1 -> 0 | D11: =Septembre!I1 -> 0 | E11: =Septembre!K1 -> 0 | F11: =Septembre!L1 -> 0 | G11: =Septembre!M1 -> 0 | H11: =Septembre!N1 -> 0
A12: Octobre | B12: =Octobre!E1 -> 0 | C12: =Octobre!H1 -> 0 | D12: =Octobre!I1 -> 0 | E12: =Octobre!K1 -> 0 | F12: =Octobre!L1 -> 0 | G12: =Octobre!M1 -> 0 | H12: =Octobre!N1 -> 0
A13: Novembre | B13: =Novembre!E1 -> 0 | C13: =Novembre!H1 -> 0 | D13: =Novembre!I1 -> 0 | E13: =Novembre!K1 -> 0 | F13: =Novembre!L1 -> 0 | G13: =Novembre!M1 -> 0 | H13: =Novembre!N1 -> 0
A14: Décembre | B14: =Décembre!E1 -> 0 | C14: =Décembre!H1 -> 0 | D14: =Décembre!I1 -> 0 | E14: =Décembre!K1 -> 0 | F14: =Décembre!L1 -> 0 | G14: =Décembre!M1 -> 0 | H14: =Décembre!N1 -> 0
A15: Totaux | B15: =SUM(B3:B14) -> 0 | C15: =SUM(C3:C14) -> 0 | D15: =SUM(D3:D14) -> 17 | E15: =SUM(E3:E14) -> 5 | F15: =SUM(F3:F14) -> 12 | G15: =SUM(G3:G14) -> 22879.64 | H15: =SUM(H3:H14) -> 27455.568

Sheet Impayées
C1: =COUNTA(C3:C100) -> 0 | E1: =COUNTA(E3:E100) -> 0 | G1: =COUNTA(G3:G100) -> 0 | I1: =COUNTA(I3:I100) -> 0 | K1: =SUM(K3:K100) -> 0
A2: Client | B2: n° client | C2: n° facture | D2: Montant | E2: n° facture | F2: Montant | G2: n° facture | H2: Montant | I2: n° facture | J2: Montant | K2: Montant total H.T

Sheet Janvier
E1: =COUNTA(E3:E100) -> 0 | H1: =SUM(H3:H100) -> 0 | I1: =COUNTA(I3:I100) -> 15 | K1: =COUNTIF(K3:K100,"Oui") -> 5 | L1: =I1-K1 -> 10 | M1: =SUM(M3:M100) -> 22268.09 | N1: =SUM(N3:N100) -> 26721.708
A2: Client | B2: n° client | C2: n° devis | D2: n° commande | E2: n° bon de livraison | F2: Date | G2: Transporteur | H2: Frais | I2: n° facture | J2: Date | K2: Règlement effectué | M2: Montant HT | N2: Montant TTC
A3: 1 | B3: 4110011 | I3: 1 | K3: Oui | M3: 1624.23 | N3: =(M3+H3)*1.2 -> 1949.076
A4: 2 | B4: 4110012 | I4: =I3+1 -> 2 | M4: 1847.14 | N4: =(M4+H4)*1.2 -> 2216.568
A5: 2 | B5: 4110012 | I5: =I4+1 -> 3 | M5: 737.1 | N5: =(M5+H5)*1.2 -> 884.52
A6: 3 | B6: 4110013 | I6: =I5+1 -> 4 | K6: Oui | M6: 846.93 | N6: =(M6+H6)*1.2 -> 1016.316
A7: 2 | B7: 4110012 | I7: =I6+1 -> 5 | M7: 863.21 | N7: =(M7+H7)*1.2 -> 1035.852
A8: 5 | B8: 4110015 | I8: =I7+1 -> 6 | M8: 1421.2 | N8: =(M8+H8)*1.2 -> 1705.44
A9: 8 | B9: 4110018 | I9: =I8+1 -> 7 | M9: 1697.45 | N9: =(M9+H9)*1.2 -> 2036.94
A10: 9 | B10: 4110019 | I10: =I9+1 -> 8 | M10: 4325.6 | N10: =(M10+H10)*1.2 -> 5190.72
A11: 7 | B11: 4110017 | I11: =I10+1 -> 9 | K11: Oui | M11: 5214.63 | N11: =(M11+H11)*1.2 -> 6257.556
A12: 5 | B12: 4110015 | I12: =I11+1 -> 10 | K12: Oui | M12: 473.71 | N12: =(M12+H12)*1.2 -> 568.452
A13: 6 | B13: 4110016 | I13: =I12+1 -> 11 | K13: Oui | M13: 498.21 | N13: =(M13+H13)*1.2 -> 597.852
A14: 1 | B14: 4110011 | I14: =I13+1 -> 12 | M14: 698.98 | N14: =(M14+H14)*1.2 -> 838.776
A15: 4 | B15: 4110014 | I15: =I14+1 -> 13 | M15: 432.14 | N15: =(M15+H15)*1.2 -> 518.568
A16: 3 | B16: 4110013 | I16: =I15+1 -> 14 | M16: 1111.68 | N16: =(M16+H16)*1.2 -> 1334.016
A17: 3 | B17: 4110013 | I17: =I16+1 -> 15 | M17: 475.88 | N17: =(M17+H17)*1.2 -> 571.056
N18: =(M18+H18)*1.2 -> 0
N19: =(M19+H19)*1.2 -> 0
N20: =(M20+H20)*1.2 -> 0
N21: =(M21+H21)*1.2 -> 0
N22: =(M22+H22)*1.2 -> 0
N23: =(M23+H23)*1.2 -> 0
N24: =(M24+H24)*1.2 -> 0
N25: =(M25+H25)*1.2 -> 0
N26: =(M26+H26)*1.2 -> 0
N27: =(M27+H27)*1.2 -> 0
N28: =(M28+H28)*1.2 -> 0
N29: =(M29+H29)*1.2 -> 0
... N100: =(M100+H100)*1.2 -> 0

Sheet Février
E1: =COUNTA(E3:E100) -> 0 | H1: =SUM(H3:H100) -> 0 | I1: =COUNTA(I3:I100) -> 2 | K1: =COUNTIF(K3:K100,"Oui") -> 0 | L1: =I1-K1 -> 2 | M1: =SUM(M3:M100) -> 611.55 | N1: =SUM(N3:N100) -> 733.86
A2: Client | B2: n° client | C2: n° devis | D2: n° commande | E2: n° bon de livraison | F2: Date | G2: Transporteur | H2: Frais | I2: n° facture | J2: Date | K2: Règlement effectué | M2: Montant HT | N2: Montant TTC
A3: 3 | B3: 4110013 | I3: 16 | M3: 77.86 | N3: =(M3+H3)*1.2 -> 93.432
A4: 6 | B4: 4110016 | I4: 17 | M4: 533.69 | N4: =(M4+H4)*1.2 -> 640.428
N5: =(M5+H5)*1.2 -> 0
N6: =(M6+H6)*1.2 -> 0
N7: =(M7+H7)*1.2 -> 0
N8: =(M8+H8)*1.2 -> 0
N9: =(M9+H9)*1.2 -> 0
N10: =(M10+H10)*1.2 -> 0
N11: =(M11+H11)*1.2 -> 0
N12: =(M12+H12)*1.2 -> 0
N13: =(M13+H13)*1.2 -> 0
N14: =(M14+H14)*1.2 -> 0
N15: =(M15+H15)*1.2 -> 0
N16: =(M16+H16)*1.2 -> 0
... N100: =(M100+H100)*1.2 -> 0

Sheet Mars
E1: =COUNTA(E3:E100) -> 0 | H1: =SUM(H3:H100) -> 0 | I1: =COUNTA(I3:I100) -> 0 | K1: =COUNTIF(K3:K100,"Oui") -> 0 | L1: =I1-K1 -> 0 | M1: =SUM(M3:M100) -> 0 | N1: =SUM(N3:N100) -> 0
A2: Client | B2: n° client | C2: n° devis | D2: n° commande | E2: n° bon de livraison | F2: Date | G2: Transporteur | H2: Frais | I2: n° facture | J2: Date | K2: Règlement effectué | M2: Montant HT | N2: Montant TTC
N3: =(M3+H3)*1.2 -> 0
N4: =(M4+H4)*1.2 -> 0
N5: =(M5+H5)*1.2 -> 0
N6: =(M6+H6)*1.2 -> 0
N7: =(M7+H7)*1.2 -> 0
N8: =(M8+H8)*1.2 -> 0
N9: =(M9+H9)*1.2 -> 0
N10: =(M10+H10)*1.2 -> 0
N11: =(M11+H11)*1.2 -> 0
N12: =(M12+H12)*1.2 -> 0
N13: =(M13+H13)*1.2 -> 0
N14: =(M14+H14)*1.2 -> 0
... N100: =(M100+H100)*1.2 -> 0

Sheet Avril
E1: =COUNTA(E3:E100) -> 0 | H1: =SUM(H3:H100) -> 0 | I1: =COUNTA(I3:I100) -> 0 | K1: =COUNTIF(K3:K100,"Oui") -> 0 | L1: =I1-K1 -> 0 | M1: =SUM(M3:M100) -> 0 | N1: =SUM(N3:N100) -> 0
A2: Client | B2: n° client | C2: n° devis | D2: n° commande | E2: n° bon de livraison | F2: Date | G2: Transporteur | H2: Frais | I2: n° facture | J2: Date | K2: Règlement effectué | M2: Montant HT | N2: Montant TTC | P2: nom client | Q2: KLM
N3: =(M3+H3)*1.2 -> 0 | P3: Montant HT | Q3: {=IRR(_xlfn._xlws.FILTER(A3:A18,M3:M18=Q2))} -> #VALUE!
N4: =(M4+H4)*1.2 -> 0
N5: =(M5+H5)*1.2 -> 0
N6: =(M6+H6)*1.2 -> 0
N7: =(M7+H7)*1.2 -> 0
N8: =(M8+H8)*1.2 -> 0
N9: =(M9+H9)*1.2 -> 0
N10: =(M10+H10)*1.2 -> 0
N11: =(M11+H11)*1.2 -> 0
N12: =(M12+H12)*1.2 -> 0
N13: =(M13+H13)*1.2 -> 0
N14: =(M14+H14)*1.2 -> 0
N15: =(M15+H15)*1.2 -> 0
... N19: =(M19+H19)*1.2 -> 0
N20: =(M20+H20)*1.2 -> 0 | O20: DZ
N21: =(M21+H21)*1.2 -> 0
N22: =(M22+H22)*1.2 -> 0
N23: =(M23+H23)*1.2 -> 0
N24: =(M24+H24)*1.2 -> 0
N25: =(M25+H25)*1.2 -> 0
N26: =(M26+H26)*1.2 -> 0
N27: =(M27+H27)*1.2 -> 0
N28: =(M28+H28)*1.2 -> 0
N29: =(M29+H29)*1.2 -> 0
N30: =(M30+H30)*1.2 -> 0
N31: =(M31+H31)*1.2 -> 0
N32: =(M32+H32)*1.2 -> 0
... N100: =(M100+H100)*1.2 -> 0

Sheet Mai
E1: =COUNTA(E3:E100) -> 0 | H1: =SUM(H3:H100) -> 0 | I1: =COUNTA(I3:I100) -> 0 | K1: =COUNTIF(K3:K100,"Oui") -> 0 | L1: =I1-K1 -> 0 | M1: =SUM(M3:M100) -> 0 | N1: =SUM(N3:N100) -> 0
A2: Client | B2: n° client | C2: n° devis | D2: n° commande | E2: n° bon de livraison | F2: Date | G2: Transporteur | H2: Frais | I2: n° facture | J2: Date | K2: Règlement effectué | M2: Montant HT | N2: Montant TTC
N3: =(M3+H3)*1.2 -> 0
N4: =(M4+H4)*1.2 -> 0
N5: =(M5+H5)*1.2 -> 0
N6: =(M6+H6)*1.2 -> 0
N7: =(M7+H7)*1.2 -> 0
N8: =(M8+H8)*1.2 -> 0
N9: =(M9+H9)*1.2 -> 0
N10: =(M10+H10)*1.2 -> 0
N11: =(M11+H11)*1.2 -> 0
N12: =(M12+H12)*1.2 -> 0
N13: =(M13+H13)*1.2 -> 0
N14: =(M14+H14)*1.2 -> 0
... N100: =(M100+H100)*1.2 -> 0

Sheet Juin
E1: =COUNTA(E3:E100) -> 0 | H1: =SUM(H3:H100) -> 0 | I1: =COUNTA(I3:I100) -> 0 | K1: =COUNTIF(K3:K100,"Oui") -> 0 | L1: =I1-K1 -> 0 | M1: =SUM(M3:M100) -> 0 | N1: =SUM(N3:N100) -> 0
A2: Client | B2: n° client | C2: n° devis | D2: n° commande | E2: n° bon de livraison | F2: Date | G2: Transporteur | H2: Frais | I2: n° facture | J2: Date | K2: Règlement effectué | M2: Montant HT | N2: Montant TTC
N3: =(M3+H3)*1.2 -> 0
N4: =(M4+H4)*1.2 -> 0
N5: =(M5+H5)*1.2 -> 0
N6: =(M6+H6)*1.2 -> 0
N7: =(M7+H7)*1.2 -> 0
N8: =(M8+H8)*1.2 -> 0
N9: =(M9+H9)*1.2 -> 0
N10: =(M10+H10)*1.2 -> 0
N11: =(M11+H11)*1.2 -> 0
N12: =(M12+H12)*1.2 -> 0
N13: =(M13+H13)*1.2 -> 0
N14: =(M14+H14)*1.2 -> 0
... N100: =(M100+H100)*1.2 -> 0

Sheet Juillet
E1: =COUNTA(E3:E100) -> 0 | H1: =SUM(H3:H100) -> 0 | I1: =COUNTA(I3:I100) -> 0 | K1: =COUNTIF(K3:K100,"Oui") -> 0 | L1: =I1-K1 -> 0 | M1: =SUM(M3:M100) -> 0 | N1: =SUM(N3:N100) -> 0
A2: Client | B2: n° client | C2: n° devis | D2: n° commande | E2: n° bon de livraison | F2: Date | G2: Transporteur | H2: Frais | I2: n° facture | J2: Date | K2: Règlement effectué | M2: Montant HT | N2: Montant TTC
N3: =(M3+H3)*1.2 -> 0
N4: =(M4+H4)*1.2 -> 0
N5: =(M5+H5)*1.2 -> 0
N6: =(M6+H6)*1.2 -> 0
N7: =(M7+H7)*1.2 -> 0
N8: =(M8+H8)*1.2 -> 0
N9: =(M9+H9)*1.2 -> 0
N10: =(M10+H10)*1.2 -> 0
N11: =(M11+H11)*1.2 -> 0
N12: =(M12+H12)*1.2 -> 0
N13: =(M13+H13)*1.2 -> 0
N14: =(M14+H14)*1.2 -> 0
... N100: =(M100+H100)*1.2 -> 0

Sheet Août
E1: =COUNTA(E3:E100) -> 0 | H1: =SUM(H3:H100) -> 0 | I1: =COUNTA(I3:I100) -> 0 | K1: =COUNTIF(K3:K100,"Oui") -> 0 | L1: =I1-K1 -> 0 | M1: =SUM(M3:M100) -> 0 | N1: =SUM(N3:N100) -> 0
A2: Client | B2: n° client | C2: n° devis | D2: n° commande | E2: n° bon de livraison | F2: Date | G2: Transporteur | H2: Frais | I2: n° facture | J2: Date | K2: Règlement effectué | M2: Montant HT | N2: Montant TTC
N3: =(M3+H3)*1.2 -> 0
N4: =(M4+H4)*1.2 -> 0
N5: =(M5+H5)*1.2 -> 0
N6: =(M6+H6)*1.2 -> 0
N7: =(M7+H7)*1.2 -> 0
N8: =(M8+H8)*1.2 -> 0
N9: =(M9+H9)*1.2 -> 0
N10: =(M10+H10)*1.2 -> 0
N11: =(M11+H11)*1.2 -> 0
N12: =(M12+H12)*1.2 -> 0
N13: =(M13+H13)*1.2 -> 0
N14: =(M14+H14)*1.2 -> 0
... N100: =(M100+H100)*1.2 -> 0

Sheet Septembre
E1: =COUNTA(E3:E100) -> 0 | H1: =SUM(H3:H100) -> 0 | I1: =COUNTA(I3:I100) -> 0 | K1: =COUNTIF(K3:K100,"Oui") -> 0 | L1: =I1-K1 -> 0 | M1: =SUM(M3:M100) -> 0 | N1: =SUM(N3:N100) -> 0
A2: Client | B2: n° client | C2: n° devis | D2: n° commande | E2: n° bon de livraison | F2: Date | G2: Transporteur | H2: Frais | I2: n° facture | J2: Date | K2: Règlement effectué | M2: Montant HT | N2: Montant TTC
N3: =(M3+H3)*1.2 -> 0
N4: =(M4+H4)*1.2 -> 0
N5: =(M5+H5)*1.2 -> 0
N6: =(M6+H6)*1.2 -> 0
N7: =(M7+H7)*1.2 -> 0
N8: =(M8+H8)*1.2 -> 0
N9: =(M9+H9)*1.2 -> 0
N10: =(M10+H10)*1.2 -> 0
N11: =(M11+H11)*1.2 -> 0
N12: =(M12+H12)*1.2 -> 0
N13: =(M13+H13)*1.2 -> 0
N14: =(M14+H14)*1.2 -> 0
... N100: =(M100+H100)*1.2 -> 0

Sheet Octobre
E1: =COUNTA(E3:E100) -> 0 | H1: =SUM(H3:H100) -> 0 | I1: =COUNTA(I3:I100) -> 0 | K1: =COUNTIF(K3:K100,"Oui") -> 0 | L1: =I1-K1 -> 0 | M1: =SUM(M3:M100) -> 0 | N1: =SUM(N3:N100) -> 0
A2: Client | B2: n° client | C2: n° devis | D2: n° commande | E2: n° bon de livraison | F2: Date | G2: Transporteur | H2: Frais | I2: n° facture | J2: Date | K2: Règlement effectué | M2: Montant HT | N2: Montant TTC
N3: =(M3+H3)*1.2 -> 0
N4: =(M4+H4)*1.2 -> 0
N5: =(M5+H5)*1.2 -> 0
N6: =(M6+H6)*1.2 -> 0
N7: =(M7+H7)*1.2 -> 0
N8: =(M8+H8)*1.2 -> 0
N9: =(M9+H9)*1.2 -> 0
N10: =(M10+H10)*1.2 -> 0
N11: =(M11+H11)*1.2 -> 0
N12: =(M12+H12)*1.2 -> 0
N13: =(M13+H13)*1.2 -> 0
N14: =(M14+H14)*1.2 -> 0
... N100: =(M100+H100)*1.2 -> 0

Sheet Novembre
E1: =COUNTA(E3:E100) -> 0 | H1: =SUM(H3:H100) -> 0 | I1: =COUNTA(I3:I100) -> 0 | K1: =COUNTIF(K3:K100,"Oui") -> 0 | L1: =I1-K1 -> 0 | M1: =SUM(M3:M100) -> 0 | N1: =SUM(N3:N100) -> 0
A2: Client | B2: n° client | C2: n° devis | D2: n° commande | E2: n° bon de livraison | F2: Date | G2: Transporteur | H2: Frais | I2: n° facture | J2: Date | K2: Règlement effectué | M2: Montant HT | N2: Montant TTC
N3: =(M3+H3)*1.2 -> 0
N4: =(M4+H4)*1.2 -> 0
N5: =(M5+H5)*1.2 -> 0
N6: =(M6+H6)*1.2 -> 0
N7: =(M7+H7)*1.2 -> 0
N8: =(M8+H8)*1.2 -> 0
N9: =(M9+H9)*1.2 -> 0
N10: =(M10+H10)*1.2 -> 0
N11: =(M11+H11)*1.2 -> 0
N12: =(M12+H12)*1.2 -> 0
N13: =(M13+H13)*1.2 -> 0
N14: =(M14+H14)*1.2 -> 0
... N100: =(M100+H100)*1.2 -> 0

Sheet Décembre
E1: =COUNTA(E3:E100) -> 0 | H1: =SUM(H3:H100) -> 0 | I1: =COUNTA(I3:I100) -> 0 | K1: =COUNTIF(K3:K100,"Oui") -> 0 | L1: =I1-K1 -> 0 | M1: =SUM(M3:M100) -> 0 | N1: =SUM(N3:N100) -> 0
A2: Client | B2: n° client | C2: n° devis | D2: n° commande | E2: n° bon de livraison | F2: Date | G2: Transporteur | H2: Frais | I2: n° facture | J2: Date | K2: Règlement effectué | M2: Montant HT | N2: Montant TTC
N3: =(M3+H3)*1.2 -> 0
N4: =(M4+H4)*1.2 -> 0
N5: =(M5+H5)*1.2 -> 0
N6: =(M6+H6)*1.2 -> 0
N7: =(M7+H7)*1.2 -> 0
N8: =(M8+H8)*1.2 -> 0
N9: =(M9+H9)*1.2 -> 0
N10: =(M10+H10)*1.2 -> 0
N11: =(M11+H11)*1.2 -> 0
N12: =(M12+H12)*1.2 -> 0
N13: =(M13+H13)*1.2 -> 0
N14: =(M14+H14)*1.2 -> 0
... N100: =(M100+H100)*1.2 -> 0
