Workbook

Sheet Détails
A1: 2024 | D1: Contrat | G1: Jours fériés | J1: =A1 -> 2024 | K1: Jours | L1: Jours ouvrables | M1: Samedi | N1: Dimanche | O1: Week-end | P1: Jours fériés | Q1: Jours fériés le week-end
A2: Premier jour de l'année | B2: =DATE(A1,1,1) -> 45292 | D2: Journalier | E2: =E4/E3 -> 0.325 | G2: Jour de l'an | H2: =DATE(A1,1,1) -> 45292 | J2: Janvier | K2: =DAY(EOMONTH(Janvier!$B$3,0)) -> 31 | L2: =NETWORKDAYS.INTL(Janvier!$B$3,EOMONTH(Janvier!$B$3,0),,H2:H16) -> 22 | M2: =NETWORKDAYS.INTL(Janvier!$B$3,EOMONTH(Janvier!$B$3,0),"1111101") -> 4 | N2: =NETWORKDAYS.INTL(Janvier!$B$3,EOMONTH(Janvier!$B$3,0),"1111110") -> 4 | O2: =NETWORKDAYS.INTL(Janvier!$B$3,EOMONTH(Janvier!$B$3,0),"1111100") -> 8 | P2: =DAY(EOMONTH(Janvier!$B$3,0))-NETWORKDAYS.INTL(Janvier!$B$3,EOMONTH(Janvier!$B$3,0),"0000000",H2:H16) -> 1 | Q2: =NETWORKDAYS.INTL(Janvier!$B$3,EOMONTH(Janvier!$B$3,0),"1111100")-NETWORKDAYS.INTL(Janvier!$B$3,EOMONTH(Janvier!$B$3,0),"1111100",H2:H16) -> 0
A3: Dernier jour de l'année | B3: =DATE(A1,12,31) -> 45657 | D3: Jour travaillé par semaine | E3: 5 | G3: Vendredi saint | H3: =H4-2 -> 45380 | J3: Février | K3: =DAY(EOMONTH(#REF!,0)) -> #REF! | L3: =NETWORKDAYS.INTL(#REF!,EOMONTH(#REF!,0),,H2:H16) -> #REF! | M3: =NETWORKDAYS.INTL(#REF!,EOMONTH(#REF!,0),"1111101") -> #REF! | N3: =NETWORKDAYS.INTL(#REF!,EOMONTH(#REF!,0),"1111110") -> #REF! | O3: =NETWORKDAYS.INTL(#REF!,EOMONTH(#REF!,0),"1111100") -> #REF! | P3: =DAY(EOMONTH(#REF!,0))-NETWORKDAYS.INTL(#REF!,EOMONTH(#REF!,0),"0000000",H2:H16) -> #REF! | Q3: =NETWORKDAYS.INTL(#REF!,EOMONTH(#REF!,0),"1111100")-NETWORKDAYS.INTL(#REF!,EOMONTH(#REF!,0),"1111100",H2:H16) -> #REF!
A4: Nombre de jour dans l'année | B4: =+B3-B2+1 -> 366 | D4: Hedomadaire | E4: 1.625 | G4: Pâques | H4: =ROUND(DATE(A1,4,MOD(234-11*MOD($A$1,19),30))/7,)*7-6 -> 45382 | J4: Mars | K4: =DAY(EOMONTH(#REF!,0)) -> #REF! | L4: =NETWORKDAYS.INTL(#REF!,EOMONTH(#REF!,0),,H2:H16) -> #REF! | M4: =NETWORKDAYS.INTL(#REF!,EOMONTH(#REF!,0),"1111101") -> #REF! | N4: =NETWORKDAYS.INTL(#REF!,EOMONTH(#REF!,0),"1111110") -> #REF! | O4: =NETWORKDAYS.INTL(#REF!,EOMONTH(#REF!,0),"1111100") -> #REF! | P4: =DAY(EOMONTH(#REF!,0))-NETWORKDAYS.INTL(#REF!,EOMONTH(#REF!,0),"0000000",H2:H16) -> #REF! | Q4: =NETWORKDAYS.INTL(#REF!,EOMONTH(#REF!,0),"1111100")-NETWORKDAYS.INTL(#REF!,EOMONTH(#REF!,0),"1111100",H2:H16) -> #REF!
A5: Nombre de jours ouvrés | B5: =NETWORKDAYS.INTL(B2,B3,,H2:H16) -> 250 | D5: Mensuel | E5: =E4*4.33333 -> 7.0416613 | G5: Lundi de Pâques | H5: =H4+1 -> 45383 | J5: Avril | K5: =DAY(EOMONTH(#REF!,0)) -> #REF! | L5: =NETWORKDAYS.INTL(#REF!,EOMONTH(#REF!,0),,H2:H16) -> #REF! | M5: =NETWORKDAYS.INTL(#REF!,EOMONTH(#REF!,0),"1111101") -> #REF! | N5: =NETWORKDAYS.INTL(#REF!,EOMONTH(#REF!,0),"1111110") -> #REF! | O5: =NETWORKDAYS.INTL(#REF!,EOMONTH(#REF!,0),"1111100") -> #REF! | P5: =DAY(EOMONTH(#REF!,0))-NETWORKDAYS.INTL(#REF!,EOMONTH(#REF!,0),"0000000",H2:H16) -> #REF! | Q5: =NETWORKDAYS.INTL(#REF!,EOMONTH(#REF!,0),"1111100")-NETWORKDAYS.INTL(#REF!,EOMONTH(#REF!,0),"1111100",H2:H16) -> #REF!
A6: Nombre de samedi et dimanche | B6: =NETWORKDAYS.INTL(B2,B3,"1111100") -> 104 | D6: Jour de travail prévu par la convention | E6: 218 | G6: Fête du travail | H6: =DATE(A1,5,1) -> 45413 | J6: Mai | K6: =DAY(EOMONTH(#REF!,0)) -> #REF! | L6: =NETWORKDAYS.INTL(#REF!,EOMONTH(#REF!,0),,H2:H16) -> #REF! | M6: =NETWORKDAYS.INTL(#REF!,EOMONTH(#REF!,0),"1111101") -> #REF! | N6: =NETWORKDAYS.INTL(#REF!,EOMONTH(#REF!,0),"1111110") -> #REF! | O6: =NETWORKDAYS.INTL(#REF!,EOMONTH(#REF!,0),"1111100") -> #REF! | P6: =DAY(EOMONTH(#REF!,0))-NETWORKDAYS.INTL(#REF!,EOMONTH(#REF!,0),"0000000",H2:H16) -> #REF! | Q6: =NETWORKDAYS.INTL(#REF!,EOMONTH(#REF!,0),"1111100")-NETWORKDAYS.INTL(#REF!,EOMONTH(#REF!,0),"1111100",H2:H16) -> #REF!
A7: Nombre de jours fériés en semaine | B7: =NETWORKDAYS.INTL(B2,B3)-NETWORKDAYS.INTL(B2,B3,,H2:H16) -> 12 | D7: Congés annuel | E7: =E8*12 -> 25 | G7: Commémoration de la victoire de 1945 | H7: =DATE(A1,5,8) -> 45420 | J7: Juin | K7: =DAY(EOMONTH(#REF!,0)) -> #REF! | L7: =NETWORKDAYS.INTL(#REF!,EOMONTH(#REF!,0),,H2:H16) -> #REF! | M7: =NETWORKDAYS.INTL(#REF!,EOMONTH(#REF!,0),"1111101") -> #REF! | N7: =NETWORKDAYS.INTL(#REF!,EOMONTH(#REF!,0),"1111110") -> #REF! | O7: =NETWORKDAYS.INTL(#REF!,EOMONTH(#REF!,0),"1111100") -> #REF! | P7: =DAY(EOMONTH(#REF!,0))-NETWORKDAYS.INTL(#REF!,EOMONTH(#REF!,0),"0000000",H2:H16) -> #REF! | Q7: =NETWORKDAYS.INTL(#REF!,EOMONTH(#REF!,0),"1111100")-NETWORKDAYS.INTL(#REF!,EOMONTH(#REF!,0),"1111100",H2:H16) -> #REF!
A8: Nombre de jours fériés le week-end | B8: =NETWORKDAYS.INTL(B2,B3,"1111100")-NETWORKDAYS.INTL(B2,B3,"1111100",H2:H16) -> 3 | D8: Congés acquis fin de mois | E8: 2.0833333 | G8: Ascension | H8: =H4+39 -> 45421 | J8: Juillet | K8: =DAY(EOMONTH(#REF!,0)) -> #REF! | L8: =NETWORKDAYS.INTL(#REF!,EOMONTH(#REF!,0),,H2:H16) -> #REF! | M8: =NETWORKDAYS.INTL(#REF!,EOMONTH(#REF!,0),"1111101") -> #REF! | N8: =NETWORKDAYS.INTL(#REF!,EOMONTH(#REF!,0),"1111110") -> #REF! | O8: =NETWORKDAYS.INTL(#REF!,EOMONTH(#REF!,0),"1111100") -> #REF! | P8: =DAY(EOMONTH(#REF!,0))-NETWORKDAYS.INTL(#REF!,EOMONTH(#REF!,0),"0000000",H2:H16) -> #REF! | Q8: =NETWORKDAYS.INTL(#REF!,EOMONTH(#REF!,0),"1111100")-NETWORKDAYS.INTL(#REF!,EOMONTH(#REF!,0),"1111100",H2:H16) -> #REF!
G9: Pentecôte | H9: =H4+49 -> 45431 | J9: Août | K9: =DAY(EOMONTH(#REF!,0)) -> #REF! | L9: =NETWORKDAYS.INTL(#REF!,EOMONTH(#REF!,0),,H2:H16) -> #REF! | M9: =NETWORKDAYS.INTL(#REF!,EOMONTH(#REF!,0),"1111101") -> #REF! | N9: =NETWORKDAYS.INTL(#REF!,EOMONTH(#REF!,0),"1111110") -> #REF! | O9: =NETWORKDAYS.INTL(#REF!,EOMONTH(#REF!,0),"1111100") -> #REF! | P9: =DAY(EOMONTH(#REF!,0))-NETWORKDAYS.INTL(#REF!,EOMONTH(#REF!,0),"0000000",H2:H16) -> #REF! | Q9: =NETWORKDAYS.INTL(#REF!,EOMONTH(#REF!,0),"1111100")-NETWORKDAYS.INTL(#REF!,EOMONTH(#REF!,0),"1111100",H2:H16) -> #REF!
A10: Calcul entre deux dates | D10: Heures de nuit | G10: Lundi de Pentecôte | H10: =H9+1 -> 45432 | J10: Septembre | K10: =DAY(EOMONTH(#REF!,0)) -> #REF! | L10: =NETWORKDAYS.INTL(#REF!,EOMONTH(#REF!,0),,H2:H16) -> #REF! | M10: =NETWORKDAYS.INTL(#REF!,EOMONTH(#REF!,0),"1111101") -> #REF! | N10: =NETWORKDAYS.INTL(#REF!,EOMONTH(#REF!,0),"1111110") -> #REF! | O10: =NETWORKDAYS.INTL(#REF!,EOMONTH(#REF!,0),"1111100") -> #REF! | P10: =DAY(EOMONTH(#REF!,0))-NETWORKDAYS.INTL(#REF!,EOMONTH(#REF!,0),"0000000",H2:H16) -> #REF! | Q10: =NETWORKDAYS.INTL(#REF!,EOMONTH(#REF!,0),"1111100")-NETWORKDAYS.INTL(#REF!,EOMONTH(#REF!,0),"1111100",H2:H16) -> #REF!
A11: du | B11: 45413 | D11: 0.875 | E11: 0.25 | G11: Fête Nationale | H11: =DATE(A1,7,14) -> 45487 | J11: Octobre | K11: =DAY(EOMONTH(#REF!,0)) -> #REF! | L11: =NETWORKDAYS.INTL(#REF!,EOMONTH(#REF!,0),,H2:H16) -> #REF! | M11: =NETWORKDAYS.INTL(#REF!,EOMONTH(#REF!,0),"1111101") -> #REF! | N11: =NETWORKDAYS.INTL(#REF!,EOMONTH(#REF!,0),"1111110") -> #REF! | O11: =NETWORKDAYS.INTL(#REF!,EOMONTH(#REF!,0),"1111100") -> #REF! | P11: =DAY(EOMONTH(#REF!,0))-NETWORKDAYS.INTL(#REF!,EOMONTH(#REF!,0),"0000000",H2:H16) -> #REF! | Q11: =NETWORKDAYS.INTL(#REF!,EOMONTH(#REF!,0),"1111100")-NETWORKDAYS.INTL(#REF!,EOMONTH(#REF!,0),"1111100",H2:H16) -> #REF!
A12: au | B12: 45432 | G12: Assomption | H12: =DATE($A$1,8,15) -> 45519 | J12: Novembre | K12: =DAY(EOMONTH(#REF!,0)) -> #REF! | L12: =NETWORKDAYS.INTL(#REF!,EOMONTH(#REF!,0),,H2:H16) -> #REF! | M12: =NETWORKDAYS.INTL(#REF!,EOMONTH(#REF!,0),"1111101") -> #REF! | N12: =NETWORKDAYS.INTL(#REF!,EOMONTH(#REF!,0),"1111110") -> #REF! | O12: =NETWORKDAYS.INTL(#REF!,EOMONTH(#REF!,0),"1111100") -> #REF! | P12: =DAY(EOMONTH(#REF!,0))-NETWORKDAYS.INTL(#REF!,EOMONTH(#REF!,0),"0000000",H2:H16) -> #REF! | Q12: =NETWORKDAYS.INTL(#REF!,EOMONTH(#REF!,0),"1111100")-NETWORKDAYS.INTL(#REF!,EOMONTH(#REF!,0),"1111100",H2:H16) -> #REF!
A13: Nombre de jours | B13: =+B12-B11+1 -> 20 | G13: Toussaint | H13: =DATE(A1,11,1) -> 45597 | J13: Décembre | K13: =DAY(EOMONTH(#REF!,0)) -> #REF! | L13: =NETWORKDAYS.INTL(#REF!,EOMONTH(#REF!,0),,H2:H16) -> #REF! | M13: =NETWORKDAYS.INTL(#REF!,EOMONTH(#REF!,0),"1111101") -> #REF! | N13: =NETWORKDAYS.INTL(#REF!,EOMONTH(#REF!,0),"1111110") -> #REF! | O13: =NETWORKDAYS.INTL(#REF!,EOMONTH(#REF!,0),"1111100") -> #REF! | P13: =DAY(EOMONTH(#REF!,0))-NETWORKDAYS.INTL(#REF!,EOMONTH(#REF!,0),"0000000",H2:H16) -> #REF! | Q13: =NETWORKDAYS.INTL(#REF!,EOMONTH(#REF!,0),"1111100")-NETWORKDAYS.INTL(#REF!,EOMONTH(#REF!,0),"1111100",H2:H16) -> #REF!
A14: Nombre de jours ouvrés | B14: =NETWORKDAYS.INTL(B11,B12,,H2:H16) -> 10 | G14: Commémoration de la victoire de 1918 | H14: =DATE(A1,11,11) -> 45607
A15: Nombre de samedi et dimanche | B15: =NETWORKDAYS.INTL(B11,B12,"1111100") -> 6 | G15: Noël | H15: =DATE(A1,12,25) -> 45651
A16: Nombre de jours fériés en semaine | B16: =NETWORKDAYS.INTL(B11,B12)-NETWORKDAYS.INTL(B11,B12,,H2:H16) -> 4 | G16: Saint-Étienne | H16: =H15+1 -> 45652
A17: Nombre de jours fériés le week-end | B17: =NETWORKDAYS.INTL(B11,B12,"1111100")-NETWORKDAYS.INTL(B11,B12,"1111100",H2:H16) -> 1
A19: =#REF!+1 -> #REF!
A20: =A19+1 -> #REF!

Sheet Janvier
B1: =SUBTOTAL(102,Tabel1[Date]) -> 31 | D1: =SUBTOTAL(102,Tabel1[Ouverture de poste]) -> 23 | E1: =SUBTOTAL(102,Tabel1[Pause entre 06:00 et 21:00]) -> 23 | F1: =SUBTOTAL(102,Tabel1[Pause entre 21:00 et 06:00]) -> 0 | G1: =SUBTOTAL(102,Tabel1[Fermeture de poste]) -> 23 | H1: =SUBTOTAL(109,Tabel1[Total Heures]) -> 7.5625 | I1: =SUBTOTAL(109,Tabel1[Heures de jour]) -> 7.5625 | J1: =SUBTOTAL(109,Tabel1[Heures de nuit]) -> 0 | K1: =SUBTOTAL(109,Tabel1[Total semaine]) -> 7.5625 | L1: =SUBTOTAL(109,Tabel1[Heures supplémentaires]) -> 0
A2: Semaine | B2: Date | C2: Ordre | D2: Ouverture de poste | E2: Pause entre 06:00 et 21:00 | F2: Pause entre 21:00 et 06:00 | G2: Fermeture de poste | H2: Total Heures | I2: Heures de jour | J2: Heures de nuit | K2: Total semaine | L2: Heures supplémentaires
A3: =""&WEEKNUM(B3,2) -> 1 | B3: =DATE(Détails!A1,1,1) -> 45292 | C3: {=IF(ISNUMBER(Tabel1[[#This Row],[Ouverture de poste]]),"En poste",IF(ISNUMBER(_xlfn.AGGREGATE(15,6,ROW(#REF!)/((#REF!<=Tabel1[[#This Row],[Date]])*(Tabel1[[#This Row],[Date]]<=#REF!)),1)),"Arrêt maladie",IF(ISNUMBER(_xlfn.AGGREGATE(15,6,ROW(#REF!)/((#REF!<=Tabel1[[#This Row],[Date]])*(Tabel1[[#This Row],[Date]]<=#REF!)),1)),"Accident du travail",IF(ISNUMBER(_xlfn.AGGREGATE(15,6,ROW(#REF!)/((#REF!<=Tabel1[[#This Row],[Date]])*(Tabel1[[#This Row],[Date]]<=#REF!)),1)),"Congé", IF(ISNUMBER(_xlfn.AGGREGATE(15,6,ROW(#REF!)/((#REF!<=Tabel1[[#This Row],[Date]])*(Tabel1[[#This Row],[Date]]<=#REF!)),1)),"Congé pour évènement familial",IFERROR(IF(VLOOKUP($B3,Détails!$H$2:$H$16,1,0),"Férié",""),""))))))} -> En poste | D3: 0.33333333 | E3: 0.020833333 | G3: 0.70833333 | H3: =IF(OR(D3<>"",G3<>""),MOD(G3-D3-F3-E3,1),"") -> 0.35416667 | I3: =IF($G3>$D3,MEDIAN($G3,Détails!$D$11,Détails!$E$11)-MEDIAN($D3,Détails!$D$11,Détails!$E$11),($G3<$D3)*(Détails!$D$11-Détails!$E$11)+MEDIAN($G3,Détails!$E$11,Détails!$D$11)-MEDIAN($D3,Détails!$E$11,Détails!$D$11))-$E3 -> 0.35416667 | J3: =MOD($G3-$D3,1)-($G3<$D3)*(Détails!$D$11-Détails!$E$11)-MEDIAN($G3,Détails!$E$11,Détails!$D$11)+MEDIAN($D3,Détails!$E$11,Détails!$D$11)-$F3 -> 0 | K3: =IF(OR(WEEKDAY(Tabel1[[#This Row],[Date]],2)=7, DAY(Tabel1[[#This Row],[Date]])=DAY(EOMONTH(Tabel1[[#This Row],[Date]],0))),SUMIF(Tabel1[Semaine],Tabel1[[#This Row],[Semaine]],Tabel1[Total Heures]),0) -> 0 | L3: =IFERROR(IF(K3>Détails!E$4,K3-Détails!E$4,""),0) | N3: =COUNTIFS(Tabel1[Ordre],"En poste") -> 23 | O3: =--IF(B3<TODAY()-1,COUNTBLANK(D3)) -> 0
A4: =""&WEEKNUM(B4,2) -> 1 | B4: =B3+1 -> 45293 | C4: {=IF(ISNUMBER(Tabel1[[#This Row],[Ouverture de poste]]),"En poste",IF(ISNUMBER(_xlfn.AGGREGATE(15,6,ROW(#REF!)/((#REF!<=Tabel1[[#This Row],[Date]])*(Tabel1[[#This Row],[Date]]<=#REF!)),1)),"Arrêt maladie",IF(ISNUMBER(_xlfn.AGGREGATE(15,6,ROW(#REF!)/((#REF!<=Tabel1[[#This Row],[Date]])*(Tabel1[[#This Row],[Date]]<=#REF!)),1)),"Accident du travail",IF(ISNUMBER(_xlfn.AGGREGATE(15,6,ROW(#REF!)/((#REF!<=Tabel1[[#This Row],[Date]])*(Tabel1[[#This Row],[Date]]<=#REF!)),1)),"Congé", IF(ISNUMBER(_xlfn.AGGREGATE(15,6,ROW(#REF!)/((#REF!<=Tabel1[[#This Row],[Date]])*(Tabel1[[#This Row],[Date]]<=#REF!)),1)),"Congé pour évènement familial",IFERROR(IF(VLOOKUP($B4,Détails!$H$2:$H$16,1,0),"Férié",""),""))))))} -> En poste | D4: 0.33333333 | E4: 0.020833333 | G4: 0.70833333 | H4: =IF(OR(D4<>"",G4<>""),MOD(G4-D4-F4-E4,1),"") -> 0.35416667 | I4: =IF($G4>$D4,MEDIAN($G4,Détails!$D$11,Détails!$E$11)-MEDIAN($D4,Détails!$D$11,Détails!$E$11),($G4<$D4)*(Détails!$D$11-Détails!$E$11)+MEDIAN($G4,Détails!$E$11,Détails!$D$11)-MEDIAN($D4,Détails!$E$11,Détails!$D$11))-$E4 -> 0.35416667 | J4: =MOD($G4-$D4,1)-($G4<$D4)*(Détails!$D$11-Détails!$E$11)-MEDIAN($G4,Détails!$E$11,Détails!$D$11)+MEDIAN($D4,Détails!$E$11,Détails!$D$11)-$F4 -> 0 | K4: =IF(OR(WEEKDAY(Tabel1[[#This Row],[Date]],2)=7, DAY(Tabel1[[#This Row],[Date]])=DAY(EOMONTH(Tabel1[[#This Row],[Date]],0))),SUMIF(Tabel1[Semaine],Tabel1[[#This Row],[Semaine]],Tabel1[Total Heures]),0) -> 0 | L4: =IFERROR(IF(K4>Détails!E$4,K4-Détails!E$4,""),0) | N4: =COUNTIFS(Tabel1[Ordre],"Férié") -> 0 | O4: =--IF(B4<TODAY()-1,COUNTBLANK(D4)) -> 0
A5: =""&WEEKNUM(B5,2) -> 1 | B5: =B4+1 -> 45294 | C5: {=IF(ISNUMBER(Tabel1[[#This Row],[Ouverture de poste]]),"En poste",IF(ISNUMBER(_xlfn.AGGREGATE(15,6,ROW(#REF!)/((#REF!<=Tabel1[[#This Row],[Date]])*(Tabel1[[#This Row],[Date]]<=#REF!)),1)),"Arrêt maladie",IF(ISNUMBER(_xlfn.AGGREGATE(15,6,ROW(#REF!)/((#REF!<=Tabel1[[#This Row],[Date]])*(Tabel1[[#This Row],[Date]]<=#REF!)),1)),"Accident du travail",IF(ISNUMBER(_xlfn.AGGREGATE(15,6,ROW(#REF!)/((#REF!<=Tabel1[[#This Row],[Date]])*(Tabel1[[#This Row],[Date]]<=#REF!)),1)),"Congé", IF(ISNUMBER(_xlfn.AGGREGATE(15,6,ROW(#REF!)/((#REF!<=Tabel1[[#This Row],[Date]])*(Tabel1[[#This Row],[Date]]<=#REF!)),1)),"Congé pour évènement familial",IFERROR(IF(VLOOKUP($B5,Détails!$H$2:$H$16,1,0),"Férié",""),""))))))} -> En poste | D5: 0.33333333 | E5: 0.020833333 | G5: 0.70833333 | H5: =IF(OR(D5<>"",G5<>""),MOD(G5-D5-F5-E5,1),"") -> 0.35416667 | I5: =IF($G5>$D5,MEDIAN($G5,Détails!$D$11,Détails!$E$11)-MEDIAN($D5,Détails!$D$11,Détails!$E$11),($G5<$D5)*(Détails!$D$11-Détails!$E$11)+MEDIAN($G5,Détails!$E$11,Détails!$D$11)-MEDIAN($D5,Détails!$E$11,Détails!$D$11))-$E5 -> 0.35416667 | J5: =MOD($G5-$D5,1)-($G5<$D5)*(Détails!$D$11-Détails!$E$11)-MEDIAN($G5,Détails!$E$11,Détails!$D$11)+MEDIAN($D5,Détails!$E$11,Détails!$D$11)-$F5 -> 0 | K5: =IF(OR(WEEKDAY(Tabel1[[#This Row],[Date]],2)=7, DAY(Tabel1[[#This Row],[Date]])=DAY(EOMONTH(Tabel1[[#This Row],[Date]],0))),SUMIF(Tabel1[Semaine],Tabel1[[#This Row],[Semaine]],Tabel1[Total Heures]),0) -> 0 | L5: =IFERROR(IF(K5>Détails!E$4,K5-Détails!E$4,""),0) | N5: {=SUMPRODUCT(ISNUMBER(MATCH(Tabel1[Date],Détails!H2:H16,0))*(ISNUMBER(Tabel1[Ouverture de poste])))} -> 1 | O5: =--IF(B5<TODAY()-1,COUNTBLANK(D5)) -> 0
A6: =""&WEEKNUM(B6,2) -> 1 | B6: =B5+1 -> 45295 | C6: {=IF(ISNUMBER(Tabel1[[#This Row],[Ouverture de poste]]),"En poste",IF(ISNUMBER(_xlfn.AGGREGATE(15,6,ROW(#REF!)/((#REF!<=Tabel1[[#This Row],[Date]])*(Tabel1[[#This Row],[Date]]<=#REF!)),1)),"Arrêt maladie",IF(ISNUMBER(_xlfn.AGGREGATE(15,6,ROW(#REF!)/((#REF!<=Tabel1[[#This Row],[Date]])*(Tabel1[[#This Row],[Date]]<=#REF!)),1)),"Accident du travail",IF(ISNUMBER(_xlfn.AGGREGATE(15,6,ROW(#REF!)/((#REF!<=Tabel1[[#This Row],[Date]])*(Tabel1[[#This Row],[Date]]<=#REF!)),1)),"Congé", IF(ISNUMBER(_xlfn.AGGREGATE(15,6,ROW(#REF!)/((#REF!<=Tabel1[[#This Row],[Date]])*(Tabel1[[#This Row],[Date]]<=#REF!)),1)),"Congé pour évènement familial",IFERROR(IF(VLOOKUP($B6,Détails!$H$2:$H$16,1,0),"Férié",""),""))))))} -> En poste | D6: 0.33333333 | E6: 0.020833333 | G6: 0.70833333 | H6: =IF(OR(D6<>"",G6<>""),MOD(G6-D6-F6-E6,1),"") -> 0.35416667 | I6: =IF($G6>$D6,MEDIAN($G6,Détails!$D$11,Détails!$E$11)-MEDIAN($D6,Détails!$D$11,Détails!$E$11),($G6<$D6)*(Détails!$D$11-Détails!$E$11)+MEDIAN($G6,Détails!$E$11,Détails!$D$11)-MEDIAN($D6,Détails!$E$11,Détails!$D$11))-$E6 -> 0.35416667 | J6: =MOD($G6-$D6,1)-($G6<$D6)*(Détails!$D$11-Détails!$E$11)-MEDIAN($G6,Détails!$E$11,Détails!$D$11)+MEDIAN($D6,Détails!$E$11,Détails!$D$11)-$F6 -> 0 | K6: =IF(OR(WEEKDAY(Tabel1[[#This Row],[Date]],2)=7, DAY(Tabel1[[#This Row],[Date]])=DAY(EOMONTH(Tabel1[[#This Row],[Date]],0))),SUMIF(Tabel1[Semaine],Tabel1[[#This Row],[Semaine]],Tabel1[Total Heures]),0) -> 0 | L6: =IFERROR(IF(K6>Détails!E$4,K6-Détails!E$4,""),0) | N6: =COUNTIFS(Tabel1[Ordre],"Repos") -> 0 | O6: =--IF(B6<TODAY()-1,COUNTBLANK(D6)) -> 0
A7: =""&WEEKNUM(B7,2) -> 1 | B7: =B6+1 -> 45296 | C7: {=IF(ISNUMBER(Tabel1[[#This Row],[Ouverture de poste]]),"En poste",IF(ISNUMBER(_xlfn.AGGREGATE(15,6,ROW(#REF!)/((#REF!<=Tabel1[[#This Row],[Date]])*(Tabel1[[#This Row],[Date]]<=#REF!)),1)),"Arrêt maladie",IF(ISNUMBER(_xlfn.AGGREGATE(15,6,ROW(#REF!)/((#REF!<=Tabel1[[#This Row],[Date]])*(Tabel1[[#This Row],[Date]]<=#REF!)),1)),"Accident du travail",IF(ISNUMBER(_xlfn.AGGREGATE(15,6,ROW(#REF!)/((#REF!<=Tabel1[[#This Row],[Date]])*(Tabel1[[#This Row],[Date]]<=#REF!)),1)),"Congé", IF(ISNUMBER(_xlfn.AGGREGATE(15,6,ROW(#REF!)/((#REF!<=Tabel1[[#This Row],[Date]])*(Tabel1[[#This Row],[Date]]<=#REF!)),1)),"Congé pour évènement familial",IFERROR(IF(VLOOKUP($B7,Détails!$H$2:$H$16,1,0),"Férié",""),""))))))} -> En poste | D7: 0.33333333 | E7: 0.020833333 | G7: 0.5625 | H7: =IF(OR(D7<>"",G7<>""),MOD(G7-D7-F7-E7,1),"") -> 0.20833333 | I7: =IF($G7>$D7,MEDIAN($G7,Détails!$D$11,Détails!$E$11)-MEDIAN($D7,Détails!$D$11,Détails!$E$11),($G7<$D7)*(Détails!$D$11-Détails!$E$11)+MEDIAN($G7,Détails!$E$11,Détails!$D$11)-MEDIAN($D7,Détails!$E$11,Détails!$D$11))-$E7 -> 0.20833333 | J7: =MOD($G7-$D7,1)-($G7<$D7)*(Détails!$D$11-Détails!$E$11)-MEDIAN($G7,Détails!$E$11,Détails!$D$11)+MEDIAN($D7,Détails!$E$11,Détails!$D$11)-$F7 -> 0 | K7: =IF(OR(WEEKDAY(Tabel1[[#This Row],[Date]],2)=7, DAY(Tabel1[[#This Row],[Date]])=DAY(EOMONTH(Tabel1[[#This Row],[Date]],0))),SUMIF(Tabel1[Semaine],Tabel1[[#This Row],[Semaine]],Tabel1[Total Heures]),0) -> 0 | L7: =IFERROR(IF(K7>Détails!E$4,K7-Détails!E$4,""),0) | N7: =--IF(B33<TODAY()-1,COUNTBLANK(Tabel1[Ouverture de poste])) -> 8 | O7: =--IF(B7<TODAY()-1,COUNTBLANK(D7)) -> 0
A8: =""&WEEKNUM(B8,2) -> 1 | B8: =B7+1 -> 45297 | C8: {=IF(ISNUMBER(Tabel1[[#This Row],[Ouverture de poste]]),"En poste",IF(ISNUMBER(_xlfn.AGGREGATE(15,6,ROW(#REF!)/((#REF!<=Tabel1[[#This Row],[Date]])*(Tabel1[[#This Row],[Date]]<=#REF!)),1)),"Arrêt maladie",IF(ISNUMBER(_xlfn.AGGREGATE(15,6,ROW(#REF!)/((#REF!<=Tabel1[[#This Row],[Date]])*(Tabel1[[#This Row],[Date]]<=#REF!)),1)),"Accident du travail",IF(ISNUMBER(_xlfn.AGGREGATE(15,6,ROW(#REF!)/((#REF!<=Tabel1[[#This Row],[Date]])*(Tabel1[[#This Row],[Date]]<=#REF!)),1)),"Congé", IF(ISNUMBER(_xlfn.AGGREGATE(15,6,ROW(#REF!)/((#REF!<=Tabel1[[#This Row],[Date]])*(Tabel1[[#This Row],[Date]]<=#REF!)),1)),"Congé pour évènement familial",IFERROR(IF(VLOOKUP($B8,Détails!$H$2:$H$16,1,0),"Férié",""),""))))))} | H8: =IF(OR(D8<>"",G8<>""),MOD(G8-D8-F8-E8,1),"") | I8: =IF($G8>$D8,MEDIAN($G8,Détails!$D$11,Détails!$E$11)-MEDIAN($D8,Détails!$D$11,Détails!$E$11),($G8<$D8)*(Détails!$D$11-Détails!$E$11)+MEDIAN($G8,Détails!$E$11,Détails!$D$11)-MEDIAN($D8,Détails!$E$11,Détails!$D$11))-$E8 -> 0 | J8: =MOD($G8-$D8,1)-($G8<$D8)*(Détails!$D$11-Détails!$E$11)-MEDIAN($G8,Détails!$E$11,Détails!$D$11)+MEDIAN($D8,Détails!$E$11,Détails!$D$11)-$F8 -> 0 | K8: =IF(OR(WEEKDAY(Tabel1[[#This Row],[Date]],2)=7, DAY(Tabel1[[#This Row],[Date]])=DAY(EOMONTH(Tabel1[[#This Row],[Date]],0))),SUMIF(Tabel1[Semaine],Tabel1[[#This Row],[Semaine]],Tabel1[Total Heures]),0) -> 0 | L8: =IFERROR(IF(K8>Détails!E$4,K8-Détails!E$4,""),0) | N8: =SUM(O3:O33) -> 8 | O8: =--IF(B8<TODAY()-1,COUNTBLANK(D8)) -> 1
A9: =""&WEEKNUM(B9,2) -> 1 | B9: =B8+1 -> 45298 | C9: {=IF(ISNUMBER(Tabel1[[#This Row],[Ouverture de poste]]),"En poste",IF(ISNUMBER(_xlfn.AGGREGATE(15,6,ROW(#REF!)/((#REF!<=Tabel1[[#This Row],[Date]])*(Tabel1[[#This Row],[Date]]<=#REF!)),1)),"Arrêt maladie",IF(ISNUMBER(_xlfn.AGGREGATE(15,6,ROW(#REF!)/((#REF!<=Tabel1[[#This Row],[Date]])*(Tabel1[[#This Row],[Date]]<=#REF!)),1)),"Accident du travail",IF(ISNUMBER(_xlfn.AGGREGATE(15,6,ROW(#REF!)/((#REF!<=Tabel1[[#This Row],[Date]])*(Tabel1[[#This Row],[Date]]<=#REF!)),1)),"Congé", IF(ISNUMBER(_xlfn.AGGREGATE(15,6,ROW(#REF!)/((#REF!<=Tabel1[[#This Row],[Date]])*(Tabel1[[#This Row],[Date]]<=#REF!)),1)),"Congé pour évènement familial",IFERROR(IF(VLOOKUP($B9,Détails!$H$2:$H$16,1,0),"Férié",""),""))))))} | H9: =IF(OR(D9<>"",G9<>""),MOD(G9-D9-F9-E9,1),"") | I9: =IF($G9>$D9,MEDIAN($G9,Détails!$D$11,Détails!$E$11)-MEDIAN($D9,Détails!$D$11,Détails!$E$11),($G9<$D9)*(Détails!$D$11-Détails!$E$11)+MEDIAN($G9,Détails!$E$11,Détails!$D$11)-MEDIAN($D9,Détails!$E$11,Détails!$D$11))-$E9 -> 0 | J9: =MOD($G9-$D9,1)-($G9<$D9)*(Détails!$D$11-Détails!$E$11)-MEDIAN($G9,Détails!$E$11,Détails!$D$11)+MEDIAN($D9,Détails!$E$11,Détails!$D$11)-$F9 -> 0 | K9: =IF(OR(WEEKDAY(Tabel1[[#This Row],[Date]],2)=7, DAY(Tabel1[[#This Row],[Date]])=DAY(EOMONTH(Tabel1[[#This Row],[Date]],0))),SUMIF(Tabel1[Semaine],Tabel1[[#This Row],[Semaine]],Tabel1[Total Heures]),0) -> 1.625 | L9: =IFERROR(IF(K9>Détails!E$4,K9-Détails!E$4,""),0) | O9: =--IF(B9<TODAY()-1,COUNTBLANK(D9)) -> 1
A10: =""&WEEKNUM(B10,2) -> 2 | B10: =B9+1 -> 45299 | C10: {=IF(ISNUMBER(Tabel1[[#This Row],[Ouverture de poste]]),"En poste",IF(ISNUMBER(_xlfn.AGGREGATE(15,6,ROW(#REF!)/((#REF!<=Tabel1[[#This Row],[Date]])*(Tabel1[[#This Row],[Date]]<=#REF!)),1)),"Arrêt maladie",IF(ISNUMBER(_xlfn.AGGREGATE(15,6,ROW(#REF!)/((#REF!<=Tabel1[[#This Row],[Date]])*(Tabel1[[#This Row],[Date]]<=#REF!)),1)),"Accident du travail",IF(ISNUMBER(_xlfn.AGGREGATE(15,6,ROW(#REF!)/((#REF!<=Tabel1[[#This Row],[Date]])*(Tabel1[[#This Row],[Date]]<=#REF!)),1)),"Congé", IF(ISNUMBER(_xlfn.AGGREGATE(15,6,ROW(#REF!)/((#REF!<=Tabel1[[#This Row],[Date]])*(Tabel1[[#This Row],[Date]]<=#REF!)),1)),"Congé pour évènement familial",IFERROR(IF(VLOOKUP($B10,Détails!$H$2:$H$16,1,0),"Férié",""),""))))))} -> En poste | D10: 0.33333333 | E10: 0.020833333 | G10: 0.70833333 | H10: =IF(OR(D10<>"",G10<>""),MOD(G10-D10-F10-E10,1),"") -> 0.35416667 | I10: =IF($G10>$D10,MEDIAN($G10,Détails!$D$11,Détails!$E$11)-MEDIAN($D10,Détails!$D$11,Détails!$E$11),($G10<$D10)*(Détails!$D$11-Détails!$E$11)+MEDIAN($G10,Détails!$E$11,Détails!$D$11)-MEDIAN($D10,Détails!$E$11,Détails!$D$11))-$E10 -> 0.35416667 | J10: =MOD($G10-$D10,1)-($G10<$D10)*(Détails!$D$11-Détails!$E$11)-MEDIAN($G10,Détails!$E$11,Détails!$D$11)+MEDIAN($D10,Détails!$E$11,Détails!$D$11)-$F10 -> 0 | K10: =IF(OR(WEEKDAY(Tabel1[[#This Row],[Date]],2)=7, DAY(Tabel1[[#This Row],[Date]])=DAY(EOMONTH(Tabel1[[#This Row],[Date]],0))),SUMIF(Tabel1[Semaine],Tabel1[[#This Row],[Semaine]],Tabel1[Total Heures]),0) -> 0 | L10: =IFERROR(IF(K10>Détails!E$4,K10-Détails!E$4,""),0) | O10: =--IF(B10<TODAY()-1,COUNTBLANK(D10)) -> 0
A11: =""&WEEKNUM(B11,2) -> 2 | B11: =B10+1 -> 45300 | C11: {=IF(ISNUMBER(Tabel1[[#This Row],[Ouverture de poste]]),"En poste",IF(ISNUMBER(_xlfn.AGGREGATE(15,6,ROW(#REF!)/((#REF!<=Tabel1[[#This Row],[Date]])*(Tabel1[[#This Row],[Date]]<=#REF!)),1)),"Arrêt maladie",IF(ISNUMBER(_xlfn.AGGREGATE(15,6,ROW(#REF!)/((#REF!<=Tabel1[[#This Row],[Date]])*(Tabel1[[#This Row],[Date]]<=#REF!)),1)),"Accident du travail",IF(ISNUMBER(_xlfn.AGGREGATE(15,6,ROW(#REF!)/((#REF!<=Tabel1[[#This Row],[Date]])*(Tabel1[[#This Row],[Date]]<=#REF!)),1)),"Congé", IF(ISNUMBER(_xlfn.AGGREGATE(15,6,ROW(#REF!)/((#REF!<=Tabel1[[#This Row],[Date]])*(Tabel1[[#This Row],[Date]]<=#REF!)),1)),"Congé pour évènement familial",IFERROR(IF(VLOOKUP($B11,Détails!$H$2:$H$16,1,0),"Férié",""),""))))))} -> En poste | D11: 0.33333333 | E11: 0.020833333 | G11: 0.70833333 | H11: =IF(OR(D11<>"",G11<>""),MOD(G11-D11-F11-E11,1),"") -> 0.35416667 | I11: =IF($G11>$D11,MEDIAN($G11,Détails!$D$11,Détails!$E$11)-MEDIAN($D11,Détails!$D$11,Détails!$E$11),($G11<$D11)*(Détails!$D$11-Détails!$E$11)+MEDIAN($G11,Détails!$E$11,Détails!$D$11)-MEDIAN($D11,Détails!$E$11,Détails!$D$11))-$E11 -> 0.35416667 | J11: =MOD($G11-$D11,1)-($G11<$D11)*(Détails!$D$11-Détails!$E$11)-MEDIAN($G11,Détails!$E$11,Détails!$D$11)+MEDIAN($D11,Détails!$E$11,Détails!$D$11)-$F11 -> 0 | K11: =IF(OR(WEEKDAY(Tabel1[[#This Row],[Date]],2)=7, DAY(Tabel1[[#This Row],[Date]])=DAY(EOMONTH(Tabel1[[#This Row],[Date]],0))),SUMIF(Tabel1[Semaine],Tabel1[[#This Row],[Semaine]],Tabel1[Total Heures]),0) -> 0 | L11: =IFERROR(IF(K11>Détails!E$4,K11-Détails!E$4,""),0) | O11: =--IF(B11<TODAY()-1,COUNTBLANK(D11)) -> 0
A12: =""&WEEKNUM(B12,2) -> 2 | B12: =B11+1 -> 45301 | C12: {=IF(ISNUMBER(Tabel1[[#This Row],[Ouverture de poste]]),"En poste",IF(ISNUMBER(_xlfn.AGGREGATE(15,6,ROW(#REF!)/((#REF!<=Tabel1[[#This Row],[Date]])*(Tabel1[[#This Row],[Date]]<=#REF!)),1)),"Arrêt maladie",IF(ISNUMBER(_xlfn.AGGREGATE(15,6,ROW(#REF!)/((#REF!<=Tabel1[[#This Row],[Date]])*(Tabel1[[#This Row],[Date]]<=#REF!)),1)),"Accident du travail",IF(ISNUMBER(_xlfn.AGGREGATE(15,6,ROW(#REF!)/((#REF!<=Tabel1[[#This Row],[Date]])*(Tabel1[[#This Row],[Date]]<=#REF!)),1)),"Congé", IF(ISNUMBER(_xlfn.AGGREGATE(15,6,ROW(#REF!)/((#REF!<=Tabel1[[#This Row],[Date]])*(Tabel1[[#This Row],[Date]]<=#REF!)),1)),"Congé pour évènement familial",IFERROR(IF(VLOOKUP($B12,Détails!$H$2:$H$16,1,0),"Férié",""),""))))))} -> En poste | D12: 0.33333333 | E12: 0.020833333 | G12: 0.70833333 | H12: =IF(OR(D12<>"",G12<>""),MOD(G12-D12-F12-E12,1),"") -> 0.35416667 | I12: =IF($G12>$D12,MEDIAN($G12,Détails!$D$11,Détails!$E$11)-MEDIAN($D12,Détails!$D$11,Détails!$E$11),($G12<$D12)*(Détails!$D$11-Détails!$E$11)+MEDIAN($G12,Détails!$E$11,Détails!$D$11)-MEDIAN($D12,Détails!$E$11,Détails!$D$11))-$E12 -> 0.35416667 | J12: =MOD($G12-$D12,1)-($G12<$D12)*(Détails!$D$11-Détails!$E$11)-MEDIAN($G12,Détails!$E$11,Détails!$D$11)+MEDIAN($D12,Détails!$E$11,Détails!$D$11)-$F12 -> 0 | K12: =IF(OR(WEEKDAY(Tabel1[[#This Row],[Date]],2)=7, DAY(Tabel1[[#This Row],[Date]])=DAY(EOMONTH(Tabel1[[#This Row],[Date]],0))),SUMIF(Tabel1[Semaine],Tabel1[[#This Row],[Semaine]],Tabel1[Total Heures]),0) -> 0 | L12: =IFERROR(IF(K12>Détails!E$4,K12-Détails!E$4,""),0) | O12: =--IF(B12<TODAY()-1,COUNTBLANK(D12)) -> 0
A13: =""&WEEKNUM(B13,2) -> 2 | B13: =B12+1 -> 45302 | C13: {=IF(ISNUMBER(Tabel1[[#This Row],[Ouverture de poste]]),"En poste",IF(ISNUMBER(_xlfn.AGGREGATE(15,6,ROW(#REF!)/((#REF!<=Tabel1[[#This Row],[Date]])*(Tabel1[[#This Row],[Date]]<=#REF!)),1)),"Arrêt maladie",IF(ISNUMBER(_xlfn.AGGREGATE(15,6,ROW(#REF!)/((#REF!<=Tabel1[[#This Row],[Date]])*(Tabel1[[#This Row],[Date]]<=#REF!)),1)),"Accident du travail",IF(ISNUMBER(_xlfn.AGGREGATE(15,6,ROW(#REF!)/((#REF!<=Tabel1[[#This Row],[Date]])*(Tabel1[[#This Row],[Date]]<=#REF!)),1)),"Congé", IF(ISNUMBER(_xlfn.AGGREGATE(15,6,ROW(#REF!)/((#REF!<=Tabel1[[#This Row],[Date]])*(Tabel1[[#This Row],[Date]]<=#REF!)),1)),"Congé pour évènement familial",IFERROR(IF(VLOOKUP($B13,Détails!$H$2:$H$16,1,0),"Férié",""),""))))))} -> En poste | D13: 0.33333333 | E13: 0.020833333 | G13: 0.70833333 | H13: =IF(OR(D13<>"",G13<>""),MOD(G13-D13-F13-E13,1),"") -> 0.35416667 | I13: =IF($G13>$D13,MEDIAN($G13,Détails!$D$11,Détails!$E$11)-MEDIAN($D13,Détails!$D$11,Détails!$E$11),($G13<$D13)*(Détails!$D$11-Détails!$E$11)+MEDIAN($G13,Détails!$E$11,Détails!$D$11)-MEDIAN($D13,Détails!$E$11,Détails!$D$11))-$E13 -> 0.35416667 | J13: =MOD($G13-$D13,1)-($G13<$D13)*(Détails!$D$11-Détails!$E$11)-MEDIAN($G13,Détails!$E$11,Détails!$D$11)+MEDIAN($D13,Détails!$E$11,Détails!$D$11)-$F13 -> 0 | K13: =IF(OR(WEEKDAY(Tabel1[[#This Row],[Date]],2)=7, DAY(Tabel1[[#This Row],[Date]])=DAY(EOMONTH(Tabel1[[#This Row],[Date]],0))),SUMIF(Tabel1[Semaine],Tabel1[[#This Row],[Semaine]],Tabel1[Total Heures]),0) -> 0 | L13: =IFERROR(IF(K13>Détails!E$4,K13-Détails!E$4,""),0) | O13: =--IF(B13<TODAY()-1,COUNTBLANK(D13)) -> 0
A14: =""&WEEKNUM(B14,2) -> 2 | B14: =B13+1 -> 45303 | C14: {=IF(ISNUMBER(Tabel1[[#This Row],[Ouverture de poste]]),"En poste",IF(ISNUMBER(_xlfn.AGGREGATE(15,6,ROW(#REF!)/((#REF!<=Tabel1[[#This Row],[Date]])*(Tabel1[[#This Row],[Date]]<=#REF!)),1)),"Arrêt maladie",IF(ISNUMBER(_xlfn.AGGREGATE(15,6,ROW(#REF!)/((#REF!<=Tabel1[[#This Row],[Date]])*(Tabel1[[#This Row],[Date]]<=#REF!)),1)),"Accident du travail",IF(ISNUMBER(_xlfn.AGGREGATE(15,6,ROW(#REF!)/((#REF!<=Tabel1[[#This Row],[Date]])*(Tabel1[[#This Row],[Date]]<=#REF!)),1)),"Congé", IF(ISNUMBER(_xlfn.AGGREGATE(15,6,ROW(#REF!)/((#REF!<=Tabel1[[#This Row],[Date]])*(Tabel1[[#This Row],[Date]]<=#REF!)),1)),"Congé pour évènement familial",IFERROR(IF(VLOOKUP($B14,Détails!$H$2:$H$16,1,0),"Férié",""),""))))))} -> En poste | D14: 0.33333333 | E14: 0.020833333 | G14: 0.5625 | H14: =IF(OR(D14<>"",G14<>""),MOD(G14-D14-F14-E14,1),"") -> 0.20833333 | I14: =IF($G14>$D14,MEDIAN($G14,Détails!$D$11,Détails!$E$11)-MEDIAN($D14,Détails!$D$11,Détails!$E$11),($G14<$D14)*(Détails!$D$11-Détails!$E$11)+MEDIAN($G14,Détails!$E$11,Détails!$D$11)-MEDIAN($D14,Détails!$E$11,Détails!$D$11))-$E14 -> 0.20833333 | J14: =MOD($G14-$D14,1)-($G14<$D14)*(Détails!$D$11-Détails!$E$11)-MEDIAN($G14,Détails!$E$11,Détails!$D$11)+MEDIAN($D14,Détails!$E$11,Détails!$D$11)-$F14 -> 0 | K14: =IF(OR(WEEKDAY(Tabel1[[#This Row],[Date]],2)=7, DAY(Tabel1[[#This Row],[Date]])=DAY(EOMONTH(Tabel1[[#This Row],[Date]],0))),SUMIF(Tabel1[Semaine],Tabel1[[#This Row],[Semaine]],Tabel1[Total Heures]),0) -> 0 | L14: =IFERROR(IF(K14>Détails!E$4,K14-Détails!E$4,""),0) | O14: =--IF(B14<TODAY()-1,COUNTBLANK(D14)) -> 0
A15: =""&WEEKNUM(B15,2) -> 2 | B15: =B14+1 -> 45304 | C15: {=IF(ISNUMBER(Tabel1[[#This Row],[Ouverture de poste]]),"En poste",IF(ISNUMBER(_xlfn.AGGREGATE(15,6,ROW(#REF!)/((#REF!<=Tabel1[[#This Row],[Date]])*(Tabel1[[#This Row],[Date]]<=#REF!)),1)),"Arrêt maladie",IF(ISNUMBER(_xlfn.AGGREGATE(15,6,ROW(#REF!)/((#REF!<=Tabel1[[#This Row],[Date]])*(Tabel1[[#This Row],[Date]]<=#REF!)),1)),"Accident du travail",IF(ISNUMBER(_xlfn.AGGREGATE(15,6,ROW(#REF!)/((#REF!<=Tabel1[[#This Row],[Date]])*(Tabel1[[#This Row],[Date]]<=#REF!)),1)),"Congé", IF(ISNUMBER(_xlfn.AGGREGATE(15,6,ROW(#REF!)/((#REF!<=Tabel1[[#This Row],[Date]])*(Tabel1[[#This Row],[Date]]<=#REF!)),1)),"Congé pour évènement familial",IFERROR(IF(VLOOKUP($B15,Détails!$H$2:$H$16,1,0),"Férié",""),""))))))} | H15: =IF(OR(D15<>"",G15<>""),MOD(G15-D15-F15-E15,1),"") | I15: =IF($G15>$D15,MEDIAN($G15,Détails!$D$11,Détails!$E$11)-MEDIAN($D15,Détails!$D$11,Détails!$E$11),($G15<$D15)*(Détails!$D$11-Détails!$E$11)+MEDIAN($G15,Détails!$E$11,Détails!$D$11)-MEDIAN($D15,Détails!$E$11,Détails!$D$11))-$E15 -> 0 | J15: =MOD($G15-$D15,1)-($G15<$D15)*(Détails!$D$11-Détails!$E$11)-MEDIAN($G15,Détails!$E$11,Détails!$D$11)+MEDIAN($D15,Détails!$E$11,Détails!$D$11)-$F15 -> 0 | K15: =IF(OR(WEEKDAY(Tabel1[[#This Row],[Date]],2)=7, DAY(Tabel1[[#This Row],[Date]])=DAY(EOMONTH(Tabel1[[#This Row],[Date]],0))),SUMIF(Tabel1[Semaine],Tabel1[[#This Row],[Semaine]],Tabel1[Total Heures]),0) -> 0 | L15: =IFERROR(IF(K15>Détails!E$4,K15-Détails!E$4,""),0) | O15: =--IF(B15<TODAY()-1,COUNTBLANK(D15)) -> 1
A16: =""&WEEKNUM(B16,2) -> 2 | B16: =B15+1 -> 45305 | C16: {=IF(ISNUMBER(Tabel1[[#This Row],[Ouverture de poste]]),"En poste",IF(ISNUMBER(_xlfn.AGGREGATE(15,6,ROW(#REF!)/((#REF!<=Tabel1[[#This Row],[Date]])*(Tabel1[[#This Row],[Date]]<=#REF!)),1)),"Arrêt maladie",IF(ISNUMBER(_xlfn.AGGREGATE(15,6,ROW(#REF!)/((#REF!<=Tabel1[[#This Row],[Date]])*(Tabel1[[#This Row],[Date]]<=#REF!)),1)),"Accident du travail",IF(ISNUMBER(_xlfn.AGGREGATE(15,6,ROW(#REF!)/((#REF!<=Tabel1[[#This Row],[Date]])*(Tabel1[[#This Row],[Date]]<=#REF!)),1)),"Congé", IF(ISNUMBER(_xlfn.AGGREGATE(15,6,ROW(#REF!)/((#REF!<=Tabel1[[#This Row],[Date]])*(Tabel1[[#This Row],[Date]]<=#REF!)),1)),"Congé pour évènement familial",IFERROR(IF(VLOOKUP($B16,Détails!$H$2:$H$16,1,0),"Férié",""),""))))))} | H16: =IF(OR(D16<>"",G16<>""),MOD(G16-D16-F16-E16,1),"") | I16: =IF($G16>$D16,MEDIAN($G16,Détails!$D$11,Détails!$E$11)-MEDIAN($D16,Détails!$D$11,Détails!$E$11),($G16<$D16)*(Détails!$D$11-Détails!$E$11)+MEDIAN($G16,Détails!$E$11,Détails!$D$11)-MEDIAN($D16,Détails!$E$11,Détails!$D$11))-$E16 -> 0 | J16: =MOD($G16-$D16,1)-($G16<$D16)*(Détails!$D$11-Détails!$E$11)-MEDIAN($G16,Détails!$E$11,Détails!$D$11)+MEDIAN($D16,Détails!$E$11,Détails!$D$11)-$F16 -> 0 | K16: =IF(OR(WEEKDAY(Tabel1[[#This Row],[Date]],2)=7, DAY(Tabel1[[#This Row],[Date]])=DAY(EOMONTH(Tabel1[[#This Row],[Date]],0))),SUMIF(Tabel1[Semaine],Tabel1[[#This Row],[Semaine]],Tabel1[Total Heures]),0) -> 1.625 | L16: =IFERROR(IF(K16>Détails!E$4,K16-Détails!E$4,""),0) | O16: =--IF(B16<TODAY()-1,COUNTBLANK(D16)) -> 1
A17: =""&WEEKNUM(B17,2) -> 3 | B17: =B16+1 -> 45306 | C17: {=IF(ISNUMBER(Tabel1[[#This Row],[Ouverture de poste]]),"En poste",IF(ISNUMBER(_xlfn.AGGREGATE(15,6,ROW(#REF!)/((#REF!<=Tabel1[[#This Row],[Date]])*(Tabel1[[#This Row],[Date]]<=#REF!)),1)),"Arrêt maladie",IF(ISNUMBER(_xlfn.AGGREGATE(15,6,ROW(#REF!)/((#REF!<=Tabel1[[#This Row],[Date]])*(Tabel1[[#This Row],[Date]]<=#REF!)),1)),"Accident du travail",IF(ISNUMBER(_xlfn.AGGREGATE(15,6,ROW(#REF!)/((#REF!<=Tabel1[[#This Row],[Date]])*(Tabel1[[#This Row],[Date]]<=#REF!)),1)),"Congé", IF(ISNUMBER(_xlfn.AGGREGATE(15,6,ROW(#REF!)/((#REF!<=Tabel1[[#This Row],[Date]])*(Tabel1[[#This Row],[Date]]<=#REF!)),1)),"Congé pour évènement familial",IFERROR(IF(VLOOKUP($B17,Détails!$H$2:$H$16,1,0),"Férié",""),""))))))} -> En poste | D17: 0.33333333 | E17: 0.020833333 | G17: 0.70833333 | H17: =IF(OR(D17<>"",G17<>""),MOD(G17-D17-F17-E17,1),"") -> 0.35416667 | I17: =IF($G17>$D17,MEDIAN($G17,Détails!$D$11,Détails!$E$11)-MEDIAN($D17,Détails!$D$11,Détails!$E$11),($G17<$D17)*(Détails!$D$11-Détails!$E$11)+MEDIAN($G17,Détails!$E$11,Détails!$D$11)-MEDIAN($D17,Détails!$E$11,Détails!$D$11))-$E17 -> 0.35416667 | J17: =MOD($G17-$D17,1)-($G17<$D17)*(Détails!$D$11-Détails!$E$11)-MEDIAN($G17,Détails!$E$11,Détails!$D$11)+MEDIAN($D17,Détails!$E$11,Détails!$D$11)-$F17 -> 0 | K17: =IF(OR(WEEKDAY(Tabel1[[#This Row],[Date]],2)=7, DAY(Tabel1[[#This Row],[Date]])=DAY(EOMONTH(Tabel1[[#This Row],[Date]],0))),SUMIF(Tabel1[Semaine],Tabel1[[#This Row],[Semaine]],Tabel1[Total Heures]),0) -> 0 | L17: =IFERROR(IF(K17>Détails!E$4,K17-Détails!E$4,""),0) | O17: =--IF(B17<TODAY()-1,COUNTBLANK(D17)) -> 0
A18: =""&WEEKNUM(B18,2) -> 3 | B18: =B17+1 -> 45307 | C18: {=IF(ISNUMBER(Tabel1[[#This Row],[Ouverture de poste]]),"En poste",IF(ISNUMBER(_xlfn.AGGREGATE(15,6,ROW(#REF!)/((#REF!<=Tabel1[[#This Row],[Date]])*(Tabel1[[#This Row],[Date]]<=#REF!)),1)),"Arrêt maladie",IF(ISNUMBER(_xlfn.AGGREGATE(15,6,ROW(#REF!)/((#REF!<=Tabel1[[#This Row],[Date]])*(Tabel1[[#This Row],[Date]]<=#REF!)),1)),"Accident du travail",IF(ISNUMBER(_xlfn.AGGREGATE(15,6,ROW(#REF!)/((#REF!<=Tabel1[[#This Row],[Date]])*(Tabel1[[#This Row],[Date]]<=#REF!)),1)),"Congé", IF(ISNUMBER(_xlfn.AGGREGATE(15,6,ROW(#REF!)/((#REF!<=Tabel1[[#This Row],[Date]])*(Tabel1[[#This Row],[Date]]<=#REF!)),1)),"Congé pour évènement familial",IFERROR(IF(VLOOKUP($B18,Détails!$H$2:$H$16,1,0),"Férié",""),""))))))} -> En poste | D18: 0.33333333 | E18: 0.020833333 | G18: 0.70833333 | H18: =IF(OR(D18<>"",G18<>""),MOD(G18-D18-F18-E18,1),"") -> 0.35416667 | I18: =IF($G18>$D18,MEDIAN($G18,Détails!$D$11,Détails!$E$11)-MEDIAN($D18,Détails!$D$11,Détails!$E$11),($G18<$D18)*(Détails!$D$11-Détails!$E$11)+MEDIAN($G18,Détails!$E$11,Détails!$D$11)-MEDIAN($D18,Détails!$E$11,Détails!$D$11))-$E18 -> 0.35416667 | J18: =MOD($G18-$D18,1)-($G18<$D18)*(Détails!$D$11-Détails!$E$11)-MEDIAN($G18,Détails!$E$11,Détails!$D$11)+MEDIAN($D18,Détails!$E$11,Détails!$D$11)-$F18 -> 0 | K18: =IF(OR(WEEKDAY(Tabel1[[#This Row],[Date]],2)=7, DAY(Tabel1[[#This Row],[Date]])=DAY(EOMONTH(Tabel1[[#This Row],[Date]],0))),SUMIF(Tabel1[Semaine],Tabel1[[#This Row],[Semaine]],Tabel1[Total Heures]),0) -> 0 | L18: =IFERROR(IF(K18>Détails!E$4,K18-Détails!E$4,""),0) | O18: =--IF(B18<TODAY()-1,COUNTBLANK(D18)) -> 0
A19: =""&WEEKNUM(B19,2) -> 3 | B19: =B18+1 -> 45308 | C19: {=IF(ISNUMBER(Tabel1[[#This Row],[Ouverture de poste]]),"En poste",IF(ISNUMBER(_xlfn.AGGREGATE(15,6,ROW(#REF!)/((#REF!<=Tabel1[[#This Row],[Date]])*(Tabel1[[#This Row],[Date]]<=#REF!)),1)),"Arrêt maladie",IF(ISNUMBER(_xlfn.AGGREGATE(15,6,ROW(#REF!)/((#REF!<=Tabel1[[#This Row],[Date]])*(Tabel1[[#This Row],[Date]]<=#REF!)),1)),"Accident du travail",IF(ISNUMBER(_xlfn.AGGREGATE(15,6,ROW(#REF!)/((#REF!<=Tabel1[[#This Row],[Date]])*(Tabel1[[#This Row],[Date]]<=#REF!)),1)),"Congé", IF(ISNUMBER(_xlfn.AGGREGATE(15,6,ROW(#REF!)/((#REF!<=Tabel1[[#This Row],[Date]])*(Tabel1[[#This Row],[Date]]<=#REF!)),1)),"Congé pour évènement familial",IFERROR(IF(VLOOKUP($B19,Détails!$H$2:$H$16,1,0),"Férié",""),""))))))} -> En poste | D19: 0.33333333 | E19: 0.020833333 | G19: 0.70833333 | H19: =IF(OR(D19<>"",G19<>""),MOD(G19-D19-F19-E19,1),"") -> 0.35416667 | I19: =IF($G19>$D19,MEDIAN($G19,Détails!$D$11,Détails!$E$11)-MEDIAN($D19,Détails!$D$11,Détails!$E$11),($G19<$D19)*(Détails!$D$11-Détails!$E$11)+MEDIAN($G19,Détails!$E$11,Détails!$D$11)-MEDIAN($D19,Détails!$E$11,Détails!$D$11))-$E19 -> 0.35416667 | J19: =MOD($G19-$D19,1)-($G19<$D19)*(Détails!$D$11-Détails!$E$11)-MEDIAN($G19,Détails!$E$11,Détails!$D$11)+MEDIAN($D19,Détails!$E$11,Détails!$D$11)-$F19 -> 0 | K19: =IF(OR(WEEKDAY(Tabel1[[#This Row],[Date]],2)=7, DAY(Tabel1[[#This Row],[Date]])=DAY(EOMONTH(Tabel1[[#This Row],[Date]],0))),SUMIF(Tabel1[Semaine],Tabel1[[#This Row],[Semaine]],Tabel1[Total Heures]),0) -> 0 | L19: =IFERROR(IF(K19>Détails!E$4,K19-Détails!E$4,""),0) | O19: =--IF(B19<TODAY()-1,COUNTBLANK(D19)) -> 0
A20: =""&WEEKNUM(B20,2) -> 3 | B20: =B19+1 -> 45309 | C20: {=IF(ISNUMBER(Tabel1[[#This Row],[Ouverture de poste]]),"En poste",IF(ISNUMBER(_xlfn.AGGREGATE(15,6,ROW(#REF!)/((#REF!<=Tabel1[[#This Row],[Date]])*(Tabel1[[#This Row],[Date]]<=#REF!)),1)),"Arrêt maladie",IF(ISNUMBER(_xlfn.AGGREGATE(15,6,ROW(#REF!)/((#REF!<=Tabel1[[#This Row],[Date]])*(Tabel1[[#This Row],[Date]]<=#REF!)),1)),"Accident du travail",IF(ISNUMBER(_xlfn.AGGREGATE(15,6,ROW(#REF!)/((#REF!<=Tabel1[[#This Row],[Date]])*(Tabel1[[#This Row],[Date]]<=#REF!)),1)),"Congé", IF(ISNUMBER(_xlfn.AGGREGATE(15,6,ROW(#REF!)/((#REF!<=Tabel1[[#This Row],[Date]])*(Tabel1[[#This Row],[Date]]<=#REF!)),1)),"Congé pour évènement familial",IFERROR(IF(VLOOKUP($B20,Détails!$H$2:$H$16,1,0),"Férié",""),""))))))} -> En poste | D20: 0.33333333 | E20: 0.020833333 | G20: 0.70833333 | H20: =IF(OR(D20<>"",G20<>""),MOD(G20-D20-F20-E20,1),"") -> 0.35416667 | I20: =IF($G20>$D20,MEDIAN($G20,Détails!$D$11,Détails!$E$11)-MEDIAN($D20,Détails!$D$11,Détails!$E$11),($G20<$D20)*(Détails!$D$11-Détails!$E$11)+MEDIAN($G20,Détails!$E$11,Détails!$D$11)-MEDIAN($D20,Détails!$E$11,Détails!$D$11))-$E20 -> 0.35416667 | J20: =MOD($G20-$D20,1)-($G20<$D20)*(Détails!$D$11-Détails!$E$11)-MEDIAN($G20,Détails!$E$11,Détails!$D$11)+MEDIAN($D20,Détails!$E$11,Détails!$D$11)-$F20 -> 0 | K20: =IF(OR(WEEKDAY(Tabel1[[#This Row],[Date]],2)=7, DAY(Tabel1[[#This Row],[Date]])=DAY(EOMONTH(Tabel1[[#This Row],[Date]],0))),SUMIF(Tabel1[Semaine],Tabel1[[#This Row],[Semaine]],Tabel1[Total Heures]),0) -> 0 | L20: =IFERROR(IF(K20>Détails!E$4,K20-Détails!E$4,""),0) | O20: =--IF(B20<TODAY()-1,COUNTBLANK(D20)) -> 0
A21: =""&WEEKNUM(B21,2) -> 3 | B21: =B20+1 -> 45310 | C21: {=IF(ISNUMBER(Tabel1[[#This Row],[Ouverture de poste]]),"En poste",IF(ISNUMBER(_xlfn.AGGREGATE(15,6,ROW(#REF!)/((#REF!<=Tabel1[[#This Row],[Date]])*(Tabel1[[#This Row],[Date]]<=#REF!)),1)),"Arrêt maladie",IF(ISNUMBER(_xlfn.AGGREGATE(15,6,ROW(#REF!)/((#REF!<=Tabel1[[#This Row],[Date]])*(Tabel1[[#This Row],[Date]]<=#REF!)),1)),"Accident du travail",IF(ISNUMBER(_xlfn.AGGREGATE(15,6,ROW(#REF!)/((#REF!<=Tabel1[[#This Row],[Date]])*(Tabel1[[#This Row],[Date]]<=#REF!)),1)),"Congé", IF(ISNUMBER(_xlfn.AGGREGATE(15,6,ROW(#REF!)/((#REF!<=Tabel1[[#This Row],[Date]])*(Tabel1[[#This Row],[Date]]<=#REF!)),1)),"Congé pour évènement familial",IFERROR(IF(VLOOKUP($B21,Détails!$H$2:$H$16,1,0),"Férié",""),""))))))} -> En poste | D21: 0.33333333 | E21: 0.020833333 | G21: 0.5625 | H21: =IF(OR(D21<>"",G21<>""),MOD(G21-D21-F21-E21,1),"") -> 0.20833333 | I21: =IF($G21>$D21,MEDIAN($G21,Détails!$D$11,Détails!$E$11)-MEDIAN($D21,Détails!$D$11,Détails!$E$11),($G21<$D21)*(Détails!$D$11-Détails!$E$11)+MEDIAN($G21,Détails!$E$11,Détails!$D$11)-MEDIAN($D21,Détails!$E$11,Détails!$D$11))-$E21 -> 0.20833333 | J21: =MOD($G21-$D21,1)-($G21<$D21)*(Détails!$D$11-Détails!$E$11)-MEDIAN($G21,Détails!$E$11,Détails!$D$11)+MEDIAN($D21,Détails!$E$11,Détails!$D$11)-$F21 -> 0 | K21: =IF(OR(WEEKDAY(Tabel1[[#This Row],[Date]],2)=7, DAY(Tabel1[[#This Row],[Date]])=DAY(EOMONTH(Tabel1[[#This Row],[Date]],0))),SUMIF(Tabel1[Semaine],Tabel1[[#This Row],[Semaine]],Tabel1[Total Heures]),0) -> 0 | L21: =IFERROR(IF(K21>Détails!E$4,K21-Détails!E$4,""),0) | O21: =--IF(B21<TODAY()-1,COUNTBLANK(D21)) -> 0
A22: =""&WEEKNUM(B22,2) -> 3 | B22: =B21+1 -> 45311 | C22: {=IF(ISNUMBER(Tabel1[[#This Row],[Ouverture de poste]]),"En poste",IF(ISNUMBER(_xlfn.AGGREGATE(15,6,ROW(#REF!)/((#REF!<=Tabel1[[#This Row],[Date]])*(Tabel1[[#This Row],[Date]]<=#REF!)),1)),"Arrêt maladie",IF(ISNUMBER(_xlfn.AGGREGATE(15,6,ROW(#REF!)/((#REF!<=Tabel1[[#This Row],[Date]])*(Tabel1[[#This Row],[Date]]<=#REF!)),1)),"Accident du travail",IF(ISNUMBER(_xlfn.AGGREGATE(15,6,ROW(#REF!)/((#REF!<=Tabel1[[#This Row],[Date]])*(Tabel1[[#This Row],[Date]]<=#REF!)),1)),"Congé", IF(ISNUMBER(_xlfn.AGGREGATE(15,6,ROW(#REF!)/((#REF!<=Tabel1[[#This Row],[Date]])*(Tabel1[[#This Row],[Date]]<=#REF!)),1)),"Congé pour évènement familial",IFERROR(IF(VLOOKUP($B22,Détails!$H$2:$H$16,1,0),"Férié",""),""))))))} | H22: =IF(OR(D22<>"",G22<>""),MOD(G22-D22-F22-E22,1),"") | I22: =IF($G22>$D22,MEDIAN($G22,Détails!$D$11,Détails!$E$11)-MEDIAN($D22,Détails!$D$11,Détails!$E$11),($G22<$D22)*(Détails!$D$11-Détails!$E$11)+MEDIAN($G22,Détails!$E$11,Détails!$D$11)-MEDIAN($D22,Détails!$E$11,Détails!$D$11))-$E22 -> 0 | J22: =MOD($G22-$D22,1)-($G22<$D22)*(Détails!$D$11-Détails!$E$11)-MEDIAN($G22,Détails!$E$11,Détails!$D$11)+MEDIAN($D22,Détails!$E$11,Détails!$D$11)-$F22 -> 0 | K22: =IF(OR(WEEKDAY(Tabel1[[#This Row],[Date]],2)=7, DAY(Tabel1[[#This Row],[Date]])=DAY(EOMONTH(Tabel1[[#This Row],[Date]],0))),SUMIF(Tabel1[Semaine],Tabel1[[#This Row],[Semaine]],Tabel1[Total Heures]),0) -> 0 | L22: =IFERROR(IF(K22>Détails!E$4,K22-Détails!E$4,""),0) | O22: =--IF(B22<TODAY()-1,COUNTBLANK(D22)) -> 1
A23: =""&WEEKNUM(B23,2) -> 3 | B23: =B22+1 -> 45312 | C23: {=IF(ISNUMBER(Tabel1[[#This Row],[Ouverture de poste]]),"En poste",IF(ISNUMBER(_xlfn.AGGREGATE(15,6,ROW(#REF!)/((#REF!<=Tabel1[[#This Row],[Date]])*(Tabel1[[#This Row],[Date]]<=#REF!)),1)),"Arrêt maladie",IF(ISNUMBER(_xlfn.AGGREGATE(15,6,ROW(#REF!)/((#REF!<=Tabel1[[#This Row],[Date]])*(Tabel1[[#This Row],[Date]]<=#REF!)),1)),"Accident du travail",IF(ISNUMBER(_xlfn.AGGREGATE(15,6,ROW(#REF!)/((#REF!<=Tabel1[[#This Row],[Date]])*(Tabel1[[#This Row],[Date]]<=#REF!)),1)),"Congé", IF(ISNUMBER(_xlfn.AGGREGATE(15,6,ROW(#REF!)/((#REF!<=Tabel1[[#This Row],[Date]])*(Tabel1[[#This Row],[Date]]<=#REF!)),1)),"Congé pour évènement familial",IFERROR(IF(VLOOKUP($B23,Détails!$H$2:$H$16,1,0),"Férié",""),""))))))} | H23: =IF(OR(D23<>"",G23<>""),MOD(G23-D23-F23-E23,1),"") | I23: =IF($G23>$D23,MEDIAN($G23,Détails!$D$11,Détails!$E$11)-MEDIAN($D23,Détails!$D$11,Détails!$E$11),($G23<$D23)*(Détails!$D$11-Détails!$E$11)+MEDIAN($G23,Détails!$E$11,Détails!$D$11)-MEDIAN($D23,Détails!$E$11,Détails!$D$11))-$E23 -> 0 | J23: =MOD($G23-$D23,1)-($G23<$D23)*(Détails!$D$11-Détails!$E$11)-MEDIAN($G23,Détails!$E$11,Détails!$D$11)+MEDIAN($D23,Détails!$E$11,Détails!$D$11)-$F23 -> 0 | K23: =IF(OR(WEEKDAY(Tabel1[[#This Row],[Date]],2)=7, DAY(Tabel1[[#This Row],[Date]])=DAY(EOMONTH(Tabel1[[#This Row],[Date]],0))),SUMIF(Tabel1[Semaine],Tabel1[[#This Row],[Semaine]],Tabel1[Total Heures]),0) -> 1.625 | L23: =IFERROR(IF(K23>Détails!E$4,K23-Détails!E$4,""),0) | O23: =--IF(B23<TODAY()-1,COUNTBLANK(D23)) -> 1
A24: =""&WEEKNUM(B24,2) -> 4 | B24: =B23+1 -> 45313 | C24: {=IF(ISNUMBER(Tabel1[[#This Row],[Ouverture de poste]]),"En poste",IF(ISNUMBER(_xlfn.AGGREGATE(15,6,ROW(#REF!)/((#REF!<=Tabel1[[#This Row],[Date]])*(Tabel1[[#This Row],[Date]]<=#REF!)),1)),"Arrêt maladie",IF(ISNUMBER(_xlfn.AGGREGATE(15,6,ROW(#REF!)/((#REF!<=Tabel1[[#This Row],[Date]])*(Tabel1[[#This Row],[Date]]<=#REF!)),1)),"Accident du travail",IF(ISNUMBER(_xlfn.AGGREGATE(15,6,ROW(#REF!)/((#REF!<=Tabel1[[#This Row],[Date]])*(Tabel1[[#This Row],[Date]]<=#REF!)),1)),"Congé", IF(ISNUMBER(_xlfn.AGGREGATE(15,6,ROW(#REF!)/((#REF!<=Tabel1[[#This Row],[Date]])*(Tabel1[[#This Row],[Date]]<=#REF!)),1)),"Congé pour évènement familial",IFERROR(IF(VLOOKUP($B24,Détails!$H$2:$H$16,1,0),"Férié",""),""))))))} -> En poste | D24: 0.33333333 | E24: 0.020833333 | G24: 0.70833333 | H24: =IF(OR(D24<>"",G24<>""),MOD(G24-D24-F24-E24,1),"") -> 0.35416667 | I24: =IF($G24>$D24,MEDIAN($G24,Détails!$D$11,Détails!$E$11)-MEDIAN($D24,Détails!$D$11,Détails!$E$11),($G24<$D24)*(Détails!$D$11-Détails!$E$11)+MEDIAN($G24,Détails!$E$11,Détails!$D$11)-MEDIAN($D24,Détails!$E$11,Détails!$D$11))-$E24 -> 0.35416667 | J24: =MOD($G24-$D24,1)-($G24<$D24)*(Détails!$D$11-Détails!$E$11)-MEDIAN($G24,Détails!$E$11,Détails!$D$11)+MEDIAN($D24,Détails!$E$11,Détails!$D$11)-$F24 -> 0 | K24: =IF(OR(WEEKDAY(Tabel1[[#This Row],[Date]],2)=7, DAY(Tabel1[[#This Row],[Date]])=DAY(EOMONTH(Tabel1[[#This Row],[Date]],0))),SUMIF(Tabel1[Semaine],Tabel1[[#This Row],[Semaine]],Tabel1[Total Heures]),0) -> 0 | L24: =IFERROR(IF(K24>Détails!E$4,K24-Détails!E$4,""),0) | O24: =--IF(B24<TODAY()-1,COUNTBLANK(D24)) -> 0
A25: =""&WEEKNUM(B25,2) -> 4 | B25: =B24+1 -> 45314 | C25: {=IF(ISNUMBER(Tabel1[[#This Row],[Ouverture de poste]]),"En poste",IF(ISNUMBER(_xlfn.AGGREGATE(15,6,ROW(#REF!)/((#REF!<=Tabel1[[#This Row],[Date]])*(Tabel1[[#This Row],[Date]]<=#REF!)),1)),"Arrêt maladie",IF(ISNUMBER(_xlfn.AGGREGATE(15,6,ROW(#REF!)/((#REF!<=Tabel1[[#This Row],[Date]])*(Tabel1[[#This Row],[Date]]<=#REF!)),1)),"Accident du travail",IF(ISNUMBER(_xlfn.AGGREGATE(15,6,ROW(#REF!)/((#REF!<=Tabel1[[#This Row],[Date]])*(Tabel1[[#This Row],[Date]]<=#REF!)),1)),"Congé", IF(ISNUMBER(_xlfn.AGGREGATE(15,6,ROW(#REF!)/((#REF!<=Tabel1[[#This Row],[Date]])*(Tabel1[[#This Row],[Date]]<=#REF!)),1)),"Congé pour évènement familial",IFERROR(IF(VLOOKUP($B25,Détails!$H$2:$H$16,1,0),"Férié",""),""))))))} -> En poste | D25: 0.33333333 | E25: 0.020833333 | G25: 0.70833333 | H25: =IF(OR(D25<>"",G25<>""),MOD(G25-D25-F25-E25,1),"") -> 0.35416667 | I25: =IF($G25>$D25,MEDIAN($G25,Détails!$D$11,Détails!$E$11)-MEDIAN($D25,Détails!$D$11,Détails!$E$11),($G25<$D25)*(Détails!$D$11-Détails!$E$11)+MEDIAN($G25,Détails!$E$11,Détails!$D$11)-MEDIAN($D25,Détails!$E$11,Détails!$D$11))-$E25 -> 0.35416667 | J25: =MOD($G25-$D25,1)-($G25<$D25)*(Détails!$D$11-Détails!$E$11)-MEDIAN($G25,Détails!$E$11,Détails!$D$11)+MEDIAN($D25,Détails!$E$11,Détails!$D$11)-$F25 -> 0 | K25: =IF(OR(WEEKDAY(Tabel1[[#This Row],[Date]],2)=7, DAY(Tabel1[[#This Row],[Date]])=DAY(EOMONTH(Tabel1[[#This Row],[Date]],0))),SUMIF(Tabel1[Semaine],Tabel1[[#This Row],[Semaine]],Tabel1[Total Heures]),0) -> 0 | L25: =IFERROR(IF(K25>Détails!E$4,K25-Détails!E$4,""),0) | O25: =--IF(B25<TODAY()-1,COUNTBLANK(D25)) -> 0
A26: =""&WEEKNUM(B26,2) -> 4 | B26: =B25+1 -> 45315 | C26: {=IF(ISNUMBER(Tabel1[[#This Row],[Ouverture de poste]]),"En poste",IF(ISNUMBER(_xlfn.AGGREGATE(15,6,ROW(#REF!)/((#REF!<=Tabel1[[#This Row],[Date]])*(Tabel1[[#This Row],[Date]]<=#REF!)),1)),"Arrêt maladie",IF(ISNUMBER(_xlfn.AGGREGATE(15,6,ROW(#REF!)/((#REF!<=Tabel1[[#This Row],[Date]])*(Tabel1[[#This Row],[Date]]<=#REF!)),1)),"Accident du travail",IF(ISNUMBER(_xlfn.AGGREGATE(15,6,ROW(#REF!)/((#REF!<=Tabel1[[#This Row],[Date]])*(Tabel1[[#This Row],[Date]]<=#REF!)),1)),"Congé", IF(ISNUMBER(_xlfn.AGGREGATE(15,6,ROW(#REF!)/((#REF!<=Tabel1[[#This Row],[Date]])*(Tabel1[[#This Row],[Date]]<=#REF!)),1)),"Congé pour évènement familial",IFERROR(IF(VLOOKUP($B26,Détails!$H$2:$H$16,1,0),"Férié",""),""))))))} -> En poste | D26: 0.33333333 | E26: 0.020833333 | G26: 0.70833333 | H26: =IF(OR(D26<>"",G26<>""),MOD(G26-D26-F26-E26,1),"") -> 0.35416667 | I26: =IF($G26>$D26,MEDIAN($G26,Détails!$D$11,Détails!$E$11)-MEDIAN($D26,Détails!$D$11,Détails!$E$11),($G26<$D26)*(Détails!$D$11-Détails!$E$11)+MEDIAN($G26,Détails!$E$11,Détails!$D$11)-MEDIAN($D26,Détails!$E$11,Détails!$D$11))-$E26 -> 0.35416667 | J26: =MOD($G26-$D26,1)-($G26<$D26)*(Détails!$D$11-Détails!$E$11)-MEDIAN($G26,Détails!$E$11,Détails!$D$11)+MEDIAN($D26,Détails!$E$11,Détails!$D$11)-$F26 -> 0 | K26: =IF(OR(WEEKDAY(Tabel1[[#This Row],[Date]],2)=7, DAY(Tabel1[[#This Row],[Date]])=DAY(EOMONTH(Tabel1[[#This Row],[Date]],0))),SUMIF(Tabel1[Semaine],Tabel1[[#This Row],[Semaine]],Tabel1[Total Heures]),0) -> 0 | L26: =IFERROR(IF(K26>Détails!E$4,K26-Détails!E$4,""),0) | O26: =--IF(B26<TODAY()-1,COUNTBLANK(D26)) -> 0
A27: =""&WEEKNUM(B27,2) -> 4 | B27: =B26+1 -> 45316 | C27: {=IF(ISNUMBER(Tabel1[[#This Row],[Ouverture de poste]]),"En poste",IF(ISNUMBER(_xlfn.AGGREGATE(15,6,ROW(#REF!)/((#REF!<=Tabel1[[#This Row],[Date]])*(Tabel1[[#This Row],[Date]]<=#REF!)),1)),"Arrêt maladie",IF(ISNUMBER(_xlfn.AGGREGATE(15,6,ROW(#REF!)/((#REF!<=Tabel1[[#This Row],[Date]])*(Tabel1[[#This Row],[Date]]<=#REF!)),1)),"Accident du travail",IF(ISNUMBER(_xlfn.AGGREGATE(15,6,ROW(#REF!)/((#REF!<=Tabel1[[#This Row],[Date]])*(Tabel1[[#This Row],[Date]]<=#REF!)),1)),"Congé", IF(ISNUMBER(_xlfn.AGGREGATE(15,6,ROW(#REF!)/((#REF!<=Tabel1[[#This Row],[Date]])*(Tabel1[[#This Row],[Date]]<=#REF!)),1)),"Congé pour évènement familial",IFERROR(IF(VLOOKUP($B27,Détails!$H$2:$H$16,1,0),"Férié",""),""))))))} -> En poste | D27: 0.33333333 | E27: 0.020833333 | G27: 0.70833333 | H27: =IF(OR(D27<>"",G27<>""),MOD(G27-D27-F27-E27,1),"") -> 0.35416667 | I27: =IF($G27>$D27,MEDIAN($G27,Détails!$D$11,Détails!$E$11)-MEDIAN($D27,Détails!$D$11,Détails!$E$11),($G27<$D27)*(Détails!$D$11-Détails!$E$11)+MEDIAN($G27,Détails!$E$11,Détails!$D$11)-MEDIAN($D27,Détails!$E$11,Détails!$D$11))-$E27 -> 0.35416667 | J27: =MOD($G27-$D27,1)-($G27<$D27)*(Détails!$D$11-Détails!$E$11)-MEDIAN($G27,Détails!$E$11,Détails!$D$11)+MEDIAN($D27,Détails!$E$11,Détails!$D$11)-$F27 -> 0 | K27: =IF(OR(WEEKDAY(Tabel1[[#This Row],[Date]],2)=7, DAY(Tabel1[[#This Row],[Date]])=DAY(EOMONTH(Tabel1[[#This Row],[Date]],0))),SUMIF(Tabel1[Semaine],Tabel1[[#This Row],[Semaine]],Tabel1[Total Heures]),0) -> 0 | L27: =IFERROR(IF(K27>Détails!E$4,K27-Détails!E$4,""),0) | O27: =--IF(B27<TODAY()-1,COUNTBLANK(D27)) -> 0
A28: =""&WEEKNUM(B28,2) -> 4 | B28: =B27+1 -> 45317 | C28: {=IF(ISNUMBER(Tabel1[[#This Row],[Ouverture de poste]]),"En poste",IF(ISNUMBER(_xlfn.AGGREGATE(15,6,ROW(#REF!)/((#REF!<=Tabel1[[#This Row],[Date]])*(Tabel1[[#This Row],[Date]]<=#REF!)),1)),"Arrêt maladie",IF(ISNUMBER(_xlfn.AGGREGATE(15,6,ROW(#REF!)/((#REF!<=Tabel1[[#This Row],[Date]])*(Tabel1[[#This Row],[Date]]<=#REF!)),1)),"Accident du travail",IF(ISNUMBER(_xlfn.AGGREGATE(15,6,ROW(#REF!)/((#REF!<=Tabel1[[#This Row],[Date]])*(Tabel1[[#This Row],[Date]]<=#REF!)),1)),"Congé", IF(ISNUMBER(_xlfn.AGGREGATE(15,6,ROW(#REF!)/((#REF!<=Tabel1[[#This Row],[Date]])*(Tabel1[[#This Row],[Date]]<=#REF!)),1)),"Congé pour évènement familial",IFERROR(IF(VLOOKUP($B28,Détails!$H$2:$H$16,1,0),"Férié",""),""))))))} -> En poste | D28: 0.33333333 | E28: 0.020833333 | G28: 0.5625 | H28: =IF(OR(D28<>"",G28<>""),MOD(G28-D28-F28-E28,1),"") -> 0.20833333 | I28: =IF($G28>$D28,MEDIAN($G28,Détails!$D$11,Détails!$E$11)-MEDIAN($D28,Détails!$D$11,Détails!$E$11),($G28<$D28)*(Détails!$D$11-Détails!$E$11)+MEDIAN($G28,Détails!$E$11,Détails!$D$11)-MEDIAN($D28,Détails!$E$11,Détails!$D$11))-$E28 -> 0.20833333 | J28: =MOD($G28-$D28,1)-($G28<$D28)*(Détails!$D$11-Détails!$E$11)-MEDIAN($G28,Détails!$E$11,Détails!$D$11)+MEDIAN($D28,Détails!$E$11,Détails!$D$11)-$F28 -> 0 | K28: =IF(OR(WEEKDAY(Tabel1[[#This Row],[Date]],2)=7, DAY(Tabel1[[#This Row],[Date]])=DAY(EOMONTH(Tabel1[[#This Row],[Date]],0))),SUMIF(Tabel1[Semaine],Tabel1[[#This Row],[Semaine]],Tabel1[Total Heures]),0) -> 0 | L28: =IFERROR(IF(K28>Détails!E$4,K28-Détails!E$4,""),0) | O28: =--IF(B28<TODAY()-1,COUNTBLANK(D28)) -> 0
A29: =""&WEEKNUM(B29,2) -> 4 | B29: =B28+1 -> 45318 | C29: {=IF(ISNUMBER(Tabel1[[#This Row],[Ouverture de poste]]),"En poste",IF(ISNUMBER(_xlfn.AGGREGATE(15,6,ROW(#REF!)/((#REF!<=Tabel1[[#This Row],[Date]])*(Tabel1[[#This Row],[Date]]<=#REF!)),1)),"Arrêt maladie",IF(ISNUMBER(_xlfn.AGGREGATE(15,6,ROW(#REF!)/((#REF!<=Tabel1[[#This Row],[Date]])*(Tabel1[[#This Row],[Date]]<=#REF!)),1)),"Accident du travail",IF(ISNUMBER(_xlfn.AGGREGATE(15,6,ROW(#REF!)/((#REF!<=Tabel1[[#This Row],[Date]])*(Tabel1[[#This Row],[Date]]<=#REF!)),1)),"Congé", IF(ISNUMBER(_xlfn.AGGREGATE(15,6,ROW(#REF!)/((#REF!<=Tabel1[[#This Row],[Date]])*(Tabel1[[#This Row],[Date]]<=#REF!)),1)),"Congé pour évènement familial",IFERROR(IF(VLOOKUP($B29,Détails!$H$2:$H$16,1,0),"Férié",""),""))))))} | H29: =IF(OR(D29<>"",G29<>""),MOD(G29-D29-F29-E29,1),"") | I29: =IF($G29>$D29,MEDIAN($G29,Détails!$D$11,Détails!$E$11)-MEDIAN($D29,Détails!$D$11,Détails!$E$11),($G29<$D29)*(Détails!$D$11-Détails!$E$11)+MEDIAN($G29,Détails!$E$11,Détails!$D$11)-MEDIAN($D29,Détails!$E$11,Détails!$D$11))-$E29 -> 0 | J29: =MOD($G29-$D29,1)-($G29<$D29)*(Détails!$D$11-Détails!$E$11)-MEDIAN($G29,Détails!$E$11,Détails!$D$11)+MEDIAN($D29,Détails!$E$11,Détails!$D$11)-$F29 -> 0 | K29: =IF(OR(WEEKDAY(Tabel1[[#This Row],[Date]],2)=7, DAY(Tabel1[[#This Row],[Date]])=DAY(EOMONTH(Tabel1[[#This Row],[Date]],0))),SUMIF(Tabel1[Semaine],Tabel1[[#This Row],[Semaine]],Tabel1[Total Heures]),0) -> 0 | L29: =IFERROR(IF(K29>Détails!E$4,K29-Détails!E$4,""),0) | O29: =--IF(B29<TODAY()-1,COUNTBLANK(D29)) -> 1
A30: =""&WEEKNUM(B30,2) -> 4 | B30: =B29+1 -> 45319 | C30: {=IF(ISNUMBER(Tabel1[[#This Row],[Ouverture de poste]]),"En poste",IF(ISNUMBER(_xlfn.AGGREGATE(15,6,ROW(#REF!)/((#REF!<=Tabel1[[#This Row],[Date]])*(Tabel1[[#This Row],[Date]]<=#REF!)),1)),"Arrêt maladie",IF(ISNUMBER(_xlfn.AGGREGATE(15,6,ROW(#REF!)/((#REF!<=Tabel1[[#This Row],[Date]])*(Tabel1[[#This Row],[Date]]<=#REF!)),1)),"Accident du travail",IF(ISNUMBER(_xlfn.AGGREGATE(15,6,ROW(#REF!)/((#REF!<=Tabel1[[#This Row],[Date]])*(Tabel1[[#This Row],[Date]]<=#REF!)),1)),"Congé", IF(ISNUMBER(_xlfn.AGGREGATE(15,6,ROW(#REF!)/((#REF!<=Tabel1[[#This Row],[Date]])*(Tabel1[[#This Row],[Date]]<=#REF!)),1)),"Congé pour évènement familial",IFERROR(IF(VLOOKUP($B30,Détails!$H$2:$H$16,1,0),"Férié",""),""))))))} | H30: =IF(OR(D30<>"",G30<>""),MOD(G30-D30-F30-E30,1),"") | I30: =IF($G30>$D30,MEDIAN($G30,Détails!$D$11,Détails!$E$11)-MEDIAN($D30,Détails!$D$11,Détails!$E$11),($G30<$D30)*(Détails!$D$11-Détails!$E$11)+MEDIAN($G30,Détails!$E$11,Détails!$D$11)-MEDIAN($D30,Détails!$E$11,Détails!$D$11))-$E30 -> 0 | J30: =MOD($G30-$D30,1)-($G30<$D30)*(Détails!$D$11-Détails!$E$11)-MEDIAN($G30,Détails!$E$11,Détails!$D$11)+MEDIAN($D30,Détails!$E$11,Détails!$D$11)-$F30 -> 0 | K30: =IF(OR(WEEKDAY(Tabel1[[#This Row],[Date]],2)=7, DAY(Tabel1[[#This Row],[Date]])=DAY(EOMONTH(Tabel1[[#This Row],[Date]],0))),SUMIF(Tabel1[Semaine],Tabel1[[#This Row],[Semaine]],Tabel1[Total Heures]),0) -> 1.625 | L30: =IFERROR(IF(K30>Détails!E$4,K30-Détails!E$4,""),0) | O30: =--IF(B30<TODAY()-1,COUNTBLANK(D30)) -> 1
A31: =""&WEEKNUM(B31,2) -> 5 | B31: =B30+1 -> 45320 | C31: {=IF(ISNUMBER(Tabel1[[#This Row],[Ouverture de poste]]),"En poste",IF(ISNUMBER(_xlfn.AGGREGATE(15,6,ROW(#REF!)/((#REF!<=Tabel1[[#This Row],[Date]])*(Tabel1[[#This Row],[Date]]<=#REF!)),1)),"Arrêt maladie",IF(ISNUMBER(_xlfn.AGGREGATE(15,6,ROW(#REF!)/((#REF!<=Tabel1[[#This Row],[Date]])*(Tabel1[[#This Row],[Date]]<=#REF!)),1)),"Accident du travail",IF(ISNUMBER(_xlfn.AGGREGATE(15,6,ROW(#REF!)/((#REF!<=Tabel1[[#This Row],[Date]])*(Tabel1[[#This Row],[Date]]<=#REF!)),1)),"Congé", IF(ISNUMBER(_xlfn.AGGREGATE(15,6,ROW(#REF!)/((#REF!<=Tabel1[[#This Row],[Date]])*(Tabel1[[#This Row],[Date]]<=#REF!)),1)),"Congé pour évènement familial",IFERROR(IF(VLOOKUP($B31,Détails!$H$2:$H$16,1,0),"Férié",""),""))))))} -> En poste | D31: 0.33333333 | E31: 0.020833333 | G31: 0.70833333 | H31: =IF(OR(D31<>"",G31<>""),MOD(G31-D31-F31-E31,1),"") -> 0.35416667 | I31: =IF($G31>$D31,MEDIAN($G31,Détails!$D$11,Détails!$E$11)-MEDIAN($D31,Détails!$D$11,Détails!$E$11),($G31<$D31)*(Détails!$D$11-Détails!$E$11)+MEDIAN($G31,Détails!$E$11,Détails!$D$11)-MEDIAN($D31,Détails!$E$11,Détails!$D$11))-$E31 -> 0.35416667 | J31: =MOD($G31-$D31,1)-($G31<$D31)*(Détails!$D$11-Détails!$E$11)-MEDIAN($G31,Détails!$E$11,Détails!$D$11)+MEDIAN($D31,Détails!$E$11,Détails!$D$11)-$F31 -> 0 | K31: =IF(OR(WEEKDAY(Tabel1[[#This Row],[Date]],2)=7, DAY(Tabel1[[#This Row],[Date]])=DAY(EOMONTH(Tabel1[[#This Row],[Date]],0))),SUMIF(Tabel1[Semaine],Tabel1[[#This Row],[Semaine]],Tabel1[Total Heures]),0) -> 0 | L31: =IFERROR(IF(K31>Détails!E$4,K31-Détails!E$4,""),0) | O31: =--IF(B31<TODAY()-1,COUNTBLANK(D31)) -> 0
A32: =""&WEEKNUM(B32,2) -> 5 | B32: =B31+1 -> 45321 | C32: {=IF(ISNUMBER(Tabel1[[#This Row],[Ouverture de poste]]),"En poste",IF(ISNUMBER(_xlfn.AGGREGATE(15,6,ROW(#REF!)/((#REF!<=Tabel1[[#This Row],[Date]])*(Tabel1[[#This Row],[Date]]<=#REF!)),1)),"Arrêt maladie",IF(ISNUMBER(_xlfn.AGGREGATE(15,6,ROW(#REF!)/((#REF!<=Tabel1[[#This Row],[Date]])*(Tabel1[[#This Row],[Date]]<=#REF!)),1)),"Accident du travail",IF(ISNUMBER(_xlfn.AGGREGATE(15,6,ROW(#REF!)/((#REF!<=Tabel1[[#This Row],[Date]])*(Tabel1[[#This Row],[Date]]<=#REF!)),1)),"Congé", IF(ISNUMBER(_xlfn.AGGREGATE(15,6,ROW(#REF!)/((#REF!<=Tabel1[[#This Row],[Date]])*(Tabel1[[#This Row],[Date]]<=#REF!)),1)),"Congé pour évènement familial",IFERROR(IF(VLOOKUP($B32,Détails!$H$2:$H$16,1,0),"Férié",""),""))))))} -> En poste | D32: 0.33333333 | E32: 0.020833333 | G32: 0.70833333 | H32: =IF(OR(D32<>"",G32<>""),MOD(G32-D32-F32-E32,1),"") -> 0.35416667 | I32: =IF($G32>$D32,MEDIAN($G32,Détails!$D$11,Détails!$E$11)-MEDIAN($D32,Détails!$D$11,Détails!$E$11),($G32<$D32)*(Détails!$D$11-Détails!$E$11)+MEDIAN($G32,Détails!$E$11,Détails!$D$11)-MEDIAN($D32,Détails!$E$11,Détails!$D$11))-$E32 -> 0.35416667 | J32: =MOD($G32-$D32,1)-($G32<$D32)*(Détails!$D$11-Détails!$E$11)-MEDIAN($G32,Détails!$E$11,Détails!$D$11)+MEDIAN($D32,Détails!$E$11,Détails!$D$11)-$F32 -> 0 | K32: =IF(OR(WEEKDAY(Tabel1[[#This Row],[Date]],2)=7, DAY(Tabel1[[#This Row],[Date]])=DAY(EOMONTH(Tabel1[[#This Row],[Date]],0))),SUMIF(Tabel1[Semaine],Tabel1[[#This Row],[Semaine]],Tabel1[Total Heures]),0) -> 0 | L32: =IFERROR(IF(K32>Détails!E$4,K32-Détails!E$4,""),0) | O32: =--IF(B32<TODAY()-1,COUNTBLANK(D32)) -> 0
A33: =""&WEEKNUM(B33,2) -> 5 | B33: =B32+1 -> 45322 | C33: {=IF(ISNUMBER(Tabel1[[#This Row],[Ouverture de poste]]),"En poste",IF(ISNUMBER(_xlfn.AGGREGATE(15,6,ROW(#REF!)/((#REF!<=Tabel1[[#This Row],[Date]])*(Tabel1[[#This Row],[Date]]<=#REF!)),1)),"Arrêt maladie",IF(ISNUMBER(_xlfn.AGGREGATE(15,6,ROW(#REF!)/((#REF!<=Tabel1[[#This Row],[Date]])*(Tabel1[[#This Row],[Date]]<=#REF!)),1)),"Accident du travail",IF(ISNUMBER(_xlfn.AGGREGATE(15,6,ROW(#REF!)/((#REF!<=Tabel1[[#This Row],[Date]])*(Tabel1[[#This Row],[Date]]<=#REF!)),1)),"Congé", IF(ISNUMBER(_xlfn.AGGREGATE(15,6,ROW(#REF!)/((#REF!<=Tabel1[[#This Row],[Date]])*(Tabel1[[#This Row],[Date]]<=#REF!)),1)),"Congé pour évènement familial",IFERROR(IF(VLOOKUP($B33,Détails!$H$2:$H$16,1,0),"Férié",""),""))))))} -> En poste | D33: 0.33333333 | E33: 0.020833333 | G33: 0.70833333 | H33: =IF(OR(D33<>"",G33<>""),MOD(G33-D33-F33-E33,1),"") -> 0.35416667 | I33: =IF($G33>$D33,MEDIAN($G33,Détails!$D$11,Détails!$E$11)-MEDIAN($D33,Détails!$D$11,Détails!$E$11),($G33<$D33)*(Détails!$D$11-Détails!$E$11)+MEDIAN($G33,Détails!$E$11,Détails!$D$11)-MEDIAN($D33,Détails!$E$11,Détails!$D$11))-$E33 -> 0.35416667 | J33: =MOD($G33-$D33,1)-($G33<$D33)*(Détails!$D$11-Détails!$E$11)-MEDIAN($G33,Détails!$E$11,Détails!$D$11)+MEDIAN($D33,Détails!$E$11,Détails!$D$11)-$F33 -> 0 | K33: =IF(OR(WEEKDAY(Tabel1[[#This Row],[Date]],2)=7, DAY(Tabel1[[#This Row],[Date]])=DAY(EOMONTH(Tabel1[[#This Row],[Date]],0))),SUMIF(Tabel1[Semaine],Tabel1[[#This Row],[Semaine]],Tabel1[Total Heures]),0) -> 1.0625 | L33: =IFERROR(IF(K33>Détails!E$4,K33-Détails!E$4,""),0) | O33: =--IF(B33<TODAY()-1,COUNTBLANK(D33)) -> 0
E38: =IFERROR(IF(VLOOKUP($B4,Détails!$H$2:$H$16,1,0),"Férié",""),"")
