Workbook
Name d: Janvier!$N$1
Name f: Janvier!$O$1
Name Fériés: [1]Détails!$B$2:$L$16
Name MesFeries: Détails!$M$2:$M$16

Sheet Détails
A1: 2024 | D1: Contrat | G1: Congés | L1: Jours fériés | R1: Heures de nuit
A2: Premier jour de l'année | B2: =DATE(A1,1,1) -> 45292 | D2: Journalier | E2: =E4/E3 -> 0.325 | G2: du | I2: au | K2: =NETWORKDAYS.INTL(H2,J2,1,M$2:M$16) -> 0 | L2: Jour de l'an | M2: =DATE(A1,1,1) -> 45292 | R2: 0.875
A3: Dernier jour de l'année | B3: =DATE(A1,12,31) -> 45657 | D3: Nombre de jour travaillé par semaine | E3: 5 | G3: du | I3: au | K3: =NETWORKDAYS.INTL(H3,J3,1,M$2:M$16) -> 0 | L3: Vendredi saint | M3: =M4-2 -> 45380 | R3: 0.25
A4: Nombre de jour dans l'année | B4: =NETWORKDAYS.INTL(B2,B3,"0000000") -> 366 | D4: Hedomadaire | E4: 1.625 | G4: du | I4: au | K4: =NETWORKDAYS.INTL(H4,J4,1,M$2:M$16) -> 0 | L4: Pâques | M4: =ROUND(DATE(A1,4,MOD(234-11*MOD($A$1,19),30))/7,)*7-6 -> 45382
A5: Nombre de jours ouvrés | B5: =NETWORKDAYS(B2,B3, M1:M16) -> 250 | D5: Mensuel | E5: =E4*4.33333 -> 7.0416613 | G5: du | I5: au | K5: =NETWORKDAYS.INTL(H5,J5,1,M$2:M$16) -> 0 | L5: Lundi de Pâques | M5: =M4+1 -> 45383
A6: Nombre de samedi et dimanche | B6: =NETWORKDAYS.INTL(B2,B3,"1111100") -> 104 | D6: Nombre de jour prévu par la convention | G6: du | I6: au | K6: =NETWORKDAYS.INTL(H6,J6,1,M$2:M$16) -> 0 | L6: Fête du travail | M6: =DATE(A1,5,1) -> 45413
A7: Nombre de jours fériés en semaine | B7: {=ROWS(_xlfn._xlws.FILTER(M2:M16,WEEKDAY(M2:M16,2)<6))} -> 12 | G7: du | I7: au | K7: =NETWORKDAYS.INTL(H7,J7,1,M$2:M$16) -> 0 | L7: Commémoration de la victoire de 1945 | M7: =DATE(A1,5,8) -> 45420
A8: Nombre de jours fériés le week-end | B8: {=ROWS(_xlfn._xlws.FILTER(M2:M16,WEEKDAY(M2:M16,2)>5))} -> 3 | G8: du | I8: au | K8: =NETWORKDAYS.INTL(H8,J8,1,M$2:M$16) -> 0 | L8: Ascension | M8: =M4+39 -> 45421
D9: Nombre de Jours de l’année – nombre de samedis et dimanche – jours fériés en semaine – 25 jours de cp – 218 jours travaillés | E9: RTT | G9: du | I9: au | K9: =NETWORKDAYS.INTL(H9,J9,1,M$2:M$16) -> 0 | L9: Pentecôte | M9: =M4+49 -> 45431
A10: Calcul entre deux dates | G10: du | I10: au | K10: =NETWORKDAYS.INTL(H10,J10,1,M$2:M$16) -> 0 | L10: Lundi de Pentecôte | M10: =M9+1 -> 45432
A11: du | B11: 45413 | G11: du | I11: au | K11: =NETWORKDAYS.INTL(H11,J11,1,M$2:M$16) -> 0 | L11: Fête Nationale | M11: =DATE(A1,7,14) -> 45487
A12: au | B12: 45432 | L12: Assomption | M12: =DATE($A$1,8,15) -> 45519
A13: Nombre de jours | B13: =NETWORKDAYS.INTL(B11,B12,"0000000") -> 20 | G13: Congés N-1 | L13: Toussaint | M13: =DATE(A1,11,1) -> 45597
A14: Nombre de jours ouvrés | B14: =NETWORKDAYS(B11,B12, M1:M16) -> 10 | G14: Congés | L14: Commémoration de la victoire de 1918 | M14: =DATE(A1,11,11) -> 45607
A15: Nombre de samedi et dimanche | B15: =NETWORKDAYS.INTL(B11,B12,"1111100") -> 6 | E15: RTT N-1 | L15: Noël | M15: =DATE(A1,12,25) -> 45651
A16: Nombre de jours fériés en semaine | B16: {=SUMPRODUCT(COUNTIF(M2:M16,ROW(INDIRECT(B11&":"&B12))))} -> 5 | E16: RTT | L16: Saint-Étienne | M16: =M15+1 -> 45652
A17: Nombre de jours fériés le week-end | B17: {=SUMPRODUCT((WEEKDAY(ROW(INDIRECT(B11&":"&B12)),2)>5))} -> 0 | E17: RCN N-1
E18: RCN
A32: =A31+1 -> 1
A33: =A32+1 -> 2
A34: =A33+1 -> 3
A35: =A34+1 -> 4
A36: =A35+1 -> 5
A37: =A36+1 -> 6
A38: =A37+1 -> 7

Sheet Synthèse
B1: Accident de travail | C1: Arrêt maladie | D1: Congé | E1: En poste | F1: Férié | G1: Repos | H1: Heures en journée | I1: Heures de nuit
A2: Janvier | B2: =Janvier!#REF! -> #REF! | C2: =Janvier!#REF! -> #REF! | D2: =Janvier!#REF! -> #REF! | E2: =Janvier!#REF! -> #REF! | F2: =Janvier!#REF! -> #REF! | G2: =Janvier!#REF! -> #REF!
A3: Février | B3: =Février!I1 -> 0 | C3: =Février!I2 -> 0 | D3: =Février!#REF! -> #REF! | E3: =Février!#REF! -> #REF! | F3: =Février!#REF! -> #REF! | G3: =Février!#REF! -> #REF!
A4: Mars | B4: =Mars!I1 -> 0 | C4: =Mars!I2 -> 0 | D4: =Mars!I3 -> 0 | E4: =Mars!I4 -> 0 | F4: =Mars!I5 -> 0 | G4: =Mars!I6 -> 0
A5: Avril | B5: =Avril!I1 -> 0 | C5: =Avril!I2 -> 0 | D5: =Avril!I3 -> 0 | E5: =Avril!I4 -> 0 | F5: =Avril!I5 -> 0 | G5: =Avril!I6 -> 0
A6: Mai | B6: =Mai!I1 -> 0 | C6: =Mai!I2 -> 0 | D6: =Mai!I3 -> 0 | E6: =Mai!I4 -> 0 | F6: =Mai!I5 -> 0 | G6: =Mai!I6 -> 0
A7: Juin | B7: =Juin!I1 -> 0 | C7: =Juin!I2 -> 0 | D7: =Juin!I3 -> 0 | E7: =Juin!I4 -> 0 | F7: =Juin!I5 -> 0 | G7: =Juin!I6 -> 0
A8: Juillet | B8: =Juillet!I1 -> 0 | C8: =Juillet!I2 -> 0 | D8: =Juillet!I3 -> 0 | E8: =Juillet!I4 -> 0 | F8: =Juillet!I5 -> 0 | G8: =Juillet!I6 -> 0
A9: Août | B9: =Août!I1 -> 0 | C9: =Août!I2 -> 0 | D9: =Août!I3 -> 0 | E9: =Août!I4 -> 0 | F9: =Août!I5 -> 0 | G9: =Août!I6 -> 0
A10: Septembre | B10: =Septembre!I1 -> 0 | C10: =Septembre!I2 -> 0 | D10: =Septembre!I3 -> 0 | E10: =Septembre!I4 -> 0 | F10: =Septembre!I5 -> 0 | G10: =Septembre!I6 -> 0
A11: Octobre | B11: =Octobre!I1 -> 0 | C11: =Octobre!I2 -> 0 | D11: =Octobre!I3 -> 0 | E11: =Octobre!I4 -> 0 | F11: =Octobre!I5 -> 0 | G11: =Octobre!I6 -> 0
A12: Novembre | B12: =Novembre!I1 -> 0 | C12: =Novembre!I2 -> 0 | D12: =Novembre!I3 -> 0 | E12: =Novembre!I4 -> 0 | F12: =Novembre!I5 -> 0 | G12: =Novembre!I6 -> 0
A13: Décembre | B13: =Décembre!I1 -> 0 | C13: =Décembre!I2 -> 0 | D13: =Décembre!I3 -> 0 | E13: =Décembre!I4 -> 0 | F13: =Décembre!I5 -> 0 | G13: =Décembre!I6 -> 0
A14: Totaux | B14: =SUM(B2:B13) -> #REF! | C14: =SUM(C2:C13) -> #REF! | D14: =SUM(D2:D13) -> #REF! | E14: =SUM(E2:E13) -> #REF! | F14: =SUM(F2:F13) -> #REF! | G14: =SUM(G2:G13) -> #REF!

Sheet Janvier
B1: =SUBTOTAL(102,Tabel1[Date]) -> 31 | D1: =SUBTOTAL(102,Tabel1[Ouverture de poste]) -> 19 | F1: =SUBTOTAL(102,Tabel1[Pause entre 21:00 et 06:00]) -> 9 | G1: =SUBTOTAL(102,Tabel1[Fermeture de poste]) -> 19 | H1: =SUBTOTAL(109,Tabel1[Total Heures]) -> 7.5 | I1: =SUBTOTAL(109,Tabel1[Heures de jour]) -> 4.5416667 | J1: =SUBTOTAL(109,Tabel1[Heures de nuit]) -> 2.9583333 | K1: =SUBTOTAL(109,Tabel1[Total semaine]) -> 7.5 | L1: =SUBTOTAL(109,Tabel1[Heures supplémentaires]) -> 0
A2: Semaine | B2: Date | C2: Ordre | D2: Ouverture de poste | E2: Pause entre 06:00 et 21:00 | F2: Pause entre 21:00 et 06:00 | G2: Fermeture de poste | H2: Total Heures | I2: Heures de jour | J2: Heures de nuit | K2: Total semaine | L2: Heures supplémentaires
A3: =""&WEEKNUM(B3,2) -> 1 | B3: =DATE(Détails!A1,1,1) -> 45292 | D3: 0.83333333 | F3: 0.041666667 | G3: 0.16666667 | H3: =IF(OR(D3<>"",G3<>""),MOD(G3-D3-F3-E3,1),"") -> 0.29166667 | I3: =IF($G3>$D3,MEDIAN($G3,Détails!$R$2,Détails!$R$3)-MEDIAN($D3,Détails!$R$2,Détails!$R$3),($G3<$D3)*(Détails!$R$2-Détails!$R$3)+MEDIAN($G3,Détails!$R$3,Détails!$R$2)-MEDIAN($D3,Détails!$R$3,Détails!$R$2))-$E3 -> 0.041666667 | J3: =MOD($G3-$D3,1)-($G3<$D3)*(Détails!$R$2-Détails!$R$3)-MEDIAN($G3,Détails!$R$3,Détails!$R$2)+MEDIAN($D3,Détails!$R$3,Détails!$R$2)-$F3 -> 0.25 | K3: =IF(OR(WEEKDAY(Tabel1[[#This Row],[Date]],2)=7, DAY(Tabel1[[#This Row],[Date]])=DAY(EOMONTH(Tabel1[[#This Row],[Date]],0))),SUMIF(Tabel1[Semaine],Tabel1[[#This Row],[Semaine]],Tabel1[Total Heures]),0) -> 0
A4: =""&WEEKNUM(B4,2) -> 1 | B4: =B3+1 -> 45293 | D4: 0.61458333 | E4: 0.041666667 | G4: 1.0208333 | H4: =IF(OR(D4<>"",G4<>""),MOD(G4-D4-F4-E4,1),"") -> 0.36458333 | I4: =IF($G4>$D4,MEDIAN($G4,Détails!$R$2,Détails!$R$3)-MEDIAN($D4,Détails!$R$2,Détails!$R$3),($G4<$D4)*(Détails!$R$2-Détails!$R$3)+MEDIAN($G4,Détails!$R$3,Détails!$R$2)-MEDIAN($D4,Détails!$R$3,Détails!$R$2))-$E4 -> 0.21875 | J4: =MOD($G4-$D4,1)-($G4<$D4)*(Détails!$R$2-Détails!$R$3)-MEDIAN($G4,Détails!$R$3,Détails!$R$2)+MEDIAN($D4,Détails!$R$3,Détails!$R$2)-$F4 -> 0.14583333 | K4: =IF(OR(WEEKDAY(Tabel1[[#This Row],[Date]],2)=7, DAY(Tabel1[[#This Row],[Date]])=DAY(EOMONTH(Tabel1[[#This Row],[Date]],0))),SUMIF(Tabel1[Semaine],Tabel1[[#This Row],[Semaine]],Tabel1[Total Heures]),0) -> 0 | O4: jours | P4: =DAY(EOMONTH($B$3,0)) -> 31
A5: =""&WEEKNUM(B5,2) -> 1 | B5: =B4+1 -> 45294 | D5: 0.91666667 | F5: 0.041666667 | G5: 1.25 | H5: =IF(OR(D5<>"",G5<>""),MOD(G5-D5-F5-E5,1),"") -> 0.29166667 | I5: =IF($G5>$D5,MEDIAN($G5,Détails!$R$2,Détails!$R$3)-MEDIAN($D5,Détails!$R$2,Détails!$R$3),($G5<$D5)*(Détails!$R$2-Détails!$R$3)+MEDIAN($G5,Détails!$R$3,Détails!$R$2)-MEDIAN($D5,Détails!$R$3,Détails!$R$2))-$E5 -> 0 | J5: =MOD($G5-$D5,1)-($G5<$D5)*(Détails!$R$2-Détails!$R$3)-MEDIAN($G5,Détails!$R$3,Détails!$R$2)+MEDIAN($D5,Détails!$R$3,Détails!$R$2)-$F5 -> 0.29166667 | K5: =IF(OR(WEEKDAY(Tabel1[[#This Row],[Date]],2)=7, DAY(Tabel1[[#This Row],[Date]])=DAY(EOMONTH(Tabel1[[#This Row],[Date]],0))),SUMIF(Tabel1[Semaine],Tabel1[[#This Row],[Semaine]],Tabel1[Total Heures]),0) -> 0 | O5: jours ouvrables | P5: =NETWORKDAYS.INTL($B$3,EOMONTH($B$3,0),,MesFeries) -> 22
A6: =""&WEEKNUM(B6,2) -> 1 | B6: =B5+1 -> 45295 | D6: 0.5 | G6: 1.25 | H6: =IF(OR(D6<>"",G6<>""),MOD(G6-D6-F6-E6,1),"") -> 0.75 | I6: =IF($G6>$D6,MEDIAN($G6,Détails!$R$2,Détails!$R$3)-MEDIAN($D6,Détails!$R$2,Détails!$R$3),($G6<$D6)*(Détails!$R$2-Détails!$R$3)+MEDIAN($G6,Détails!$R$3,Détails!$R$2)-MEDIAN($D6,Détails!$R$3,Détails!$R$2))-$E6 -> 0.375 | J6: =MOD($G6-$D6,1)-($G6<$D6)*(Détails!$R$2-Détails!$R$3)-MEDIAN($G6,Détails!$R$3,Détails!$R$2)+MEDIAN($D6,Détails!$R$3,Détails!$R$2)-$F6 -> 0.375 | K6: =IF(OR(WEEKDAY(Tabel1[[#This Row],[Date]],2)=7, DAY(Tabel1[[#This Row],[Date]])=DAY(EOMONTH(Tabel1[[#This Row],[Date]],0))),SUMIF(Tabel1[Semaine],Tabel1[[#This Row],[Semaine]],Tabel1[Total Heures]),0) -> 0 | O6: jours fériés | P6: =DAY(EOMONTH($B$3,0))-NETWORKDAYS.INTL($B$3,EOMONTH($B$3,0),"0000000",MesFeries) -> 1
A7: =""&WEEKNUM(B7,2) -> 1 | B7: =B6+1 -> 45296 | H7: =IF(OR(D7<>"",G7<>""),MOD(G7-D7-F7-E7,1),"") | I7: =IF($G7>$D7,MEDIAN($G7,Détails!$R$2,Détails!$R$3)-MEDIAN($D7,Détails!$R$2,Détails!$R$3),($G7<$D7)*(Détails!$R$2-Détails!$R$3)+MEDIAN($G7,Détails!$R$3,Détails!$R$2)-MEDIAN($D7,Détails!$R$3,Détails!$R$2))-$E7 -> 0 | J7: =MOD($G7-$D7,1)-($G7<$D7)*(Détails!$R$2-Détails!$R$3)-MEDIAN($G7,Détails!$R$3,Détails!$R$2)+MEDIAN($D7,Détails!$R$3,Détails!$R$2)-$F7 -> 0 | K7: =IF(OR(WEEKDAY(Tabel1[[#This Row],[Date]],2)=7, DAY(Tabel1[[#This Row],[Date]])=DAY(EOMONTH(Tabel1[[#This Row],[Date]],0))),SUMIF(Tabel1[Semaine],Tabel1[[#This Row],[Semaine]],Tabel1[Total Heures]),0) -> 0 | O7: samedi & dimanche | P7: =NETWORKDAYS.INTL($B$3,EOMONTH($B$3,0),"1111100") -> 8
A8: =""&WEEKNUM(B8,2) -> 1 | B8: =B7+1 -> 45297 | H8: =IF(OR(D8<>"",G8<>""),MOD(G8-D8-F8-E8,1),"") | I8: =IF($G8>$D8,MEDIAN($G8,Détails!$R$2,Détails!$R$3)-MEDIAN($D8,Détails!$R$2,Détails!$R$3),($G8<$D8)*(Détails!$R$2-Détails!$R$3)+MEDIAN($G8,Détails!$R$3,Détails!$R$2)-MEDIAN($D8,Détails!$R$3,Détails!$R$2))-$E8 -> 0 | J8: =MOD($G8-$D8,1)-($G8<$D8)*(Détails!$R$2-Détails!$R$3)-MEDIAN($G8,Détails!$R$3,Détails!$R$2)+MEDIAN($D8,Détails!$R$3,Détails!$R$2)-$F8 -> 0 | K8: =IF(OR(WEEKDAY(Tabel1[[#This Row],[Date]],2)=7, DAY(Tabel1[[#This Row],[Date]])=DAY(EOMONTH(Tabel1[[#This Row],[Date]],0))),SUMIF(Tabel1[Semaine],Tabel1[[#This Row],[Semaine]],Tabel1[Total Heures]),0) -> 0 | O8: jours fériés pendant weekend | P8: =NETWORKDAYS.INTL($B$3,EOMONTH($B$3,0),"1111100")-NETWORKDAYS.INTL($B$3,EOMONTH($B$3,0),"1111100",MesFeries) -> 0
A9: =""&WEEKNUM(B9,2) -> 1 | B9: =B8+1 -> 45298 | H9: =IF(OR(D9<>"",G9<>""),MOD(G9-D9-F9-E9,1),"") | I9: =IF($G9>$D9,MEDIAN($G9,Détails!$R$2,Détails!$R$3)-MEDIAN($D9,Détails!$R$2,Détails!$R$3),($G9<$D9)*(Détails!$R$2-Détails!$R$3)+MEDIAN($G9,Détails!$R$3,Détails!$R$2)-MEDIAN($D9,Détails!$R$3,Détails!$R$2))-$E9 -> 0 | J9: =MOD($G9-$D9,1)-($G9<$D9)*(Détails!$R$2-Détails!$R$3)-MEDIAN($G9,Détails!$R$3,Détails!$R$2)+MEDIAN($D9,Détails!$R$3,Détails!$R$2)-$F9 -> 0 | K9: =IF(OR(WEEKDAY(Tabel1[[#This Row],[Date]],2)=7, DAY(Tabel1[[#This Row],[Date]])=DAY(EOMONTH(Tabel1[[#This Row],[Date]],0))),SUMIF(Tabel1[Semaine],Tabel1[[#This Row],[Semaine]],Tabel1[Total Heures]),0) -> 1.6979167 | O9: uniquement samedis | P9: =NETWORKDAYS.INTL($B$3,EOMONTH($B$3,0),"1111101") -> 4
A10: =""&WEEKNUM(B10,2) -> 2 | B10: =B9+1 -> 45299 | D10: 0.61458333 | G10: 1.0208333 | H10: =IF(OR(D10<>"",G10<>""),MOD(G10-D10-F10-E10,1),"") -> 0.40625 | I10: =IF($G10>$D10,MEDIAN($G10,Détails!$R$2,Détails!$R$3)-MEDIAN($D10,Détails!$R$2,Détails!$R$3),($G10<$D10)*(Détails!$R$2-Détails!$R$3)+MEDIAN($G10,Détails!$R$3,Détails!$R$2)-MEDIAN($D10,Détails!$R$3,Détails!$R$2))-$E10 -> 0.26041667 | J10: =MOD($G10-$D10,1)-($G10<$D10)*(Détails!$R$2-Détails!$R$3)-MEDIAN($G10,Détails!$R$3,Détails!$R$2)+MEDIAN($D10,Détails!$R$3,Détails!$R$2)-$F10 -> 0.14583333 | K10: =IF(OR(WEEKDAY(Tabel1[[#This Row],[Date]],2)=7, DAY(Tabel1[[#This Row],[Date]])=DAY(EOMONTH(Tabel1[[#This Row],[Date]],0))),SUMIF(Tabel1[Semaine],Tabel1[[#This Row],[Semaine]],Tabel1[Total Heures]),0) -> 0
A11: =""&WEEKNUM(B11,2) -> 2 | B11: =B10+1 -> 45300 | D11: 0.61458333 | G11: 1.0208333 | H11: =IF(OR(D11<>"",G11<>""),MOD(G11-D11-F11-E11,1),"") -> 0.40625 | I11: =IF($G11>$D11,MEDIAN($G11,Détails!$R$2,Détails!$R$3)-MEDIAN($D11,Détails!$R$2,Détails!$R$3),($G11<$D11)*(Détails!$R$2-Détails!$R$3)+MEDIAN($G11,Détails!$R$3,Détails!$R$2)-MEDIAN($D11,Détails!$R$3,Détails!$R$2))-$E11 -> 0.26041667 | J11: =MOD($G11-$D11,1)-($G11<$D11)*(Détails!$R$2-Détails!$R$3)-MEDIAN($G11,Détails!$R$3,Détails!$R$2)+MEDIAN($D11,Détails!$R$3,Détails!$R$2)-$F11 -> 0.14583333 | K11: =IF(OR(WEEKDAY(Tabel1[[#This Row],[Date]],2)=7, DAY(Tabel1[[#This Row],[Date]])=DAY(EOMONTH(Tabel1[[#This Row],[Date]],0))),SUMIF(Tabel1[Semaine],Tabel1[[#This Row],[Semaine]],Tabel1[Total Heures]),0) -> 0
A12: =""&WEEKNUM(B12,2) -> 2 | B12: =B11+1 -> 45301 | D12: 0.61458333 | G12: 1.0208333 | H12: =IF(OR(D12<>"",G12<>""),MOD(G12-D12-F12-E12,1),"") -> 0.40625 | I12: =IF($G12>$D12,MEDIAN($G12,Détails!$R$2,Détails!$R$3)-MEDIAN($D12,Détails!$R$2,Détails!$R$3),($G12<$D12)*(Détails!$R$2-Détails!$R$3)+MEDIAN($G12,Détails!$R$3,Détails!$R$2)-MEDIAN($D12,Détails!$R$3,Détails!$R$2))-$E12 -> 0.26041667 | J12: =MOD($G12-$D12,1)-($G12<$D12)*(Détails!$R$2-Détails!$R$3)-MEDIAN($G12,Détails!$R$3,Détails!$R$2)+MEDIAN($D12,Détails!$R$3,Détails!$R$2)-$F12 -> 0.14583333 | K12: =IF(OR(WEEKDAY(Tabel1[[#This Row],[Date]],2)=7, DAY(Tabel1[[#This Row],[Date]])=DAY(EOMONTH(Tabel1[[#This Row],[Date]],0))),SUMIF(Tabel1[Semaine],Tabel1[[#This Row],[Semaine]],Tabel1[Total Heures]),0) -> 0
A13: =""&WEEKNUM(B13,2) -> 2 | B13: =B12+1 -> 45302 | D13: 0.61458333 | G13: 1.0208333 | H13: =IF(OR(D13<>"",G13<>""),MOD(G13-D13-F13-E13,1),"") -> 0.40625 | I13: =IF($G13>$D13,MEDIAN($G13,Détails!$R$2,Détails!$R$3)-MEDIAN($D13,Détails!$R$2,Détails!$R$3),($G13<$D13)*(Détails!$R$2-Détails!$R$3)+MEDIAN($G13,Détails!$R$3,Détails!$R$2)-MEDIAN($D13,Détails!$R$3,Détails!$R$2))-$E13 -> 0.26041667 | J13: =MOD($G13-$D13,1)-($G13<$D13)*(Détails!$R$2-Détails!$R$3)-MEDIAN($G13,Détails!$R$3,Détails!$R$2)+MEDIAN($D13,Détails!$R$3,Détails!$R$2)-$F13 -> 0.14583333 | K13: =IF(OR(WEEKDAY(Tabel1[[#This Row],[Date]],2)=7, DAY(Tabel1[[#This Row],[Date]])=DAY(EOMONTH(Tabel1[[#This Row],[Date]],0))),SUMIF(Tabel1[Semaine],Tabel1[[#This Row],[Semaine]],Tabel1[Total Heures]),0) -> 0
A14: =""&WEEKNUM(B14,2) -> 2 | B14: =B13+1 -> 45303 | H14: =IF(OR(D14<>"",G14<>""),MOD(G14-D14-F14-E14,1),"") | I14: =IF($G14>$D14,MEDIAN($G14,Détails!$R$2,Détails!$R$3)-MEDIAN($D14,Détails!$R$2,Détails!$R$3),($G14<$D14)*(Détails!$R$2-Détails!$R$3)+MEDIAN($G14,Détails!$R$3,Détails!$R$2)-MEDIAN($D14,Détails!$R$3,Détails!$R$2))-$E14 -> 0 | J14: =MOD($G14-$D14,1)-($G14<$D14)*(Détails!$R$2-Détails!$R$3)-MEDIAN($G14,Détails!$R$3,Détails!$R$2)+MEDIAN($D14,Détails!$R$3,Détails!$R$2)-$F14 -> 0 | K14: =IF(OR(WEEKDAY(Tabel1[[#This Row],[Date]],2)=7, DAY(Tabel1[[#This Row],[Date]])=DAY(EOMONTH(Tabel1[[#This Row],[Date]],0))),SUMIF(Tabel1[Semaine],Tabel1[[#This Row],[Semaine]],Tabel1[Total Heures]),0) -> 0
A15: =""&WEEKNUM(B15,2) -> 2 | B15: =B14+1 -> 45304 | H15: =IF(OR(D15<>"",G15<>""),MOD(G15-D15-F15-E15,1),"") | I15: =IF($G15>$D15,MEDIAN($G15,Détails!$R$2,Détails!$R$3)-MEDIAN($D15,Détails!$R$2,Détails!$R$3),($G15<$D15)*(Détails!$R$2-Détails!$R$3)+MEDIAN($G15,Détails!$R$3,Détails!$R$2)-MEDIAN($D15,Détails!$R$3,Détails!$R$2))-$E15 -> 0 | J15: =MOD($G15-$D15,1)-($G15<$D15)*(Détails!$R$2-Détails!$R$3)-MEDIAN($G15,Détails!$R$3,Détails!$R$2)+MEDIAN($D15,Détails!$R$3,Détails!$R$2)-$F15 -> 0 | K15: =IF(OR(WEEKDAY(Tabel1[[#This Row],[Date]],2)=7, DAY(Tabel1[[#This Row],[Date]])=DAY(EOMONTH(Tabel1[[#This Row],[Date]],0))),SUMIF(Tabel1[Semaine],Tabel1[[#This Row],[Semaine]],Tabel1[Total Heures]),0) -> 0
A16: =""&WEEKNUM(B16,2) -> 2 | B16: =B15+1 -> 45305 | H16: =IF(OR(D16<>"",G16<>""),MOD(G16-D16-F16-E16,1),"") | I16: =IF($G16>$D16,MEDIAN($G16,Détails!$R$2,Détails!$R$3)-MEDIAN($D16,Détails!$R$2,Détails!$R$3),($G16<$D16)*(Détails!$R$2-Détails!$R$3)+MEDIAN($G16,Détails!$R$3,Détails!$R$2)-MEDIAN($D16,Détails!$R$3,Détails!$R$2))-$E16 -> 0 | J16: =MOD($G16-$D16,1)-($G16<$D16)*(Détails!$R$2-Détails!$R$3)-MEDIAN($G16,Détails!$R$3,Détails!$R$2)+MEDIAN($D16,Détails!$R$3,Détails!$R$2)-$F16 -> 0 | K16: =IF(OR(WEEKDAY(Tabel1[[#This Row],[Date]],2)=7, DAY(Tabel1[[#This Row],[Date]])=DAY(EOMONTH(Tabel1[[#This Row],[Date]],0))),SUMIF(Tabel1[Semaine],Tabel1[[#This Row],[Semaine]],Tabel1[Total Heures]),0) -> 1.625
A17: =""&WEEKNUM(B17,2) -> 3 | B17: =B16+1 -> 45306 | D17: 0.61458333 | G17: 1.0208333 | H17: =IF(OR(D17<>"",G17<>""),MOD(G17-D17-F17-E17,1),"") -> 0.40625 | I17: =IF($G17>$D17,MEDIAN($G17,Détails!$R$2,Détails!$R$3)-MEDIAN($D17,Détails!$R$2,Détails!$R$3),($G17<$D17)*(Détails!$R$2-Détails!$R$3)+MEDIAN($G17,Détails!$R$3,Détails!$R$2)-MEDIAN($D17,Détails!$R$3,Détails!$R$2))-$E17 -> 0.26041667 | J17: =MOD($G17-$D17,1)-($G17<$D17)*(Détails!$R$2-Détails!$R$3)-MEDIAN($G17,Détails!$R$3,Détails!$R$2)+MEDIAN($D17,Détails!$R$3,Détails!$R$2)-$F17 -> 0.14583333 | K17: =IF(OR(WEEKDAY(Tabel1[[#This Row],[Date]],2)=7, DAY(Tabel1[[#This Row],[Date]])=DAY(EOMONTH(Tabel1[[#This Row],[Date]],0))),SUMIF(Tabel1[Semaine],Tabel1[[#This Row],[Semaine]],Tabel1[Total Heures]),0) -> 0
A18: =""&WEEKNUM(B18,2) -> 3 | B18: =B17+1 -> 45307 | D18: 0.61458333 | G18: 1.0208333 | H18: =IF(OR(D18<>"",G18<>""),MOD(G18-D18-F18-E18,1),"") -> 0.40625 | I18: =IF($G18>$D18,MEDIAN($G18,Détails!$R$2,Détails!$R$3)-MEDIAN($D18,Détails!$R$2,Détails!$R$3),($G18<$D18)*(Détails!$R$2-Détails!$R$3)+MEDIAN($G18,Détails!$R$3,Détails!$R$2)-MEDIAN($D18,Détails!$R$3,Détails!$R$2))-$E18 -> 0.26041667 | J18: =MOD($G18-$D18,1)-($G18<$D18)*(Détails!$R$2-Détails!$R$3)-MEDIAN($G18,Détails!$R$3,Détails!$R$2)+MEDIAN($D18,Détails!$R$3,Détails!$R$2)-$F18 -> 0.14583333 | K18: =IF(OR(WEEKDAY(Tabel1[[#This Row],[Date]],2)=7, DAY(Tabel1[[#This Row],[Date]])=DAY(EOMONTH(Tabel1[[#This Row],[Date]],0))),SUMIF(Tabel1[Semaine],Tabel1[[#This Row],[Semaine]],Tabel1[Total Heures]),0) -> 0
A19: =""&WEEKNUM(B19,2) -> 3 | B19: =B18+1 -> 45308 | D19: 0.61458333 | G19: 1.0208333 | H19: =IF(OR(D19<>"",G19<>""),MOD(G19-D19-F19-E19,1),"") -> 0.40625 | I19: =IF($G19>$D19,MEDIAN($G19,Détails!$R$2,Détails!$R$3)-MEDIAN($D19,Détails!$R$2,Détails!$R$3),($G19<$D19)*(Détails!$R$2-Détails!$R$3)+MEDIAN($G19,Détails!$R$3,Détails!$R$2)-MEDIAN($D19,Détails!$R$3,Détails!$R$2))-$E19 -> 0.26041667 | J19: =MOD($G19-$D19,1)-($G19<$D19)*(Détails!$R$2-Détails!$R$3)-MEDIAN($G19,Détails!$R$3,Détails!$R$2)+MEDIAN($D19,Détails!$R$3,Détails!$R$2)-$F19 -> 0.14583333 | K19: =IF(OR(WEEKDAY(Tabel1[[#This Row],[Date]],2)=7, DAY(Tabel1[[#This Row],[Date]])=DAY(EOMONTH(Tabel1[[#This Row],[Date]],0))),SUMIF(Tabel1[Semaine],Tabel1[[#This Row],[Semaine]],Tabel1[Total Heures]),0) -> 0
A20: =""&WEEKNUM(B20,2) -> 3 | B20: =B19+1 -> 45309 | D20: 0.61458333 | G20: 1.0208333 | H20: =IF(OR(D20<>"",G20<>""),MOD(G20-D20-F20-E20,1),"") -> 0.40625 | I20: =IF($G20>$D20,MEDIAN($G20,Détails!$R$2,Détails!$R$3)-MEDIAN($D20,Détails!$R$2,Détails!$R$3),($G20<$D20)*(Détails!$R$2-Détails!$R$3)+MEDIAN($G20,Détails!$R$3,Détails!$R$2)-MEDIAN($D20,Détails!$R$3,Détails!$R$2))-$E20 -> 0.26041667 | J20: =MOD($G20-$D20,1)-($G20<$D20)*(Détails!$R$2-Détails!$R$3)-MEDIAN($G20,Détails!$R$3,Détails!$R$2)+MEDIAN($D20,Détails!$R$3,Détails!$R$2)-$F20 -> 0.14583333 | K20: =IF(OR(WEEKDAY(Tabel1[[#This Row],[Date]],2)=7, DAY(Tabel1[[#This Row],[Date]])=DAY(EOMONTH(Tabel1[[#This Row],[Date]],0))),SUMIF(Tabel1[Semaine],Tabel1[[#This Row],[Semaine]],Tabel1[Total Heures]),0) -> 0
A21: =""&WEEKNUM(B21,2) -> 3 | B21: =B20+1 -> 45310 | H21: =IF(OR(D21<>"",G21<>""),MOD(G21-D21-F21-E21,1),"") | I21: =IF($G21>$D21,MEDIAN($G21,Détails!$R$2,Détails!$R$3)-MEDIAN($D21,Détails!$R$2,Détails!$R$3),($G21<$D21)*(Détails!$R$2-Détails!$R$3)+MEDIAN($G21,Détails!$R$3,Détails!$R$2)-MEDIAN($D21,Détails!$R$3,Détails!$R$2))-$E21 -> 0 | J21: =MOD($G21-$D21,1)-($G21<$D21)*(Détails!$R$2-Détails!$R$3)-MEDIAN($G21,Détails!$R$3,Détails!$R$2)+MEDIAN($D21,Détails!$R$3,Détails!$R$2)-$F21 -> 0 | K21: =IF(OR(WEEKDAY(Tabel1[[#This Row],[Date]],2)=7, DAY(Tabel1[[#This Row],[Date]])=DAY(EOMONTH(Tabel1[[#This Row],[Date]],0))),SUMIF(Tabel1[Semaine],Tabel1[[#This Row],[Semaine]],Tabel1[Total Heures]),0) -> 0
A22: =""&WEEKNUM(B22,2) -> 3 | B22: =B21+1 -> 45311 | H22: =IF(OR(D22<>"",G22<>""),MOD(G22-D22-F22-E22,1),"") | I22: =IF($G22>$D22,MEDIAN($G22,Détails!$R$2,Détails!$R$3)-MEDIAN($D22,Détails!$R$2,Détails!$R$3),($G22<$D22)*(Détails!$R$2-Détails!$R$3)+MEDIAN($G22,Détails!$R$3,Détails!$R$2)-MEDIAN($D22,Détails!$R$3,Détails!$R$2))-$E22 -> 0 | J22: =MOD($G22-$D22,1)-($G22<$D22)*(Détails!$R$2-Détails!$R$3)-MEDIAN($G22,Détails!$R$3,Détails!$R$2)+MEDIAN($D22,Détails!$R$3,Détails!$R$2)-$F22 -> 0 | K22: =IF(OR(WEEKDAY(Tabel1[[#This Row],[Date]],2)=7, DAY(Tabel1[[#This Row],[Date]])=DAY(EOMONTH(Tabel1[[#This Row],[Date]],0))),SUMIF(Tabel1[Semaine],Tabel1[[#This Row],[Semaine]],Tabel1[Total Heures]),0) -> 0
A23: =""&WEEKNUM(B23,2) -> 3 | B23: =B22+1 -> 45312 | H23: =IF(OR(D23<>"",G23<>""),MOD(G23-D23-F23-E23,1),"") | I23: =IF($G23>$D23,MEDIAN($G23,Détails!$R$2,Détails!$R$3)-MEDIAN($D23,Détails!$R$2,Détails!$R$3),($G23<$D23)*(Détails!$R$2-Détails!$R$3)+MEDIAN($G23,Détails!$R$3,Détails!$R$2)-MEDIAN($D23,Détails!$R$3,Détails!$R$2))-$E23 -> 0 | J23: =MOD($G23-$D23,1)-($G23<$D23)*(Détails!$R$2-Détails!$R$3)-MEDIAN($G23,Détails!$R$3,Détails!$R$2)+MEDIAN($D23,Détails!$R$3,Détails!$R$2)-$F23 -> 0 | K23: =IF(OR(WEEKDAY(Tabel1[[#This Row],[Date]],2)=7, DAY(Tabel1[[#This Row],[Date]])=DAY(EOMONTH(Tabel1[[#This Row],[Date]],0))),SUMIF(Tabel1[Semaine],Tabel1[[#This Row],[Semaine]],Tabel1[Total Heures]),0) -> 1.625
A24: =""&WEEKNUM(B24,2) -> 4 | B24: =B23+1 -> 45313 | D24: 0.61458333 | F24: 0.041666667 | G24: 1.0208333 | H24: =IF(OR(D24<>"",G24<>""),MOD(G24-D24-F24-E24,1),"") -> 0.36458333 | I24: =IF($G24>$D24,MEDIAN($G24,Détails!$R$2,Détails!$R$3)-MEDIAN($D24,Détails!$R$2,Détails!$R$3),($G24<$D24)*(Détails!$R$2-Détails!$R$3)+MEDIAN($G24,Détails!$R$3,Détails!$R$2)-MEDIAN($D24,Détails!$R$3,Détails!$R$2))-$E24 -> 0.26041667 | J24: =MOD($G24-$D24,1)-($G24<$D24)*(Détails!$R$2-Détails!$R$3)-MEDIAN($G24,Détails!$R$3,Détails!$R$2)+MEDIAN($D24,Détails!$R$3,Détails!$R$2)-$F24 -> 0.10416667 | K24: =IF(OR(WEEKDAY(Tabel1[[#This Row],[Date]],2)=7, DAY(Tabel1[[#This Row],[Date]])=DAY(EOMONTH(Tabel1[[#This Row],[Date]],0))),SUMIF(Tabel1[Semaine],Tabel1[[#This Row],[Semaine]],Tabel1[Total Heures]),0) -> 0
A25: =""&WEEKNUM(B25,2) -> 4 | B25: =B24+1 -> 45314 | D25: 0.61458333 | F25: 0.041666667 | G25: 1.0208333 | H25: =IF(OR(D25<>"",G25<>""),MOD(G25-D25-F25-E25,1),"") -> 0.36458333 | I25: =IF($G25>$D25,MEDIAN($G25,Détails!$R$2,Détails!$R$3)-MEDIAN($D25,Détails!$R$2,Détails!$R$3),($G25<$D25)*(Détails!$R$2-Détails!$R$3)+MEDIAN($G25,Détails!$R$3,Détails!$R$2)-MEDIAN($D25,Détails!$R$3,Détails!$R$2))-$E25 -> 0.26041667 | J25: =MOD($G25-$D25,1)-($G25<$D25)*(Détails!$R$2-Détails!$R$3)-MEDIAN($G25,Détails!$R$3,Détails!$R$2)+MEDIAN($D25,Détails!$R$3,Détails!$R$2)-$F25 -> 0.10416667 | K25: =IF(OR(WEEKDAY(Tabel1[[#This Row],[Date]],2)=7, DAY(Tabel1[[#This Row],[Date]])=DAY(EOMONTH(Tabel1[[#This Row],[Date]],0))),SUMIF(Tabel1[Semaine],Tabel1[[#This Row],[Semaine]],Tabel1[Total Heures]),0) -> 0
A26: =""&WEEKNUM(B26,2) -> 4 | B26: =B25+1 -> 45315 | D26: 0.61458333 | F26: 0.041666667 | G26: 1.0208333 | H26: =IF(OR(D26<>"",G26<>""),MOD(G26-D26-F26-E26,1),"") -> 0.36458333 | I26: =IF($G26>$D26,MEDIAN($G26,Détails!$R$2,Détails!$R$3)-MEDIAN($D26,Détails!$R$2,Détails!$R$3),($G26<$D26)*(Détails!$R$2-Détails!$R$3)+MEDIAN($G26,Détails!$R$3,Détails!$R$2)-MEDIAN($D26,Détails!$R$3,Détails!$R$2))-$E26 -> 0.26041667 | J26: =MOD($G26-$D26,1)-($G26<$D26)*(Détails!$R$2-Détails!$R$3)-MEDIAN($G26,Détails!$R$3,Détails!$R$2)+MEDIAN($D26,Détails!$R$3,Détails!$R$2)-$F26 -> 0.10416667 | K26: =IF(OR(WEEKDAY(Tabel1[[#This Row],[Date]],2)=7, DAY(Tabel1[[#This Row],[Date]])=DAY(EOMONTH(Tabel1[[#This Row],[Date]],0))),SUMIF(Tabel1[Semaine],Tabel1[[#This Row],[Semaine]],Tabel1[Total Heures]),0) -> 0
A27: =""&WEEKNUM(B27,2) -> 4 | B27: =B26+1 -> 45316 | D27: 0.61458333 | F27: 0.041666667 | G27: 1.0208333 | H27: =IF(OR(D27<>"",G27<>""),MOD(G27-D27-F27-E27,1),"") -> 0.36458333 | I27: =IF($G27>$D27,MEDIAN($G27,Détails!$R$2,Détails!$R$3)-MEDIAN($D27,Détails!$R$2,Détails!$R$3),($G27<$D27)*(Détails!$R$2-Détails!$R$3)+MEDIAN($G27,Détails!$R$3,Détails!$R$2)-MEDIAN($D27,Détails!$R$3,Détails!$R$2))-$E27 -> 0.26041667 | J27: =MOD($G27-$D27,1)-($G27<$D27)*(Détails!$R$2-Détails!$R$3)-MEDIAN($G27,Détails!$R$3,Détails!$R$2)+MEDIAN($D27,Détails!$R$3,Détails!$R$2)-$F27 -> 0.10416667 | K27: =IF(OR(WEEKDAY(Tabel1[[#This Row],[Date]],2)=7, DAY(Tabel1[[#This Row],[Date]])=DAY(EOMONTH(Tabel1[[#This Row],[Date]],0))),SUMIF(Tabel1[Semaine],Tabel1[[#This Row],[Semaine]],Tabel1[Total Heures]),0) -> 0
A28: =""&WEEKNUM(B28,2) -> 4 | B28: =B27+1 -> 45317 | H28: =IF(OR(D28<>"",G28<>""),MOD(G28-D28-F28-E28,1),"") | I28: =IF($G28>$D28,MEDIAN($G28,Détails!$R$2,Détails!$R$3)-MEDIAN($D28,Détails!$R$2,Détails!$R$3),($G28<$D28)*(Détails!$R$2-Détails!$R$3)+MEDIAN($G28,Détails!$R$3,Détails!$R$2)-MEDIAN($D28,Détails!$R$3,Détails!$R$2))-$E28 -> 0 | J28: =MOD($G28-$D28,1)-($G28<$D28)*(Détails!$R$2-Détails!$R$3)-MEDIAN($G28,Détails!$R$3,Détails!$R$2)+MEDIAN($D28,Détails!$R$3,Détails!$R$2)-$F28 -> 0 | K28: =IF(OR(WEEKDAY(Tabel1[[#This Row],[Date]],2)=7, DAY(Tabel1[[#This Row],[Date]])=DAY(EOMONTH(Tabel1[[#This Row],[Date]],0))),SUMIF(Tabel1[Semaine],Tabel1[[#This Row],[Semaine]],Tabel1[Total Heures]),0) -> 0
A29: =""&WEEKNUM(B29,2) -> 4 | B29: =B28+1 -> 45318 | H29: =IF(OR(D29<>"",G29<>""),MOD(G29-D29-F29-E29,1),"") | I29: =IF($G29>$D29,MEDIAN($G29,Détails!$R$2,Détails!$R$3)-MEDIAN($D29,Détails!$R$2,Détails!$R$3),($G29<$D29)*(Détails!$R$2-Détails!$R$3)+MEDIAN($G29,Détails!$R$3,Détails!$R$2)-MEDIAN($D29,Détails!$R$3,Détails!$R$2))-$E29 -> 0 | J29: =MOD($G29-$D29,1)-($G29<$D29)*(Détails!$R$2-Détails!$R$3)-MEDIAN($G29,Détails!$R$3,Détails!$R$2)+MEDIAN($D29,Détails!$R$3,Détails!$R$2)-$F29 -> 0 | K29: =IF(OR(WEEKDAY(Tabel1[[#This Row],[Date]],2)=7, DAY(Tabel1[[#This Row],[Date]])=DAY(EOMONTH(Tabel1[[#This Row],[Date]],0))),SUMIF(Tabel1[Semaine],Tabel1[[#This Row],[Semaine]],Tabel1[Total Heures]),0) -> 0
A30: =""&WEEKNUM(B30,2) -> 4 | B30: =B29+1 -> 45319 | H30: =IF(OR(D30<>"",G30<>""),MOD(G30-D30-F30-E30,1),"") | I30: =IF($G30>$D30,MEDIAN($G30,Détails!$R$2,Détails!$R$3)-MEDIAN($D30,Détails!$R$2,Détails!$R$3),($G30<$D30)*(Détails!$R$2-Détails!$R$3)+MEDIAN($G30,Détails!$R$3,Détails!$R$2)-MEDIAN($D30,Détails!$R$3,Détails!$R$2))-$E30 -> 0 | J30: =MOD($G30-$D30,1)-($G30<$D30)*(Détails!$R$2-Détails!$R$3)-MEDIAN($G30,Détails!$R$3,Détails!$R$2)+MEDIAN($D30,Détails!$R$3,Détails!$R$2)-$F30 -> 0 | K30: =IF(OR(WEEKDAY(Tabel1[[#This Row],[Date]],2)=7, DAY(Tabel1[[#This Row],[Date]])=DAY(EOMONTH(Tabel1[[#This Row],[Date]],0))),SUMIF(Tabel1[Semaine],Tabel1[[#This Row],[Semaine]],Tabel1[Total Heures]),0) -> 1.4583333
A31: =""&WEEKNUM(B31,2) -> 5 | B31: =B30+1 -> 45320 | D31: 0.61458333 | F31: 0.041666667 | G31: 1.0208333 | H31: =IF(OR(D31<>"",G31<>""),MOD(G31-D31-F31-E31,1),"") -> 0.36458333 | I31: =IF($G31>$D31,MEDIAN($G31,Détails!$R$2,Détails!$R$3)-MEDIAN($D31,Détails!$R$2,Détails!$R$3),($G31<$D31)*(Détails!$R$2-Détails!$R$3)+MEDIAN($G31,Détails!$R$3,Détails!$R$2)-MEDIAN($D31,Détails!$R$3,Détails!$R$2))-$E31 -> 0.26041667 | J31: =MOD($G31-$D31,1)-($G31<$D31)*(Détails!$R$2-Détails!$R$3)-MEDIAN($G31,Détails!$R$3,Détails!$R$2)+MEDIAN($D31,Détails!$R$3,Détails!$R$2)-$F31 -> 0.10416667 | K31: =IF(OR(WEEKDAY(Tabel1[[#This Row],[Date]],2)=7, DAY(Tabel1[[#This Row],[Date]])=DAY(EOMONTH(Tabel1[[#This Row],[Date]],0))),SUMIF(Tabel1[Semaine],Tabel1[[#This Row],[Semaine]],Tabel1[Total Heures]),0) -> 0
A32: =""&WEEKNUM(B32,2) -> 5 | B32: =B31+1 -> 45321 | D32: 0.61458333 | F32: 0.041666667 | G32: 1.0208333 | H32: =IF(OR(D32<>"",G32<>""),MOD(G32-D32-F32-E32,1),"") -> 0.36458333 | I32: =IF($G32>$D32,MEDIAN($G32,Détails!$R$2,Détails!$R$3)-MEDIAN($D32,Détails!$R$2,Détails!$R$3),($G32<$D32)*(Détails!$R$2-Détails!$R$3)+MEDIAN($G32,Détails!$R$3,Détails!$R$2)-MEDIAN($D32,Détails!$R$3,Détails!$R$2))-$E32 -> 0.26041667 | J32: =MOD($G32-$D32,1)-($G32<$D32)*(Détails!$R$2-Détails!$R$3)-MEDIAN($G32,Détails!$R$3,Détails!$R$2)+MEDIAN($D32,Détails!$R$3,Détails!$R$2)-$F32 -> 0.10416667 | K32: =IF(OR(WEEKDAY(Tabel1[[#This Row],[Date]],2)=7, DAY(Tabel1[[#This Row],[Date]])=DAY(EOMONTH(Tabel1[[#This Row],[Date]],0))),SUMIF(Tabel1[Semaine],Tabel1[[#This Row],[Semaine]],Tabel1[Total Heures]),0) -> 0
A33: =""&WEEKNUM(B33,2) -> 5 | B33: =B32+1 -> 45322 | D33: 0.61458333 | F33: 0.041666667 | G33: 1.0208333 | H33: =IF(OR(D33<>"",G33<>""),MOD(G33-D33-F33-E33,1),"") -> 0.36458333 | I33: =IF($G33>$D33,MEDIAN($G33,Détails!$R$2,Détails!$R$3)-MEDIAN($D33,Détails!$R$2,Détails!$R$3),($G33<$D33)*(Détails!$R$2-Détails!$R$3)+MEDIAN($G33,Détails!$R$3,Détails!$R$2)-MEDIAN($D33,Détails!$R$3,Détails!$R$2))-$E33 -> 0.26041667 | J33: =MOD($G33-$D33,1)-($G33<$D33)*(Détails!$R$2-Détails!$R$3)-MEDIAN($G33,Détails!$R$3,Détails!$R$2)+MEDIAN($D33,Détails!$R$3,Détails!$R$2)-$F33 -> 0.10416667 | K33: =IF(OR(WEEKDAY(Tabel1[[#This Row],[Date]],2)=7, DAY(Tabel1[[#This Row],[Date]])=DAY(EOMONTH(Tabel1[[#This Row],[Date]],0))),SUMIF(Tabel1[Semaine],Tabel1[[#This Row],[Semaine]],Tabel1[Total Heures]),0) -> 1.09375

Sheet Février

Sheet Mars

Sheet Avril

Sheet Mai

Sheet Juin

Sheet Juillet

Sheet Août

Sheet Septembre

Sheet Octobre

Sheet Novembre

Sheet Décembre
