Workbook

Sheet Détails
A1: 1 | B1: Jours fériés | E1: Contrat
A2: 2024 | B2: Jour de l'an | C2: =DATE($A$1+2023,1,1) -> 45292 | E2: Journalier | F2: =F3/5 -> 0.325
A3: =A2+1 -> 2025 | B3: Vendredi saint | C3: =C4-2 -> 45380 | E3: Hedomadaire | F3: 1.625
A4: =A3+1 -> 2026 | B4: Pâques | C4: =ROUND(DATE($A$1+2023,4,MOD(234-11*MOD($A$1+2023,19),30))/7,)*7-6 -> 45382 | E4: Mensuel | F4: 74.458333
A5: =A4+1 -> 2027 | B5: Lundi de Pâques | C5: =C4+1 -> 45383
A6: =A5+1 -> 2028 | B6: Fête du travail | C6: =DATE($A$1+2023,5,1) -> 45413
A7: =A6+1 -> 2029 | B7: Commémoration de la victoire de 1945 | C7: =DATE($A$1+2023,5,8) -> 45420
A8: =A7+1 -> 2030 | B8: Ascension | C8: =C4+39 -> 45421
A9: =A8+1 -> 2031 | B9: Pentecôte | C9: =C4+49 -> 45431
A10: =A9+1 -> 2032 | B10: Lundi de Pentecôte | C10: =C9+1 -> 45432
A11: =A10+1 -> 2033 | B11: Fête Nationale | C11: =DATE($A$1+2023,7,14) -> 45487
A12: =A11+1 -> 2034 | B12: Assomption | C12: =DATE($A$1+2023,8,15) -> 45519
A13: =A12+1 -> 2035 | B13: Toussaint | C13: =DATE($A$1+2023,11,1) -> 45597
A14: =A13+1 -> 2036 | B14: Commémoration de la victoire de 1918 | C14: =DATE($A$1+2023,11,11) -> 45607
A15: =A14+1 -> 2037 | B15: Noël | C15: =DATE($A$1+2023,12,25) -> 45651
A16: =A15+1 -> 2038 | B16: Saint-Étienne | C16: =C15+1 -> 45652
A17: =A16+1 -> 2039
A18: =A17+1 -> 2040
A19: =A18+1 -> 2041
A20: =A19+1 -> 2042
A21: =A20+1 -> 2043
A22: =A21+1 -> 2044
A23: =A22+1 -> 2045
A24: =A23+1 -> 2046
A25: =A24+1 -> 2047
A26: =A25+1 -> 2048
A27: =A26+1 -> 2049
A28: =A27+1 -> 2050
... A38: =A37+1 -> 2060

Sheet Synthèse
B1: En poste | C1: Arrêt maladie | D1: Accident de travail | E1: Congé | F1: Férié | G1: Repos | H1: Heures en journée | I1: Heures de nuit
A2: Janvier | B2: =Janvier!I1 -> 0 | C2: =Janvier!L2 -> 0 | D2: =Janvier!#REF! -> #REF! | E2: =Janvier!#REF! -> #REF! | F2: =Janvier!#REF! -> #REF! | G2: =Janvier!#REF! -> #REF!
A3: Février | B3: =Février!I1 -> 0 | C3: =Février!I2 -> 0 | D3: =Février!#REF! -> #REF! | E3: =Février!#REF! -> #REF! | F3: =Février!#REF! -> #REF! | G3: =Février!#REF! -> #REF!
A4: Mars | B4: =Mars!I1 -> 0 | C4: =Mars!I2 -> 0 | D4: =Mars!I3 -> 0 | E4: =Mars!I4 -> 0 | F4: =Mars!I5 -> 0 | G4: =Mars!I6 -> 0
A5: Avril | B5: =Avril!I1 -> 0 | C5: =Avril!I2 -> 0 | D5: =Avril!I3 -> 0 | E5: =Avril!I4 -> 0 | F5: =Avril!I5 -> 0 | G5: =Avril!I6 -> 0
A6: Mai | B6: =Mai!I1 -> 0 | C6: =Mai!I2 -> 0 | D6: =Mai!I3 -> 0 | E6: =Mai!I4 -> 0 | F6: =Mai!I5 -> 0 | G6: =Mai!I6 -> 0
A7: Juin | B7: =Juin!I1 -> 0 | C7: =Juin!I2 -> 0 | D7: =Juin!I3 -> 0 | E7: =Juin!I4 -> 0 | F7: =Juin!I5 -> 0 | G7: =Juin!I6 -> 0
A8: Juillet | B8: =Juillet!I1 -> 0 | C8: =Juillet!I2 -> 0 | D8: =Juillet!I3 -> 0 | E8: =Juillet!I4 -> 0 | F8: =Juillet!I5 -> 0 | G8: =Juillet!I6 -> 0
A9: Août | B9: =Août!I1 -> 0 | C9: =Août!I2 -> 0 | D9: =Août!I3 -> 0 | E9: =Août!I4 -> 0 | F9: =Août!I5 -> 0 | G9: =Août!I6 -> 0
A10: Septembre | B10: =Septembre!I1 -> 0 | C10: =Septembre!I2 -> 0 | D10: =Septembre!I3 -> 0 | E10: =Septembre!I4 -> 0 | F10: =Septembre!I5 -> 0 | G10: =Septembre!I6 -> 0
A11: Octobre | B11: =Octobre!I1 -> 0 | C11: =Octobre!I2 -> 0 | D11: =Octobre!I3 -> 0 | E11: =Octobre!I4 -> 0 | F11: =Octobre!I5 -> 0 | G11: =Octobre!I6 -> 0
A12: Novembre | B12: =Novembre!I1 -> 0 | C12: =Novembre!I2 -> 0 | D12: =Novembre!I3 -> 0 | E12: =Novembre!I4 -> 0 | F12: =Novembre!I5 -> 0 | G12: =Novembre!I6 -> 0
A13: Décembre | B13: =Décembre!I1 -> 0 | C13: =Décembre!I2 -> 0 | D13: =Décembre!I3 -> 0 | E13: =Décembre!I4 -> 0 | F13: =Décembre!I5 -> 0 | G13: =Décembre!I6 -> 0
A14: Totaux | B14: =SUM(B2:B13) -> 0 | C14: =SUM(C2:C13) -> 0 | D14: =SUM(D2:D13) -> #REF! | E14: =SUM(E2:E13) -> #REF! | F14: =SUM(F2:F13) -> #REF! | G14: =SUM(G2:G13) -> #REF!

Sheet Janvier
A1: 1
A2: Date | B2: Ordre | C2: Ouverture de poste | D2: Pause | E2: Fermeture de poste | F2: Total | G2: Heures de jour | H2: Heures de nuit | I2: Total semaine | J2: Heures supplémentaires
A3: =DATE(Détails!A1+2023,A1,1) -> 45292 | C3: 0.33333333 | D3: 0.041666667 | E3: 0.69791667 | F3: =MOD(E3-C3-D3,1) -> 0.32291667
A4: =A3+1 -> 45293 | C4: 0.32291667 | D4: 0.034722222 | E4: 0.77083333 | F4: =MOD(E4-C4-D4,1) -> 0.41319444
A5: =A4+1 -> 45294 | C5: 0.33333333 | D5: 0.020833333 | E5: 0.66666667 | F5: =MOD(E5-C5-D5,1) -> 0.3125
A6: =A5+1 -> 45295 | C6: 0.33333333 | D6: 0.020833333 | E6: 0.66666667 | F6: =MOD(E6-C6-D6,1) -> 0.3125
A7: =A6+1 -> 45296 | C7: 0.33333333 | E7: 0.59722222 | F7: =MOD(E7-C7-D7,1) -> 0.26388889
A8: =A7+1 -> 45297 | F8: =SUM(F3:F7) -> 1.625
A9: =A8+1 -> 45298
A10: =A9+1 -> 45299
A11: =A10+1 -> 45300
A12: =A11+1 -> 45301
A13: =A12+1 -> 45302
A14: =A13+1 -> 45303
A15: =A14+1 -> 45304
A16: =A15+1 -> 45305
A17: =A16+1 -> 45306
A18: =A17+1 -> 45307
A19: =A18+1 -> 45308
A20: =A19+1 -> 45309
... A33: =A32+1 -> 45322

Sheet Février

Sheet Mars

Sheet Avril

Sheet Mai

Sheet Juin

Sheet Juillet

Sheet Août

Sheet Septembre

Sheet Octobre

Sheet Novembre

Sheet Décembre
