Workbook

Sheet Bon de commande
A1: Date | F1: Désignation | G1: Prix | H1: Couleur | I1: Quantité
A2: =TODAY() -> 45433 | F2: A_0 | G2: 32.153618 | H2: Blanc | I2: 1
F3: A_1 | G3: 43.43849 | H3: Noir | I3: =I2+1 -> 2
A4: n° Client | F4: A_2 | G4: 61.792486 | H4: Rouge | I4: =I3+1 -> 3
F5: A_3 | G5: 88.43623 | H5: Jaune | I5: =I4+1 -> 4
F6: A_4 | G6: 129.98236 | H6: Orange | I6: =I5+1 -> 5
A7: Référence | B7: Couleur | C7: Prix | D7: Quantité | E7: Sous-total | F7: A_5 | G7: 272.92119 | H7: Vert | I7: =I6+1 -> 6
C8: =IFERROR(VLOOKUP(A8,'Bon de commande'!F$2:G$45,2,TRUE),"") | E8: =IFERROR((C8*D8),"") | F8: A_6 | G8: 460.81296 | H8: Bleu | I8: =I7+1 -> 7
C9: =IFERROR(VLOOKUP(A9,'Bon de commande'!F$2:G$45,2,TRUE),"") | E9: =IFERROR((C9*D9),"") | F9: A_7 | G9: 813.31161 | I9: =I8+1 -> 8
C10: =IFERROR(VLOOKUP(A10,'Bon de commande'!F$2:G$45,2,TRUE),"") | E10: =IFERROR((C10*D10),"") | F10: LD_1 | G10: 57.169862 | I10: =I9+1 -> 9
C11: =IFERROR(VLOOKUP(A11,'Bon de commande'!F$2:G$45,2,TRUE),"") | E11: =IFERROR((C11*D11),"") | F11: LD_2 | G11: 78.484857 | I11: =I10+1 -> 10
C12: =IFERROR(VLOOKUP(A12,'Bon de commande'!F$2:G$45,2,TRUE),"") | E12: =IFERROR((C12*D12),"") | F12: LD_3 | G12: 105.24935 | I12: =I11+1 -> 11
C13: =IFERROR(VLOOKUP(A13,'Bon de commande'!F$2:G$45,2,TRUE),"") | E13: =IFERROR((C13*D13),"") | F13: LD_4 | G13: 122.94447 | I13: =I12+1 -> 12
C14: =IFERROR(VLOOKUP(A14,'Bon de commande'!F$2:G$45,2,TRUE),"") | E14: =IFERROR((C14*D14),"") | F14: F_1 | G14: 44.30999 | I14: =I13+1 -> 13
C15: =IFERROR(VLOOKUP(A15,'Bon de commande'!F$2:G$45,2,TRUE),"") | E15: =IFERROR((C15*D15),"") | F15: F_2 | G15: 60.007486 | I15: =I14+1 -> 14
C16: =IFERROR(VLOOKUP(A16,'Bon de commande'!F$2:G$45,2,TRUE),"") | E16: =IFERROR((C16*D16),"") | F16: F_3 | G16: 69.614984 | I16: =I15+1 -> 15
C17: =IFERROR(VLOOKUP(A17,'Bon de commande'!F$2:G$45,2,TRUE),"") | E17: =IFERROR((C17*D17),"") | F17: F_4 | G17: 96.914978 | I17: =I16+1 -> 16
C18: =IFERROR(VLOOKUP(A18,'Bon de commande'!F$2:G$45,2,TRUE),"") | E18: =IFERROR((C18*D18),"") | F18: F_5 | G18: 116.72497 | I18: =I17+1 -> 17
C19: =IFERROR(VLOOKUP(A19,'Bon de commande'!F$2:G$45,2,TRUE),"") | E19: =IFERROR((C19*D19),"") | F19: F_6 | G19: 163.13321 | I19: =I18+1 -> 18
C20: =IFERROR(VLOOKUP(A20,'Bon de commande'!F$2:G$45,2,TRUE),"") | E20: =IFERROR((C20*D20),"") | F20: F_7 | G20: 208.2678 | I20: =I19+1 -> 19
... C27: =IFERROR(VLOOKUP(A27,'Bon de commande'!F$2:G$45,2,TRUE),"") | E27: =IFERROR((C27*D27),"") | F27: G_3 | G27: 23.45962 | I27: =I26+1 -> 26
F28: G_4 | G28: 33.907992 | I28: =I27+1 -> 27
C29: Total H.T. (hors remise) | E29: =SUM(E8:E27) -> 0 | F29: G_5 | G29: 55.781237 | I29: =I28+1 -> 28
C30: Total T.T.C. (hors transport) | E30: =E29*1.2 -> 0 | F30: G_6 | G30: 76.733982 | I30: =I29+1 -> 29
C31: T.V.A. 20% | E31: =E30-E29 -> 0 | F31: HTM_1 | G31: 43.021115 | I31: =I30+1 -> 30
C32: Taux de remise % | E32: 0.45 | F32: HTM_2 | G32: 65.537485 | I32: =I31+1 -> 31
C33: Total | E33: =E30*E32 -> 0 | F33: HTM_3 | G33: 105.9581 | I33: =I32+1 -> 32
F34: HTM_4 | G34: 184.75533 | I34: =I33+1 -> 33
F35: CC_1 | G35: 63.589735 | I35: =I34+1 -> 34
F36: CC_2 | G36: 90.360354 | I36: =I35+1 -> 35
F37: CC_3 | G37: 124.26135 | I37: =I36+1 -> 36
F38: CC_4 | G38: 169.04821 | I38: =I37+1 -> 37
F39: CC_5 | G39: 518.97026 | I39: =I38+1 -> 38
F40: CC_6 | G40: 708.44271 | I40: =I39+1 -> 39
F41: CM_2 SS | G41: 191.35283 | I41: =I40+1 -> 40
F42: CM_3 SS | G42: 227.6249 | I42: =I41+1 -> 41
F43: S_1 | G43: 26.486244 | I43: =I42+1 -> 42
F44: WS_1 | G44: 13.371747 | I44: =I43+1 -> 43
I45: =I44+1 -> 44
I46: =I45+1 -> 45
...
