Workbook

Sheet TDB
A1: Tableau de bord des ATD
A3: Premier ATD | B3: =MIN(Historique!B:B) -> 45191 | D3: Dernier ATD | E3: =MAX(Historique!B:B) -> 45418
A5: Nombre d’ATD Réalisé | C5: =COUNT(Historique!B2:B9624) -> 165 | D5: Prix AR 2024 | E5: 5.36
A7: Résultat des ATD
B8: Libellé | C8: Nombre | D8: T % Recouv
B9: Sans provision | C9: =COUNTIF(Historique!I:I,B9) -> 68 | D9: =C9/$C$5 -> 0.41212121
B10: Partiel | C10: =COUNTIF(Historique!I:I,B10) -> 65 | D10: =C10/$C$5 -> 0.39393939
B11: Soldé | C11: =COUNTIF(Historique!I:I,B11) -> 25 | D11: =C11/$C$5 -> 0.15151515
B12: Négatif | C12: =COUNTIF(Historique!I:I,B12) -> 7 | D12: =C12/$C$5 -> 0.042424242
A14: Recouvrement
B15: Montant à recouvrer | D15: =SUM(Historique!G2:G119592) -> 1548991.8
B16: Montant recouvré | D16: =SUM(Historique!J:J) -> 190534.83
B17: Coût d’envoi AR | D17: =+SUM(Historique!M2:M1048576) -> 842.47
B18: Taux de recouvrement | D18: =((D16-D17)/D15) -> 0.12246182
B19: Taux de recouvrement SC | C19: ="Pour"&" "&COUNTIF(Historique!A:A,"SC")&" "&"ATD" -> Pour 63 ATD | D19: =((SUMIF(Historique!A:A,"SC",Historique!J:J))/(SUMIF(Historique!A:A,"SC",Historique!G:G))) -> 0.13422487
B20: Taux de recouvrement NB | C20: ="Pour"&" "&COUNTIF(Historique!A:A,"NB")&" "&"ATD" -> Pour 102 ATD | D20: =((SUMIF(Historique!A:A,"NB",Historique!J:J))/(SUMIF(Historique!A:A,"NB",Historique!G:G))) -> 0.11666297
B21: Montant recouvré / ATD | D21: =+D16/C5 -> 1154.7565
A23: Répartition
A24: Compter - Réponse | B24: Réponse
A25: Montant ATD | B25: Négatif | C25: Partiel | D25: Sans provision | E25: Soldé
A26: 0-5000 | B26: 0.038961039 | C26: 0.20779221 | D26: 0.44155844 | E26: 0.31168831
A27: 5000-10000 | B27: 0.027027027 | C27: 0.51351351 | D27: 0.43243243 | E27: 0.027027027
A28: 10000-15000 | B28: 0.055555556 | C28: 0.44444444 | D28: 0.5
A29: 15000-20000 | B29: 0.11111111 | C29: 0.55555556 | D29: 0.33333333
A30: 20000-25000 | C30: 0.75 | D30: 0.25
A31: 25000-30000 | B31: 0.14285714 | C31: 0.57142857 | D31: 0.28571429
A32: 30000-35000 | C32: 0.8 | D32: 0.2
A33: 35000-40000 | C33: 1
A34: >40000 | C34: 0.66666667 | D34: 0.33333333
A35: Total Résultat | B35: 0.042424242 | C35: 0.39393939 | D35: 0.41212121 | E35: 0.15151515

Sheet Historique
A1: Auteur | B1: Date | C1: J | D1: Mois | E1: Dénomination | F1: Siren | G1: Montant ATD | H1: Etat | I1: Réponse | J1: Montant récup | K1: Versemt | L1: Montant reste | M1: € AR | N1: 16/05/24
A2: NB | B2: 45191 | C2: =DAY(B2) -> 22 | D2: =MONTH(B2) -> 9 | E2: E | F2: 490309655 | G2: 5473 | I2: =IF(J2=G2,"Soldé",IF(J2>0,"Partiel","Sans provision")) -> Partiel | J2: 2634.94 | K2: 45226 | L2: =G2-J2 -> 2838.06 | M2: 4.83
A3: NB | B3: 45191 | C3: =DAY(B3) -> 22 | D3: =MONTH(B3) -> 9 | E3: F | F3: 845057447 | G3: 5386.81 | I3: =IF(J3=G3,"Soldé",IF(J3>0,"Partiel","Sans provision")) -> Sans provision | J3: 0 | L3: =G3-J3 -> 5386.81 | M3: 4.83
A4: NB | B4: 45191 | C4: =DAY(B4) -> 22 | D4: =MONTH(B4) -> 9 | E4: L | F4: 519203657 | G4: 1692.54 | I4: =IF(J4=G4,"Soldé",IF(J4>0,"Partiel","Sans provision")) -> Partiel | J4: 126.15 | K4: 45225 | L4: =G4-J4 -> 1566.39 | M4: 4.83
A5: NB | B5: 45191 | C5: =DAY(B5) -> 22 | D5: =MONTH(B5) -> 9 | E5: O | F5: 752034629 | G5: 692 | I5: =IF(J5=G5,"Soldé",IF(J5>0,"Partiel","Sans provision")) -> Soldé | J5: 692 | K5: 45224 | L5: =G5-J5 -> 0 | M5: 4.83
A6: NB | B6: 45191 | C6: =DAY(B6) -> 22 | D6: =MONTH(B6) -> 9 | E6: P | F6: 804676682 | G6: 20451.67 | I6: =IF(J6=G6,"Soldé",IF(J6>0,"Partiel","Sans provision")) -> Partiel | J6: 976.75 | K6: 45226 | L6: =G6-J6 -> 19474.92 | M6: 4.83
A7: SC | B7: 45191 | C7: =DAY(B7) -> 22 | D7: =MONTH(B7) -> 9 | E7: T | F7: 821362878 | G7: 6257.89 | I7: =IF(J7=G7,"Soldé",IF(J7>0,"Partiel","Sans provision")) -> Partiel | J7: 737.68 | K7: 45226 | L7: =G7-J7 -> 5520.21 | M7: 4.83
A8: SC | B8: 45191 | C8: =DAY(B8) -> 22 | D8: =MONTH(B8) -> 9 | E8: FF | F8: 321093718 | G8: 6889.87 | I8: =IF(J8=G8,"Soldé",IF(J8>0,"Partiel","Sans provision")) -> Partiel | J8: 2241.64 | K8: 45225 | L8: =G8-J8 -> 4648.23 | M8: 4.83
A9: NB | B9: 45191 | C9: =DAY(B9) -> 22 | D9: =MONTH(B9) -> 9 | E9: JJ | F9: 793297664 | G9: 4236.96 | I9: =IF(J9=G9,"Soldé",IF(J9>0,"Partiel","Sans provision")) -> Sans provision | J9: 0 | L9: =G9-J9 -> 4236.96 | M9: 4.83
A10: NB | B10: 45191 | C10: =DAY(B10) -> 22 | D10: =MONTH(B10) -> 9 | E10: KK | F10: 852689306 | G10: 10719.78 | I10: =IF(J10=G10,"Soldé",IF(J10>0,"Partiel","Sans provision")) -> Sans provision | J10: 0 | L10: =G10-J10 -> 10719.78 | M10: 4.83
A11: NB | B11: 45191 | C11: =DAY(B11) -> 22 | D11: =MONTH(B11) -> 9 | E11: SS | F11: 441842887 | G11: 9957 | I11: =IF(J11=G11,"Soldé",IF(J11>0,"Partiel","Sans provision")) -> Sans provision | J11: 0 | L11: =G11-J11 -> 9957 | M11: 4.83
A12: NB | B12: 45192 | C12: =DAY(B12) -> 23 | D12: =MONTH(B12) -> 9 | E12: TT | F12: 828316067 | G12: 7121 | I12: =IF(J12=G12,"Soldé",IF(J12>0,"Partiel","Sans provision")) -> Soldé | J12: 7121 | K12: 45233 | L12: =G12-J12 -> 0 | M12: 4.83
A13: NB | B13: 45192 | C13: =DAY(B13) -> 23 | D13: =MONTH(B13) -> 9 | E13: YY | F13: 798683819 | G13: 4158 | I13: =IF(J13=G13,"Soldé",IF(J13>0,"Partiel","Sans provision")) -> Partiel | J13: 247.65 | K13: 45239 | L13: =G13-J13 -> 3910.35 | M13: 4.83
A14: NB | B14: 45192 | C14: =DAY(B14) -> 23 | D14: =MONTH(B14) -> 9 | E14: DDD | F14: 799288659 | G14: 8172 | I14: Négatif | J14: 0 | L14: =G14-J14 -> 8172 | M14: 4.83
A15: NB | B15: 45192 | C15: =DAY(B15) -> 23 | D15: =MONTH(B15) -> 9 | E15: FFF | F15: 791978968 | G15: 3867.14 | I15: =IF(J15=G15,"Soldé",IF(J15>0,"Partiel","Sans provision")) -> Partiel | J15: 52.42 | K15: 45232 | L15: =G15-J15 -> 3814.72 | M15: 4.83
A16: NB | B16: 45193 | C16: =DAY(B16) -> 24 | D16: =MONTH(B16) -> 9 | E16: III | F16: 829347194 | G16: 1241 | I16: =IF(J16=G16,"Soldé",IF(J16>0,"Partiel","Sans provision")) -> Soldé | J16: 1241 | K16: 45232 | L16: =G16-J16 -> 0 | M16: 4.83
A17: NB | B17: 45193 | C17: =DAY(B17) -> 24 | D17: =MONTH(B17) -> 9 | E17: JJJ | F17: 481364685 | G17: 2283 | I17: =IF(J17=G17,"Soldé",IF(J17>0,"Partiel","Sans provision")) -> Sans provision | J17: 0 | L17: =G17-J17 -> 2283 | M17: 4.83
A18: NB | B18: 45193 | C18: =DAY(B18) -> 24 | D18: =MONTH(B18) -> 9 | E18: NNN | F18: 489957373 | G18: 2033 | I18: =IF(J18=G18,"Soldé",IF(J18>0,"Partiel","Sans provision")) -> Partiel | J18: =+G18-L18 -> 884 | K18: 45208 | L18: 1149 | M18: 4.83
A19: NB | B19: 45198 | C19: =DAY(B19) -> 29 | D19: =MONTH(B19) -> 9 | E19: KKK | F19: 417552379 | G19: 1534 | I19: =IF(J19=G19,"Soldé",IF(J19>0,"Partiel","Sans provision")) -> Partiel | J19: 878.27 | K19: 45233 | L19: =G19-J19 -> 655.73 | M19: 4.83
A20: SC | B20: 45201 | C20: =DAY(B20) -> 2 | D20: =MONTH(B20) -> 10 | E20: CCC | F20: 432651438 | G20: 9647 | I20: =IF(J20=G20,"Soldé",IF(J20>0,"Partiel","Sans provision")) -> Partiel | J20: 6133.43 | K20: 45234 | L20: =G20-J20 -> 3513.57 | M20: 4.83
A21: SC | B21: 45204 | C21: =DAY(B21) -> 5 | D21: =MONTH(B21) -> 10 | E21: HH | F21: 505155812 | G21: 2681 | I21: =IF(J21=G21,"Soldé",IF(J21>0,"Partiel","Sans provision")) -> Sans provision | J21: 0 | L21: =G21-J21 -> 2681 | M21: 4.83
A22: SC | B22: 45209 | C22: =DAY(B22) -> 10 | D22: =MONTH(B22) -> 10 | E22: SS | F22: 441842887 | G22: 10609 | I22: =IF(J22=G22,"Soldé",IF(J22>0,"Partiel","Sans provision")) -> Sans provision | J22: 0 | L22: =G22-J22 -> 10609 | M22: 4.83
A23: SC | B23: 45215 | C23: =DAY(B23) -> 16 | D23: =MONTH(B23) -> 10 | E23: J | F23: 837529353 | G23: 31194.18 | I23: =IF(J23=G23,"Soldé",IF(J23>0,"Partiel","Sans provision")) -> Partiel | J23: 11.73 | K23: 45248 | L23: =G23-J23 -> 31182.45 | M23: 4.83
A24: SC | B24: 45215 | C24: =DAY(B24) -> 16 | D24: =MONTH(B24) -> 10 | E24: Z | F24: 521995605 | G24: 5400 | I24: =IF(J24=G24,"Soldé",IF(J24>0,"Partiel","Sans provision")) -> Partiel | J24: 115.05 | K24: 45249 | L24: =G24-J24 -> 5284.95 | M24: 4.83
A25: SC | B25: 45217 | C25: =DAY(B25) -> 18 | D25: =MONTH(B25) -> 10 | E25: EE | F25: 407793751 | G25: 2238 | I25: =IF(J25=G25,"Soldé",IF(J25>0,"Partiel","Sans provision")) -> Partiel | J25: =636.01+0 -> 636.01 | K25: 45254 | L25: =G25-J25 -> 1601.99 | M25: 4.83
A26: SC | B26: 45217 | C26: =DAY(B26) -> 18 | D26: =MONTH(B26) -> 10 | E26: HHH | F26: 449965151 | G26: 1828 | I26: =IF(J26=G26,"Soldé",IF(J26>0,"Partiel","Sans provision")) -> Sans provision | J26: 0 | L26: =G26-J26 -> 1828 | M26: 4.83
A27: SC | B27: 45218 | C27: =DAY(B27) -> 19 | D27: =MONTH(B27) -> 10 | E27: C | F27: 524096708 | G27: 13360 | I27: =IF(J27=G27,"Soldé",IF(J27>0,"Partiel","Sans provision")) -> Partiel | J27: =2628.95+148.36 -> 2777.31 | K27: 45253 | L27: =G27-J27 -> 10582.69 | M27: 4.83
A28: NB | B28: 45226 | C28: =DAY(B28) -> 27 | D28: =MONTH(B28) -> 10 | E28: F | F28: 845057447 | G28: 5386.81 | I28: =IF(J28=G28,"Soldé",IF(J28>0,"Partiel","Sans provision")) -> Sans provision | J28: 0 | L28: =G28-J28 -> 5386.81 | M28: 4.83
A29: NB | B29: 45226 | C29: =DAY(B29) -> 27 | D29: =MONTH(B29) -> 10 | E29: S | F29: 401085592 | G29: 965 | I29: Négatif | J29: 0 | L29: =G29-J29 -> 965 | M29: 4.83
A30: NB | B30: 45226 | C30: =DAY(B30) -> 27 | D30: =MONTH(B30) -> 10 | E30: JJ | F30: 793297664 | G30: 4236.96 | I30: =IF(J30=G30,"Soldé",IF(J30>0,"Partiel","Sans provision")) -> Sans provision | J30: 0 | L30: =G30-J30 -> 4236.96 | M30: 4.83
A31: NB | B31: 45226 | C31: =DAY(B31) -> 27 | D31: =MONTH(B31) -> 10 | E31: LL | F31: 519876171 | G31: 255 | I31: =IF(J31=G31,"Soldé",IF(J31>0,"Partiel","Sans provision")) -> Soldé | J31: 255 | K31: 45257 | L31: =G31-J31 -> 0 | M31: 4.83
A32: NB | B32: 45226 | C32: =DAY(B32) -> 27 | D32: =MONTH(B32) -> 10 | E32: FFF | F32: 791978968 | G32: 4009.14 | I32: =IF(J32=G32,"Soldé",IF(J32>0,"Partiel","Sans provision")) -> Sans provision | J32: 0 | L32: =G32-J32 -> 4009.14 | M32: 4.83
A33: NB | B33: 45226 | C33: =DAY(B33) -> 27 | D33: =MONTH(B33) -> 10 | E33: GGG | F33: 345347587 | G33: 288 | I33: =IF(J33=G33,"Soldé",IF(J33>0,"Partiel","Sans provision")) -> Soldé | J33: 288 | K33: 45238 | L33: =G33-J33 -> 0 | M33: 4.83
A34: NB | B34: 45232 | C34: =DAY(B34) -> 2 | D34: =MONTH(B34) -> 11 | E34: B | F34: 501271050 | G34: 247 | I34: =IF(J34=G34,"Soldé",IF(J34>0,"Partiel","Sans provision")) -> Soldé | J34: 247 | K34: 45266 | L34: =G34-J34 -> 0 | M34: 4.83
A35: NB | B35: 45232 | C35: =DAY(B35) -> 2 | D35: =MONTH(B35) -> 11 | E35: I | F35: 477799910 | G35: 2109.63 | I35: =IF(J35=G35,"Soldé",IF(J35>0,"Partiel","Sans provision")) -> Partiel | J35: 0.43 | K35: 45267 | L35: =G35-J35 -> 2109.2 | M35: 4.83
A36: NB | B36: 45232 | C36: =DAY(B36) -> 2 | D36: =MONTH(B36) -> 11 | E36: J | F36: 837529353 | G36: 29879.18 | I36: =IF(J36=G36,"Soldé",IF(J36>0,"Partiel","Sans provision")) -> Partiel | J36: 5447.89 | K36: 45266 | L36: =G36-J36 -> 24431.29 | M36: 4.83
A37: NB | B37: 45232 | C37: =DAY(B37) -> 2 | D37: =MONTH(B37) -> 11 | E37: L | F37: 519203657 | G37: 922.85 | I37: =IF(J37=G37,"Soldé",IF(J37>0,"Partiel","Sans provision")) -> Partiel | J37: 170.49 | K37: 45266 | L37: =G37-J37 -> 752.36 | M37: 4.83
A38: NB | B38: 45232 | C38: =DAY(B38) -> 2 | D38: =MONTH(B38) -> 11 | E38: P | F38: 804676682 | G38: 19553.92 | I38: =IF(J38=G38,"Soldé",IF(J38>0,"Partiel","Sans provision")) -> Partiel | J38: 9747.48 | K38: 45268 | L38: =G38-J38 -> 9806.44 | M38: 4.83
A39: NB | B39: 45232 | C39: =DAY(B39) -> 2 | D39: =MONTH(B39) -> 11 | E39: R | F39: 807700893 | G39: 5190.61 | I39: =IF(J39=G39,"Soldé",IF(J39>0,"Partiel","Sans provision")) -> Sans provision | J39: 0 | L39: =G39-J39 -> 5190.61 | M39: 4.83
A40: NB | B40: 45232 | C40: =DAY(B40) -> 2 | D40: =MONTH(B40) -> 11 | E40: V | F40: 484524889 | G40: 1200 | I40: =IF(J40=G40,"Soldé",IF(J40>0,"Partiel","Sans provision")) -> Sans provision | J40: 0 | L40: =G40-J40 -> 1200 | M40: 4.83
A41: NB | B41: 45232 | C41: =DAY(B41) -> 2 | D41: =MONTH(B41) -> 11 | E41: Y | F41: 813892122 | G41: 1307.4 | I41: =IF(J41=G41,"Soldé",IF(J41>0,"Partiel","Sans provision")) -> Soldé | J41: 1307.4 | K41: 45268 | L41: =G41-J41 -> 0 | M41: 4.83
A42: NB | B42: 45232 | C42: =DAY(B42) -> 2 | D42: =MONTH(B42) -> 11 | E42: FF | F42: 321093718 | G42: 4648.23 | I42: =IF(J42=G42,"Soldé",IF(J42>0,"Partiel","Sans provision")) -> Sans provision | J42: 0 | L42: =G42-J42 -> 4648.23 | M42: 4.83
A43: NB | B43: 45232 | C43: =DAY(B43) -> 2 | D43: =MONTH(B43) -> 11 | E43: HH | F43: 505155812 | G43: 2681 | I43: =IF(J43=G43,"Soldé",IF(J43>0,"Partiel","Sans provision")) -> Partiel | J43: 542.22 | K43: 45263 | L43: =G43-J43 -> 2138.78 | M43: 4.83
A44: NB | B44: 45232 | C44: =DAY(B44) -> 2 | D44: =MONTH(B44) -> 11 | E44: KK | F44: 852689306 | G44: 10719.78 | I44: =IF(J44=G44,"Soldé",IF(J44>0,"Partiel","Sans provision")) -> Sans provision | J44: 0 | L44: =G44-J44 -> 10719.78 | M44: 4.83
A45: NB | B45: 45232 | C45: =DAY(B45) -> 2 | D45: =MONTH(B45) -> 11 | E45: NN | F45: 478102031 | G45: 14465.21 | I45: =IF(J45=G45,"Soldé",IF(J45>0,"Partiel","Sans provision")) -> Partiel | J45: =998.15+2700.86 -> 3699.01 | K45: 45273 | L45: =G45-J45 -> 10766.2 | M45: 4.83
A46: NB | B46: 45232 | C46: =DAY(B46) -> 2 | D46: =MONTH(B46) -> 11 | E46: OO | F46: 523522852 | G46: 9178 | I46: =IF(J46=G46,"Soldé",IF(J46>0,"Partiel","Sans provision")) -> Partiel | J46: 75.78 | K46: 45266 | L46: =G46-J46 -> 9102.22 | M46: 4.83
A47: NB | B47: 45232 | C47: =DAY(B47) -> 2 | D47: =MONTH(B47) -> 11 | E47: RR | F47: 330261280 | G47: 647 | I47: =IF(J47=G47,"Soldé",IF(J47>0,"Partiel","Sans provision")) -> Sans provision | J47: 0 | L47: =G47-J47 -> 647 | M47: 4.83
A48: NB | B48: 45232 | C48: =DAY(B48) -> 2 | D48: =MONTH(B48) -> 11 | E48: UU | F48: 421231176 | G48: 699 | I48: =IF(J48=G48,"Soldé",IF(J48>0,"Partiel","Sans provision")) -> Sans provision | J48: 0 | L48: =G48-J48 -> 699 | M48: 4.83
A49: NB | B49: 45232 | C49: =DAY(B49) -> 2 | D49: =MONTH(B49) -> 11 | E49: WW | F49: 504879628 | G49: 36942.26 | I49: =IF(J49=G49,"Soldé",IF(J49>0,"Partiel","Sans provision")) -> Partiel | J49: =2442.19 -> 2442.19 | K49: 45270 | L49: =G49-J49 -> 34500.07 | M49: 4.83
A50: NB | B50: 45232 | C50: =DAY(B50) -> 2 | D50: =MONTH(B50) -> 11 | E50: AAA | F50: 528561509 | G50: 19891.8 | I50: =IF(J50=G50,"Soldé",IF(J50>0,"Partiel","Sans provision")) -> Partiel | J50: 0.1 | K50: 45269 | L50: =G50-J50 -> 19891.7 | M50: 4.83
A51: NB | B51: 45232 | C51: =DAY(B51) -> 2 | D51: =MONTH(B51) -> 11 | E51: EEE | F51: 890926520 | G51: 460 | I51: =IF(J51=G51,"Soldé",IF(J51>0,"Partiel","Sans provision")) -> Sans provision | J51: 0 | L51: =G51-J51 -> 460 | M51: 4.83
A52: NB | B52: 45233 | C52: =DAY(B52) -> 3 | D52: =MONTH(B52) -> 11 | E52: O | F52: 752034629 | G52: 2097 | I52: =IF(J52=G52,"Soldé",IF(J52>0,"Partiel","Sans provision")) -> Sans provision | J52: 0 | L52: =G52-J52 -> 2097 | M52: 4.83
A53: SC | B53: 45250 | C53: =DAY(B53) -> 20 | D53: =MONTH(B53) -> 11 | E53: BB | F53: 440483741 | G53: 14718 | I53: =IF(J53=G53,"Soldé",IF(J53>0,"Partiel","Sans provision")) -> Partiel | J53: 4567.6 | K53: 45281 | L53: =G53-J53 -> 10150.4 | M53: 4.83
A54: SC | B54: 45250 | C54: =DAY(B54) -> 20 | D54: =MONTH(B54) -> 11 | E54: JJ | F54: 793297664 | G54: 6000.37 | I54: =IF(J54=G54,"Soldé",IF(J54>0,"Partiel","Sans provision")) -> Sans provision | J54: 0 | L54: =G54-J54 -> 6000.37 | M54: 4.83
A55: SC | B55: 45250 | C55: =DAY(B55) -> 20 | D55: =MONTH(B55) -> 11 | E55: QQ | F55: 381125434 | G55: 601.24 | I55: =IF(J55=G55,"Soldé",IF(J55>0,"Partiel","Sans provision")) -> Soldé | J55: 601.24 | K55: 45282 | L55: =G55-J55 -> 0 | M55: 4.83
A56: SC | B56: 45250 | C56: =DAY(B56) -> 20 | D56: =MONTH(B56) -> 11 | E56: VV | F56: 415080076 | G56: 440.01 | I56: =IF(J56=G56,"Soldé",IF(J56>0,"Partiel","Sans provision")) -> Sans provision | J56: 0 | L56: =G56-J56 -> 440.01 | M56: =IF(A56<>"",5.36,"") -> 5.36
A57: SC | B57: 45250 | C57: =DAY(B57) -> 20 | D57: =MONTH(B57) -> 11 | E57: CCC | F57: 432651438 | G57: 4590.57 | I57: =IF(J57=G57,"Soldé",IF(J57>0,"Partiel","Sans provision")) -> Soldé | J57: 4590.57 | K57: 45281 | L57: =G57-J57 -> 0 | M57: 4.83
A58: SC | B58: 45250 | C58: =DAY(B58) -> 20 | D58: =MONTH(B58) -> 11 | E58: FFF | F58: 791978968 | G58: 2466 | I58: =IF(J58=G58,"Soldé",IF(J58>0,"Partiel","Sans provision")) -> Partiel | J58: 2407.27 | K58: 45282 | L58: =G58-J58 -> 58.73 | M58: 4.83
A59: SC | B59: 45266 | C59: =DAY(B59) -> 6 | D59: =MONTH(B59) -> 12 | E59: PP | F59: 539198630 | G59: 56327.5 | I59: =IF(J59=G59,"Soldé",IF(J59>0,"Partiel","Sans provision")) -> Sans provision | J59: 0 | L59: =G59-J59 -> 56327.5 | M59: 4.83
A60: NB | B60: 45267 | C60: =DAY(B60) -> 7 | D60: =MONTH(B60) -> 12 | E60: F | F60: 845057447 | G60: 5326.81 | I60: =IF(J60=G60,"Soldé",IF(J60>0,"Partiel","Sans provision")) -> Sans provision | J60: 0 | L60: =G60-J60 -> 5326.81 | M60: 4.83
A61: NB | B61: 45267 | C61: =DAY(B61) -> 7 | D61: =MONTH(B61) -> 12 | E61: M | F61: 531609980 | G61: 375 | I61: =IF(J61=G61,"Soldé",IF(J61>0,"Partiel","Sans provision")) -> Soldé | J61: 375 | K61: 45304 | L61: =G61-J61 -> 0 | M61: 4.83
A62: NB | B62: 45267 | C62: =DAY(B62) -> 7 | D62: =MONTH(B62) -> 12 | E62: R | F62: 807700893 | G62: 6252.61 | I62: =IF(J62=G62,"Soldé",IF(J62>0,"Partiel","Sans provision")) -> Partiel | J62: 242.52 | K62: 45302 | L62: =G62-J62 -> 6010.09 | M62: 4.83
A63: NB | B63: 45267 | C63: =DAY(B63) -> 7 | D63: =MONTH(B63) -> 12 | E63: T | F63: 821362878 | G63: 8862.21 | I63: =IF(J63=G63,"Soldé",IF(J63>0,"Partiel","Sans provision")) -> Partiel | J63: 28.6 | K63: 45312 | L63: =G63-J63 -> 8833.61 | M63: 4.83
A64: NB | B64: 45267 | C64: =DAY(B64) -> 7 | D64: =MONTH(B64) -> 12 | E64: V | F64: 484524889 | G64: 1200 | I64: =IF(J64=G64,"Soldé",IF(J64>0,"Partiel","Sans provision")) -> Sans provision | J64: 0 | L64: =G64-J64 -> 1200 | M64: 4.83
A65: NB | B65: 45267 | C65: =DAY(B65) -> 7 | D65: =MONTH(B65) -> 12 | E65: Z | F65: 521995605 | G65: 5284.95 | I65: =IF(J65=G65,"Soldé",IF(J65>0,"Partiel","Sans provision")) -> Partiel | J65: 3052.28 | K65: 44216 | L65: =G65-J65 -> 2232.67 | M65: 4.83
A66: NB | B66: 45267 | C66: =DAY(B66) -> 7 | D66: =MONTH(B66) -> 12 | E66: EE | F66: 407793751 | G66: 2101.99 | I66: =IF(J66=G66,"Soldé",IF(J66>0,"Partiel","Sans provision")) -> Soldé | J66: 2101.99 | K66: 45304 | L66: =G66-J66 -> 0 | M66: 4.83
A67: NB | B67: 45267 | C67: =DAY(B67) -> 7 | D67: =MONTH(B67) -> 12 | E67: SS | F67: 441842887 | G67: 10609 | I67: =IF(J67=G67,"Soldé",IF(J67>0,"Partiel","Sans provision")) -> Sans provision | J67: 0 | L67: =G67-J67 -> 10609 | M67: 4.83
A68: NB | B68: 45267 | C68: =DAY(B68) -> 7 | D68: =MONTH(B68) -> 12 | E68: YY | F68: 798683819 | G68: 3910.35 | I68: =IF(J68=G68,"Soldé",IF(J68>0,"Partiel","Sans provision")) -> Partiel | J68: 79.75 | K68: 45311 | L68: =G68-J68 -> 3830.6 | M68: 4.83
A69: NB | B69: 45267 | C69: =DAY(B69) -> 7 | D69: =MONTH(B69) -> 12 | E69: AAA | F69: 528561509 | G69: 26227.8 | I69: =IF(J69=G69,"Soldé",IF(J69>0,"Partiel","Sans provision")) -> Partiel | J69: 4889.39 | K69: 45299 | L69: =G69-J69 -> 21338.41 | M69: 4.83
A70: SC | B70: 45272 | C70: =DAY(B70) -> 12 | D70: =MONTH(B70) -> 12 | E70: J | F70: 837529353 | G70: 30515.56 | I70: =IF(J70=G70,"Soldé",IF(J70>0,"Partiel","Sans provision")) -> Partiel | J70: 4912.9 | K70: 45304 | L70: =G70-J70 -> 25602.66 | M70: 4.83
A71: SC | B71: 45278 | C71: =DAY(B71) -> 18 | D71: =MONTH(B71) -> 12 | E71: KKK | F71: 417552379 | G71: 8229 | I71: =IF(J71=G71,"Soldé",IF(J71>0,"Partiel","Sans provision")) -> Partiel | J71: 657.79 | K71: 45311 | L71: =G71-J71 -> 7571.21 | M71: 4.83
A72: NB | B72: 45295 | C72: =DAY(B72) -> 4 | D72: =MONTH(B72) -> 1 | E72: F | F72: 845057447 | G72: 5359.81 | I72: =IF(J72=G72,"Soldé",IF(J72>0,"Partiel","Sans provision")) -> Sans provision | J72: 0 | L72: =G72-J72 -> 5359.81 | M72: =IF(A72<>"",5.36,"") -> 5.36
A73: NB | B73: 45295 | C73: =DAY(B73) -> 4 | D73: =MONTH(B73) -> 1 | E73: I | F73: 477799910 | G73: 8186.2 | I73: =IF(J73=G73,"Soldé",IF(J73>0,"Partiel","Sans provision")) -> Partiel | J73: 1549.44 | K73: 45330 | L73: =G73-J73 -> 6636.76 | M73: =IF(A73<>"",5.36,"") -> 5.36
A74: NB | B74: 45295 | C74: =DAY(B74) -> 4 | D74: =MONTH(B74) -> 1 | E74: P | F74: 804676682 | G74: 21949.44 | I74: =IF(J74=G74,"Soldé",IF(J74>0,"Partiel","Sans provision")) -> Partiel | J74: 579.48 | K74: 45331 | L74: =G74-J74 -> 21369.96 | M74: =IF(A74<>"",5.36,"") -> 5.36
A75: NB | B75: 45295 | C75: =DAY(B75) -> 4 | D75: =MONTH(B75) -> 1 | E75: Q | F75: 509519518 | G75: 20953 | I75: =IF(J75=G75,"Soldé",IF(J75>0,"Partiel","Sans provision")) -> Sans provision | J75: 0 | L75: =G75-J75 -> 20953 | M75: =IF(A75<>"",5.36,"") -> 5.36
A76: NB | B76: 45295 | C76: =DAY(B76) -> 4 | D76: =MONTH(B76) -> 1 | E76: R | F76: 807700893 | G76: 6252.61 | I76: =IF(J76=G76,"Soldé",IF(J76>0,"Partiel","Sans provision")) -> Sans provision | J76: 0 | L76: =G76-J76 -> 6252.61 | M76: =IF(A76<>"",5.36,"") -> 5.36
A77: NB | B77: 45295 | C77: =DAY(B77) -> 4 | D77: =MONTH(B77) -> 1 | E77: FFF | F77: 791978968 | G77: 3956.72 | I77: =IF(J77=G77,"Soldé",IF(J77>0,"Partiel","Sans provision")) -> Soldé | J77: 3956.72 | K77: 45330 | L77: =G77-J77 -> 0 | M77: =IF(A77<>"",5.36,"") -> 5.36
A78: NB | B78: 45302 | C78: =DAY(B78) -> 11 | D78: =MONTH(B78) -> 1 | E78: W | F78: 314393786 | G78: 60988.54 | I78: =IF(J78=G78,"Soldé",IF(J78>0,"Partiel","Sans provision")) -> Partiel | J78: 7715.42 | K78: 45333 | L78: =G78-J78 -> 53273.12 | M78: =IF(A78<>"",5.36,"") -> 5.36
A79: NB | B79: 45309 | C79: =DAY(B79) -> 18 | D79: =MONTH(B79) -> 1 | E79: W | F79: 314393786 | G79: 60988.54 | I79: =IF(J79=G79,"Soldé",IF(J79>0,"Partiel","Sans provision")) -> Partiel | J79: 5702.88 | K79: 45345 | L79: =G79-J79 -> 55285.66 | M79: =IF(A79<>"",5.36,"") -> 5.36
A80: SC | B80: 45309 | C80: =DAY(B80) -> 18 | D80: =MONTH(B80) -> 1 | E80: CCC | F80: 432651438 | G80: 30469 | I80: =IF(J80=G80,"Soldé",IF(J80>0,"Partiel","Sans provision")) -> Partiel | J80: 1196.8 | K80: 45341 | L80: =G80-J80 -> 29272.2 | M80: =IF(A80<>"",5.36,"") -> 5.36
A81: SC | B81: 45313 | C81: =DAY(B81) -> 22 | D81: =MONTH(B81) -> 1 | E81: J | F81: 837529353 | G81: 28824.66 | I81: =IF(J81=G81,"Soldé",IF(J81>0,"Partiel","Sans provision")) -> Sans provision | J81: 0 | L81: =G81-J81 -> 28824.66 | M81: =IF(A81<>"",5.36,"") -> 5.36
A82: SC | B82: 45313 | C82: =DAY(B82) -> 22 | D82: =MONTH(B82) -> 1 | E82: O | F82: 752034629 | G82: 3407 | I82: =IF(J82=G82,"Soldé",IF(J82>0,"Partiel","Sans provision")) -> Sans provision | J82: 0 | L82: =G82-J82 -> 3407 | M82: =IF(A82<>"",5.36,"") -> 5.36
A83: SC | B83: 45313 | C83: =DAY(B83) -> 22 | D83: =MONTH(B83) -> 1 | E83: T | F83: 821362878 | G83: 11169.21 | I83: =IF(J83=G83,"Soldé",IF(J83>0,"Partiel","Sans provision")) -> Partiel | J83: 8.2 | K83: 45346 | L83: =G83-J83 -> 11161.01 | M83: =IF(A83<>"",5.36,"") -> 5.36
A84: SC | B84: 45313 | C84: =DAY(B84) -> 22 | D84: =MONTH(B84) -> 1 | E84: CC | F84: 440483741 | G84: 11370.4 | I84: =IF(J84=G84,"Soldé",IF(J84>0,"Partiel","Sans provision")) -> Sans provision | J84: 0 | L84: =G84-J84 -> 11370.4 | M84: =IF(A84<>"",5.36,"") -> 5.36
A85: SC | B85: 45313 | C85: =DAY(B85) -> 22 | D85: =MONTH(B85) -> 1 | E85: FF | F85: 321093718 | G85: 7494.23 | I85: =IF(J85=G85,"Soldé",IF(J85>0,"Partiel","Sans provision")) -> Partiel | J85: 3789.97 | K85: 45348 | L85: =G85-J85 -> 3704.26 | M85: =IF(A85<>"",5.36,"") -> 5.36
A86: SC | B86: 45313 | C86: =DAY(B86) -> 22 | D86: =MONTH(B86) -> 1 | E86: GG | F86: 821859949 | G86: 1097 | I86: =IF(J86=G86,"Soldé",IF(J86>0,"Partiel","Sans provision")) -> Sans provision | J86: 0 | L86: =G86-J86 -> 1097 | M86: =IF(A86<>"",5.36,"") -> 5.36
A87: SC | B87: 45313 | C87: =DAY(B87) -> 22 | D87: =MONTH(B87) -> 1 | E87: HH | F87: 505155812 | G87: 3768.78 | I87: =IF(J87=G87,"Soldé",IF(J87>0,"Partiel","Sans provision")) -> Sans provision | J87: 0 | L87: =G87-J87 -> 3768.78 | M87: =IF(A87<>"",5.36,"") -> 5.36
A88: NB | B88: 45313 | C88: =DAY(B88) -> 22 | D88: =MONTH(B88) -> 1 | E88: JJ | F88: 793297664 | G88: 4236.96 | I88: =IF(J88=G88,"Soldé",IF(J88>0,"Partiel","Sans provision")) -> Sans provision | J88: 0 | L88: =G88-J88 -> 4236.96
A89: SC | B89: 45313 | C89: =DAY(B89) -> 22 | D89: =MONTH(B89) -> 1 | E89: LL | F89: 519876171 | G89: 4334 | I89: =IF(J89=G89,"Soldé",IF(J89>0,"Partiel","Sans provision")) -> Soldé | J89: 4334 | K89: 45348 | L89: =G89-J89 -> 0 | M89: =IF(A89<>"",5.36,"") -> 5.36
A90: SC | B90: 45313 | C90: =DAY(B90) -> 22 | D90: =MONTH(B90) -> 1 | E90: NN | F90: 478102031 | G90: 6754.84 | I90: =IF(J90=G90,"Soldé",IF(J90>0,"Partiel","Sans provision")) -> Sans provision | J90: 0 | L90: =G90-J90 -> 6754.84 | M90: =IF(A90<>"",5.36,"") -> 5.36
A91: SC | B91: 45315 | C91: =DAY(B91) -> 24 | D91: =MONTH(B91) -> 1 | E91: BBB | F91: 394659155 | G91: 3305 | I91: =IF(J91=G91,"Soldé",IF(J91>0,"Partiel","Sans provision")) -> Partiel | J91: 289.73 | K91: 45342 | L91: =G91-J91 -> 3015.27 | M91: =IF(A91<>"",5.36,"") -> 5.36
A92: NB | B92: 45317 | C92: =DAY(B92) -> 26 | D92: =MONTH(B92) -> 1 | E92: SS | F92: 441842887 | G92: 11261 | I92: =IF(J92=G92,"Soldé",IF(J92>0,"Partiel","Sans provision")) -> Sans provision | J92: 0 | L92: =G92-J92 -> 11261 | M92: =IF(A92<>"",5.36,"") -> 5.36
A93: NB | B93: 45317 | C93: =DAY(B93) -> 26 | D93: =MONTH(B93) -> 1 | E93: WW | F93: 504879628 | G93: 19353.07 | I93: =IF(J93=G93,"Soldé",IF(J93>0,"Partiel","Sans provision")) -> Partiel | J93: 4889.22 | K93: 45351 | L93: =G93-J93 -> 14463.85 | M93: =IF(A93<>"",5.36,"") -> 5.36
A94: NB | B94: 45317 | C94: =DAY(B94) -> 26 | D94: =MONTH(B94) -> 1 | E94: YY | F94: 798683819 | G94: 3910.35 | I94: =IF(J94=G94,"Soldé",IF(J94>0,"Partiel","Sans provision")) -> Soldé | J94: 3910.35 | K94: 45351 | L94: =G94-J94 -> 0 | M94: =IF(A94<>"",5.36,"") -> 5.36
A95: NB | B95: 45317 | C95: =DAY(B95) -> 26 | D95: =MONTH(B95) -> 1 | E95: HHH | F95: 449965151 | G95: 4266 | I95: =IF(J95=G95,"Soldé",IF(J95>0,"Partiel","Sans provision")) -> Soldé | J95: 4266 | K95: 45351 | L95: =G95-J95 -> 0 | M95: =IF(A95<>"",5.36,"") -> 5.36
A96: NB | B96: 45317 | C96: =DAY(B96) -> 26 | D96: =MONTH(B96) -> 1 | E96: MMM | F96: 827508334 | G96: 541 | I96: =IF(J96=G96,"Soldé",IF(J96>0,"Partiel","Sans provision")) -> Soldé | J96: 541 | K96: 45351 | L96: =G96-J96 -> 0 | M96: =IF(A96<>"",5.36,"") -> 5.36
A97: SC | B97: 45320 | C97: =DAY(B97) -> 29 | D97: =MONTH(B97) -> 1 | E97: A | F97: 518288295 | G97: 5053 | I97: =IF(J97=G97,"Soldé",IF(J97>0,"Partiel","Sans provision")) -> Sans provision | J97: 0 | L97: =G97-J97 -> 5053 | M97: =IF(A97<>"",5.36,"") -> 5.36
A98: SC | B98: 45322 | C98: =DAY(B98) -> 31 | D98: =MONTH(B98) -> 1 | E98: UU | F98: 421231176 | G98: 669 | I98: =IF(J98=G98,"Soldé",IF(J98>0,"Partiel","Sans provision")) -> Sans provision | J98: 0 | L98: =G98-J98 -> 669 | M98: =IF(A98<>"",5.36,"") -> 5.36
A99: SC | B99: 45324 | C99: =DAY(B99) -> 2 | D99: =MONTH(B99) -> 2 | E99: P | F99: 804676682 | G99: 25521.44 | I99: =IF(J99=G99,"Soldé",IF(J99>0,"Partiel","Sans provision")) -> Partiel | J99: 165.11 | K99: 45358 | L99: =G99-J99 -> 25356.33 | M99: =IF(A99<>"",5.36,"") -> 5.36
A100: SC | B100: 45329 | C100: =DAY(B100) -> 7 | D100: =MONTH(B100) -> 2 | E100: M | F100: 531609980 | G100: 1826 | I100: Négatif | J100: 0 | L100: =G100-J100 -> 1826 | M100: =IF(A100<>"",5.36,"") -> 5.36
...

Sheet Table dynamique_Historique_2
A1: Compter - Réponse | B1: Réponse
A2: J | B2: Négatif | C2: Partiel | D2: Sans provision | E2: Soldé | F2: Total Résultat
A3: 2 | C3: 0.066666667 | D3: 0.042424242 | E3: 0.012121212 | F3: 0.12121212
A4: 3 | D4: 0.012121212 | E4: 0.0060606061 | F4: 0.018181818
A5: 4 | B5: 0.0060606061 | C5: 0.018181818 | D5: 0.036363636 | E5: 0.0060606061 | F5: 0.066666667
A6: 5 | C6: 0.0060606061 | D6: 0.0060606061 | F6: 0.012121212
A7: 6 | D7: 0.0060606061 | F7: 0.0060606061
A8: 7 | B8: 0.0060606061 | C8: 0.03030303 | D8: 0.018181818 | E8: 0.012121212 | F8: 0.066666667
A9: 9 | C9: 0.0060606061 | D9: 0.018181818 | F9: 0.024242424
A10: 10 | D10: 0.0060606061 | F10: 0.0060606061
A11: 11 | C11: 0.012121212 | F11: 0.012121212
A12: 12 | C12: 0.012121212 | D12: 0.012121212 | E12: 0.012121212 | F12: 0.036363636
A13: 16 | B13: 0.0060606061 | C13: 0.012121212 | F13: 0.018181818
A14: 18 | C14: 0.03030303 | D14: 0.012121212 | E14: 0.0060606061 | F14: 0.048484848
A15: 19 | C15: 0.0060606061 | F15: 0.0060606061
A16: 20 | C16: 0.012121212 | D16: 0.012121212 | E16: 0.012121212 | F16: 0.036363636
A17: 22 | B17: 0.0060606061 | C17: 0.042424242 | D17: 0.078787879 | E17: 0.018181818 | F17: 0.14545455
A18: 23 | B18: 0.0060606061 | C18: 0.012121212 | E18: 0.0060606061 | F18: 0.024242424
A19: 24 | C19: 0.012121212 | D19: 0.0060606061 | E19: 0.0060606061 | F19: 0.024242424
A20: 25 | C20: 0.012121212 | D20: 0.0060606061 | F20: 0.018181818
A21: 26 | C21: 0.048484848 | D21: 0.060606061 | E21: 0.03030303 | F21: 0.13939394
A22: 27 | B22: 0.0060606061 | D22: 0.018181818 | E22: 0.012121212 | F22: 0.036363636
A23: 29 | B23: 0.0060606061 | C23: 0.054545455 | D23: 0.048484848 | E23: 0.012121212 | F23: 0.12121212
A24: 30 | D24: 0.0060606061 | F24: 0.0060606061
A25: 31 | D25: 0.0060606061 | F25: 0.0060606061
A26: Total Résultat | B26: 0.042424242 | C26: 0.39393939 | D26: 0.41212121 | E26: 0.15151515 | F26: 1

Sheet Table dynamique_Historique_1
B1: Données
A2: J | B2: Total Récup | C2: Moy Récup
A3: 2 | B3: 29978.53 | C3: 1498.9265
A4: 3 | B4: 4627.67 | C4: 1542.5567
A5: 4 | B5: 6094.33 | C5: 554.03
A6: 5 | B6: 681.81 | C6: 340.905
A7: 6 | B7: 0 | C7: 0
A8: 7 | B8: 10769.53 | C8: 979.04818
A9: 9 | B9: 935.99 | C9: 233.9975
A10: 10 | B10: 0 | C10: 0
A11: 11 | B11: 19658.06 | C11: 9829.03
A12: 12 | B12: 11305.61 | C12: 1884.2683
A13: 16 | B13: 126.78 | C13: 42.26
A14: 18 | B14: 12968.02 | C14: 1621.0025
... A25: 31 | B25: 0 | C25: 0
A26: Total Résultat | B26: 190534.83 | C26: 1161.7977
