Workbook

Sheet TDB
A1: Tableau de bord des ATD
A3: Premier ATD | B3: =MIN(Historique!B:B) -> 45191 | D3: Dernier ATD | E3: =MAX(Historique!B:B) -> 45418
A5: Nombre d’ATD Réalisé | C5: =COUNT(Historique!B2:B9624) -> 165 | D5: Prix AR 2024 | E5: 5.36
A7: Résultat des ATD
B8: Libellé | C8: Nombre | D8: T % Recouv
B9: Sans provision | C9: =COUNTIF(Historique!I:I,B9) -> 68 | D9: =C9/$C$5 -> 0.41212121
B10: Partiel | C10: =COUNTIF(Historique!I:I,B10) -> 65 | D10: =C10/$C$5 -> 0.39393939
B11: Soldé | C11: =COUNTIF(Historique!I:I,B11) -> 25 | D11: =C11/$C$5 -> 0.15151515
B12: Négatif | C12: =COUNTIF(Historique!I:I,B12) -> 7 | D12: =C12/$C$5 -> 0.042424242
A14: Recouvrement
B15: Montant à recouvrer | D15: =SUM(Historique!G2:G119592) -> 1548991.8
B16: Montant recouvré | D16: =SUM(Historique!J:J) -> 190534.83
B17: Coût d’envoi AR | D17: =+SUM(Historique!M2:M1048576) -> 842.47
B18: Taux de recouvrement | D18: =((D16-D17)/D15) -> 0.12246182
B19: Taux de recouvrement SC | C19: ="Pour"&" "&COUNTIF(Historique!A:A,"SC")&" "&"ATD" -> Pour 63 ATD | D19: =((SUMIF(Historique!A:A,"SC",Historique!J:J))/(SUMIF(Historique!A:A,"SC",Historique!G:G))) -> 0.13422487
B20: Taux de recouvrement NB | C20: ="Pour"&" "&COUNTIF(Historique!A:A,"NB")&" "&"ATD" -> Pour 102 ATD | D20: =((SUMIF(Historique!A:A,"NB",Historique!J:J))/(SUMIF(Historique!A:A,"NB",Historique!G:G))) -> 0.11666297
B21: Montant recouvré / ATD | D21: =+D16/C5 -> 1154.7565
A23: Répartition
A24: Compter - Réponse | B24: Réponse
A25: Montant ATD | B25: Négatif | C25: Partiel | D25: Sans provision | E25: Soldé
A26: 0-5000 | B26: 0.038961039 | C26: 0.20779221 | D26: 0.44155844 | E26: 0.31168831
A27: 5000-10000 | B27: 0.027027027 | C27: 0.51351351 | D27: 0.43243243 | E27: 0.027027027
A28: 10000-15000 | B28: 0.055555556 | C28: 0.44444444 | D28: 0.5
A29: 15000-20000 | B29: 0.11111111 | C29: 0.55555556 | D29: 0.33333333
A30: 20000-25000 | C30: 0.75 | D30: 0.25
A31: 25000-30000 | B31: 0.14285714 | C31: 0.57142857 | D31: 0.28571429
A32: 30000-35000 | C32: 0.8 | D32: 0.2
A33: 35000-40000 | C33: 1
A34: >40000 | C34: 0.66666667 | D34: 0.33333333
A35: Total Résultat | B35: 0.042424242 | C35: 0.39393939 | D35: 0.41212121 | E35: 0.15151515

Sheet Historique
A1: Auteur | B1: Date | C1: J | D1: Mois | E1: Dénomination | F1: Siren | G1: Montant ATD | H1: Etat | I1: Réponse | J1: Montant récup | K1: Versemt | L1: Montant reste | M1: € AR | N1: 16/05/24
A2: NB | B2: 45191 | C2: =DAY(B2) -> 22 | D2: =MONTH(B2) -> 9 | E2: E | F2: 490309655 | G2: 5473 | I2: =IF(J2=G2,"Soldé",IF(J2>0,"Partiel","Sans provision")) -> Partiel | J2: 2634.94 | K2: 45226 | L2: =G2-J2 -> 2838.06 | M2: 4.83
A3: NB | B3: 45191 | C3: =DAY(B3) -> 22 | D3: =MONTH(B3) -> 9 | E3: F | F3: 845057447 | G3: 5386.81 | I3: =IF(J3=G3,"Soldé",IF(J3>0,"Partiel","Sans provision")) -> Sans provision | J3: 0 | L3: =G3-J3 -> 5386.81 | M3: 4.83
A4: NB | B4: 45191 | C4: =DAY(B4) -> 22 | D4: =MONTH(B4) -> 9 | E4: L | F4: 519203657 | G4: 1692.54 | I4: =IF(J4=G4,"Soldé",IF(J4>0,"Partiel","Sans provision")) -> Partiel | J4: 126.15 | K4: 45225 | L4: =G4-J4 -> 1566.39 | M4: 4.83
A5: NB | B5: 45191 | C5: =DAY(B5) -> 22 | D5: =MONTH(B5) -> 9 | E5: O | F5: 752034629 | G5: 692 | I5: =IF(J5=G5,"Soldé",IF(J5>0,"Partiel","Sans provision")) -> Soldé | J5: 692 | K5: 45224 | L5: =G5-J5 -> 0 | M5: 4.83
A6: NB | B6: 45191 | C6: =DAY(B6) -> 22 | D6: =MONTH(B6) -> 9 | E6: P | F6: 804676682 | G6: 20451.67 | I6: =IF(J6=G6,"Soldé",IF(J6>0,"Partiel","Sans provision")) -> Partiel | J6: 976.75 | K6: 45226 | L6: =G6-J6 -> 19474.92 | M6: 4.83
A7: SC | B7: 45191 | C7: =DAY(B7) -> 22 | D7: =MONTH(B7) -> 9 | E7: T | F7: 821362878 | G7: 6257.89 | I7: =IF(J7=G7,"Soldé",IF(J7>0,"Partiel","Sans provision")) -> Partiel | J7: 737.68 | K7: 45226 | L7: =G7-J7 -> 5520.21 | M7: 4.83
A8: SC | B8: 45191 | C8: =DAY(B8) -> 22 | D8: =MONTH(B8) -> 9 | E8: FF | F8: 321093718 | G8: 6889.87 | I8: =IF(J8=G8,"Soldé",IF(J8>0,"Partiel","Sans provision")) -> Partiel | J8: 2241.64 | K8: 45225 | L8: =G8-J8 -> 4648.23 | M8: 4.83
A9: NB | B9: 45191 | C9: =DAY(B9) -> 22 | D9: =MONTH(B9) -> 9 | E9: JJ | F9: 793297664 | G9: 4236.96 | I9: =IF(J9=G9,"Soldé",IF(J9>0,"Partiel","Sans provision")) -> Sans provision | J9: 0 | L9: =G9-J9 -> 4236.96 | M9: 4.83
A10: NB | B10: 45191 | C10: =DAY(B10) -> 22 | D10: =MONTH(B10) -> 9 | E10: KK | F10: 852689306 | G10: 10719.78 | I10: =IF(J10=G10,"Soldé",IF(J10>0,"Partiel","Sans provision")) -> Sans provision | J10: 0 | L10: =G10-J10 -> 10719.78 | M10: 4.83
A11: NB | B11: 45191 | C11: =DAY(B11) -> 22 | D11: =MONTH(B11) -> 9 | E11: SS | F11: 441842887 | G11: 9957 | I11: =IF(J11=G11,"Soldé",IF(J11>0,"Partiel","Sans provision")) -> Sans provision | J11: 0 | L11: =G11-J11 -> 9957 | M11: 4.83
A12: NB | B12: 45192 | C12: =DAY(B12) -> 23 | D12: =MONTH(B12) -> 9 | E12: TT | F12: 828316067 | G12: 7121 | I12: =IF(J12=G12,"Soldé",IF(J12>0,"Partiel","Sans provision")) -> Soldé | J12: 7121 | K12: 45233 | L12: =G12-J12 -> 0 | M12: 4.83
A13: NB | B13: 45192 | C13: =DAY(B13) -> 23 | D13: =MONTH(B13) -> 9 | E13: YY | F13: 798683819 | G13: 4158 | I13: =IF(J13=G13,"Soldé",IF(J13>0,"Partiel","Sans provision")) -> Partiel | J13: 247.65 | K13: 45239 | L13: =G13-J13 -> 3910.35 | M13: 4.83
A14: NB | B14: 45192 | C14: =DAY(B14) -> 23 | D14: =MONTH(B14) -> 9 | E14: DDD | F14: 799288659 | G14: 8172 | I14: Négatif | J14: 0 | L14: =G14-J14 -> 8172 | M14: 4.83
A15: NB | B15: 45192 | C15: =DAY(B15) -> 23 | D15: =MONTH(B15) -> 9 | E15: FFF | F15: 791978968 | G15: 3867.14 | I15: =IF(J15=G15,"Soldé",IF(J15>0,"Partiel","Sans provision")) -> Partiel | J15: 52.42 | K15: 45232 | L15: =G15-J15 -> 3814.72 | M15: 4.83
A16: NB | B16: 45193 | C16: =DAY(B16) -> 24 | D16: =MONTH(B16) -> 9 | E16: III | F16: 829347194 | G16: 1241 | I16: =IF(J16=G16,"Soldé",IF(J16>0,"Partiel","Sans provision")) -> Soldé | J16: 1241 | K16: 45232 | L16: =G16-J16 -> 0 | M16: 4.83
A17: NB | B17: 45193 | C17: =DAY(B17) -> 24 | D17: =MONTH(B17) -> 9 | E17: JJJ | F17: 481364685 | G17: 2283 | I17: =IF(J17=G17,"Soldé",IF(J17>0,"Partiel","Sans provision")) -> Sans provision | J17: 0 | L17: =G17-J17 -> 2283 | M17: 4.83
A18: NB | B18: 45193 | C18: =DAY(B18) -> 24 | D18: =MONTH(B18) -> 9 | E18: NNN | F18: 489957373 | G18: 2033 | I18: =IF(J18=G18,"Soldé",IF(J18>0,"Partiel","Sans provision")) -> Partiel | J18: =+G18-L18 -> 884 | K18: 45208 | L18: 1149 | M18: 4.83
A19: NB | B19: 45198 | C19: =DAY(B19) -> 29 | D19: =MONTH(B19) -> 9 | E19: KKK | F19: 417552379 | G19: 1534 | I19: =IF(J19=G19,"Soldé",IF(J19>0,"Partiel","Sans provision")) -> Partiel | J19: 878.27 | K19: 45233 | L19: =G19-J19 -> 655.73 | M19: 4.83
A20: SC | B20: 45201 | C20: =DAY(B20) -> 2 | D20: =MONTH(B20) -> 10 | E20: CCC | F20: 432651438 | G20: 9647 | I20: =IF(J20=G20,"Soldé",IF(J20>0,"Partiel","Sans provision")) -> Partiel | J20: 6133.43 | K20: 45234 | L20: =G20-J20 -> 3513.57 | M20: 4.83
A21: SC | B21: 45204 | C21: =DAY(B21) -> 5 | D21: =MONTH(B21) -> 10 | E21: HH | F21: 505155812 | G21: 2681 | I21: =IF(J21=G21,"Soldé",IF(J21>0,"Partiel","Sans provision")) -> Sans provision | J21: 0 | L21: =G21-J21 -> 2681 | M21: 4.83
A22: SC | B22: 45209 | C22: =DAY(B22) -> 10 | D22: =MONTH(B22) -> 10 | E22: SS | F22: 441842887 | G22: 10609 | I22: =IF(J22=G22,"Soldé",IF(J22>0,"Partiel","Sans provision")) -> Sans provision | J22: 0 | L22: =G22-J22 -> 10609 | M22: 4.83
A23: SC | B23: 45215 | C23: =DAY(B23) -> 16 | D23: =MONTH(B23) -> 10 | E23: J | F23: 837529353 | G23: 31194.18 | I23: =IF(J23=G23,"Soldé",IF(J23>0,"Partiel","Sans provision")) -> Partiel | J23: 11.73 | K23: 45248 | L23: =G23-J23 -> 31182.45 | M23: 4.83
A24: SC | B24: 45215 | C24: =DAY(B24) -> 16 | D24: =MONTH(B24) -> 10 | E24: Z | F24: 521995605 | G24: 5400 | I24: =IF(J24=G24,"Soldé",IF(J24>0,"Partiel","Sans provision")) -> Partiel | J24: 115.05 | K24: 45249 | L24: =G24-J24 -> 5284.95 | M24: 4.83
A25: SC | B25: 45217 | C25: =DAY(B25) -> 18 | D25: =MONTH(B25) -> 10 | E25: EE | F25: 407793751 | G25: 2238 | I25: =IF(J25=G25,"Soldé",IF(J25>0,"Partiel","Sans provision")) -> Partiel | J25: =636.01+0 -> 636.01 | K25: 45254 | L25: =G25-J25 -> 1601.99 | M25: 4.83
A26: SC | B26: 45217 | C26: =DAY(B26) -> 18 | D26: =MONTH(B26) -> 10 | E26: HHH | F26: 449965151 | G26: 1828 | I26: =IF(J26=G26,"Soldé",IF(J26>0,"Partiel","Sans provision")) -> Sans provision | J26: 0 | L26: =G26-J26 -> 1828 | M26: 4.83
A27: SC | B27: 45218 | C27: =DAY(B27) -> 19 | D27: =MONTH(B27) -> 10 | E27: C | F27: 524096708 | G27: 13360 | I27: =IF(J27=G27,"Soldé",IF(J27>0,"Partiel","Sans provision")) -> Partiel | J27: =2628.95+148.36 -> 2777.31 | K27: 45253 | L27: =G27-J27 -> 10582.69 | M27: 4.83
A28: NB | B28: 45226 | C28: =DAY(B28) -> 27 | D28: =MONTH(B28) -> 10 | E28: F | F28: 845057447 | G28: 5386.81 | I28: =IF(J28=G28,"Soldé",IF(J28>0,"Partiel","Sans provision")) -> Sans provision | J28: 0 | L28: =G28-J28 -> 5386.81 | M28: 4.83
A29: NB | B29: 45226 | C29: =DAY(B29) -> 27 | D29: =MONTH(B29) -> 10 | E29: S | F29: 401085592 | G29: 965 | I29: Négatif | J29: 0 | L29: =G29-J29 -> 965 | M29: 4.83
A30: NB | B30: 45226 | C30: =DAY(B30) -> 27 | D30: =MONTH(B30) -> 10 | E30: JJ | F30: 793297664 | G30: 4236.96 | I30: =IF(J30=G30,"Soldé",IF(J30>0,"Partiel","Sans provision")) -> Sans provision | J30: 0 | L30: =G30-J30 -> 4236.96 | M30: 4.83
A31: NB | B31: 45226 | C31: =DAY(B31) -> 27 | D31: =MONTH(B31) -> 10 | E31: LL | F31: 519876171 | G31: 255 | I31: =IF(J31=G31,"Soldé",IF(J31>0,"Partiel","Sans provision")) -> Soldé | J31: 255 | K31: 45257 | L31: =G31-J31 -> 0 | M31: 4.83
A32: NB | B32: 45226 | C32: =DAY(B32) -> 27 | D32: =MONTH(B32) -> 10 | E32: FFF | F32: 791978968 | G32: 4009.14 | I32: =IF(J32=G32,"Soldé",IF(J32>0,"Partiel","Sans provision")) -> Sans provision | J32: 0 | L32: =G32-J32 -> 4009.14 | M32: 4.83
A33: NB | B33: 45226 | C33: =DAY(B33) -> 27 | D33: =MONTH(B33) -> 10 | E33: GGG | F33: 345347587 | G33: 288 | I33: =IF(J33=G33,"Soldé",IF(J33>0,"Partiel","Sans provision")) -> Soldé | J33: 288 | K33: 45238 | L33: =G33-J33 -> 0 | M33: 4.83
A34: NB | B34: 45232 | C34: =DAY(B34) -> 2 | D34: =MONTH(B34) -> 11 | E34: B | F34: 501271050 | G34: 247 | I34: =IF(J34=G34,"Soldé",IF(J34>0,"Partiel","Sans provision")) -> Soldé | J34: 247 | K34: 45266 | L34: =G34-J34 -> 0 | M34: 4.83
A35: NB | B35: 45232 | C35: =DAY(B35) -> 2 | D35: =MONTH(B35) -> 11 | E35: I | F35: 477799910 | G35: 2109.63 | I35: =IF(J35=G35,"Soldé",IF(J35>0,"Partiel","Sans provision")) -> Partiel | J35: 0.43 | K35: 45267 | L35: =G35-J35 -> 2109.2 | M35: 4.83
A36: NB | B36: 45232 | C36: =DAY(B36) -> 2 | D36: =MONTH(B36) -> 11 | E36: J | F36: 837529353 | G36: 29879.18 | I36: =IF(J36=G36,"Soldé",IF(J36>0,"Partiel","Sans provision")) -> Partiel | J36: 5447.89 | K36: 45266 | L36: =G36-J36 -> 24431.29 | M36: 4.83
A37: NB | B37: 45232 | C37: =DAY(B37) -> 2 | D37: =MONTH(B37) -> 11 | E37: L | F37: 519203657 | G37: 922.85 | I37: =IF(J37=G37,"Soldé",IF(J37>0,"Partiel","Sans provision")) -> Partiel | J37: 170.49 | K37: 45266 | L37: =G37-J37 -> 752.36 | M37: 4.83
A38: NB | B38: 45232 | C38: =DAY(B38) -> 2 | D38: =MONTH(B38) -> 11 | E38: P | F38: 804676682 | G38: 19553.92 | I38: =IF(J38=G38,"Soldé",IF(J38>0,"Partiel","Sans provision")) -> Partiel | J38: 9747.48 | K38: 45268 | L38: =G38-J38 -> 9806.44 | M38: 4.83
A39: NB | B39: 45232 | C39: =DAY(B39) -> 2 | D39: =MONTH(B39) -> 11 | E39: R | F39: 807700893 | G39: 5190.61 | I39: =IF(J39=G39,"Soldé",IF(J39>0,"Partiel","Sans provision")) -> Sans provision | J39: 0 | L39: =G39-J39 -> 5190.61 | M39: 4.83
A40: NB | B40: 45232 | C40: =DAY(B40) -> 2 | D40: =MONTH(B40) -> 11 | E40: V | F40: 484524889 | G40: 1200 | I40: =IF(J40=G40,"Soldé",IF(J40>0,"Partiel","Sans provision")) -> Sans provision | J40: 0 | L40: =G40-J40 -> 1200 | M40: 4.83
...

Sheet Table dynamique_Historique_2
A1: Compter - Réponse | B1: Réponse
A2: J | B2: Négatif | C2: Partiel | D2: Sans provision | E2: Soldé | F2: Total Résultat
A3: 2 | C3: 0.066666667 | D3: 0.042424242 | E3: 0.012121212 | F3: 0.12121212
A4: 3 | D4: 0.012121212 | E4: 0.0060606061 | F4: 0.018181818
A5: 4 | B5: 0.0060606061 | C5: 0.018181818 | D5: 0.036363636 | E5: 0.0060606061 | F5: 0.066666667
A6: 5 | C6: 0.0060606061 | D6: 0.0060606061 | F6: 0.012121212
A7: 6 | D7: 0.0060606061 | F7: 0.0060606061
A8: 7 | B8: 0.0060606061 | C8: 0.03030303 | D8: 0.018181818 | E8: 0.012121212 | F8: 0.066666667
A9: 9 | C9: 0.0060606061 | D9: 0.018181818 | F9: 0.024242424
A10: 10 | D10: 0.0060606061 | F10: 0.0060606061
A11: 11 | C11: 0.012121212 | F11: 0.012121212
A12: 12 | C12: 0.012121212 | D12: 0.012121212 | E12: 0.012121212 | F12: 0.036363636
A13: 16 | B13: 0.0060606061 | C13: 0.012121212 | F13: 0.018181818
A14: 18 | C14: 0.03030303 | D14: 0.012121212 | E14: 0.0060606061 | F14: 0.048484848
A15: 19 | C15: 0.0060606061 | F15: 0.0060606061
A16: 20 | C16: 0.012121212 | D16: 0.012121212 | E16: 0.012121212 | F16: 0.036363636
A17: 22 | B17: 0.0060606061 | C17: 0.042424242 | D17: 0.078787879 | E17: 0.018181818 | F17: 0.14545455
A18: 23 | B18: 0.0060606061 | C18: 0.012121212 | E18: 0.0060606061 | F18: 0.024242424
A19: 24 | C19: 0.012121212 | D19: 0.0060606061 | E19: 0.0060606061 | F19: 0.024242424
A20: 25 | C20: 0.012121212 | D20: 0.0060606061 | F20: 0.018181818
A21: 26 | C21: 0.048484848 | D21: 0.060606061 | E21: 0.03030303 | F21: 0.13939394
A22: 27 | B22: 0.0060606061 | D22: 0.018181818 | E22: 0.012121212 | F22: 0.036363636
A23: 29 | B23: 0.0060606061 | C23: 0.054545455 | D23: 0.048484848 | E23: 0.012121212 | F23: 0.12121212
A24: 30 | D24: 0.0060606061 | F24: 0.0060606061
A25: 31 | D25: 0.0060606061 | F25: 0.0060606061
A26: Total Résultat | B26: 0.042424242 | C26: 0.39393939 | D26: 0.41212121 | E26: 0.15151515 | F26: 1

Sheet Table dynamique_Historique_1
B1: Données
A2: J | B2: Total Récup | C2: Moy Récup
A3: 2 | B3: 29978.53 | C3: 1498.9265
A4: 3 | B4: 4627.67 | C4: 1542.5567
A5: 4 | B5: 6094.33 | C5: 554.03
A6: 5 | B6: 681.81 | C6: 340.905
A7: 6 | B7: 0 | C7: 0
A8: 7 | B8: 10769.53 | C8: 979.04818
A9: 9 | B9: 935.99 | C9: 233.9975
A10: 10 | B10: 0 | C10: 0
A11: 11 | B11: 19658.06 | C11: 9829.03
A12: 12 | B12: 11305.61 | C12: 1884.2683
A13: 16 | B13: 126.78 | C13: 42.26
A14: 18 | B14: 12968.02 | C14: 1621.0025
... A25: 31 | B25: 0 | C25: 0
A26: Total Résultat | B26: 190534.83 | C26: 1161.7977
