Workbook
Name Bouch4424: 'Matières 1ère '!$E$2
Name Bouchon4424: 'Matières 1ère '!$E$3
Name Bouchon4924: 'Matières 1ère '!$E$4
Name Bouchons: 'Matières 1ère '!#REF!
Name Bouteilles: 'Matières 1ère '!#REF!
Name Capsule: 'Matières 1ère '!#REF!
Name Carton: 'Matières 1ère '!#REF!
Name Cétiquette: 'Matières 1ère '!#REF!
Name Cire: 'Matières 1ère '!$A$53
Name Étiquette: 'Matières 1ère '!#REF!
Name Film: 'Matières 1ère '!#REF!
Name Ncol: 'Matières 1ère '!#REF!
Name Palette: 'Matières 1ère '!#REF!
Name Pion: 'Matières 1ère '!#REF!
Name Stockage: 'Matières 1ère '!#REF!

Sheet Coût de revient
A2: Cuvée : | B2: Clos de coquin
A3: Centilisation : | B3: 50 cl
C4: Quantité | D4: Coût unitaire | E4: Montant
B5: Charges directes : | K5: 37,5 cl | L5: La côte Blanc
K6: 50 cl | L6: La côte Rouge
B7: Bouteille | K7: 75 cl | L7: Clos de coquin
B8: Bouchon | K8: 1,5 L | L8: Clos de jentonnes
B9: Capsule | L9: Les 109 rangs
B10: Cire | L10: Clos de beauregard
B11: Etiquette | L11: Sur le fil
B12: Contre-étiquette | L12: Le petit Georges Blanc
B13: Colerette | L13: Le petit Georges Rouge
B14: Médaille/Blason/Pyramide | L14: Sancerre Blanc
B15: Carton | L15: Sancerre Rouge
B16: Plaques Keyes | L16: Pouilly-Fumé
B17: Feuille gauffrée | L17: Quincy
B18: Filtration sur membrane | L18: Reuilly blanc
B19: Mise en bouteille | L19: Pinot Gris
L20: Pinot Noir
B21: Charges indirectes :
B23: Stockage
B24: Option gomme arabique
B25: Édulcoration
B26: Énergie (eau, électricité)
B27: Coût Amphore
B28: Coût Demi-muid
B29: Frais de personnel/L
B30: Frais de personnel/col
B31: Cotisation
B32: Taxe de circulation
B33: Amortissement

Sheet CR tout

Sheet Matières 1ère 
A1: Catégorie | B1: Nom de la matière | C1: Coût | D1: Nombre de produit | E1: Coût/pdt | F1: Perte | G1: Coût
A2: Bouchons | B2: 45/24 | C2: 1 | D2: 1000 | E2: =IF(OR(C2="",D2=""),"",C2/D2) -> 0.001 | F2: 0.01 | G2: =IF(OR(E2="",F2=""),"",E2*(100%+F2)) -> 0.00101
A3: Bouchons | B3: 44/24 | C3: 1 | D3: 1000 | E3: =IF(OR(C3="",D3=""),"",C3/D3) -> 0.001 | F3: 0.01 | G3: =IF(OR(E3="",F3=""),"",E3*(100%+F3)) -> 0.00101
A4: Bouchons | B4: 49/24 | C4: 1 | D4: 1000 | E4: =IF(OR(C4="",D4=""),"",C4/D4) -> 0.001 | F4: 0.01 | G4: =IF(OR(E4="",F4=""),"",E4*(100%+F4)) -> 0.00101
A5: Bouteilles | B5: BG Classique ECOVA 77 Cannelle | C5: 1 | D5: 1000 | E5: =IF(OR(C5="",D5=""),"",C5/D5) -> 0.001 | F5: 0.01 | G5: =IF(OR(E5="",F5=""),"",E5*(100%+F5)) -> 0.00101
A6: Bouteilles | B6: BG Classique ECOVA 77 Blanc | C6: 1 | D6: 1000 | E6: =IF(OR(C6="",D6=""),"",C6/D6) -> 0.001 | F6: 0.01 | G6: =IF(OR(E6="",F6=""),"",E6*(100%+F6)) -> 0.00101
A7: Bouteilles | B7: BG Evolution Cannelle BVS | C7: 1 | D7: 1000 | E7: =IF(OR(C7="",D7=""),"",C7/D7) -> 0.001 | F7: 0.01 | G7: =IF(OR(E7="",F7=""),"",E7*(100%+F7)) -> 0.00101
A8: Bouteilles | B8: BG 39.2 ECOVA Cannelle | C8: 1 | D8: 1000 | E8: =IF(OR(C8="",D8=""),"",C8/D8) -> 0.001 | F8: 0.01 | G8: =IF(OR(E8="",F8=""),"",E8*(100%+F8)) -> 0.00101
A9: Bouteilles | B9: BG MAGNUM Cannelle PLU | C9: 1 | D9: 1000 | E9: =IF(OR(C9="",D9=""),"",C9/D9) -> 0.001 | F9: 0.01 | G9: =IF(OR(E9="",F9=""),"",E9*(100%+F9)) -> 0.00101
A10: Étiquette | B10: La côte blanc | C10: 1 | D10: 1000 | E10: =IF(OR(C10="",D10=""),"",C10/D10) -> 0.001 | F10: 0.05 | G10: =IF(OR(E10="",F10=""),"",E10*(100%+F10)) -> 0.00105
A11: Étiquette | B11: La côte rouge | C11: 1 | D11: 1000 | E11: =IF(OR(C11="",D11=""),"",C11/D11) -> 0.001 | F11: 0.05 | G11: =IF(OR(E11="",F11=""),"",E11*(100%+F11)) -> 0.00105
A12: Étiquette | B12: Clos de coquin | C12: 1 | D12: 1000 | E12: =IF(OR(C12="",D12=""),"",C12/D12) -> 0.001 | F12: 0.05 | G12: =IF(OR(E12="",F12=""),"",E12*(100%+F12)) -> 0.00105
A13: Étiquette | B13: Clos de beauregard | C13: 1 | D13: 1000 | E13: =IF(OR(C13="",D13=""),"",C13/D13) -> 0.001 | F13: 0.05 | G13: =IF(OR(E13="",F13=""),"",E13*(100%+F13)) -> 0.00105
... A93: Collerettes neutres | B93: Clos des jentonnes rouge 2022 | C93: 1 | D93: 1000 | E93: =IF(OR(C93="",D93=""),"",C93/D93) -> 0.001 | F93: 0.05 | G93: =IF(OR(E93="",F93=""),"",E93*(100%+F93)) -> 0.00105

Sheet Charges indirectes
A3: Charges indirectes | B3: Coût global | C3: Coût / 37,5cl | D3: Coût / 50cl | E3: Coût / 75cl | F3: Coût / Magnum | H3: Stockage | I3: Coût | J3: Nb de bouteille | K3: Coût / Bouteille
A4: Main d'œuvre | H4: Plaques Keyes 3 BG REP-COLS DOUBLE FACE | I4: =VLOOKUP(H4,'Matières 1ère '!B:G,6,FALSE) -> 0.0101 | J4: 6 | K4: =IF(OR(I4="",J4=""),"",I4/J4) -> 0.0016833333
A5: Amortissement | H5: Plaques Keyes 6 BG REP-COLS ECHANCRES | I5: =VLOOKUP(H5,'Matières 1ère '!B:G,6,FALSE) -> 0.0101 | J5: 12 | K5: =IF(OR(I5="",J5=""),"",I5/J5) -> 0.00084166667
A6: Cartons | H6: Cartons 2X6 1/2 EB Blanc | I6: =VLOOKUP(H6,'Matières 1ère '!B:G,6,FALSE) -> 0.0101 | J6: 12 | K6: =IF(OR(I6="",J6=""),"",I6/J6) -> 0.00084166667
A7: Palette | H7: Cartons 2X6 1/2 EB Ecru | I7: =VLOOKUP(H7,'Matières 1ère '!B:G,6,FALSE) -> 0.0101 | J7: 12 | K7: =IF(OR(I7="",J7=""),"",I7/J7) -> 0.00084166667
A8: Feuille gauffrée | H8: Cartons 2X6 EB Blanc | I8: =VLOOKUP(H8,'Matières 1ère '!B:G,6,FALSE) -> 0.0101 | J8: 12 | K8: =IF(OR(I8="",J8=""),"",I8/J8) -> 0.00084166667
A9: Stockage | H9: Cartons 2X6 EB Ecru | I9: =VLOOKUP(H9,'Matières 1ère '!B:G,6,FALSE) -> 0.0101 | J9: 12 | K9: =IF(OR(I9="",J9=""),"",I9/J9) -> 0.00084166667
H10: Cartons 6 Manu T EB Ecru | I10: =VLOOKUP(H10,'Matières 1ère '!B:G,6,FALSE) -> 0.0101 | J10: 6 | K10: =IF(OR(I10="",J10=""),"",I10/J10) -> 0.0016833333
H11: Cartons 6 Manu T EB Blanc | I11: =VLOOKUP(H11,'Matières 1ère '!B:G,6,FALSE) -> 0.0101 | J11: 6 | K11: =IF(OR(I11="",J11=""),"",I11/J11) -> 0.0016833333
H12: Cartons 2X3 EB Blanc | I12: =VLOOKUP(H12,'Matières 1ère '!B:G,6,FALSE) -> 0.0101 | J12: 6 | K12: =IF(OR(I12="",J12=""),"",I12/J12) -> 0.0016833333
H13: Cartons 2X3 EB Ecru | I13: =VLOOKUP(H13,'Matières 1ère '!B:G,6,FALSE) -> 0.0101 | J13: 6 | K13: =IF(OR(I13="",J13=""),"",I13/J13) -> 0.0016833333
A14: Main d'œuvre | H14: Palette VMF | I14: =VLOOKUP(H14,'Matières 1ère '!B:G,6,FALSE) -> 1.01 | J14: =72*6 -> 432 | K14: =IF(OR(I14="",J14=""),"",I14/J14) -> 0.002337963
H15: Palette Europe 2ème choix | I15: =VLOOKUP(H15,'Matières 1ère '!B:G,6,FALSE) -> 1.01 | J15: =72*6 -> 432 | K15: =IF(OR(I15="",J15=""),"",I15/J15) -> 0.002337963
H16: Palette LG 40X60 | I16: =VLOOKUP(H16,'Matières 1ère '!B:G,6,FALSE) -> 1.01 | J16: =6*36 -> 216 | K16: =IF(OR(I16="",J16=""),"",I16/J16) -> 0.0046759259
H17: Palette LG 80X80 | I17: =VLOOKUP(H17,'Matières 1ère '!B:G,6,FALSE) -> 1.01 | K17: =IF(OR(I17="",J17=""),"",I17/J17)
H18: Palette LG 60X80 | I18: =VLOOKUP(H18,'Matières 1ère '!B:G,6,FALSE) -> 1.01 | K18: =IF(OR(I18="",J18=""),"",I18/J18)
H19: Film étirable | I19: =VLOOKUP(H19,'Matières 1ère '!B:G,6,FALSE) -> 0.016833333 | K19: =IF(OR(I19="",J19=""),"",I19/J19)

Sheet Charges directes Ermitage
A1: Domaine de l'Ermitage
B2: 75CL
B4: Première cuvée Rouge | C4: Matières premières | D4: Coût/pdt | F4: La Montaloise | G4: Matières premières | H4: Coût/pdt
B5: Bouteille | C5: BG Classique ECOVA 77 Cannelle | D5: =IF(C5="","",VLOOKUP(C5,'Matières 1ère '!B:G,6,FALSE)) -> 0.00101 | F5: Bouteille | G5: BG Classique ECOVA 77 Blanc | H5: =IF(G5="","",VLOOKUP(G5,'Matières 1ère '!B:G,6,FALSE)) -> 0.00101
B6: Bouchons | D6: =IF(C6="","",VLOOKUP(C6,'Matières 1ère '!B:G,6,FALSE)) | F6: Bouchons | H6: =IF(G6="","",VLOOKUP(G6,'Matières 1ère '!B:G,6,FALSE))
B7: Étiquette | C7: Première cuvée Rouge | D7: =IF(C7="","",VLOOKUP(C7,'Matières 1ère '!B:G,6,FALSE)) -> 0.00105 | F7: Étiquette | G7: La Montaloise | H7: =IF(G7="","",VLOOKUP(G7,'Matières 1ère '!B:G,6,FALSE)) -> 0.00105
B8: Contre-étiquette | C8: Première cuvée Rouge | D8: =IF(C8="","",VLOOKUP(C8,'Matières 1ère '!B:G,6,FALSE)) -> 0.00105 | F8: Contre-étiquette | G8: La Montaloise | H8: =IF(G8="","",VLOOKUP(G8,'Matières 1ère '!B:G,6,FALSE)) -> 0.00105
B9: Capsule | C9: ROLLCAPS 0.75L | D9: =IF(C9="","",VLOOKUP(C9,'Matières 1ère '!B:G,6,FALSE)) -> 0.00101 | F9: Capsule | G9: ROLLCAPS 0.75L | H9: =IF(G9="","",VLOOKUP(G9,'Matières 1ère '!B:G,6,FALSE)) -> 0.00101
B10: Total | D10: =IF(COUNT(D5:D9)<>COUNTA(D5:D9),"VALEURE MANQUANTE",SUM(D5:D9)) -> VALEURE MANQUANTE | F10: Total | H10: =IF(COUNT(H5:H9)<>COUNTA(H5:H9),"VALEURE MANQUANTE",SUM(H5:H9)) -> VALEURE MANQUANTE
B13: Première cuvée Blanc | C13: Matières premières | D13: Coût/pdt | F13: Clos de Davet Rouge | G13: Matières premières | H13: Coût/pdt
B14: Bouteille | C14: BG Classique ECOVA 77 Cannelle | D14: =IF(C14="","",VLOOKUP(C14,'Matières 1ère '!B:G,6,FALSE)) -> 0.00101 | F14: Bouteille | G14: BG Classique ECOVA 77 Cannelle | H14: =IF(G14="","",VLOOKUP(G14,'Matières 1ère '!B:G,6,FALSE)) -> 0.00101
B15: Bouchons | D15: =IF(C15="","",VLOOKUP(C15,'Matières 1ère '!B:G,6,FALSE)) | F15: Bouchons | H15: =IF(G15="","",VLOOKUP(G15,'Matières 1ère '!B:G,6,FALSE))
B16: Étiquette | C16: Première cuvée Blanc | D16: =IF(C16="","",VLOOKUP(C16,'Matières 1ère '!B:G,6,FALSE)) -> 0.00105 | F16: Étiquette | G16: Clos de Davet Rouge | H16: =IF(G16="","",VLOOKUP(G16,'Matières 1ère '!B:G,6,FALSE)) -> 0.00105
B17: Contre-étiquette | C17: Première cuvée Blanc | D17: =IF(C17="","",VLOOKUP(C17,'Matières 1ère '!B:G,6,FALSE)) -> 0.00105 | F17: Contre-étiquette | G17: Clos de Davet Rouge | H17: =IF(G17="","",VLOOKUP(G17,'Matières 1ère '!B:G,6,FALSE)) -> 0.00105
B18: Capsule | C18: ROLLCAPS 0.75L | D18: =IF(C18="","",VLOOKUP(C18,'Matières 1ère '!B:G,6,FALSE)) -> 0.00101 | F18: Cire | G18: Cirage | H18: =IF(G18="","",VLOOKUP(G18,'Matières 1ère '!B:G,6,FALSE)) -> 0.00101
B19: Total | D19: =IF(COUNT(D14:D18)<>COUNTA(D14:D18),"VALEURE MANQUANTE",SUM(D14:D18)) -> VALEURE MANQUANTE | F19: Pion | G19: Pion fiscaux | H19: =IF(G19="","",VLOOKUP(G19,'Matières 1ère '!B:G,6,FALSE)) -> 0.00105
F20: Total | H20: =IF(COUNT(H14:H19)<>COUNTA(H14:H19),"VALEURE MANQUANTE",SUM(H14:H19)) -> VALEURE MANQUANTE
B22: Clos de Davet Blanc | C22: Matières premières | D22: Coût/pdt
B23: Bouteille | C23: BG Classique ECOVA 77 Cannelle | D23: =IF(C23="","",VLOOKUP(C23,'Matières 1ère '!B:G,6,FALSE)) -> 0.00101
B24: Bouchons | D24: =IF(C24="","",VLOOKUP(C24,'Matières 1ère '!B:G,6,FALSE))
B25: Étiquette | C25: Clos de Davet Blanc | D25: =IF(C25="","",VLOOKUP(C25,'Matières 1ère '!B:G,6,FALSE)) -> 0.00105
B26: Contre-étiquette | C26: Clos de Davet Blanc | D26: =IF(C26="","",VLOOKUP(C26,'Matières 1ère '!B:G,6,FALSE)) -> 0.00105
B27: Cire | C27: Cirage | D27: =IF(C27="","",VLOOKUP(C27,'Matières 1ère '!B:G,6,FALSE)) -> 0.00101
B28: Pion | C28: Pion fiscaux | D28: =IF(C28="","",VLOOKUP(C28,'Matières 1ère '!B:G,6,FALSE)) -> 0.00105
B29: Total | D29: =IF(COUNT(D23:D28)<>COUNTA(D23:D28),"VALEURE MANQUANTE",SUM(D23:D28)) -> VALEURE MANQUANTE

Sheet Charges indirectes Ermitage
A1: Domaine de l'Ermitage
B4: Première cuvée Rouge | C4: Coût global | D4: Coût/pdt | G4: Coût global
B5: Main d'œuvre | F5: Main d'œuvre
B6: Amortissement | F6: Amortissement
B7: Cartons | F7: Cartons
B8: Palette | F8: Palette
B9: Feuille gauffrée | F9: Feuille gauffrée
B10: Stockage | F10: Stockage
B13: Première cuvée Blanc | C13: Coût global | D13: Coût/pdt
B14: Main d'œuvre
B15: Amortissement
B16: Cartons
B17: Palette
B18: Feuille gauffrée
B19: Stockage
B22: La Mentaloise | C22: Coût global | D22: Coût/pdt
B23: Main d'œuvre
B24: Amortissement
B25: Cartons
B26: Palette
B27: Feuille gauffrée
B28: Stockage
B31: Clos de Davet Rouge | C31: Coût global | D31: Coût/pdt
B32: Main d'œuvre
B33: Amortissement
B34: Cartons
B35: Palette
B36: Feuille gauffrée
B37: Stockage
B40: Clos de Davet Blanc | C40: Coût global | D40: Coût/pdt
B41: Main d'œuvre
B42: Amortissement
B43: Cartons
B44: Palette
B45: Feuille gauffrée
B46: Stockage

Sheet Chavet charges directes
A1: Domaine CHAVET
B2: 75CL
B4: La Côte Blanc | C4: Matières premières | D4: Coût/pdt | F4: Clos des Jentonnes Blanc | G4: Matières premières | H4: Coût/pdt
B5: Bouteille | C5: BG Classique ECOVA 77 Cannelle | D5: =IF(C5="","",VLOOKUP(C5,'Matières 1ère '!B:G,6,FALSE)) -> 0.00101 | F5: Bouteille | G5: BG Classique ECOVA 77 Cannelle | H5: =IF(G5="","",VLOOKUP(G5,'Matières 1ère '!B:G,6,FALSE)) -> 0.00101
B6: Bouchons | D6: =IF(C6="","",VLOOKUP(C6,'Matières 1ère '!B:G,6,FALSE)) | F6: Bouchons | H6: =IF(G6="","",VLOOKUP(G6,'Matières 1ère '!B:G,6,FALSE))
B7: Étiquette | C7: La côte blanc | D7: =IF(C7="","",VLOOKUP(C7,'Matières 1ère '!B:G,6,FALSE)) -> 0.00105 | F7: Étiquette | G7: Clos des jentonnes blanc | H7: =IF(G7="","",VLOOKUP(G7,'Matières 1ère '!B:G,6,FALSE)) -> 0.00105
B8: Contre-étiquette | C8: La côte blanc 2020 | D8: =IF(C8="","",VLOOKUP(C8,'Matières 1ère '!B:G,6,FALSE)) -> 0.00105 | F8: Contre-étiquette | G8: Clos des jentonnes blanc | H8: =IF(G8="","",VLOOKUP(G8,'Matières 1ère '!B:G,6,FALSE)) -> 0.00105
B9: Capsule | C9: ROLLCAPS 0.75L | D9: =IF(C9="","",VLOOKUP(C9,'Matières 1ère '!B:G,6,FALSE)) -> 0.00101 | F9: Cire | G9: Cirage | H9: =IF(G9="","",VLOOKUP(G9,'Matières 1ère '!B:G,6,FALSE)) -> 0.00101
B10: Collerette | C10: La côte blanc | D10: =IF(C10="","",VLOOKUP(C10,'Matières 1ère '!B:G,6,FALSE)) -> 0.00105 | F10: Collerette | G10: Clos des jentonnes | H10: =IF(G10="","",VLOOKUP(G10,'Matières 1ère '!B:G,6,FALSE)) -> 0.00105
B11: Total | D11: =IF(COUNT(D5:D10)=COUNTA(D5:D10),SUM(D5:D10),"VALEURE MANQUANTE") -> VALEURE MANQUANTE | F11: Pion | G11: Pion fiscaux | H11: =IF(G11="","",VLOOKUP(G11,'Matières 1ère '!B:G,6,FALSE)) -> 0.00105
F12: Total | H12: =IF(COUNT(H5:H11)=COUNTA(H5:H11),SUM(H5:H11),"VALEURE MANQUANTE") -> VALEURE MANQUANTE
B14: La Côte Rouge | C14: Matières premières | D14: Coût/pdt
B15: Bouteille | C15: BG Classique ECOVA 77 Cannelle | D15: =IF(C15="","",VLOOKUP(C15,'Matières 1ère '!B:G,6,FALSE)) -> 0.00101 | F15: Clos des Jentonnes Rouge | G15: Matières premières | H15: Coût/pdt
B16: Bouchons | D16: =IF(C16="","",VLOOKUP(C16,'Matières 1ère '!B:G,6,FALSE)) | F16: Bouteille | G16: BG Classique ECOVA 77 Cannelle | H16: =IF(G16="","",VLOOKUP(G16,'Matières 1ère '!B:G,6,FALSE)) -> 0.00101
B17: Étiquette | C17: La côte rouge | D17: =IF(C17="","",VLOOKUP(C17,'Matières 1ère '!B:G,6,FALSE)) -> 0.00105 | F17: Bouchons | H17: =IF(G17="","",VLOOKUP(G17,'Matières 1ère '!B:G,6,FALSE))
B18: Contre-étiquette | C18: La côte rouge 2021 | D18: =IF(C18="","",VLOOKUP(C18,'Matières 1ère '!B:G,6,FALSE)) -> 0.00105 | F18: Étiquette | G18: Clos des jentonnes rouge | H18: =IF(G18="","",VLOOKUP(G18,'Matières 1ère '!B:G,6,FALSE)) -> 0.00105
B19: Capsule | C19: ROLLCAPS 0.75L | D19: =IF(C19="","",VLOOKUP(C19,'Matières 1ère '!B:G,6,FALSE)) -> 0.00101 | F19: Contre-étiquette | G19: Clos des jentonnes blanc | H19: =IF(G19="","",VLOOKUP(G19,'Matières 1ère '!B:G,6,FALSE)) -> 0.00105
B20: Collerette | C20: La côte rouge | D20: =IF(C20="","",VLOOKUP(C20,'Matières 1ère '!B:G,6,FALSE)) -> 0.00105 | F20: Cire | G20: Cirage | H20: =IF(G20="","",VLOOKUP(G20,'Matières 1ère '!B:G,6,FALSE)) -> 0.00101
B21: Total | D21: =IF(COUNT(D15:D20)=COUNTA(D15:D20),SUM(D15:D20),"VALEURE MANQUANTE") -> VALEURE MANQUANTE | F21: Collerette | G21: Clos des jentonnes | H21: =IF(G21="","",VLOOKUP(G21,'Matières 1ère '!B:G,6,FALSE)) -> 0.00105
F22: Pion | G22: Pion fiscaux | H22: =IF(G22="","",VLOOKUP(G22,'Matières 1ère '!B:G,6,FALSE)) -> 0.00105
F23: Total | H23: =IF(COUNT(H16:H22)=COUNTA(H16:H22),SUM(H16:H22),"VALEURE MANQUANTE") -> VALEURE MANQUANTE
B24: Les 109 Rangs | C24: Matières premières | D24: Coût/pdt
B25: Bouteille | C25: BG Classique ECOVA 77 Blanc | D25: =IF(C25="","",VLOOKUP(C25,'Matières 1ère '!B:G,6,FALSE)) -> 0.00101
B26: Bouchons | D26: =IF(C26="","",VLOOKUP(C26,'Matières 1ère '!B:G,6,FALSE)) | F26: Clos de Beauregard | G26: Matières premières | H26: Coût/pdt
B27: Étiquette | C27: Les 109 rangs | D27: =IF(C27="","",VLOOKUP(C27,'Matières 1ère '!B:G,6,FALSE)) -> 0.00105 | F27: Bouteille | G27: BG Classique ECOVA 77 Cannelle | H27: =IF(G27="","",VLOOKUP(G27,'Matières 1ère '!B:G,6,FALSE)) -> 0.00101
B28: Contre-étiquette | C28: Les 109 rangs | D28: =IF(C28="","",VLOOKUP(C28,'Matières 1ère '!B:G,6,FALSE)) -> 0.00105 | F28: Bouchons | H28: =IF(G28="","",VLOOKUP(G28,'Matières 1ère '!B:G,6,FALSE))
B29: Capsule | C29: ROLLCAPS 0.75L | D29: =IF(C29="","",VLOOKUP(C29,'Matières 1ère '!B:G,6,FALSE)) -> 0.00101 | F29: Étiquette | G29: Clos de beauregard | H29: =IF(G29="","",VLOOKUP(G29,'Matières 1ère '!B:G,6,FALSE)) -> 0.00105
B30: Collerette | C30: 109 rangs | D30: =IF(C30="","",VLOOKUP(C30,'Matières 1ère '!B:G,6,FALSE)) -> 0.00105 | F30: Contre-étiquette | G30: Clos de beauregard | H30: =IF(G30="","",VLOOKUP(G30,'Matières 1ère '!B:G,6,FALSE)) -> 0.00105
B31: Total | D31: =IF(COUNTA(D25:D30)<>COUNT(D25:D30),"VALEURE MANQUANTE",SUM(D25:D30)) -> VALEURE MANQUANTE | F31: Cire | G31: Cirage | H31: =IF(G31="","",VLOOKUP(G31,'Matières 1ère '!B:G,6,FALSE)) -> 0.00101
F32: Collerette | G32: Clos de beauregard | H32: =IF(G32="","",VLOOKUP(G32,'Matières 1ère '!B:G,6,FALSE)) -> 0.00105
F33: Pion | G33: Pion fiscaux | H33: =IF(G33="","",VLOOKUP(G33,'Matières 1ère '!B:G,6,FALSE)) -> 0.00105
B34: Sur le Fil | C34: Matières premières | D34: Coût/pdt | F34: Total | H34: =IF(COUNT(H27:H33)<>COUNTA(H27:H33),"VALEURE MANQUANTE",SUM(H27:H33)) -> VALEURE MANQUANTE
B35: Bouteille | C35: BG Classique ECOVA 77 Cannelle | D35: =IF(C35="","",VLOOKUP(C35,'Matières 1ère '!B:G,6,FALSE)) -> 0.00101
B36: Bouchons | D36: =IF(C36="","",VLOOKUP(C36,'Matières 1ère '!B:G,6,FALSE))
B37: Étiquette | C37: Sur le fil | D37: =IF(C37="","",VLOOKUP(C37,'Matières 1ère '!B:G,6,FALSE)) -> 0.00105 | F37: Clos de Coquin | G37: Matières premières | H37: Coût/pdt
B38: Contre-étiquette | D38: =IF(C38="","",VLOOKUP(C38,'Matières 1ère '!B:G,6,FALSE)) | F38: Bouteille | G38: BG Classique ECOVA 77 Cannelle | H38: =IF(G38="","",VLOOKUP(G38,'Matières 1ère '!B:G,6,FALSE)) -> 0.00101
B39: Cire | C39: Cirage | D39: =IF(C39="","",VLOOKUP(C39,'Matières 1ère '!B:G,6,FALSE)) -> 0.00101 | F39: Bouchons | H39: =IF(G39="","",VLOOKUP(G39,'Matières 1ère '!B:G,6,FALSE))
B40: Pion | C40: Pion fiscaux | D40: =IF(C40="","",VLOOKUP(C40,'Matières 1ère '!B:G,6,FALSE)) -> 0.00105 | F40: Étiquette | G40: Clos de coquin | H40: =IF(G40="","",VLOOKUP(G40,'Matières 1ère '!B:G,6,FALSE)) -> 0.00105
B41: Total | D41: =IF(COUNTA(D35:D40)<>COUNT(D35:D40),"VALEURE MANQUANTE",SUM(D35:D40)) -> VALEURE MANQUANTE | F41: Contre-étiquette | G41: Clos de coquin | H41: =IF(G41="","",VLOOKUP(G41,'Matières 1ère '!B:G,6,FALSE)) -> 0.00105
F42: Cire | G42: Cirage | H42: =IF(G42="","",VLOOKUP(G42,'Matières 1ère '!B:G,6,FALSE)) -> 0.00101
F43: Collerette | G43: Clos de coquin | H43: =IF(G43="","",VLOOKUP(G43,'Matières 1ère '!B:G,6,FALSE)) -> 0.00105
F44: Pion | G44: Pion fiscaux | H44: =IF(G44="","",VLOOKUP(G44,'Matières 1ère '!B:G,6,FALSE)) -> 0.00105
F45: Total | H45: =IF(COUNT(H38:H44)<>COUNTA(H38:H44),"VALEURE MANQUANTE",SUM(H38:H44)) -> VALEURE MANQUANTE

Sheet Guillemain charges directes
A1: Domaine Guillemain
B2: 75CL
B4: Reuilly Blanc | C4: Matières premières | D4: Coût/pdt
B5: Bouteille | C5: BG Classique ECOVA 77 Cannelle | D5: =IF(C5="","",VLOOKUP(C5,'Matières 1ère '!B:G,6,FALSE)) -> 0.00101
B6: Bouchons | C6: 45/24 | D6: =IF(C6="","",VLOOKUP(C6,'Matières 1ère '!B:G,6,FALSE)) -> 0.00101
B7: Étiquette | C7: Guillemain blanc | D7: =IF(C7="","",VLOOKUP(C7,'Matières 1ère '!B:G,6,FALSE)) -> 0.00105
B8: Capsule | C8: ROLLCAPS 0.75L | D8: =IF(C8="","",VLOOKUP(C8,'Matières 1ère '!B:G,6,FALSE)) -> 0.00101
B9: Total | D9: =IF(COUNT(D5:D8)<>COUNTA(D5:D8),"VALEURE MANQUANTE",SUM(D5:D8)) -> 0.00408
B12: Reuilly Rouge | C12: Matières premières | D12: Coût/pdt
B13: Bouteille | C13: BG Classique ECOVA 77 Cannelle | D13: =IF(C13="","",VLOOKUP(C13,'Matières 1ère '!B:G,6,FALSE)) -> 0.00101
B14: Bouchons | C14: 45/24 | D14: =IF(C14="","",VLOOKUP(C14,'Matières 1ère '!B:G,6,FALSE)) -> 0.00101
B15: Étiquette | C15: Guillemain rouge | D15: =IF(C15="","",VLOOKUP(C15,'Matières 1ère '!B:G,6,FALSE)) -> 0.00105
B16: Capsule | C16: ROLLCAPS 0.75L | D16: =IF(C16="","",VLOOKUP(C16,'Matières 1ère '!B:G,6,FALSE)) -> 0.00101
B17: Total | D17: =IF(COUNT(D13:D16)<>COUNTA(D13:D16),"VALEURE MANQUANTE",SUM(D13:D16)) -> 0.00408
B20: Reuilly Pinot Gris | C20: Matières premières | D20: Coût/pdt
B21: Bouteille | C21: BG Classique ECOVA 77 Cannelle | D21: =IF(C21="","",VLOOKUP(C21,'Matières 1ère '!B:G,6,FALSE)) -> 0.00101
B22: Bouchons | C22: 45/24 | D22: =IF(C22="","",VLOOKUP(C22,'Matières 1ère '!B:G,6,FALSE)) -> 0.00101
B23: Étiquette | C23: Guillemain pinot gris | D23: =IF(C23="","",VLOOKUP(C23,'Matières 1ère '!B:G,6,FALSE)) -> 0.00105
B24: Cire | C24: Cirage | D24: =IF(C24="","",VLOOKUP(C24,'Matières 1ère '!B:G,6,FALSE)) -> 0.00101
B25: Pion | C25: Pion fiscaux | D25: =IF(C25="","",VLOOKUP(C25,'Matières 1ère '!B:G,6,FALSE)) -> 0.00105
B26: Total | D26: =IF(COUNT(D21:D25)<>COUNTA(D21:D25),"VALEURE MANQUANTE",SUM(D21:D25)) -> 0.00513
