Workbook

Sheet Classmt par discipline+Général
A2: Clt | B2: Établissements | C2: Nom | D2: Prénom | E2: Écrou | F2: Date Anniv. | G2: Age | H2: Poids | I2: Taille (cm) | J2: Pompe | K2: Clt | L2: Pts | M2: Pts âge | N2: Date perf | O2: Traction | P2: Traction Coeff poids | Q2: Clt | R2: Pts | S2: Pts âge | T2: Date perf | U2: Gainage coudes | V2: Clt | W2: Pts | X2: Pts âge | Y2: Date perf | Z2: Chaise | AA2: Clt | AB2: Pts | AC2: Pts âge | AD2: Date perf | AE2: Rameur 500m | AF2: Clt | AG2: Pts | AH2: Pts âge | AI2: Date perf | AJ2: Rameur 2000m | AK2: Clt | AL2: Pts | AM2: Pts âge | AN2: Date perf | AO2: Course 200m | AP2: Clt | AQ2: Pts | AR2: Pts âge | AS2: Date perf | AT2: Course 5000m | AU2: Clt | AV2: Pts | AW2: Pts âge | AX2: Date perf | AY2: Course Tapis 3000m | AZ2: Clt | BA2: Pts | BB2: Pts âge | BC2: Date perf | BD2: Luc-Léger | BE2: Clt | BF2: Pts | BG2: Pts âge | BH2: Date perf | BI2: Totaux sans âge | BJ2: Totaux âge | BK2: CLT
A3: =IF(BJ3="-","",RANK(BJ3,BJ$3:BJ$70)) -> 1 | B3: Marseille CP | D3: Cédric | E3: 123456 | F3: 30190 | G3: =DATEDIF(F3,NOW(),"Y") -> 42 | H3: 74 | I3: 180 | J3: 31 | K3: =IF(J3="","",RANK(J3,J$3:J$70,0)) -> 2 | L3: =IFERROR(IF(K3="","",VLOOKUP(K3,'Concordance Classmt & Points'!$A$2:$B$33,2,FALSE)),0) -> 75 | M3: =IF(ISNUMBER(L3),L3+L3*(MAX(0,$G3-28))*1.5/100,"") -> 90.75 | O3: 15 | P3: =437.8*O3*H3/(I3*I3) -> 14.998704 | Q3: =IF(P3="","",RANK(P3,P$3:P$70,0)) -> 1 | R3: =IFERROR(IF(Q3="","",VLOOKUP(Q3,'Concordance Classmt & Points'!$A$2:$B$33,2,FALSE)),0) -> 90 | S3: =IF(ISNUMBER(R3),R3+R3*(MAX(0,$G3-28))*1.5/100,"") -> 108.9 | U3: 2002 | V3: =IF(U3="","",RANK(U3,U$3:U$70,1)) -> 1 | W3: =IFERROR(IF(V3="","",VLOOKUP(V3,'Concordance Classmt & Points'!$A$2:$B$33,2,FALSE)),0) -> 90 | X3: =IF(ISNUMBER(W3),W3+W3*(MAX(0,$G3-28))*1.5/100,"") -> 108.9 | Z3: 2002 | AA3: =IF(Z3="","",RANK(Z3,Z$3:Z$70,1)) -> 1 | AB3: =IFERROR(IF(AA3="","",VLOOKUP(AA3,'Concordance Classmt & Points'!$A$2:$B$33,2,FALSE)),0) -> 90 | AC3: =IF(ISNUMBER(AB3),AB3+AB3*(MAX(0,$G3-28))*1.5/100,"") -> 108.9 | AE3: 0.0024837963 | AF3: =IF(AE3="","",RANK(AE3,AE$3:AE$70,1)) -> 3 | AG3: =IFERROR(IF(AF3="","",VLOOKUP(AF3,'Concordance Classmt & Points'!$A$2:$B$33,2,FALSE)),0) -> 60 | AH3: =IF(ISNUMBER(AG3),AG3+AG3*(MAX(0,$G3-28))*1.5/100,"") -> 72.6 | AJ3: 0.0024837963 | AK3: =IF(AJ3="","",RANK(AJ3,AJ$3:AJ$70,1)) -> 3 | AL3: =IFERROR(IF(AK3="","",VLOOKUP(AK3,'Concordance Classmt & Points'!$A$2:$B$33,2,FALSE)),0) -> 60 | AM3: =IF(ISNUMBER(AL3),AL3+AL3*(MAX(0,$G3-28))*1.5/100,"") -> 72.6 | AO3: 2002 | AP3: =IF(AO3="","",RANK(AO3,AO$3:AO$70,1)) -> 1 | AQ3: =IFERROR(IF(AP3="","",VLOOKUP(AP3,'Concordance Classmt & Points'!$A$2:$B$33,2,FALSE)),0) -> 90 | AR3: =IF(ISNUMBER(AQ3),AQ3+AQ3*(MAX(0,$G3-28))*1.5/100,"") -> 108.9 | AT3: 2002 | AU3: =IF(AT3="","",RANK(AT3,AT$3:AT$70,1)) -> 1 | AV3: =IFERROR(IF(AU3="","",VLOOKUP(AU3,'Concordance Classmt & Points'!$A$2:$B$33,2,FALSE)),0) -> 90 | AW3: =IF(ISNUMBER(AV3),AV3+AV3*(MAX(0,$G3-28))*1.5/100,"") -> 108.9 | AY3: 2002 | AZ3: =IF(AY3="","",RANK(AY3,AY$3:AY$70,1)) -> 1 | BA3: =IFERROR(IF(AZ3="","",VLOOKUP(AZ3,'Concordance Classmt & Points'!$A$2:$B$33,2,FALSE)),0) -> 90 | BB3: =IF(ISNUMBER(BA3),BA3+BA3*(MAX(0,$G3-28))*1.5/100,"") -> 108.9 | BD3: 2002 | BE3: =IF(BD3="","",RANK(BD3,BD$3:BD$70,1)) -> 1 | BF3: =IFERROR(IF(BE3="","",VLOOKUP(BE3,'Concordance Classmt & Points'!$A$2:$B$33,2,FALSE)),0) -> 90 | BG3: =IF(ISNUMBER(BF3),BF3+BF3*(MAX(0,$G3-28))*1.5/100,"") -> 108.9 | BI3: =IF(COUNT(L3,R3,W3,AB3,AG3,AQ3,AL3,AV3,BA3,BF3),SUM(L3,R3,W3,AB3,AG3,AQ3,AL3,AV3,BA3,BF3),"-") -> 825 | BJ3: =IF(COUNT(M3,S3,X3,AC3,AH3,AM3,AR3,AW3,BB3,BG3),SUM(M3,S3,X3,AC3,AH3,AM3,AR3,AW3,BB3,BG3),"-") -> 998.25 | BK3: =IF(BJ3="-","",RANK(BJ3,BJ$3:BJ$70)) -> 1
A4: =IF(BJ4="-","",RANK(BJ4,BJ$3:BJ$70)) -> 2 | B4: Marseille CP | D4: Jean Claude | E4: 124567 | F4: 22253 | G4: =DATEDIF(F4,NOW(),"Y") -> 64 | H4: 85 | I4: 190 | J4: 36 | K4: =IF(J4="","",RANK(J4,J$3:J$70,0)) -> 1 | L4: =IFERROR(IF(K4="","",VLOOKUP(K4,'Concordance Classmt & Points'!$A$2:$B$33,2,FALSE)),0) -> 90 | M4: =IF(ISNUMBER(L4),L4+L4*(MAX(0,$G4-28))*1.5/100,"") -> 138.6 | O4: 12 | P4: =437.8*O4*H4/(I4*I4) -> 12.369972 | Q4: =IF(P4="","",RANK(P4,P$3:P$70,0)) -> 2 | R4: =IFERROR(IF(Q4="","",VLOOKUP(Q4,'Concordance Classmt & Points'!$A$2:$B$33,2,FALSE)),0) -> 75 | S4: =IF(ISNUMBER(R4),R4+R4*(MAX(0,$G4-28))*1.5/100,"") -> 115.5 | U4: 2145 | V4: =IF(U4="","",RANK(U4,U$3:U$70,1)) -> 4 | W4: =IFERROR(IF(V4="","",VLOOKUP(V4,'Concordance Classmt & Points'!$A$2:$B$33,2,FALSE)),0) -> 50 | X4: =IF(ISNUMBER(W4),W4+W4*(MAX(0,$G4-28))*1.5/100,"") -> 77 | Z4: 2145 | AA4: =IF(Z4="","",RANK(Z4,Z$3:Z$70,1)) -> 4 | AB4: =IFERROR(IF(AA4="","",VLOOKUP(AA4,'Concordance Classmt & Points'!$A$2:$B$33,2,FALSE)),0) -> 50 | AC4: =IF(ISNUMBER(AB4),AB4+AB4*(MAX(0,$G4-28))*1.5/100,"") -> 77 | AE4: 0.0029085648 | AF4: =IF(AE4="","",RANK(AE4,AE$3:AE$70,1)) -> 20 | AG4: =IFERROR(IF(AF4="","",VLOOKUP(AF4,'Concordance Classmt & Points'!$A$2:$B$33,2,FALSE)),0) -> 21 | AH4: =IF(ISNUMBER(AG4),AG4+AG4*(MAX(0,$G4-28))*1.5/100,"") -> 32.34 | AJ4: 0.0029085648 | AK4: =IF(AJ4="","",RANK(AJ4,AJ$3:AJ$70,1)) -> 20 | AL4: =IFERROR(IF(AK4="","",VLOOKUP(AK4,'Concordance Classmt & Points'!$A$2:$B$33,2,FALSE)),0) -> 21 | AM4: =IF(ISNUMBER(AL4),AL4+AL4*(MAX(0,$G4-28))*1.5/100,"") -> 32.34 | AO4: 2145 | AP4: =IF(AO4="","",RANK(AO4,AO$3:AO$70,1)) -> 4 | AQ4: =IFERROR(IF(AP4="","",VLOOKUP(AP4,'Concordance Classmt & Points'!$A$2:$B$33,2,FALSE)),0) -> 50 | AR4: =IF(ISNUMBER(AQ4),AQ4+AQ4*(MAX(0,$G4-28))*1.5/100,"") -> 77 | AT4: 2145 | AU4: =IF(AT4="","",RANK(AT4,AT$3:AT$70,1)) -> 4 | AV4: =IFERROR(IF(AU4="","",VLOOKUP(AU4,'Concordance Classmt & Points'!$A$2:$B$33,2,FALSE)),0) -> 50 | AW4: =IF(ISNUMBER(AV4),AV4+AV4*(MAX(0,$G4-28))*1.5/100,"") -> 77 | AY4: 2145 | AZ4: =IF(AY4="","",RANK(AY4,AY$3:AY$70,1)) -> 4 | BA4: =IFERROR(IF(AZ4="","",VLOOKUP(AZ4,'Concordance Classmt & Points'!$A$2:$B$33,2,FALSE)),0) -> 50 | BB4: =IF(ISNUMBER(BA4),BA4+BA4*(MAX(0,$G4-28))*1.5/100,"") -> 77 | BD4: 2145 | BE4: =IF(BD4="","",RANK(BD4,BD$3:BD$70,1)) -> 4 | BF4: =IFERROR(IF(BE4="","",VLOOKUP(BE4,'Concordance Classmt & Points'!$A$2:$B$33,2,FALSE)),0) -> 50 | BG4: =IF(ISNUMBER(BF4),BF4+BF4*(MAX(0,$G4-28))*1.5/100,"") -> 77 | BI4: =IF(COUNT(L4,R4,W4,AB4,AG4,AQ4,AL4,AV4,BA4,BF4),SUM(L4,R4,W4,AB4,AG4,AQ4,AL4,AV4,BA4,BF4),"-") -> 507 | BJ4: =IF(COUNT(M4,S4,X4,AC4,AH4,AM4,AR4,AW4,BB4,BG4),SUM(M4,S4,X4,AC4,AH4,AM4,AR4,AW4,BB4,BG4),"-") -> 780.78 | BK4: =IF(BJ4="-","",RANK(BJ4,BJ$3:BJ$70)) -> 2
A5: =IF(BJ5="-","",RANK(BJ5,BJ$3:BJ$70)) -> 3 | B5: Tarascon CD | D5: Mohamed | F5: 37761 | G5: =DATEDIF(F5,NOW(),"Y") -> 21 | H5: 90 | I5: 190 | K5: =IF(J5="","",RANK(J5,J$3:J$70,0)) | L5: =IFERROR(IF(K5="","",VLOOKUP(K5,'Concordance Classmt & Points'!$A$2:$B$33,2,FALSE)),0) | M5: =IF(ISNUMBER(L5),L5+L5*(MAX(0,$G5-28))*1.5/100,"") | O5: 11 | P5: =437.8*O5*H5/(I5*I5) -> 12.00615 | Q5: =IF(P5="","",RANK(P5,P$3:P$70,0)) -> 3 | R5: =IFERROR(IF(Q5="","",VLOOKUP(Q5,'Concordance Classmt & Points'!$A$2:$B$33,2,FALSE)),0) -> 60 | S5: =IF(ISNUMBER(R5),R5+R5*(MAX(0,$G5-28))*1.5/100,"") -> 60 | U5: 2019 | V5: =IF(U5="","",RANK(U5,U$3:U$70,1)) -> 2 | W5: =IFERROR(IF(V5="","",VLOOKUP(V5,'Concordance Classmt & Points'!$A$2:$B$33,2,FALSE)),0) -> 75 | X5: =IF(ISNUMBER(W5),W5+W5*(MAX(0,$G5-28))*1.5/100,"") -> 75 | Z5: 2019 | AA5: =IF(Z5="","",RANK(Z5,Z$3:Z$70,1)) -> 2 | AB5: =IFERROR(IF(AA5="","",VLOOKUP(AA5,'Concordance Classmt & Points'!$A$2:$B$33,2,FALSE)),0) -> 75 | AC5: =IF(ISNUMBER(AB5),AB5+AB5*(MAX(0,$G5-28))*1.5/100,"") -> 75 | AE5: 0.0025405093 | AF5: =IF(AE5="","",RANK(AE5,AE$3:AE$70,1)) -> 7 | AG5: =IFERROR(IF(AF5="","",VLOOKUP(AF5,'Concordance Classmt & Points'!$A$2:$B$33,2,FALSE)),0) -> 36 | AH5: =IF(ISNUMBER(AG5),AG5+AG5*(MAX(0,$G5-28))*1.5/100,"") -> 36 | AJ5: 0.0025405093 | AK5: =IF(AJ5="","",RANK(AJ5,AJ$3:AJ$70,1)) -> 7 | AL5: =IFERROR(IF(AK5="","",VLOOKUP(AK5,'Concordance Classmt & Points'!$A$2:$B$33,2,FALSE)),0) -> 36 | AM5: =IF(ISNUMBER(AL5),AL5+AL5*(MAX(0,$G5-28))*1.5/100,"") -> 36 | AO5: 2019 | AP5: =IF(AO5="","",RANK(AO5,AO$3:AO$70,1)) -> 2 | AQ5: =IFERROR(IF(AP5="","",VLOOKUP(AP5,'Concordance Classmt & Points'!$A$2:$B$33,2,FALSE)),0) -> 75 | AR5: =IF(ISNUMBER(AQ5),AQ5+AQ5*(MAX(0,$G5-28))*1.5/100,"") -> 75 | AT5: 2019 | AU5: =IF(AT5="","",RANK(AT5,AT$3:AT$70,1)) -> 2 | AV5: =IFERROR(IF(AU5="","",VLOOKUP(AU5,'Concordance Classmt & Points'!$A$2:$B$33,2,FALSE)),0) -> 75 | AW5: =IF(ISNUMBER(AV5),AV5+AV5*(MAX(0,$G5-28))*1.5/100,"") -> 75 | AY5: 2019 | AZ5: =IF(AY5="","",RANK(AY5,AY$3:AY$70,1)) -> 2 | BA5: =IFERROR(IF(AZ5="","",VLOOKUP(AZ5,'Concordance Classmt & Points'!$A$2:$B$33,2,FALSE)),0) -> 75 | BB5: =IF(ISNUMBER(BA5),BA5+BA5*(MAX(0,$G5-28))*1.5/100,"") -> 75 | BD5: 2019 | BE5: =IF(BD5="","",RANK(BD5,BD$3:BD$70,1)) -> 2 | BF5: =IFERROR(IF(BE5="","",VLOOKUP(BE5,'Concordance Classmt & Points'!$A$2:$B$33,2,FALSE)),0) -> 75 | BG5: =IF(ISNUMBER(BF5),BF5+BF5*(MAX(0,$G5-28))*1.5/100,"") -> 75 | BI5: =IF(COUNT(L5,R5,W5,AB5,AG5,AQ5,AL5,AV5,BA5,BF5),SUM(L5,R5,W5,AB5,AG5,AQ5,AL5,AV5,BA5,BF5),"-") -> 582 | BJ5: =IF(COUNT(M5,S5,X5,AC5,AH5,AM5,AR5,AW5,BB5,BG5),SUM(M5,S5,X5,AC5,AH5,AM5,AR5,AW5,BB5,BG5),"-") -> 582 | BK5: =IF(BJ5="-","",RANK(BJ5,BJ$3:BJ$70)) -> 3
A6: =IF(BJ6="-","",RANK(BJ6,BJ$3:BJ$70)) -> 4 | B6: Tarascon CD | D6: Mohammed | F6: 32714 | G6: =DATEDIF(F6,NOW(),"Y") -> 35 | H6: 100 | I6: 190 | J6: 9 | K6: =IF(J6="","",RANK(J6,J$3:J$70,0)) -> 20 | L6: =IFERROR(IF(K6="","",VLOOKUP(K6,'Concordance Classmt & Points'!$A$2:$B$33,2,FALSE)),0) -> 21 | M6: =IF(ISNUMBER(L6),L6+L6*(MAX(0,$G6-28))*1.5/100,"") -> 23.205 | O6: 9 | P6: =437.8*O6*H6/(I6*I6) -> 10.914681 | Q6: =IF(P6="","",RANK(P6,P$3:P$70,0)) -> 4 | R6: =IFERROR(IF(Q6="","",VLOOKUP(Q6,'Concordance Classmt & Points'!$A$2:$B$33,2,FALSE)),0) -> 50 | S6: =IF(ISNUMBER(R6),R6+R6*(MAX(0,$G6-28))*1.5/100,"") -> 55.25 | U6: 2044 | V6: =IF(U6="","",RANK(U6,U$3:U$70,1)) -> 3 | W6: =IFERROR(IF(V6="","",VLOOKUP(V6,'Concordance Classmt & Points'!$A$2:$B$33,2,FALSE)),0) -> 60 | X6: =IF(ISNUMBER(W6),W6+W6*(MAX(0,$G6-28))*1.5/100,"") -> 66.3 | Z6: 2044 | AA6: =IF(Z6="","",RANK(Z6,Z$3:Z$70,1)) -> 3 | AB6: =IFERROR(IF(AA6="","",VLOOKUP(AA6,'Concordance Classmt & Points'!$A$2:$B$33,2,FALSE)),0) -> 60 | AC6: =IF(ISNUMBER(AB6),AB6+AB6*(MAX(0,$G6-28))*1.5/100,"") -> 66.3 | AE6: 0.0025902778 | AF6: =IF(AE6="","",RANK(AE6,AE$3:AE$70,1)) -> 9 | AG6: =IFERROR(IF(AF6="","",VLOOKUP(AF6,'Concordance Classmt & Points'!$A$2:$B$33,2,FALSE)),0) -> 32 | AH6: =IF(ISNUMBER(AG6),AG6+AG6*(MAX(0,$G6-28))*1.5/100,"") -> 35.36 | AJ6: 0.0025902778 | AK6: =IF(AJ6="","",RANK(AJ6,AJ$3:AJ$70,1)) -> 9 | AL6: =IFERROR(IF(AK6="","",VLOOKUP(AK6,'Concordance Classmt & Points'!$A$2:$B$33,2,FALSE)),0) -> 32 | AM6: =IF(ISNUMBER(AL6),AL6+AL6*(MAX(0,$G6-28))*1.5/100,"") -> 35.36 | AO6: 2044 | AP6: =IF(AO6="","",RANK(AO6,AO$3:AO$70,1)) -> 3 | AQ6: =IFERROR(IF(AP6="","",VLOOKUP(AP6,'Concordance Classmt & Points'!$A$2:$B$33,2,FALSE)),0) -> 60 | AR6: =IF(ISNUMBER(AQ6),AQ6+AQ6*(MAX(0,$G6-28))*1.5/100,"") -> 66.3 | AT6: 2044 | AU6: =IF(AT6="","",RANK(AT6,AT$3:AT$70,1)) -> 3 | AV6: =IFERROR(IF(AU6="","",VLOOKUP(AU6,'Concordance Classmt & Points'!$A$2:$B$33,2,FALSE)),0) -> 60 | AW6: =IF(ISNUMBER(AV6),AV6+AV6*(MAX(0,$G6-28))*1.5/100,"") -> 66.3 | AY6: 2044 | AZ6: =IF(AY6="","",RANK(AY6,AY$3:AY$70,1)) -> 3 | BA6: =IFERROR(IF(AZ6="","",VLOOKUP(AZ6,'Concordance Classmt & Points'!$A$2:$B$33,2,FALSE)),0) -> 60 | BB6: =IF(ISNUMBER(BA6),BA6+BA6*(MAX(0,$G6-28))*1.5/100,"") -> 66.3 | BD6: 2044 | BE6: =IF(BD6="","",RANK(BD6,BD$3:BD$70,1)) -> 3 | BF6: =IFERROR(IF(BE6="","",VLOOKUP(BE6,'Concordance Classmt & Points'!$A$2:$B$33,2,FALSE)),0) -> 60 | BG6: =IF(ISNUMBER(BF6),BF6+BF6*(MAX(0,$G6-28))*1.5/100,"") -> 66.3 | BI6: =IF(COUNT(L6,R6,W6,AB6,AG6,AQ6,AL6,AV6,BA6,BF6),SUM(L6,R6,W6,AB6,AG6,AQ6,AL6,AV6,BA6,BF6),"-") -> 495 | BJ6: =IF(COUNT(M6,S6,X6,AC6,AH6,AM6,AR6,AW6,BB6,BG6),SUM(M6,S6,X6,AC6,AH6,AM6,AR6,AW6,BB6,BG6),"-") -> 546.975 | BK6: =IF(BJ6="-","",RANK(BJ6,BJ$3:BJ$70)) -> 4
A7: =IF(BJ7="-","",RANK(BJ7,BJ$3:BJ$70)) -> 5 | B7: Tarascon CD | D7: Claude | F7: 32480 | G7: =DATEDIF(F7,NOW(),"Y") -> 36 | H7: 76 | I7: 160 | J7: 13 | K7: =IF(J7="","",RANK(J7,J$3:J$70,0)) -> 8 | L7: =IFERROR(IF(K7="","",VLOOKUP(K7,'Concordance Classmt & Points'!$A$2:$B$33,2,FALSE)),0) -> 34 | M7: =IF(ISNUMBER(L7),L7+L7*(MAX(0,$G7-28))*1.5/100,"") -> 38.08 | O7: 5 | P7: =437.8*O7*H7/(I7*I7) -> 6.4985938 | Q7: =IF(P7="","",RANK(P7,P$3:P$70,0)) -> 6 | R7: =IFERROR(IF(Q7="","",VLOOKUP(Q7,'Concordance Classmt & Points'!$A$2:$B$33,2,FALSE)),0) -> 40 | S7: =IF(ISNUMBER(R7),R7+R7*(MAX(0,$G7-28))*1.5/100,"") -> 44.8 | U7: 2610 | V7: =IF(U7="","",RANK(U7,U$3:U$70,1)) -> 6 | W7: =IFERROR(IF(V7="","",VLOOKUP(V7,'Concordance Classmt & Points'!$A$2:$B$33,2,FALSE)),0) -> 40 | X7: =IF(ISNUMBER(W7),W7+W7*(MAX(0,$G7-28))*1.5/100,"") -> 44.8 | Z7: 2610 | AA7: =IF(Z7="","",RANK(Z7,Z$3:Z$70,1)) -> 6 | AB7: =IFERROR(IF(AA7="","",VLOOKUP(AA7,'Concordance Classmt & Points'!$A$2:$B$33,2,FALSE)),0) -> 40 | AC7: =IF(ISNUMBER(AB7),AB7+AB7*(MAX(0,$G7-28))*1.5/100,"") -> 44.8 | AE7: 0.0024907407 | AF7: =IF(AE7="","",RANK(AE7,AE$3:AE$70,1)) -> 4 | AG7: =IFERROR(IF(AF7="","",VLOOKUP(AF7,'Concordance Classmt & Points'!$A$2:$B$33,2,FALSE)),0) -> 50 | AH7: =IF(ISNUMBER(AG7),AG7+AG7*(MAX(0,$G7-28))*1.5/100,"") -> 56 | AJ7: 0.0024907407 | AK7: =IF(AJ7="","",RANK(AJ7,AJ$3:AJ$70,1)) -> 4 | AL7: =IFERROR(IF(AK7="","",VLOOKUP(AK7,'Concordance Classmt & Points'!$A$2:$B$33,2,FALSE)),0) -> 50 | AM7: =IF(ISNUMBER(AL7),AL7+AL7*(MAX(0,$G7-28))*1.5/100,"") -> 56 | AO7: 2610 | AP7: =IF(AO7="","",RANK(AO7,AO$3:AO$70,1)) -> 6 | AQ7: =IFERROR(IF(AP7="","",VLOOKUP(AP7,'Concordance Classmt & Points'!$A$2:$B$33,2,FALSE)),0) -> 40 | AR7: =IF(ISNUMBER(AQ7),AQ7+AQ7*(MAX(0,$G7-28))*1.5/100,"") -> 44.8 | AT7: 2610 | AU7: =IF(AT7="","",RANK(AT7,AT$3:AT$70,1)) -> 6 | AV7: =IFERROR(IF(AU7="","",VLOOKUP(AU7,'Concordance Classmt & Points'!$A$2:$B$33,2,FALSE)),0) -> 40 | AW7: =IF(ISNUMBER(AV7),AV7+AV7*(MAX(0,$G7-28))*1.5/100,"") -> 44.8 | AY7: 2610 | AZ7: =IF(AY7="","",RANK(AY7,AY$3:AY$70,1)) -> 6 | BA7: =IFERROR(IF(AZ7="","",VLOOKUP(AZ7,'Concordance Classmt & Points'!$A$2:$B$33,2,FALSE)),0) -> 40 | BB7: =IF(ISNUMBER(BA7),BA7+BA7*(MAX(0,$G7-28))*1.5/100,"") -> 44.8 | BD7: 2610 | BE7: =IF(BD7="","",RANK(BD7,BD$3:BD$70,1)) -> 6 | BF7: =IFERROR(IF(BE7="","",VLOOKUP(BE7,'Concordance Classmt & Points'!$A$2:$B$33,2,FALSE)),0) -> 40 | BG7: =IF(ISNUMBER(BF7),BF7+BF7*(MAX(0,$G7-28))*1.5/100,"") -> 44.8 | BI7: =IF(COUNT(L7,R7,W7,AB7,AG7,AQ7,AL7,AV7,BA7,BF7),SUM(L7,R7,W7,AB7,AG7,AQ7,AL7,AV7,BA7,BF7),"-") -> 414 | BJ7: =IF(COUNT(M7,S7,X7,AC7,AH7,AM7,AR7,AW7,BB7,BG7),SUM(M7,S7,X7,AC7,AH7,AM7,AR7,AW7,BB7,BG7),"-") -> 463.68 | BK7: =IF(BJ7="-","",RANK(BJ7,BJ$3:BJ$70)) -> 5
A8: =IF(BJ8="-","",RANK(BJ8,BJ$3:BJ$70)) -> 6 | B8: Marseille CP | D8: Antony | E8: 222222 | F8: 35554 | G8: =DATEDIF(F8,NOW(),"Y") -> 28 | H8: 93 | I8: 178 | J8: 25 | K8: =IF(J8="","",RANK(J8,J$3:J$70,0)) -> 3 | L8: =IFERROR(IF(K8="","",VLOOKUP(K8,'Concordance Classmt & Points'!$A$2:$B$33,2,FALSE)),0) -> 60 | M8: =IF(ISNUMBER(L8),L8+L8*(MAX(0,$G8-28))*1.5/100,"") -> 60 | O8: 7 | P8: =437.8*O8*H8/(I8*I8) -> 8.9953226 | Q8: =IF(P8="","",RANK(P8,P$3:P$70,0)) -> 5 | R8: =IFERROR(IF(Q8="","",VLOOKUP(Q8,'Concordance Classmt & Points'!$A$2:$B$33,2,FALSE)),0) -> 45 | S8: =IF(ISNUMBER(R8),R8+R8*(MAX(0,$G8-28))*1.5/100,"") -> 45 | U8: 2750 | V8: =IF(U8="","",RANK(U8,U$3:U$70,1)) -> 9 | W8: =IFERROR(IF(V8="","",VLOOKUP(V8,'Concordance Classmt & Points'!$A$2:$B$33,2,FALSE)),0) -> 32 | X8: =IF(ISNUMBER(W8),W8+W8*(MAX(0,$G8-28))*1.5/100,"") -> 32 | Z8: 2750 | AA8: =IF(Z8="","",RANK(Z8,Z$3:Z$70,1)) -> 9 | AB8: =IFERROR(IF(AA8="","",VLOOKUP(AA8,'Concordance Classmt & Points'!$A$2:$B$33,2,FALSE)),0) -> 32 | AC8: =IF(ISNUMBER(AB8),AB8+AB8*(MAX(0,$G8-28))*1.5/100,"") -> 32 | AE8: 0.0024525463 | AF8: =IF(AE8="","",RANK(AE8,AE$3:AE$70,1)) -> 2 | AG8: =IFERROR(IF(AF8="","",VLOOKUP(AF8,'Concordance Classmt & Points'!$A$2:$B$33,2,FALSE)),0) -> 75 | AH8: =IF(ISNUMBER(AG8),AG8+AG8*(MAX(0,$G8-28))*1.5/100,"") -> 75 | AJ8: 0.0024525463 | AK8: =IF(AJ8="","",RANK(AJ8,AJ$3:AJ$70,1)) -> 2 | AL8: =IFERROR(IF(AK8="","",VLOOKUP(AK8,'Concordance Classmt & Points'!$A$2:$B$33,2,FALSE)),0) -> 75 | AM8: =IF(ISNUMBER(AL8),AL8+AL8*(MAX(0,$G8-28))*1.5/100,"") -> 75 | AO8: 2750 | AP8: =IF(AO8="","",RANK(AO8,AO$3:AO$70,1)) -> 9 | AQ8: =IFERROR(IF(AP8="","",VLOOKUP(AP8,'Concordance Classmt & Points'!$A$2:$B$33,2,FALSE)),0) -> 32 | AR8: =IF(ISNUMBER(AQ8),AQ8+AQ8*(MAX(0,$G8-28))*1.5/100,"") -> 32 | AT8: 2750 | AU8: =IF(AT8="","",RANK(AT8,AT$3:AT$70,1)) -> 9 | AV8: =IFERROR(IF(AU8="","",VLOOKUP(AU8,'Concordance Classmt & Points'!$A$2:$B$33,2,FALSE)),0) -> 32 | AW8: =IF(ISNUMBER(AV8),AV8+AV8*(MAX(0,$G8-28))*1.5/100,"") -> 32 | AY8: 2750 | AZ8: =IF(AY8="","",RANK(AY8,AY$3:AY$70,1)) -> 9 | BA8: =IFERROR(IF(AZ8="","",VLOOKUP(AZ8,'Concordance Classmt & Points'!$A$2:$B$33,2,FALSE)),0) -> 32 | BB8: =IF(ISNUMBER(BA8),BA8+BA8*(MAX(0,$G8-28))*1.5/100,"") -> 32 | BD8: 2750 | BE8: =IF(BD8="","",RANK(BD8,BD$3:BD$70,1)) -> 9 | BF8: =IFERROR(IF(BE8="","",VLOOKUP(BE8,'Concordance Classmt & Points'!$A$2:$B$33,2,FALSE)),0) -> 32 | BG8: =IF(ISNUMBER(BF8),BF8+BF8*(MAX(0,$G8-28))*1.5/100,"") -> 32 | BI8: =IF(COUNT(L8,R8,W8,AB8,AG8,AQ8,AL8,AV8,BA8,BF8),SUM(L8,R8,W8,AB8,AG8,AQ8,AL8,AV8,BA8,BF8),"-") -> 447 | BJ8: =IF(COUNT(M8,S8,X8,AC8,AH8,AM8,AR8,AW8,BB8,BG8),SUM(M8,S8,X8,AC8,AH8,AM8,AR8,AW8,BB8,BG8),"-") -> 447 | BK8: =IF(BJ8="-","",RANK(BJ8,BJ$3:BJ$70)) -> 6
A9: =IF(BJ9="-","",RANK(BJ9,BJ$3:BJ$70)) -> 7 | B9: Tarascon CD | D9: Danyl | F9: 35795 | G9: =DATEDIF(F9,NOW(),"Y") -> 27 | K9: =IF(J9="","",RANK(J9,J$3:J$70,0)) | L9: =IFERROR(IF(K9="","",VLOOKUP(K9,'Concordance Classmt & Points'!$A$2:$B$33,2,FALSE)),0) | M9: =IF(ISNUMBER(L9),L9+L9*(MAX(0,$G9-28))*1.5/100,"") | Q9: =IF(P9="","",RANK(P9,P$3:P$70,0)) | R9: =IFERROR(IF(Q9="","",VLOOKUP(Q9,'Concordance Classmt & Points'!$A$2:$B$33,2,FALSE)),0) | S9: =IF(ISNUMBER(R9),R9+R9*(MAX(0,$G9-28))*1.5/100,"") | U9: 2421 | V9: =IF(U9="","",RANK(U9,U$3:U$70,1)) -> 5 | W9: =IFERROR(IF(V9="","",VLOOKUP(V9,'Concordance Classmt & Points'!$A$2:$B$33,2,FALSE)),0) -> 45 | X9: =IF(ISNUMBER(W9),W9+W9*(MAX(0,$G9-28))*1.5/100,"") -> 45 | Z9: 2421 | AA9: =IF(Z9="","",RANK(Z9,Z$3:Z$70,1)) -> 5 | AB9: =IFERROR(IF(AA9="","",VLOOKUP(AA9,'Concordance Classmt & Points'!$A$2:$B$33,2,FALSE)),0) -> 45 | AC9: =IF(ISNUMBER(AB9),AB9+AB9*(MAX(0,$G9-28))*1.5/100,"") -> 45 | AF9: =IF(AE9="","",RANK(AE9,AE$3:AE$70,1)) | AG9: =IFERROR(IF(AF9="","",VLOOKUP(AF9,'Concordance Classmt & Points'!$A$2:$B$33,2,FALSE)),0) | AH9: =IF(ISNUMBER(AG9),AG9+AG9*(MAX(0,$G9-28))*1.5/100,"") | AK9: =IF(AJ9="","",RANK(AJ9,AJ$3:AJ$70,1)) | AL9: =IFERROR(IF(AK9="","",VLOOKUP(AK9,'Concordance Classmt & Points'!$A$2:$B$33,2,FALSE)),0) | AM9: =IF(ISNUMBER(AL9),AL9+AL9*(MAX(0,$G9-28))*1.5/100,"") | AO9: 2421 | AP9: =IF(AO9="","",RANK(AO9,AO$3:AO$70,1)) -> 5 | AQ9: =IFERROR(IF(AP9="","",VLOOKUP(AP9,'Concordance Classmt & Points'!$A$2:$B$33,2,FALSE)),0) -> 45 | AR9: =IF(ISNUMBER(AQ9),AQ9+AQ9*(MAX(0,$G9-28))*1.5/100,"") -> 45 | AT9: 2421 | AU9: =IF(AT9="","",RANK(AT9,AT$3:AT$70,1)) -> 5 | AV9: =IFERROR(IF(AU9="","",VLOOKUP(AU9,'Concordance Classmt & Points'!$A$2:$B$33,2,FALSE)),0) -> 45 | AW9: =IF(ISNUMBER(AV9),AV9+AV9*(MAX(0,$G9-28))*1.5/100,"") -> 45 | AY9: 2421 | AZ9: =IF(AY9="","",RANK(AY9,AY$3:AY$70,1)) -> 5 | BA9: =IFERROR(IF(AZ9="","",VLOOKUP(AZ9,'Concordance Classmt & Points'!$A$2:$B$33,2,FALSE)),0) -> 45 | BB9: =IF(ISNUMBER(BA9),BA9+BA9*(MAX(0,$G9-28))*1.5/100,"") -> 45 | BD9: 2421 | BE9: =IF(BD9="","",RANK(BD9,BD$3:BD$70,1)) -> 5 | BF9: =IFERROR(IF(BE9="","",VLOOKUP(BE9,'Concordance Classmt & Points'!$A$2:$B$33,2,FALSE)),0) -> 45 | BG9: =IF(ISNUMBER(BF9),BF9+BF9*(MAX(0,$G9-28))*1.5/100,"") -> 45 | BI9: =IF(COUNT(L9,R9,W9,AB9,AG9,AQ9,AL9,AV9,BA9,BF9),SUM(L9,R9,W9,AB9,AG9,AQ9,AL9,AV9,BA9,BF9),"-") -> 270 | BJ9: =IF(COUNT(M9,S9,X9,AC9,AH9,AM9,AR9,AW9,BB9,BG9),SUM(M9,S9,X9,AC9,AH9,AM9,AR9,AW9,BB9,BG9),"-") -> 270 | BK9: =IF(BJ9="-","",RANK(BJ9,BJ$3:BJ$70)) -> 7
A10: =IF(BJ10="-","",RANK(BJ10,BJ$3:BJ$70)) -> 8 | B10: Marseille CP | D10: Patricia | F10: 25461 | G10: =DATEDIF(F10,NOW(),"Y") -> 55 | K10: =IF(J10="","",RANK(J10,J$3:J$70,0)) | L10: =IFERROR(IF(K10="","",VLOOKUP(K10,'Concordance Classmt & Points'!$A$2:$B$33,2,FALSE)),0) | M10: =IF(ISNUMBER(L10),L10+L10*(MAX(0,$G10-28))*1.5/100,"") | Q10: =IF(P10="","",RANK(P10,P$3:P$70,0)) | R10: =IFERROR(IF(Q10="","",VLOOKUP(Q10,'Concordance Classmt & Points'!$A$2:$B$33,2,FALSE)),0) | S10: =IF(ISNUMBER(R10),R10+R10*(MAX(0,$G10-28))*1.5/100,"") | U10: 2941 | V10: =IF(U10="","",RANK(U10,U$3:U$70,1)) -> 10 | W10: =IFERROR(IF(V10="","",VLOOKUP(V10,'Concordance Classmt & Points'!$A$2:$B$33,2,FALSE)),0) -> 31 | X10: =IF(ISNUMBER(W10),W10+W10*(MAX(0,$G10-28))*1.5/100,"") -> 43.555 | Z10: 2941 | AA10: =IF(Z10="","",RANK(Z10,Z$3:Z$70,1)) -> 10 | AB10: =IFERROR(IF(AA10="","",VLOOKUP(AA10,'Concordance Classmt & Points'!$A$2:$B$33,2,FALSE)),0) -> 31 | AC10: =IF(ISNUMBER(AB10),AB10+AB10*(MAX(0,$G10-28))*1.5/100,"") -> 43.555 | AF10: =IF(AE10="","",RANK(AE10,AE$3:AE$70,1)) | AG10: =IFERROR(IF(AF10="","",VLOOKUP(AF10,'Concordance Classmt & Points'!$A$2:$B$33,2,FALSE)),0) | AH10: =IF(ISNUMBER(AG10),AG10+AG10*(MAX(0,$G10-28))*1.5/100,"") | AK10: =IF(AJ10="","",RANK(AJ10,AJ$3:AJ$70,1)) | AL10: =IFERROR(IF(AK10="","",VLOOKUP(AK10,'Concordance Classmt & Points'!$A$2:$B$33,2,FALSE)),0) | AM10: =IF(ISNUMBER(AL10),AL10+AL10*(MAX(0,$G10-28))*1.5/100,"") | AO10: 2941 | AP10: =IF(AO10="","",RANK(AO10,AO$3:AO$70,1)) -> 10 | AQ10: =IFERROR(IF(AP10="","",VLOOKUP(AP10,'Concordance Classmt & Points'!$A$2:$B$33,2,FALSE)),0) -> 31 | AR10: =IF(ISNUMBER(AQ10),AQ10+AQ10*(MAX(0,$G10-28))*1.5/100,"") -> 43.555 | AT10: 2941 | AU10: =IF(AT10="","",RANK(AT10,AT$3:AT$70,1)) -> 10 | AV10: =IFERROR(IF(AU10="","",VLOOKUP(AU10,'Concordance Classmt & Points'!$A$2:$B$33,2,FALSE)),0) -> 31 | AW10: =IF(ISNUMBER(AV10),AV10+AV10*(MAX(0,$G10-28))*1.5/100,"") -> 43.555 | AY10: 2941 | AZ10: =IF(AY10="","",RANK(AY10,AY$3:AY$70,1)) -> 10 | BA10: =IFERROR(IF(AZ10="","",VLOOKUP(AZ10,'Concordance Classmt & Points'!$A$2:$B$33,2,FALSE)),0) -> 31 | BB10: =IF(ISNUMBER(BA10),BA10+BA10*(MAX(0,$G10-28))*1.5/100,"") -> 43.555 | BD10: 2941 | BE10: =IF(BD10="","",RANK(BD10,BD$3:BD$70,1)) -> 10 | BF10: =IFERROR(IF(BE10="","",VLOOKUP(BE10,'Concordance Classmt & Points'!$A$2:$B$33,2,FALSE)),0) -> 31 | BG10: =IF(ISNUMBER(BF10),BF10+BF10*(MAX(0,$G10-28))*1.5/100,"") -> 43.555 | BI10: =IF(COUNT(L10,R10,W10,AB10,AG10,AQ10,AL10,AV10,BA10,BF10),SUM(L10,R10,W10,AB10,AG10,AQ10,AL10,AV10,BA10,BF10),"-") -> 186 | BJ10: =IF(COUNT(M10,S10,X10,AC10,AH10,AM10,AR10,AW10,BB10,BG10),SUM(M10,S10,X10,AC10,AH10,AM10,AR10,AW10,BB10,BG10),"-") -> 261.33 | BK10: =IF(BJ10="-","",RANK(BJ10,BJ$3:BJ$70)) -> 8
A11: =IF(BJ11="-","",RANK(BJ11,BJ$3:BJ$70)) -> 9 | B11: Troyes MA | D11: Badara | F11: 27429 | G11: =DATEDIF(F11,NOW(),"Y") -> 50 | J11: 4 | K11: =IF(J11="","",RANK(J11,J$3:J$70,0)) -> 44 | L11: =IFERROR(IF(K11="","",VLOOKUP(K11,'Concordance Classmt & Points'!$A$2:$B$33,2,FALSE)),0) -> 0 | M11: =IF(ISNUMBER(L11),L11+L11*(MAX(0,$G11-28))*1.5/100,"") -> 0 | O11: 4 | Q11: =IF(P11="","",RANK(P11,P$3:P$70,0)) | R11: =IFERROR(IF(Q11="","",VLOOKUP(Q11,'Concordance Classmt & Points'!$A$2:$B$33,2,FALSE)),0) | S11: =IF(ISNUMBER(R11),R11+R11*(MAX(0,$G11-28))*1.5/100,"") | U11: 2995 | V11: =IF(U11="","",RANK(U11,U$3:U$70,1)) -> 11 | W11: =IFERROR(IF(V11="","",VLOOKUP(V11,'Concordance Classmt & Points'!$A$2:$B$33,2,FALSE)),0) -> 30 | X11: =IF(ISNUMBER(W11),W11+W11*(MAX(0,$G11-28))*1.5/100,"") -> 39.9 | Z11: 2995 | AA11: =IF(Z11="","",RANK(Z11,Z$3:Z$70,1)) -> 11 | AB11: =IFERROR(IF(AA11="","",VLOOKUP(AA11,'Concordance Classmt & Points'!$A$2:$B$33,2,FALSE)),0) -> 30 | AC11: =IF(ISNUMBER(AB11),AB11+AB11*(MAX(0,$G11-28))*1.5/100,"") -> 39.9 | AE11: 0.0031840278 | AF11: =IF(AE11="","",RANK(AE11,AE$3:AE$70,1)) -> 27 | AG11: =IFERROR(IF(AF11="","",VLOOKUP(AF11,'Concordance Classmt & Points'!$A$2:$B$33,2,FALSE)),0) -> 8 | AH11: =IF(ISNUMBER(AG11),AG11+AG11*(MAX(0,$G11-28))*1.5/100,"") -> 10.64 | AJ11: 0.0031840278 | AK11: =IF(AJ11="","",RANK(AJ11,AJ$3:AJ$70,1)) -> 27 | AL11: =IFERROR(IF(AK11="","",VLOOKUP(AK11,'Concordance Classmt & Points'!$A$2:$B$33,2,FALSE)),0) -> 8 | AM11: =IF(ISNUMBER(AL11),AL11+AL11*(MAX(0,$G11-28))*1.5/100,"") -> 10.64 | AO11: 2995 | AP11: =IF(AO11="","",RANK(AO11,AO$3:AO$70,1)) -> 11 | AQ11: =IFERROR(IF(AP11="","",VLOOKUP(AP11,'Concordance Classmt & Points'!$A$2:$B$33,2,FALSE)),0) -> 30 | AR11: =IF(ISNUMBER(AQ11),AQ11+AQ11*(MAX(0,$G11-28))*1.5/100,"") -> 39.9 | AT11: 2995 | AU11: =IF(AT11="","",RANK(AT11,AT$3:AT$70,1)) -> 11 | AV11: =IFERROR(IF(AU11="","",VLOOKUP(AU11,'Concordance Classmt & Points'!$A$2:$B$33,2,FALSE)),0) -> 30 | AW11: =IF(ISNUMBER(AV11),AV11+AV11*(MAX(0,$G11-28))*1.5/100,"") -> 39.9 | AY11: 2995 | AZ11: =IF(AY11="","",RANK(AY11,AY$3:AY$70,1)) -> 11 | BA11: =IFERROR(IF(AZ11="","",VLOOKUP(AZ11,'Concordance Classmt & Points'!$A$2:$B$33,2,FALSE)),0) -> 30 | BB11: =IF(ISNUMBER(BA11),BA11+BA11*(MAX(0,$G11-28))*1.5/100,"") -> 39.9 | BD11: 2995 | BE11: =IF(BD11="","",RANK(BD11,BD$3:BD$70,1)) -> 11 | BF11: =IFERROR(IF(BE11="","",VLOOKUP(BE11,'Concordance Classmt & Points'!$A$2:$B$33,2,FALSE)),0) -> 30 | BG11: =IF(ISNUMBER(BF11),BF11+BF11*(MAX(0,$G11-28))*1.5/100,"") -> 39.9 | BI11: =IF(COUNT(L11,R11,W11,AB11,AG11,AQ11,AL11,AV11,BA11,BF11),SUM(L11,R11,W11,AB11,AG11,AQ11,AL11,AV11,BA11,BF11),"-") -> 196 | BJ11: =IF(COUNT(M11,S11,X11,AC11,AH11,AM11,AR11,AW11,BB11,BG11),SUM(M11,S11,X11,AC11,AH11,AM11,AR11,AW11,BB11,BG11),"-") -> 260.68 | BK11: =IF(BJ11="-","",RANK(BJ11,BJ$3:BJ$70)) -> 9
A12: =IF(BJ12="-","",RANK(BJ12,BJ$3:BJ$70)) -> 10 | B12: Lille CP | D12: Idrissa | F12: 34822 | G12: =DATEDIF(F12,NOW(),"Y") -> 30 | J12: 6 | K12: =IF(J12="","",RANK(J12,J$3:J$70,0)) -> 32 | L12: =IFERROR(IF(K12="","",VLOOKUP(K12,'Concordance Classmt & Points'!$A$2:$B$33,2,FALSE)),0) -> 0 | M12: =IF(ISNUMBER(L12),L12+L12*(MAX(0,$G12-28))*1.5/100,"") -> 0 | O12: 6 | Q12: =IF(P12="","",RANK(P12,P$3:P$70,0)) | R12: =IFERROR(IF(Q12="","",VLOOKUP(Q12,'Concordance Classmt & Points'!$A$2:$B$33,2,FALSE)),0) | S12: =IF(ISNUMBER(R12),R12+R12*(MAX(0,$G12-28))*1.5/100,"") | U12: 3011 | V12: =IF(U12="","",RANK(U12,U$3:U$70,1)) -> 12 | W12: =IFERROR(IF(V12="","",VLOOKUP(V12,'Concordance Classmt & Points'!$A$2:$B$33,2,FALSE)),0) -> 29 | X12: =IF(ISNUMBER(W12),W12+W12*(MAX(0,$G12-28))*1.5/100,"") -> 29.87 | Z12: 3011 | AA12: =IF(Z12="","",RANK(Z12,Z$3:Z$70,1)) -> 12 | AB12: =IFERROR(IF(AA12="","",VLOOKUP(AA12,'Concordance Classmt & Points'!$A$2:$B$33,2,FALSE)),0) -> 29 | AC12: =IF(ISNUMBER(AB12),AB12+AB12*(MAX(0,$G12-28))*1.5/100,"") -> 29.87 | AE12: 0.0026412037 | AF12: =IF(AE12="","",RANK(AE12,AE$3:AE$70,1)) -> 13 | AG12: =IFERROR(IF(AF12="","",VLOOKUP(AF12,'Concordance Classmt & Points'!$A$2:$B$33,2,FALSE)),0) -> 28 | AH12: =IF(ISNUMBER(AG12),AG12+AG12*(MAX(0,$G12-28))*1.5/100,"") -> 28.84 | AJ12: 0.0026412037 | AK12: =IF(AJ12="","",RANK(AJ12,AJ$3:AJ$70,1)) -> 13 | AL12: =IFERROR(IF(AK12="","",VLOOKUP(AK12,'Concordance Classmt & Points'!$A$2:$B$33,2,FALSE)),0) -> 28 | AM12: =IF(ISNUMBER(AL12),AL12+AL12*(MAX(0,$G12-28))*1.5/100,"") -> 28.84 | AO12: 3011 | AP12: =IF(AO12="","",RANK(AO12,AO$3:AO$70,1)) -> 12 | AQ12: =IFERROR(IF(AP12="","",VLOOKUP(AP12,'Concordance Classmt & Points'!$A$2:$B$33,2,FALSE)),0) -> 29 | AR12: =IF(ISNUMBER(AQ12),AQ12+AQ12*(MAX(0,$G12-28))*1.5/100,"") -> 29.87 | AT12: 3011 | AU12: =IF(AT12="","",RANK(AT12,AT$3:AT$70,1)) -> 12 | AV12: =IFERROR(IF(AU12="","",VLOOKUP(AU12,'Concordance Classmt & Points'!$A$2:$B$33,2,FALSE)),0) -> 29 | AW12: =IF(ISNUMBER(AV12),AV12+AV12*(MAX(0,$G12-28))*1.5/100,"") -> 29.87 | AY12: 3011 | AZ12: =IF(AY12="","",RANK(AY12,AY$3:AY$70,1)) -> 12 | BA12: =IFERROR(IF(AZ12="","",VLOOKUP(AZ12,'Concordance Classmt & Points'!$A$2:$B$33,2,FALSE)),0) -> 29 | BB12: =IF(ISNUMBER(BA12),BA12+BA12*(MAX(0,$G12-28))*1.5/100,"") -> 29.87 | BD12: 3011 | BE12: =IF(BD12="","",RANK(BD12,BD$3:BD$70,1)) -> 12 | BF12: =IFERROR(IF(BE12="","",VLOOKUP(BE12,'Concordance Classmt & Points'!$A$2:$B$33,2,FALSE)),0) -> 29 | BG12: =IF(ISNUMBER(BF12),BF12+BF12*(MAX(0,$G12-28))*1.5/100,"") -> 29.87 | BI12: =IF(COUNT(L12,R12,W12,AB12,AG12,AQ12,AL12,AV12,BA12,BF12),SUM(L12,R12,W12,AB12,AG12,AQ12,AL12,AV12,BA12,BF12),"-") -> 230 | BJ12: =IF(COUNT(M12,S12,X12,AC12,AH12,AM12,AR12,AW12,BB12,BG12),SUM(M12,S12,X12,AC12,AH12,AM12,AR12,AW12,BB12,BG12),"-") -> 236.9 | BK12: =IF(BJ12="-","",RANK(BJ12,BJ$3:BJ$70)) -> 10
A13: =IF(BJ13="-","",RANK(BJ13,BJ$3:BJ$70)) -> 11 | D13: Mamadou | F13: 35300 | G13: =DATEDIF(F13,NOW(),"Y") -> 28 | J13: 6 | K13: =IF(J13="","",RANK(J13,J$3:J$70,0)) -> 32 | L13: =IFERROR(IF(K13="","",VLOOKUP(K13,'Concordance Classmt & Points'!$A$2:$B$33,2,FALSE)),0) -> 0 | M13: =IF(ISNUMBER(L13),L13+L13*(MAX(0,$G13-28))*1.5/100,"") -> 0 | O13: 6 | Q13: =IF(P13="","",RANK(P13,P$3:P$70,0)) | R13: =IFERROR(IF(Q13="","",VLOOKUP(Q13,'Concordance Classmt & Points'!$A$2:$B$33,2,FALSE)),0) | S13: =IF(ISNUMBER(R13),R13+R13*(MAX(0,$G13-28))*1.5/100,"") | U13: 2613 | V13: =IF(U13="","",RANK(U13,U$3:U$70,1)) -> 7 | W13: =IFERROR(IF(V13="","",VLOOKUP(V13,'Concordance Classmt & Points'!$A$2:$B$33,2,FALSE)),0) -> 36 | X13: =IF(ISNUMBER(W13),W13+W13*(MAX(0,$G13-28))*1.5/100,"") -> 36 | Z13: 2613 | AA13: =IF(Z13="","",RANK(Z13,Z$3:Z$70,1)) -> 7 | AB13: =IFERROR(IF(AA13="","",VLOOKUP(AA13,'Concordance Classmt & Points'!$A$2:$B$33,2,FALSE)),0) -> 36 | AC13: =IF(ISNUMBER(AB13),AB13+AB13*(MAX(0,$G13-28))*1.5/100,"") -> 36 | AF13: =IF(AE13="","",RANK(AE13,AE$3:AE$70,1)) | AG13: =IFERROR(IF(AF13="","",VLOOKUP(AF13,'Concordance Classmt & Points'!$A$2:$B$33,2,FALSE)),0) | AH13: =IF(ISNUMBER(AG13),AG13+AG13*(MAX(0,$G13-28))*1.5/100,"") | AK13: =IF(AJ13="","",RANK(AJ13,AJ$3:AJ$70,1)) | AL13: =IFERROR(IF(AK13="","",VLOOKUP(AK13,'Concordance Classmt & Points'!$A$2:$B$33,2,FALSE)),0) | AM13: =IF(ISNUMBER(AL13),AL13+AL13*(MAX(0,$G13-28))*1.5/100,"") | AO13: 2613 | AP13: =IF(AO13="","",RANK(AO13,AO$3:AO$70,1)) -> 7 | AQ13: =IFERROR(IF(AP13="","",VLOOKUP(AP13,'Concordance Classmt & Points'!$A$2:$B$33,2,FALSE)),0) -> 36 | AR13: =IF(ISNUMBER(AQ13),AQ13+AQ13*(MAX(0,$G13-28))*1.5/100,"") -> 36 | AT13: 2613 | AU13: =IF(AT13="","",RANK(AT13,AT$3:AT$70,1)) -> 7 | AV13: =IFERROR(IF(AU13="","",VLOOKUP(AU13,'Concordance Classmt & Points'!$A$2:$B$33,2,FALSE)),0) -> 36 | AW13: =IF(ISNUMBER(AV13),AV13+AV13*(MAX(0,$G13-28))*1.5/100,"") -> 36 | AY13: 2613 | AZ13: =IF(AY13="","",RANK(AY13,AY$3:AY$70,1)) -> 7 | BA13: =IFERROR(IF(AZ13="","",VLOOKUP(AZ13,'Concordance Classmt & Points'!$A$2:$B$33,2,FALSE)),0) -> 36 | BB13: =IF(ISNUMBER(BA13),BA13+BA13*(MAX(0,$G13-28))*1.5/100,"") -> 36 | BD13: 2613 | BE13: =IF(BD13="","",RANK(BD13,BD$3:BD$70,1)) -> 7 | BF13: =IFERROR(IF(BE13="","",VLOOKUP(BE13,'Concordance Classmt & Points'!$A$2:$B$33,2,FALSE)),0) -> 36 | BG13: =IF(ISNUMBER(BF13),BF13+BF13*(MAX(0,$G13-28))*1.5/100,"") -> 36 | BI13: =IF(COUNT(L13,R13,W13,AB13,AG13,AQ13,AL13,AV13,BA13,BF13),SUM(L13,R13,W13,AB13,AG13,AQ13,AL13,AV13,BA13,BF13),"-") -> 216 | BJ13: =IF(COUNT(M13,S13,X13,AC13,AH13,AM13,AR13,AW13,BB13,BG13),SUM(M13,S13,X13,AC13,AH13,AM13,AR13,AW13,BB13,BG13),"-") -> 216 | BK13: =IF(BJ13="-","",RANK(BJ13,BJ$3:BJ$70)) -> 11
A14: =IF(BJ14="-","",RANK(BJ14,BJ$3:BJ$70)) -> 12 | D14: Housrine | F14: 38466 | G14: =DATEDIF(F14,NOW(),"Y") -> 20 | K14: =IF(J14="","",RANK(J14,J$3:J$70,0)) | L14: =IFERROR(IF(K14="","",VLOOKUP(K14,'Concordance Classmt & Points'!$A$2:$B$33,2,FALSE)),0) | M14: =IF(ISNUMBER(L14),L14+L14*(MAX(0,$G14-28))*1.5/100,"") | Q14: =IF(P14="","",RANK(P14,P$3:P$70,0)) | R14: =IFERROR(IF(Q14="","",VLOOKUP(Q14,'Concordance Classmt & Points'!$A$2:$B$33,2,FALSE)),0) | S14: =IF(ISNUMBER(R14),R14+R14*(MAX(0,$G14-28))*1.5/100,"") | U14: 2712 | V14: =IF(U14="","",RANK(U14,U$3:U$70,1)) -> 8 | W14: =IFERROR(IF(V14="","",VLOOKUP(V14,'Concordance Classmt & Points'!$A$2:$B$33,2,FALSE)),0) -> 34 | X14: =IF(ISNUMBER(W14),W14+W14*(MAX(0,$G14-28))*1.5/100,"") -> 34 | Z14: 2712 | AA14: =IF(Z14="","",RANK(Z14,Z$3:Z$70,1)) -> 8 | AB14: =IFERROR(IF(AA14="","",VLOOKUP(AA14,'Concordance Classmt & Points'!$A$2:$B$33,2,FALSE)),0) -> 34 | AC14: =IF(ISNUMBER(AB14),AB14+AB14*(MAX(0,$G14-28))*1.5/100,"") -> 34 | AE14: 0.0033425926 | AF14: =IF(AE14="","",RANK(AE14,AE$3:AE$70,1)) -> 32 | AG14: =IFERROR(IF(AF14="","",VLOOKUP(AF14,'Concordance Classmt & Points'!$A$2:$B$33,2,FALSE)),0) -> 0 | AH14: =IF(ISNUMBER(AG14),AG14+AG14*(MAX(0,$G14-28))*1.5/100,"") -> 0 | AJ14: 0.0033425926 | AK14: =IF(AJ14="","",RANK(AJ14,AJ$3:AJ$70,1)) -> 32 | AL14: =IFERROR(IF(AK14="","",VLOOKUP(AK14,'Concordance Classmt & Points'!$A$2:$B$33,2,FALSE)),0) -> 0 | AM14: =IF(ISNUMBER(AL14),AL14+AL14*(MAX(0,$G14-28))*1.5/100,"") -> 0 | AO14: 2712 | AP14: =IF(AO14="","",RANK(AO14,AO$3:AO$70,1)) -> 8 | AQ14: =IFERROR(IF(AP14="","",VLOOKUP(AP14,'Concordance Classmt & Points'!$A$2:$B$33,2,FALSE)),0) -> 34 | AR14: =IF(ISNUMBER(AQ14),AQ14+AQ14*(MAX(0,$G14-28))*1.5/100,"") -> 34 | AT14: 2712 | AU14: =IF(AT14="","",RANK(AT14,AT$3:AT$70,1)) -> 8 | AV14: =IFERROR(IF(AU14="","",VLOOKUP(AU14,'Concordance Classmt & Points'!$A$2:$B$33,2,FALSE)),0) -> 34 | AW14: =IF(ISNUMBER(AV14),AV14+AV14*(MAX(0,$G14-28))*1.5/100,"") -> 34 | AY14: 2712 | AZ14: =IF(AY14="","",RANK(AY14,AY$3:AY$70,1)) -> 8 | BA14: =IFERROR(IF(AZ14="","",VLOOKUP(AZ14,'Concordance Classmt & Points'!$A$2:$B$33,2,FALSE)),0) -> 34 | BB14: =IF(ISNUMBER(BA14),BA14+BA14*(MAX(0,$G14-28))*1.5/100,"") -> 34 | BD14: 2712 | BE14: =IF(BD14="","",RANK(BD14,BD$3:BD$70,1)) -> 8 | BF14: =IFERROR(IF(BE14="","",VLOOKUP(BE14,'Concordance Classmt & Points'!$A$2:$B$33,2,FALSE)),0) -> 34 | BG14: =IF(ISNUMBER(BF14),BF14+BF14*(MAX(0,$G14-28))*1.5/100,"") -> 34 | BI14: =IF(COUNT(L14,R14,W14,AB14,AG14,AQ14,AL14,AV14,BA14,BF14),SUM(L14,R14,W14,AB14,AG14,AQ14,AL14,AV14,BA14,BF14),"-") -> 204 | BJ14: =IF(COUNT(M14,S14,X14,AC14,AH14,AM14,AR14,AW14,BB14,BG14),SUM(M14,S14,X14,AC14,AH14,AM14,AR14,AW14,BB14,BG14),"-") -> 204 | BK14: =IF(BJ14="-","",RANK(BJ14,BJ$3:BJ$70)) -> 12
A15: =IF(BJ15="-","",RANK(BJ15,BJ$3:BJ$70)) -> 13 | B15: Tarascon CD | D15: Yacine | F15: 36094 | G15: =DATEDIF(F15,NOW(),"Y") -> 26 | J15: 9 | K15: =IF(J15="","",RANK(J15,J$3:J$70,0)) -> 20 | L15: =IFERROR(IF(K15="","",VLOOKUP(K15,'Concordance Classmt & Points'!$A$2:$B$33,2,FALSE)),0) -> 21 | M15: =IF(ISNUMBER(L15),L15+L15*(MAX(0,$G15-28))*1.5/100,"") -> 21 | O15: 9 | Q15: =IF(P15="","",RANK(P15,P$3:P$70,0)) | R15: =IFERROR(IF(Q15="","",VLOOKUP(Q15,'Concordance Classmt & Points'!$A$2:$B$33,2,FALSE)),0) | S15: =IF(ISNUMBER(R15),R15+R15*(MAX(0,$G15-28))*1.5/100,"") | V15: =IF(U15="","",RANK(U15,U$3:U$70,1)) | W15: =IFERROR(IF(V15="","",VLOOKUP(V15,'Concordance Classmt & Points'!$A$2:$B$33,2,FALSE)),0) | X15: =IF(ISNUMBER(W15),W15+W15*(MAX(0,$G15-28))*1.5/100,"") | AA15: =IF(Z15="","",RANK(Z15,Z$3:Z$70,1)) | AB15: =IFERROR(IF(AA15="","",VLOOKUP(AA15,'Concordance Classmt & Points'!$A$2:$B$33,2,FALSE)),0) | AC15: =IF(ISNUMBER(AB15),AB15+AB15*(MAX(0,$G15-28))*1.5/100,"") | AE15: 0.0024340278 | AF15: =IF(AE15="","",RANK(AE15,AE$3:AE$70,1)) -> 1 | AG15: =IFERROR(IF(AF15="","",VLOOKUP(AF15,'Concordance Classmt & Points'!$A$2:$B$33,2,FALSE)),0) -> 90 | AH15: =IF(ISNUMBER(AG15),AG15+AG15*(MAX(0,$G15-28))*1.5/100,"") -> 90 | AJ15: 0.0024340278 | AK15: =IF(AJ15="","",RANK(AJ15,AJ$3:AJ$70,1)) -> 1 | AL15: =IFERROR(IF(AK15="","",VLOOKUP(AK15,'Concordance Classmt & Points'!$A$2:$B$33,2,FALSE)),0) -> 90 | AM15: =IF(ISNUMBER(AL15),AL15+AL15*(MAX(0,$G15-28))*1.5/100,"") -> 90 | AP15: =IF(AO15="","",RANK(AO15,AO$3:AO$70,1)) | AQ15: =IFERROR(IF(AP15="","",VLOOKUP(AP15,'Concordance Classmt & Points'!$A$2:$B$33,2,FALSE)),0) | AR15: =IF(ISNUMBER(AQ15),AQ15+AQ15*(MAX(0,$G15-28))*1.5/100,"") | AU15: =IF(AT15="","",RANK(AT15,AT$3:AT$70,1)) | AV15: =IFERROR(IF(AU15="","",VLOOKUP(AU15,'Concordance Classmt & Points'!$A$2:$B$33,2,FALSE)),0) | AW15: =IF(ISNUMBER(AV15),AV15+AV15*(MAX(0,$G15-28))*1.5/100,"") | AZ15: =IF(AY15="","",RANK(AY15,AY$3:AY$70,1)) | BA15: =IFERROR(IF(AZ15="","",VLOOKUP(AZ15,'Concordance Classmt & Points'!$A$2:$B$33,2,FALSE)),0) | BB15: =IF(ISNUMBER(BA15),BA15+BA15*(MAX(0,$G15-28))*1.5/100,"") | BE15: =IF(BD15="","",RANK(BD15,BD$3:BD$70,1)) | BF15: =IFERROR(IF(BE15="","",VLOOKUP(BE15,'Concordance Classmt & Points'!$A$2:$B$33,2,FALSE)),0) | BG15: =IF(ISNUMBER(BF15),BF15+BF15*(MAX(0,$G15-28))*1.5/100,"") | BI15: =IF(COUNT(L15,R15,W15,AB15,AG15,AQ15,AL15,AV15,BA15,BF15),SUM(L15,R15,W15,AB15,AG15,AQ15,AL15,AV15,BA15,BF15),"-") -> 201 | BJ15: =IF(COUNT(M15,S15,X15,AC15,AH15,AM15,AR15,AW15,BB15,BG15),SUM(M15,S15,X15,AC15,AH15,AM15,AR15,AW15,BB15,BG15),"-") -> 201 | BK15: =IF(BJ15="-","",RANK(BJ15,BJ$3:BJ$70)) -> 13
A16: =IF(BJ16="-","",RANK(BJ16,BJ$3:BJ$70)) -> 14 | D16: Emilie | F16: 33420 | G16: =DATEDIF(F16,NOW(),"Y") -> 33 | J16: 4 | K16: =IF(J16="","",RANK(J16,J$3:J$70,0)) -> 44 | L16: =IFERROR(IF(K16="","",VLOOKUP(K16,'Concordance Classmt & Points'!$A$2:$B$33,2,FALSE)),0) -> 0 | M16: =IF(ISNUMBER(L16),L16+L16*(MAX(0,$G16-28))*1.5/100,"") -> 0 | O16: 4 | Q16: =IF(P16="","",RANK(P16,P$3:P$70,0)) | R16: =IFERROR(IF(Q16="","",VLOOKUP(Q16,'Concordance Classmt & Points'!$A$2:$B$33,2,FALSE)),0) | S16: =IF(ISNUMBER(R16),R16+R16*(MAX(0,$G16-28))*1.5/100,"") | U16: 3550 | V16: =IF(U16="","",RANK(U16,U$3:U$70,1)) -> 13 | W16: =IFERROR(IF(V16="","",VLOOKUP(V16,'Concordance Classmt & Points'!$A$2:$B$33,2,FALSE)),0) -> 28 | X16: =IF(ISNUMBER(W16),W16+W16*(MAX(0,$G16-28))*1.5/100,"") -> 30.1 | Z16: 3550 | AA16: =IF(Z16="","",RANK(Z16,Z$3:Z$70,1)) -> 13 | AB16: =IFERROR(IF(AA16="","",VLOOKUP(AA16,'Concordance Classmt & Points'!$A$2:$B$33,2,FALSE)),0) -> 28 | AC16: =IF(ISNUMBER(AB16),AB16+AB16*(MAX(0,$G16-28))*1.5/100,"") -> 30.1 | AF16: =IF(AE16="","",RANK(AE16,AE$3:AE$70,1)) | AG16: =IFERROR(IF(AF16="","",VLOOKUP(AF16,'Concordance Classmt & Points'!$A$2:$B$33,2,FALSE)),0) | AH16: =IF(ISNUMBER(AG16),AG16+AG16*(MAX(0,$G16-28))*1.5/100,"") | AK16: =IF(AJ16="","",RANK(AJ16,AJ$3:AJ$70,1)) | AL16: =IFERROR(IF(AK16="","",VLOOKUP(AK16,'Concordance Classmt & Points'!$A$2:$B$33,2,FALSE)),0) | AM16: =IF(ISNUMBER(AL16),AL16+AL16*(MAX(0,$G16-28))*1.5/100,"") | AO16: 3550 | AP16: =IF(AO16="","",RANK(AO16,AO$3:AO$70,1)) -> 13 | AQ16: =IFERROR(IF(AP16="","",VLOOKUP(AP16,'Concordance Classmt & Points'!$A$2:$B$33,2,FALSE)),0) -> 28 | AR16: =IF(ISNUMBER(AQ16),AQ16+AQ16*(MAX(0,$G16-28))*1.5/100,"") -> 30.1 | AT16: 3550 | AU16: =IF(AT16="","",RANK(AT16,AT$3:AT$70,1)) -> 13 | AV16: =IFERROR(IF(AU16="","",VLOOKUP(AU16,'Concordance Classmt & Points'!$A$2:$B$33,2,FALSE)),0) -> 28 | AW16: =IF(ISNUMBER(AV16),AV16+AV16*(MAX(0,$G16-28))*1.5/100,"") -> 30.1 | AY16: 3550 | AZ16: =IF(AY16="","",RANK(AY16,AY$3:AY$70,1)) -> 13 | BA16: =IFERROR(IF(AZ16="","",VLOOKUP(AZ16,'Concordance Classmt & Points'!$A$2:$B$33,2,FALSE)),0) -> 28 | BB16: =IF(ISNUMBER(BA16),BA16+BA16*(MAX(0,$G16-28))*1.5/100,"") -> 30.1 | BD16: 3550 | BE16: =IF(BD16="","",RANK(BD16,BD$3:BD$70,1)) -> 13 | BF16: =IFERROR(IF(BE16="","",VLOOKUP(BE16,'Concordance Classmt & Points'!$A$2:$B$33,2,FALSE)),0) -> 28 | BG16: =IF(ISNUMBER(BF16),BF16+BF16*(MAX(0,$G16-28))*1.5/100,"") -> 30.1 | BI16: =IF(COUNT(L16,R16,W16,AB16,AG16,AQ16,AL16,AV16,BA16,BF16),SUM(L16,R16,W16,AB16,AG16,AQ16,AL16,AV16,BA16,BF16),"-") -> 168 | BJ16: =IF(COUNT(M16,S16,X16,AC16,AH16,AM16,AR16,AW16,BB16,BG16),SUM(M16,S16,X16,AC16,AH16,AM16,AR16,AW16,BB16,BG16),"-") -> 180.6 | BK16: =IF(BJ16="-","",RANK(BJ16,BJ$3:BJ$70)) -> 14
A17: =IF(BJ17="-","",RANK(BJ17,BJ$3:BJ$70)) -> 15 | B17: Troyes MA | D17: Ghjan Carlu | F17: 33286 | G17: =DATEDIF(F17,NOW(),"Y") -> 34 | J17: 12 | K17: =IF(J17="","",RANK(J17,J$3:J$70,0)) -> 9 | L17: =IFERROR(IF(K17="","",VLOOKUP(K17,'Concordance Classmt & Points'!$A$2:$B$33,2,FALSE)),0) -> 32 | M17: =IF(ISNUMBER(L17),L17+L17*(MAX(0,$G17-28))*1.5/100,"") -> 34.88 | O17: 12 | Q17: =IF(P17="","",RANK(P17,P$3:P$70,0)) | R17: =IFERROR(IF(Q17="","",VLOOKUP(Q17,'Concordance Classmt & Points'!$A$2:$B$33,2,FALSE)),0) | S17: =IF(ISNUMBER(R17),R17+R17*(MAX(0,$G17-28))*1.5/100,"") | V17: =IF(U17="","",RANK(U17,U$3:U$70,1)) | W17: =IFERROR(IF(V17="","",VLOOKUP(V17,'Concordance Classmt & Points'!$A$2:$B$33,2,FALSE)),0) | X17: =IF(ISNUMBER(W17),W17+W17*(MAX(0,$G17-28))*1.5/100,"") | AA17: =IF(Z17="","",RANK(Z17,Z$3:Z$70,1)) | AB17: =IFERROR(IF(AA17="","",VLOOKUP(AA17,'Concordance Classmt & Points'!$A$2:$B$33,2,FALSE)),0) | AC17: =IF(ISNUMBER(AB17),AB17+AB17*(MAX(0,$G17-28))*1.5/100,"") | AE17: 0.0024918981 | AF17: =IF(AE17="","",RANK(AE17,AE$3:AE$70,1)) -> 5 | AG17: =IFERROR(IF(AF17="","",VLOOKUP(AF17,'Concordance Classmt & Points'!$A$2:$B$33,2,FALSE)),0) -> 45 | AH17: =IF(ISNUMBER(AG17),AG17+AG17*(MAX(0,$G17-28))*1.5/100,"") -> 49.05 | AJ17: 0.0024918981 | AK17: =IF(AJ17="","",RANK(AJ17,AJ$3:AJ$70,1)) -> 5 | AL17: =IFERROR(IF(AK17="","",VLOOKUP(AK17,'Concordance Classmt & Points'!$A$2:$B$33,2,FALSE)),0) -> 45 | AM17: =IF(ISNUMBER(AL17),AL17+AL17*(MAX(0,$G17-28))*1.5/100,"") -> 49.05 | AP17: =IF(AO17="","",RANK(AO17,AO$3:AO$70,1)) | AQ17: =IFERROR(IF(AP17="","",VLOOKUP(AP17,'Concordance Classmt & Points'!$A$2:$B$33,2,FALSE)),0) | AR17: =IF(ISNUMBER(AQ17),AQ17+AQ17*(MAX(0,$G17-28))*1.5/100,"") | AU17: =IF(AT17="","",RANK(AT17,AT$3:AT$70,1)) | AV17: =IFERROR(IF(AU17="","",VLOOKUP(AU17,'Concordance Classmt & Points'!$A$2:$B$33,2,FALSE)),0) | AW17: =IF(ISNUMBER(AV17),AV17+AV17*(MAX(0,$G17-28))*1.5/100,"") | AZ17: =IF(AY17="","",RANK(AY17,AY$3:AY$70,1)) | BA17: =IFERROR(IF(AZ17="","",VLOOKUP(AZ17,'Concordance Classmt & Points'!$A$2:$B$33,2,FALSE)),0) | BB17: =IF(ISNUMBER(BA17),BA17+BA17*(MAX(0,$G17-28))*1.5/100,"") | BE17: =IF(BD17="","",RANK(BD17,BD$3:BD$70,1)) | BF17: =IFERROR(IF(BE17="","",VLOOKUP(BE17,'Concordance Classmt & Points'!$A$2:$B$33,2,FALSE)),0) | BG17: =IF(ISNUMBER(BF17),BF17+BF17*(MAX(0,$G17-28))*1.5/100,"") | BI17: =IF(COUNT(L17,R17,W17,AB17,AG17,AQ17,AL17,AV17,BA17,BF17),SUM(L17,R17,W17,AB17,AG17,AQ17,AL17,AV17,BA17,BF17),"-") -> 122 | BJ17: =IF(COUNT(M17,S17,X17,AC17,AH17,AM17,AR17,AW17,BB17,BG17),SUM(M17,S17,X17,AC17,AH17,AM17,AR17,AW17,BB17,BG17),"-") -> 132.98 | BK17: =IF(BJ17="-","",RANK(BJ17,BJ$3:BJ$70)) -> 15
A18: =IF(BJ18="-","",RANK(BJ18,BJ$3:BJ$70)) -> 16 | B18: Tarascon CD | D18: Akim | F18: 32681 | G18: =DATEDIF(F18,NOW(),"Y") -> 35 | J18: 12 | K18: =IF(J18="","",RANK(J18,J$3:J$70,0)) -> 9 | L18: =IFERROR(IF(K18="","",VLOOKUP(K18,'Concordance Classmt & Points'!$A$2:$B$33,2,FALSE)),0) -> 32 | M18: =IF(ISNUMBER(L18),L18+L18*(MAX(0,$G18-28))*1.5/100,"") -> 35.36 | O18: 12 | Q18: =IF(P18="","",RANK(P18,P$3:P$70,0)) | R18: =IFERROR(IF(Q18="","",VLOOKUP(Q18,'Concordance Classmt & Points'!$A$2:$B$33,2,FALSE)),0) | S18: =IF(ISNUMBER(R18),R18+R18*(MAX(0,$G18-28))*1.5/100,"") | V18: =IF(U18="","",RANK(U18,U$3:U$70,1)) | W18: =IFERROR(IF(V18="","",VLOOKUP(V18,'Concordance Classmt & Points'!$A$2:$B$33,2,FALSE)),0) | X18: =IF(ISNUMBER(W18),W18+W18*(MAX(0,$G18-28))*1.5/100,"") | AA18: =IF(Z18="","",RANK(Z18,Z$3:Z$70,1)) | AB18: =IFERROR(IF(AA18="","",VLOOKUP(AA18,'Concordance Classmt & Points'!$A$2:$B$33,2,FALSE)),0) | AC18: =IF(ISNUMBER(AB18),AB18+AB18*(MAX(0,$G18-28))*1.5/100,"") | AE18: 0.0025300926 | AF18: =IF(AE18="","",RANK(AE18,AE$3:AE$70,1)) -> 6 | AG18: =IFERROR(IF(AF18="","",VLOOKUP(AF18,'Concordance Classmt & Points'!$A$2:$B$33,2,FALSE)),0) -> 40 | AH18: =IF(ISNUMBER(AG18),AG18+AG18*(MAX(0,$G18-28))*1.5/100,"") -> 44.2 | AJ18: 0.0025300926 | AK18: =IF(AJ18="","",RANK(AJ18,AJ$3:AJ$70,1)) -> 6 | AL18: =IFERROR(IF(AK18="","",VLOOKUP(AK18,'Concordance Classmt & Points'!$A$2:$B$33,2,FALSE)),0) -> 40 | AM18: =IF(ISNUMBER(AL18),AL18+AL18*(MAX(0,$G18-28))*1.5/100,"") -> 44.2 | AP18: =IF(AO18="","",RANK(AO18,AO$3:AO$70,1)) | AQ18: =IFERROR(IF(AP18="","",VLOOKUP(AP18,'Concordance Classmt & Points'!$A$2:$B$33,2,FALSE)),0) | AR18: =IF(ISNUMBER(AQ18),AQ18+AQ18*(MAX(0,$G18-28))*1.5/100,"") | AU18: =IF(AT18="","",RANK(AT18,AT$3:AT$70,1)) | AV18: =IFERROR(IF(AU18="","",VLOOKUP(AU18,'Concordance Classmt & Points'!$A$2:$B$33,2,FALSE)),0) | AW18: =IF(ISNUMBER(AV18),AV18+AV18*(MAX(0,$G18-28))*1.5/100,"") | AZ18: =IF(AY18="","",RANK(AY18,AY$3:AY$70,1)) | BA18: =IFERROR(IF(AZ18="","",VLOOKUP(AZ18,'Concordance Classmt & Points'!$A$2:$B$33,2,FALSE)),0) | BB18: =IF(ISNUMBER(BA18),BA18+BA18*(MAX(0,$G18-28))*1.5/100,"") | BE18: =IF(BD18="","",RANK(BD18,BD$3:BD$70,1)) | BF18: =IFERROR(IF(BE18="","",VLOOKUP(BE18,'Concordance Classmt & Points'!$A$2:$B$33,2,FALSE)),0) | BG18: =IF(ISNUMBER(BF18),BF18+BF18*(MAX(0,$G18-28))*1.5/100,"") | BI18: =IF(COUNT(L18,R18,W18,AB18,AG18,AQ18,AL18,AV18,BA18,BF18),SUM(L18,R18,W18,AB18,AG18,AQ18,AL18,AV18,BA18,BF18),"-") -> 112 | BJ18: =IF(COUNT(M18,S18,X18,AC18,AH18,AM18,AR18,AW18,BB18,BG18),SUM(M18,S18,X18,AC18,AH18,AM18,AR18,AW18,BB18,BG18),"-") -> 123.76 | BK18: =IF(BJ18="-","",RANK(BJ18,BJ$3:BJ$70)) -> 16
A19: =IF(BJ19="-","",RANK(BJ19,BJ$3:BJ$70)) -> 17 | B19: Lille CP | D19: Amza | F19: 31452 | G19: =DATEDIF(F19,NOW(),"Y") -> 39 | J19: 10 | K19: =IF(J19="","",RANK(J19,J$3:J$70,0)) -> 14 | L19: =IFERROR(IF(K19="","",VLOOKUP(K19,'Concordance Classmt & Points'!$A$2:$B$33,2,FALSE)),0) -> 27 | M19: =IF(ISNUMBER(L19),L19+L19*(MAX(0,$G19-28))*1.5/100,"") -> 31.455 | O19: 10 | Q19: =IF(P19="","",RANK(P19,P$3:P$70,0)) | R19: =IFERROR(IF(Q19="","",VLOOKUP(Q19,'Concordance Classmt & Points'!$A$2:$B$33,2,FALSE)),0) | S19: =IF(ISNUMBER(R19),R19+R19*(MAX(0,$G19-28))*1.5/100,"") | V19: =IF(U19="","",RANK(U19,U$3:U$70,1)) | W19: =IFERROR(IF(V19="","",VLOOKUP(V19,'Concordance Classmt & Points'!$A$2:$B$33,2,FALSE)),0) | X19: =IF(ISNUMBER(W19),W19+W19*(MAX(0,$G19-28))*1.5/100,"") | AA19: =IF(Z19="","",RANK(Z19,Z$3:Z$70,1)) | AB19: =IFERROR(IF(AA19="","",VLOOKUP(AA19,'Concordance Classmt & Points'!$A$2:$B$33,2,FALSE)),0) | AC19: =IF(ISNUMBER(AB19),AB19+AB19*(MAX(0,$G19-28))*1.5/100,"") | AE19: 0.0025902778 | AF19: =IF(AE19="","",RANK(AE19,AE$3:AE$70,1)) -> 9 | AG19: =IFERROR(IF(AF19="","",VLOOKUP(AF19,'Concordance Classmt & Points'!$A$2:$B$33,2,FALSE)),0) -> 32 | AH19: =IF(ISNUMBER(AG19),AG19+AG19*(MAX(0,$G19-28))*1.5/100,"") -> 37.28 | AJ19: 0.0025902778 | AK19: =IF(AJ19="","",RANK(AJ19,AJ$3:AJ$70,1)) -> 9 | AL19: =IFERROR(IF(AK19="","",VLOOKUP(AK19,'Concordance Classmt & Points'!$A$2:$B$33,2,FALSE)),0) -> 32 | AM19: =IF(ISNUMBER(AL19),AL19+AL19*(MAX(0,$G19-28))*1.5/100,"") -> 37.28 | AP19: =IF(AO19="","",RANK(AO19,AO$3:AO$70,1)) | AQ19: =IFERROR(IF(AP19="","",VLOOKUP(AP19,'Concordance Classmt & Points'!$A$2:$B$33,2,FALSE)),0) | AR19: =IF(ISNUMBER(AQ19),AQ19+AQ19*(MAX(0,$G19-28))*1.5/100,"") | AU19: =IF(AT19="","",RANK(AT19,AT$3:AT$70,1)) | AV19: =IFERROR(IF(AU19="","",VLOOKUP(AU19,'Concordance Classmt & Points'!$A$2:$B$33,2,FALSE)),0) | AW19: =IF(ISNUMBER(AV19),AV19+AV19*(MAX(0,$G19-28))*1.5/100,"") | AZ19: =IF(AY19="","",RANK(AY19,AY$3:AY$70,1)) | BA19: =IFERROR(IF(AZ19="","",VLOOKUP(AZ19,'Concordance Classmt & Points'!$A$2:$B$33,2,FALSE)),0) | BB19: =IF(ISNUMBER(BA19),BA19+BA19*(MAX(0,$G19-28))*1.5/100,"") | BE19: =IF(BD19="","",RANK(BD19,BD$3:BD$70,1)) | BF19: =IFERROR(IF(BE19="","",VLOOKUP(BE19,'Concordance Classmt & Points'!$A$2:$B$33,2,FALSE)),0) | BG19: =IF(ISNUMBER(BF19),BF19+BF19*(MAX(0,$G19-28))*1.5/100,"") | BI19: =IF(COUNT(L19,R19,W19,AB19,AG19,AQ19,AL19,AV19,BA19,BF19),SUM(L19,R19,W19,AB19,AG19,AQ19,AL19,AV19,BA19,BF19),"-") -> 91 | BJ19: =IF(COUNT(M19,S19,X19,AC19,AH19,AM19,AR19,AW19,BB19,BG19),SUM(M19,S19,X19,AC19,AH19,AM19,AR19,AW19,BB19,BG19),"-") -> 106.015 | BK19: =IF(BJ19="-","",RANK(BJ19,BJ$3:BJ$70)) -> 17
A20: =IF(BJ20="-","",RANK(BJ20,BJ$3:BJ$70)) -> 18 | B20: Lille CP | D20: Omar | F20: 34762 | G20: =DATEDIF(F20,NOW(),"Y") -> 30 | J20: 16 | K20: =IF(J20="","",RANK(J20,J$3:J$70,0)) -> 5 | L20: =IFERROR(IF(K20="","",VLOOKUP(K20,'Concordance Classmt & Points'!$A$2:$B$33,2,FALSE)),0) -> 45 | M20: =IF(ISNUMBER(L20),L20+L20*(MAX(0,$G20-28))*1.5/100,"") -> 46.35 | O20: 16 | Q20: =IF(P20="","",RANK(P20,P$3:P$70,0)) | R20: =IFERROR(IF(Q20="","",VLOOKUP(Q20,'Concordance Classmt & Points'!$A$2:$B$33,2,FALSE)),0) | S20: =IF(ISNUMBER(R20),R20+R20*(MAX(0,$G20-28))*1.5/100,"") | V20: =IF(U20="","",RANK(U20,U$3:U$70,1)) | W20: =IFERROR(IF(V20="","",VLOOKUP(V20,'Concordance Classmt & Points'!$A$2:$B$33,2,FALSE)),0) | X20: =IF(ISNUMBER(W20),W20+W20*(MAX(0,$G20-28))*1.5/100,"") | AA20: =IF(Z20="","",RANK(Z20,Z$3:Z$70,1)) | AB20: =IFERROR(IF(AA20="","",VLOOKUP(AA20,'Concordance Classmt & Points'!$A$2:$B$33,2,FALSE)),0) | AC20: =IF(ISNUMBER(AB20),AB20+AB20*(MAX(0,$G20-28))*1.5/100,"") | AE20: 0.0026770833 | AF20: =IF(AE20="","",RANK(AE20,AE$3:AE$70,1)) -> 14 | AG20: =IFERROR(IF(AF20="","",VLOOKUP(AF20,'Concordance Classmt & Points'!$A$2:$B$33,2,FALSE)),0) -> 27 | AH20: =IF(ISNUMBER(AG20),AG20+AG20*(MAX(0,$G20-28))*1.5/100,"") -> 27.81 | AJ20: 0.0026770833 | AK20: =IF(AJ20="","",RANK(AJ20,AJ$3:AJ$70,1)) -> 14 | AL20: =IFERROR(IF(AK20="","",VLOOKUP(AK20,'Concordance Classmt & Points'!$A$2:$B$33,2,FALSE)),0) -> 27 | AM20: =IF(ISNUMBER(AL20),AL20+AL20*(MAX(0,$G20-28))*1.5/100,"") -> 27.81 | AP20: =IF(AO20="","",RANK(AO20,AO$3:AO$70,1)) | AQ20: =IFERROR(IF(AP20="","",VLOOKUP(AP20,'Concordance Classmt & Points'!$A$2:$B$33,2,FALSE)),0) | AR20: =IF(ISNUMBER(AQ20),AQ20+AQ20*(MAX(0,$G20-28))*1.5/100,"") | AU20: =IF(AT20="","",RANK(AT20,AT$3:AT$70,1)) | AV20: =IFERROR(IF(AU20="","",VLOOKUP(AU20,'Concordance Classmt & Points'!$A$2:$B$33,2,FALSE)),0) | AW20: =IF(ISNUMBER(AV20),AV20+AV20*(MAX(0,$G20-28))*1.5/100,"") | AZ20: =IF(AY20="","",RANK(AY20,AY$3:AY$70,1)) | BA20: =IFERROR(IF(AZ20="","",VLOOKUP(AZ20,'Concordance Classmt & Points'!$A$2:$B$33,2,FALSE)),0) | BB20: =IF(ISNUMBER(BA20),BA20+BA20*(MAX(0,$G20-28))*1.5/100,"") | BE20: =IF(BD20="","",RANK(BD20,BD$3:BD$70,1)) | BF20: =IFERROR(IF(BE20="","",VLOOKUP(BE20,'Concordance Classmt & Points'!$A$2:$B$33,2,FALSE)),0) | BG20: =IF(ISNUMBER(BF20),BF20+BF20*(MAX(0,$G20-28))*1.5/100,"") | BI20: =IF(COUNT(L20,R20,W20,AB20,AG20,AQ20,AL20,AV20,BA20,BF20),SUM(L20,R20,W20,AB20,AG20,AQ20,AL20,AV20,BA20,BF20),"-") -> 99 | BJ20: =IF(COUNT(M20,S20,X20,AC20,AH20,AM20,AR20,AW20,BB20,BG20),SUM(M20,S20,X20,AC20,AH20,AM20,AR20,AW20,BB20,BG20),"-") -> 101.97 | BK20: =IF(BJ20="-","",RANK(BJ20,BJ$3:BJ$70)) -> 18
A21: =IF(BJ21="-","",RANK(BJ21,BJ$3:BJ$70)) -> 19 | B21: Tarascon CD | D21: Pierre | F21: 29555 | G21: =DATEDIF(F21,NOW(),"Y") -> 44 | K21: =IF(J21="","",RANK(J21,J$3:J$70,0)) | L21: =IFERROR(IF(K21="","",VLOOKUP(K21,'Concordance Classmt & Points'!$A$2:$B$33,2,FALSE)),0) | M21: =IF(ISNUMBER(L21),L21+L21*(MAX(0,$G21-28))*1.5/100,"") | Q21: =IF(P21="","",RANK(P21,P$3:P$70,0)) | R21: =IFERROR(IF(Q21="","",VLOOKUP(Q21,'Concordance Classmt & Points'!$A$2:$B$33,2,FALSE)),0) | S21: =IF(ISNUMBER(R21),R21+R21*(MAX(0,$G21-28))*1.5/100,"") | V21: =IF(U21="","",RANK(U21,U$3:U$70,1)) | W21: =IFERROR(IF(V21="","",VLOOKUP(V21,'Concordance Classmt & Points'!$A$2:$B$33,2,FALSE)),0) | X21: =IF(ISNUMBER(W21),W21+W21*(MAX(0,$G21-28))*1.5/100,"") | AA21: =IF(Z21="","",RANK(Z21,Z$3:Z$70,1)) | AB21: =IFERROR(IF(AA21="","",VLOOKUP(AA21,'Concordance Classmt & Points'!$A$2:$B$33,2,FALSE)),0) | AC21: =IF(ISNUMBER(AB21),AB21+AB21*(MAX(0,$G21-28))*1.5/100,"") | AE21: 0.0025439815 | AF21: =IF(AE21="","",RANK(AE21,AE$3:AE$70,1)) -> 8 | AG21: =IFERROR(IF(AF21="","",VLOOKUP(AF21,'Concordance Classmt & Points'!$A$2:$B$33,2,FALSE)),0) -> 34 | AH21: =IF(ISNUMBER(AG21),AG21+AG21*(MAX(0,$G21-28))*1.5/100,"") -> 42.16 | AJ21: 0.0025439815 | AK21: =IF(AJ21="","",RANK(AJ21,AJ$3:AJ$70,1)) -> 8 | AL21: =IFERROR(IF(AK21="","",VLOOKUP(AK21,'Concordance Classmt & Points'!$A$2:$B$33,2,FALSE)),0) -> 34 | AM21: =IF(ISNUMBER(AL21),AL21+AL21*(MAX(0,$G21-28))*1.5/100,"") -> 42.16 | AP21: =IF(AO21="","",RANK(AO21,AO$3:AO$70,1)) | AQ21: =IFERROR(IF(AP21="","",VLOOKUP(AP21,'Concordance Classmt & Points'!$A$2:$B$33,2,FALSE)),0) | AR21: =IF(ISNUMBER(AQ21),AQ21+AQ21*(MAX(0,$G21-28))*1.5/100,"") | AU21: =IF(AT21="","",RANK(AT21,AT$3:AT$70,1)) | AV21: =IFERROR(IF(AU21="","",VLOOKUP(AU21,'Concordance Classmt & Points'!$A$2:$B$33,2,FALSE)),0) | AW21: =IF(ISNUMBER(AV21),AV21+AV21*(MAX(0,$G21-28))*1.5/100,"") | AZ21: =IF(AY21="","",RANK(AY21,AY$3:AY$70,1)) | BA21: =IFERROR(IF(AZ21="","",VLOOKUP(AZ21,'Concordance Classmt & Points'!$A$2:$B$33,2,FALSE)),0) | BB21: =IF(ISNUMBER(BA21),BA21+BA21*(MAX(0,$G21-28))*1.5/100,"") | BE21: =IF(BD21="","",RANK(BD21,BD$3:BD$70,1)) | BF21: =IFERROR(IF(BE21="","",VLOOKUP(BE21,'Concordance Classmt & Points'!$A$2:$B$33,2,FALSE)),0) | BG21: =IF(ISNUMBER(BF21),BF21+BF21*(MAX(0,$G21-28))*1.5/100,"") | BI21: =IF(COUNT(L21,R21,W21,AB21,AG21,AQ21,AL21,AV21,BA21,BF21),SUM(L21,R21,W21,AB21,AG21,AQ21,AL21,AV21,BA21,BF21),"-") -> 68 | BJ21: =IF(COUNT(M21,S21,X21,AC21,AH21,AM21,AR21,AW21,BB21,BG21),SUM(M21,S21,X21,AC21,AH21,AM21,AR21,AW21,BB21,BG21),"-") -> 84.32 | BK21: =IF(BJ21="-","",RANK(BJ21,BJ$3:BJ$70)) -> 19
A22: =IF(BJ22="-","",RANK(BJ22,BJ$3:BJ$70)) -> 20 | B22: Tarascon CD | D22: Yohan | F22: 30957 | G22: =DATEDIF(F22,NOW(),"Y") -> 40 | J22: 8 | K22: =IF(J22="","",RANK(J22,J$3:J$70,0)) -> 25 | L22: =IFERROR(IF(K22="","",VLOOKUP(K22,'Concordance Classmt & Points'!$A$2:$B$33,2,FALSE)),0) -> 12 | M22: =IF(ISNUMBER(L22),L22+L22*(MAX(0,$G22-28))*1.5/100,"") -> 14.16 | O22: 8 | Q22: =IF(P22="","",RANK(P22,P$3:P$70,0)) | R22: =IFERROR(IF(Q22="","",VLOOKUP(Q22,'Concordance Classmt & Points'!$A$2:$B$33,2,FALSE)),0) | S22: =IF(ISNUMBER(R22),R22+R22*(MAX(0,$G22-28))*1.5/100,"") | V22: =IF(U22="","",RANK(U22,U$3:U$70,1)) | W22: =IFERROR(IF(V22="","",VLOOKUP(V22,'Concordance Classmt & Points'!$A$2:$B$33,2,FALSE)),0) | X22: =IF(ISNUMBER(W22),W22+W22*(MAX(0,$G22-28))*1.5/100,"") | AA22: =IF(Z22="","",RANK(Z22,Z$3:Z$70,1)) | AB22: =IFERROR(IF(AA22="","",VLOOKUP(AA22,'Concordance Classmt & Points'!$A$2:$B$33,2,FALSE)),0) | AC22: =IF(ISNUMBER(AB22),AB22+AB22*(MAX(0,$G22-28))*1.5/100,"") | AE22: 0.0027384259 | AF22: =IF(AE22="","",RANK(AE22,AE$3:AE$70,1)) -> 16 | AG22: =IFERROR(IF(AF22="","",VLOOKUP(AF22,'Concordance Classmt & Points'!$A$2:$B$33,2,FALSE)),0) -> 25 | AH22: =IF(ISNUMBER(AG22),AG22+AG22*(MAX(0,$G22-28))*1.5/100,"") -> 29.5 | AJ22: 0.0027384259 | AK22: =IF(AJ22="","",RANK(AJ22,AJ$3:AJ$70,1)) -> 16 | AL22: =IFERROR(IF(AK22="","",VLOOKUP(AK22,'Concordance Classmt & Points'!$A$2:$B$33,2,FALSE)),0) -> 25 | AM22: =IF(ISNUMBER(AL22),AL22+AL22*(MAX(0,$G22-28))*1.5/100,"") -> 29.5 | AP22: =IF(AO22="","",RANK(AO22,AO$3:AO$70,1)) | AQ22: =IFERROR(IF(AP22="","",VLOOKUP(AP22,'Concordance Classmt & Points'!$A$2:$B$33,2,FALSE)),0) | AR22: =IF(ISNUMBER(AQ22),AQ22+AQ22*(MAX(0,$G22-28))*1.5/100,"") | AU22: =IF(AT22="","",RANK(AT22,AT$3:AT$70,1)) | AV22: =IFERROR(IF(AU22="","",VLOOKUP(AU22,'Concordance Classmt & Points'!$A$2:$B$33,2,FALSE)),0) | AW22: =IF(ISNUMBER(AV22),AV22+AV22*(MAX(0,$G22-28))*1.5/100,"") | AZ22: =IF(AY22="","",RANK(AY22,AY$3:AY$70,1)) | BA22: =IFERROR(IF(AZ22="","",VLOOKUP(AZ22,'Concordance Classmt & Points'!$A$2:$B$33,2,FALSE)),0) | BB22: =IF(ISNUMBER(BA22),BA22+BA22*(MAX(0,$G22-28))*1.5/100,"") | BE22: =IF(BD22="","",RANK(BD22,BD$3:BD$70,1)) | BF22: =IFERROR(IF(BE22="","",VLOOKUP(BE22,'Concordance Classmt & Points'!$A$2:$B$33,2,FALSE)),0) | BG22: =IF(ISNUMBER(BF22),BF22+BF22*(MAX(0,$G22-28))*1.5/100,"") | BI22: =IF(COUNT(L22,R22,W22,AB22,AG22,AQ22,AL22,AV22,BA22,BF22),SUM(L22,R22,W22,AB22,AG22,AQ22,AL22,AV22,BA22,BF22),"-") -> 62 | BJ22: =IF(COUNT(M22,S22,X22,AC22,AH22,AM22,AR22,AW22,BB22,BG22),SUM(M22,S22,X22,AC22,AH22,AM22,AR22,AW22,BB22,BG22),"-") -> 73.16 | BK22: =IF(BJ22="-","",RANK(BJ22,BJ$3:BJ$70)) -> 20
A23: =IF(BJ23="-","",RANK(BJ23,BJ$3:BJ$70)) -> 21 | D23: Djawed | F23: 37965 | G23: =DATEDIF(F23,NOW(),"Y") -> 21 | J23: 9 | K23: =IF(J23="","",RANK(J23,J$3:J$70,0)) -> 20 | L23: =IFERROR(IF(K23="","",VLOOKUP(K23,'Concordance Classmt & Points'!$A$2:$B$33,2,FALSE)),0) -> 21 | M23: =IF(ISNUMBER(L23),L23+L23*(MAX(0,$G23-28))*1.5/100,"") -> 21 | O23: 9 | Q23: =IF(P23="","",RANK(P23,P$3:P$70,0)) | R23: =IFERROR(IF(Q23="","",VLOOKUP(Q23,'Concordance Classmt & Points'!$A$2:$B$33,2,FALSE)),0) | S23: =IF(ISNUMBER(R23),R23+R23*(MAX(0,$G23-28))*1.5/100,"") | V23: =IF(U23="","",RANK(U23,U$3:U$70,1)) | W23: =IFERROR(IF(V23="","",VLOOKUP(V23,'Concordance Classmt & Points'!$A$2:$B$33,2,FALSE)),0) | X23: =IF(ISNUMBER(W23),W23+W23*(MAX(0,$G23-28))*1.5/100,"") | AA23: =IF(Z23="","",RANK(Z23,Z$3:Z$70,1)) | AB23: =IFERROR(IF(AA23="","",VLOOKUP(AA23,'Concordance Classmt & Points'!$A$2:$B$33,2,FALSE)),0) | AC23: =IF(ISNUMBER(AB23),AB23+AB23*(MAX(0,$G23-28))*1.5/100,"") | AE23: 0.0027060185 | AF23: =IF(AE23="","",RANK(AE23,AE$3:AE$70,1)) -> 15 | AG23: =IFERROR(IF(AF23="","",VLOOKUP(AF23,'Concordance Classmt & Points'!$A$2:$B$33,2,FALSE)),0) -> 26 | AH23: =IF(ISNUMBER(AG23),AG23+AG23*(MAX(0,$G23-28))*1.5/100,"") -> 26 | AJ23: 0.0027060185 | AK23: =IF(AJ23="","",RANK(AJ23,AJ$3:AJ$70,1)) -> 15 | AL23: =IFERROR(IF(AK23="","",VLOOKUP(AK23,'Concordance Classmt & Points'!$A$2:$B$33,2,FALSE)),0) -> 26 | AM23: =IF(ISNUMBER(AL23),AL23+AL23*(MAX(0,$G23-28))*1.5/100,"") -> 26 | AP23: =IF(AO23="","",RANK(AO23,AO$3:AO$70,1)) | AQ23: =IFERROR(IF(AP23="","",VLOOKUP(AP23,'Concordance Classmt & Points'!$A$2:$B$33,2,FALSE)),0) | AR23: =IF(ISNUMBER(AQ23),AQ23+AQ23*(MAX(0,$G23-28))*1.5/100,"") | AU23: =IF(AT23="","",RANK(AT23,AT$3:AT$70,1)) | AV23: =IFERROR(IF(AU23="","",VLOOKUP(AU23,'Concordance Classmt & Points'!$A$2:$B$33,2,FALSE)),0) | AW23: =IF(ISNUMBER(AV23),AV23+AV23*(MAX(0,$G23-28))*1.5/100,"") | AZ23: =IF(AY23="","",RANK(AY23,AY$3:AY$70,1)) | BA23: =IFERROR(IF(AZ23="","",VLOOKUP(AZ23,'Concordance Classmt & Points'!$A$2:$B$33,2,FALSE)),0) | BB23: =IF(ISNUMBER(BA23),BA23+BA23*(MAX(0,$G23-28))*1.5/100,"") | BE23: =IF(BD23="","",RANK(BD23,BD$3:BD$70,1)) | BF23: =IFERROR(IF(BE23="","",VLOOKUP(BE23,'Concordance Classmt & Points'!$A$2:$B$33,2,FALSE)),0) | BG23: =IF(ISNUMBER(BF23),BF23+BF23*(MAX(0,$G23-28))*1.5/100,"") | BI23: =IF(COUNT(L23,R23,W23,AB23,AG23,AQ23,AL23,AV23,BA23,BF23),SUM(L23,R23,W23,AB23,AG23,AQ23,AL23,AV23,BA23,BF23),"-") -> 73 | BJ23: =IF(COUNT(M23,S23,X23,AC23,AH23,AM23,AR23,AW23,BB23,BG23),SUM(M23,S23,X23,AC23,AH23,AM23,AR23,AW23,BB23,BG23),"-") -> 73 | BK23: =IF(BJ23="-","",RANK(BJ23,BJ$3:BJ$70)) -> 21
