Workbook

Sheet Classmt par discipline+Général
A2: Clt | B2: Établissements | C2: Nom | D2: Prénom | E2: Écrou | F2: Date Anniv. | G2: Age | H2: Poids | I2: Taille (cm) | J2: Pompe | K2: Clt | L2: Pts | M2: Pts âge | N2: Date perf | O2: Traction | P2: Traction Coeff poids | Q2: Clt | R2: Pts | S2: Pts âge | T2: Date perf | U2: Gainage coudes | V2: Clt | W2: Pts | X2: Pts âge | Y2: Date perf | Z2: Chaise | AA2: Clt | AB2: Pts | AC2: Pts âge | AD2: Date perf | AE2: Rameur 500m | AF2: Clt | AG2: Pts | AH2: Pts âge | AI2: Date perf | AJ2: Rameur 2000m | AK2: Clt | AL2: Pts | AM2: Pts âge | AN2: Date perf | AO2: Course 200m | AP2: Clt | AQ2: Pts | AR2: Pts âge | AS2: Date perf | AT2: Course 5000m | AU2: Clt | AV2: Pts | AW2: Pts âge | AX2: Date perf | AY2: Course Tapis 3000m | AZ2: Clt | BA2: Pts | BB2: Pts âge | BC2: Date perf | BD2: Luc-Léger | BE2: Clt | BF2: Pts | BG2: Pts âge | BH2: Date perf | BI2: Totaux sans âge | BJ2: Totaux âge | BK2: CLT
A3: =IF(BJ3="-","",RANK(BJ3,BJ$3:BJ$70)) -> 1 | B3: Marseille CP | D3: Cédric | E3: 123456 | F3: 30190 | G3: =DATEDIF(F3,NOW(),"Y") -> 42 | H3: 74 | I3: 180 | J3: 31 | K3: =IF(J3="","",RANK(J3,J$3:J$70,0)) -> 2 | L3: =IFERROR(IF(K3="","",VLOOKUP(K3,'Concordance Classmt & Points'!$A$2:$B$33,2,FALSE)),0) -> 75 | M3: =IF(ISNUMBER(L3),L3+L3*(MAX(0,$G3-28))*1.5/100,"") -> 90.75 | O3: 15 | P3: =437.8*O3*H3/(I3*I3) -> 14.998704 | Q3: =IF(P3="","",RANK(P3,P$3:P$70,0)) -> 1 | R3: =IFERROR(IF(Q3="","",VLOOKUP(Q3,'Concordance Classmt & Points'!$A$2:$B$33,2,FALSE)),0) -> 90 | S3: =IF(ISNUMBER(R3),R3+R3*(MAX(0,$G3-28))*1.5/100,"") -> 108.9 | U3: 2002 | V3: =IF(U3="","",RANK(U3,U$3:U$70,1)) -> 1 | W3: =IFERROR(IF(V3="","",VLOOKUP(V3,'Concordance Classmt & Points'!$A$2:$B$33,2,FALSE)),0) -> 90 | X3: =IF(ISNUMBER(W3),W3+W3*(MAX(0,$G3-28))*1.5/100,"") -> 108.9 | Z3: 2002 | AA3: =IF(Z3="","",RANK(Z3,Z$3:Z$70,1)) -> 1 | AB3: =IFERROR(IF(AA3="","",VLOOKUP(AA3,'Concordance Classmt & Points'!$A$2:$B$33,2,FALSE)),0) -> 90 | AC3: =IF(ISNUMBER(AB3),AB3+AB3*(MAX(0,$G3-28))*1.5/100,"") -> 108.9 | AE3: 0.0024837963 | AF3: =IF(AE3="","",RANK(AE3,AE$3:AE$70,1)) -> 3 | AG3: =IFERROR(IF(AF3="","",VLOOKUP(AF3,'Concordance Classmt & Points'!$A$2:$B$33,2,FALSE)),0) -> 60 | AH3: =IF(ISNUMBER(AG3),AG3+AG3*(MAX(0,$G3-28))*1.5/100,"") -> 72.6 | AJ3: 0.0024837963 | AK3: =IF(AJ3="","",RANK(AJ3,AJ$3:AJ$70,1)) -> 3 | AL3: =IFERROR(IF(AK3="","",VLOOKUP(AK3,'Concordance Classmt & Points'!$A$2:$B$33,2,FALSE)),0) -> 60 | AM3: =IF(ISNUMBER(AL3),AL3+AL3*(MAX(0,$G3-28))*1.5/100,"") -> 72.6 | AO3: 2002 | AP3: =IF(AO3="","",RANK(AO3,AO$3:AO$70,1)) -> 1 | AQ3: =IFERROR(IF(AP3="","",VLOOKUP(AP3,'Concordance Classmt & Points'!$A$2:$B$33,2,FALSE)),0) -> 90 | AR3: =IF(ISNUMBER(AQ3),AQ3+AQ3*(MAX(0,$G3-28))*1.5/100,"") -> 108.9 | AT3: 2002 | AU3: =IF(AT3="","",RANK(AT3,AT$3:AT$70,1)) -> 1 | AV3: =IFERROR(IF(AU3="","",VLOOKUP(AU3,'Concordance Classmt & Points'!$A$2:$B$33,2,FALSE)),0) -> 90 | AW3: =IF(ISNUMBER(AV3),AV3+AV3*(MAX(0,$G3-28))*1.5/100,"") -> 108.9 | AY3: 2002 | AZ3: =IF(AY3="","",RANK(AY3,AY$3:AY$70,1)) -> 1 | BA3: =IFERROR(IF(AZ3="","",VLOOKUP(AZ3,'Concordance Classmt & Points'!$A$2:$B$33,2,FALSE)),0) -> 90 | BB3: =IF(ISNUMBER(BA3),BA3+BA3*(MAX(0,$G3-28))*1.5/100,"") -> 108.9 | BD3: 2002 | BE3: =IF(BD3="","",RANK(BD3,BD$3:BD$70,1)) -> 1 | BF3: =IFERROR(IF(BE3="","",VLOOKUP(BE3,'Concordance Classmt & Points'!$A$2:$B$33,2,FALSE)),0) -> 90 | BG3: =IF(ISNUMBER(BF3),BF3+BF3*(MAX(0,$G3-28))*1.5/100,"") -> 108.9 | BI3: =IF(COUNT(L3,R3,W3,AB3,AG3,AQ3,AL3,AV3,BA3,BF3),SUM(L3,R3,W3,AB3,AG3,AQ3,AL3,AV3,BA3,BF3),"-") -> 825 | BJ3: =IF(COUNT(M3,S3,X3,AC3,AH3,AM3,AR3,AW3,BB3,BG3),SUM(M3,S3,X3,AC3,AH3,AM3,AR3,AW3,BB3,BG3),"-") -> 998.25 | BK3: =IF(BJ3="-","",RANK(BJ3,BJ$3:BJ$70)) -> 1
A4: =IF(BJ4="-","",RANK(BJ4,BJ$3:BJ$70)) -> 2 | B4: Marseille CP | D4: Jean Claude | E4: 124567 | F4: 22253 | G4: =DATEDIF(F4,NOW(),"Y") -> 64 | H4: 85 | I4: 190 | J4: 36 | K4: =IF(J4="","",RANK(J4,J$3:J$70,0)) -> 1 | L4: =IFERROR(IF(K4="","",VLOOKUP(K4,'Concordance Classmt & Points'!$A$2:$B$33,2,FALSE)),0) -> 90 | M4: =IF(ISNUMBER(L4),L4+L4*(MAX(0,$G4-28))*1.5/100,"") -> 138.6 | O4: 12 | P4: =437.8*O4*H4/(I4*I4) -> 12.369972 | Q4: =IF(P4="","",RANK(P4,P$3:P$70,0)) -> 2 | R4: =IFERROR(IF(Q4="","",VLOOKUP(Q4,'Concordance Classmt & Points'!$A$2:$B$33,2,FALSE)),0) -> 75 | S4: =IF(ISNUMBER(R4),R4+R4*(MAX(0,$G4-28))*1.5/100,"") -> 115.5 | U4: 2145 | V4: =IF(U4="","",RANK(U4,U$3:U$70,1)) -> 4 | W4: =IFERROR(IF(V4="","",VLOOKUP(V4,'Concordance Classmt & Points'!$A$2:$B$33,2,FALSE)),0) -> 50 | X4: =IF(ISNUMBER(W4),W4+W4*(MAX(0,$G4-28))*1.5/100,"") -> 77 | Z4: 2145 | AA4: =IF(Z4="","",RANK(Z4,Z$3:Z$70,1)) -> 4 | AB4: =IFERROR(IF(AA4="","",VLOOKUP(AA4,'Concordance Classmt & Points'!$A$2:$B$33,2,FALSE)),0) -> 50 | AC4: =IF(ISNUMBER(AB4),AB4+AB4*(MAX(0,$G4-28))*1.5/100,"") -> 77 | AE4: 0.0029085648 | AF4: =IF(AE4="","",RANK(AE4,AE$3:AE$70,1)) -> 20 | AG4: =IFERROR(IF(AF4="","",VLOOKUP(AF4,'Concordance Classmt & Points'!$A$2:$B$33,2,FALSE)),0) -> 21 | AH4: =IF(ISNUMBER(AG4),AG4+AG4*(MAX(0,$G4-28))*1.5/100,"") -> 32.34 | AJ4: 0.0029085648 | AK4: =IF(AJ4="","",RANK(AJ4,AJ$3:AJ$70,1)) -> 20 | AL4: =IFERROR(IF(AK4="","",VLOOKUP(AK4,'Concordance Classmt & Points'!$A$2:$B$33,2,FALSE)),0) -> 21 | AM4: =IF(ISNUMBER(AL4),AL4+AL4*(MAX(0,$G4-28))*1.5/100,"") -> 32.34 | AO4: 2145 | AP4: =IF(AO4="","",RANK(AO4,AO$3:AO$70,1)) -> 4 | AQ4: =IFERROR(IF(AP4="","",VLOOKUP(AP4,'Concordance Classmt & Points'!$A$2:$B$33,2,FALSE)),0) -> 50 | AR4: =IF(ISNUMBER(AQ4),AQ4+AQ4*(MAX(0,$G4-28))*1.5/100,"") -> 77 | AT4: 2145 | AU4: =IF(AT4="","",RANK(AT4,AT$3:AT$70,1)) -> 4 | AV4: =IFERROR(IF(AU4="","",VLOOKUP(AU4,'Concordance Classmt & Points'!$A$2:$B$33,2,FALSE)),0) -> 50 | AW4: =IF(ISNUMBER(AV4),AV4+AV4*(MAX(0,$G4-28))*1.5/100,"") -> 77 | AY4: 2145 | AZ4: =IF(AY4="","",RANK(AY4,AY$3:AY$70,1)) -> 4 | BA4: =IFERROR(IF(AZ4="","",VLOOKUP(AZ4,'Concordance Classmt & Points'!$A$2:$B$33,2,FALSE)),0) -> 50 | BB4: =IF(ISNUMBER(BA4),BA4+BA4*(MAX(0,$G4-28))*1.5/100,"") -> 77 | BD4: 2145 | BE4: =IF(BD4="","",RANK(BD4,BD$3:BD$70,1)) -> 4 | BF4: =IFERROR(IF(BE4="","",VLOOKUP(BE4,'Concordance Classmt & Points'!$A$2:$B$33,2,FALSE)),0) -> 50 | BG4: =IF(ISNUMBER(BF4),BF4+BF4*(MAX(0,$G4-28))*1.5/100,"") -> 77 | BI4: =IF(COUNT(L4,R4,W4,AB4,AG4,AQ4,AL4,AV4,BA4,BF4),SUM(L4,R4,W4,AB4,AG4,AQ4,AL4,AV4,BA4,BF4),"-") -> 507 | BJ4: =IF(COUNT(M4,S4,X4,AC4,AH4,AM4,AR4,AW4,BB4,BG4),SUM(M4,S4,X4,AC4,AH4,AM4,AR4,AW4,BB4,BG4),"-") -> 780.78 | BK4: =IF(BJ4="-","",RANK(BJ4,BJ$3:BJ$70)) -> 2
A5: =IF(BJ5="-","",RANK(BJ5,BJ$3:BJ$70)) -> 3 | B5: Tarascon CD | D5: Mohamed | F5: 37761 | G5: =DATEDIF(F5,NOW(),"Y") -> 21 | H5: 90 | I5: 190 | K5: =IF(J5="","",RANK(J5,J$3:J$70,0)) | L5: =IFERROR(IF(K5="","",VLOOKUP(K5,'Concordance Classmt & Points'!$A$2:$B$33,2,FALSE)),0) | M5: =IF(ISNUMBER(L5),L5+L5*(MAX(0,$G5-28))*1.5/100,"") | O5: 11 | P5: =437.8*O5*H5/(I5*I5) -> 12.00615 | Q5: =IF(P5="","",RANK(P5,P$3:P$70,0)) -> 3 | R5: =IFERROR(IF(Q5="","",VLOOKUP(Q5,'Concordance Classmt & Points'!$A$2:$B$33,2,FALSE)),0) -> 60 | S5: =IF(ISNUMBER(R5),R5+R5*(MAX(0,$G5-28))*1.5/100,"") -> 60 | U5: 2019 | V5: =IF(U5="","",RANK(U5,U$3:U$70,1)) -> 2 | W5: =IFERROR(IF(V5="","",VLOOKUP(V5,'Concordance Classmt & Points'!$A$2:$B$33,2,FALSE)),0) -> 75 | X5: =IF(ISNUMBER(W5),W5+W5*(MAX(0,$G5-28))*1.5/100,"") -> 75 | Z5: 2019 | AA5: =IF(Z5="","",RANK(Z5,Z$3:Z$70,1)) -> 2 | AB5: =IFERROR(IF(AA5="","",VLOOKUP(AA5,'Concordance Classmt & Points'!$A$2:$B$33,2,FALSE)),0) -> 75 | AC5: =IF(ISNUMBER(AB5),AB5+AB5*(MAX(0,$G5-28))*1.5/100,"") -> 75 | AE5: 0.0025405093 | AF5: =IF(AE5="","",RANK(AE5,AE$3:AE$70,1)) -> 7 | AG5: =IFERROR(IF(AF5="","",VLOOKUP(AF5,'Concordance Classmt & Points'!$A$2:$B$33,2,FALSE)),0) -> 36 | AH5: =IF(ISNUMBER(AG5),AG5+AG5*(MAX(0,$G5-28))*1.5/100,"") -> 36 | AJ5: 0.0025405093 | AK5: =IF(AJ5="","",RANK(AJ5,AJ$3:AJ$70,1)) -> 7 | AL5: =IFERROR(IF(AK5="","",VLOOKUP(AK5,'Concordance Classmt & Points'!$A$2:$B$33,2,FALSE)),0) -> 36 | AM5: =IF(ISNUMBER(AL5),AL5+AL5*(MAX(0,$G5-28))*1.5/100,"") -> 36 | AO5: 2019 | AP5: =IF(AO5="","",RANK(AO5,AO$3:AO$70,1)) -> 2 | AQ5: =IFERROR(IF(AP5="","",VLOOKUP(AP5,'Concordance Classmt & Points'!$A$2:$B$33,2,FALSE)),0) -> 75 | AR5: =IF(ISNUMBER(AQ5),AQ5+AQ5*(MAX(0,$G5-28))*1.5/100,"") -> 75 | AT5: 2019 | AU5: =IF(AT5="","",RANK(AT5,AT$3:AT$70,1)) -> 2 | AV5: =IFERROR(IF(AU5="","",VLOOKUP(AU5,'Concordance Classmt & Points'!$A$2:$B$33,2,FALSE)),0) -> 75 | AW5: =IF(ISNUMBER(AV5),AV5+AV5*(MAX(0,$G5-28))*1.5/100,"") -> 75 | AY5: 2019 | AZ5: =IF(AY5="","",RANK(AY5,AY$3:AY$70,1)) -> 2 | BA5: =IFERROR(IF(AZ5="","",VLOOKUP(AZ5,'Concordance Classmt & Points'!$A$2:$B$33,2,FALSE)),0) -> 75 | BB5: =IF(ISNUMBER(BA5),BA5+BA5*(MAX(0,$G5-28))*1.5/100,"") -> 75 | BD5: 2019 | BE5: =IF(BD5="","",RANK(BD5,BD$3:BD$70,1)) -> 2 | BF5: =IFERROR(IF(BE5="","",VLOOKUP(BE5,'Concordance Classmt & Points'!$A$2:$B$33,2,FALSE)),0) -> 75 | BG5: =IF(ISNUMBER(BF5),BF5+BF5*(MAX(0,$G5-28))*1.5/100,"") -> 75 | BI5: =IF(COUNT(L5,R5,W5,AB5,AG5,AQ5,AL5,AV5,BA5,BF5),SUM(L5,R5,W5,AB5,AG5,AQ5,AL5,AV5,BA5,BF5),"-") -> 582 | BJ5: =IF(COUNT(M5,S5,X5,AC5,AH5,AM5,AR5,AW5,BB5,BG5),SUM(M5,S5,X5,AC5,AH5,AM5,AR5,AW5,BB5,BG5),"-") -> 582 | BK5: =IF(BJ5="-","",RANK(BJ5,BJ$3:BJ$70)) -> 3
A6: =IF(BJ6="-","",RANK(BJ6,BJ$3:BJ$70)) -> 4 | B6: Tarascon CD | D6: Mohammed | F6: 32714 | G6: =DATEDIF(F6,NOW(),"Y") -> 35 | H6: 100 | I6: 190 | J6: 9 | K6: =IF(J6="","",RANK(J6,J$3:J$70,0)) -> 20 | L6: =IFERROR(IF(K6="","",VLOOKUP(K6,'Concordance Classmt & Points'!$A$2:$B$33,2,FALSE)),0) -> 21 | M6: =IF(ISNUMBER(L6),L6+L6*(MAX(0,$G6-28))*1.5/100,"") -> 23.205 | O6: 9 | P6: =437.8*O6*H6/(I6*I6) -> 10.914681 | Q6: =IF(P6="","",RANK(P6,P$3:P$70,0)) -> 4 | R6: =IFERROR(IF(Q6="","",VLOOKUP(Q6,'Concordance Classmt & Points'!$A$2:$B$33,2,FALSE)),0) -> 50 | S6: =IF(ISNUMBER(R6),R6+R6*(MAX(0,$G6-28))*1.5/100,"") -> 55.25 | U6: 2044 | V6: =IF(U6="","",RANK(U6,U$3:U$70,1)) -> 3 | W6: =IFERROR(IF(V6="","",VLOOKUP(V6,'Concordance Classmt & Points'!$A$2:$B$33,2,FALSE)),0) -> 60 | X6: =IF(ISNUMBER(W6),W6+W6*(MAX(0,$G6-28))*1.5/100,"") -> 66.3 | Z6: 2044 | AA6: =IF(Z6="","",RANK(Z6,Z$3:Z$70,1)) -> 3 | AB6: =IFERROR(IF(AA6="","",VLOOKUP(AA6,'Concordance Classmt & Points'!$A$2:$B$33,2,FALSE)),0) -> 60 | AC6: =IF(ISNUMBER(AB6),AB6+AB6*(MAX(0,$G6-28))*1.5/100,"") -> 66.3 | AE6: 0.0025902778 | AF6: =IF(AE6="","",RANK(AE6,AE$3:AE$70,1)) -> 9 | AG6: =IFERROR(IF(AF6="","",VLOOKUP(AF6,'Concordance Classmt & Points'!$A$2:$B$33,2,FALSE)),0) -> 32 | AH6: =IF(ISNUMBER(AG6),AG6+AG6*(MAX(0,$G6-28))*1.5/100,"") -> 35.36 | AJ6: 0.0025902778 | AK6: =IF(AJ6="","",RANK(AJ6,AJ$3:AJ$70,1)) -> 9 | AL6: =IFERROR(IF(AK6="","",VLOOKUP(AK6,'Concordance Classmt & Points'!$A$2:$B$33,2,FALSE)),0) -> 32 | AM6: =IF(ISNUMBER(AL6),AL6+AL6*(MAX(0,$G6-28))*1.5/100,"") -> 35.36 | AO6: 2044 | AP6: =IF(AO6="","",RANK(AO6,AO$3:AO$70,1)) -> 3 | AQ6: =IFERROR(IF(AP6="","",VLOOKUP(AP6,'Concordance Classmt & Points'!$A$2:$B$33,2,FALSE)),0) -> 60 | AR6: =IF(ISNUMBER(AQ6),AQ6+AQ6*(MAX(0,$G6-28))*1.5/100,"") -> 66.3 | AT6: 2044 | AU6: =IF(AT6="","",RANK(AT6,AT$3:AT$70,1)) -> 3 | AV6: =IFERROR(IF(AU6="","",VLOOKUP(AU6,'Concordance Classmt & Points'!$A$2:$B$33,2,FALSE)),0) -> 60 | AW6: =IF(ISNUMBER(AV6),AV6+AV6*(MAX(0,$G6-28))*1.5/100,"") -> 66.3 | AY6: 2044 | AZ6: =IF(AY6="","",RANK(AY6,AY$3:AY$70,1)) -> 3 | BA6: =IFERROR(IF(AZ6="","",VLOOKUP(AZ6,'Concordance Classmt & Points'!$A$2:$B$33,2,FALSE)),0) -> 60 | BB6: =IF(ISNUMBER(BA6),BA6+BA6*(MAX(0,$G6-28))*1.5/100,"") -> 66.3 | BD6: 2044 | BE6: =IF(BD6="","",RANK(BD6,BD$3:BD$70,1)) -> 3 | BF6: =IFERROR(IF(BE6="","",VLOOKUP(BE6,'Concordance Classmt & Points'!$A$2:$B$33,2,FALSE)),0) -> 60 | BG6: =IF(ISNUMBER(BF6),BF6+BF6*(MAX(0,$G6-28))*1.5/100,"") -> 66.3 | BI6: =IF(COUNT(L6,R6,W6,AB6,AG6,AQ6,AL6,AV6,BA6,BF6),SUM(L6,R6,W6,AB6,AG6,AQ6,AL6,AV6,BA6,BF6),"-") -> 495 | BJ6: =IF(COUNT(M6,S6,X6,AC6,AH6,AM6,AR6,AW6,BB6,BG6),SUM(M6,S6,X6,AC6,AH6,AM6,AR6,AW6,BB6,BG6),"-") -> 546.975 | BK6: =IF(BJ6="-","",RANK(BJ6,BJ$3:BJ$70)) -> 4
A7: =IF(BJ7="-","",RANK(BJ7,BJ$3:BJ$70)) -> 5 | B7: Tarascon CD | D7: Claude | F7: 32480 | G7: =DATEDIF(F7,NOW(),"Y") -> 36 | H7: 76 | I7: 160 | J7: 13 | K7: =IF(J7="","",RANK(J7,J$3:J$70,0)) -> 8 | L7: =IFERROR(IF(K7="","",VLOOKUP(K7,'Concordance Classmt & Points'!$A$2:$B$33,2,FALSE)),0) -> 34 | M7: =IF(ISNUMBER(L7),L7+L7*(MAX(0,$G7-28))*1.5/100,"") -> 38.08 | O7: 5 | P7: =437.8*O7*H7/(I7*I7) -> 6.4985938 | Q7: =IF(P7="","",RANK(P7,P$3:P$70,0)) -> 6 | R7: =IFERROR(IF(Q7="","",VLOOKUP(Q7,'Concordance Classmt & Points'!$A$2:$B$33,2,FALSE)),0) -> 40 | S7: =IF(ISNUMBER(R7),R7+R7*(MAX(0,$G7-28))*1.5/100,"") -> 44.8 | U7: 2610 | V7: =IF(U7="","",RANK(U7,U$3:U$70,1)) -> 6 | W7: =IFERROR(IF(V7="","",VLOOKUP(V7,'Concordance Classmt & Points'!$A$2:$B$33,2,FALSE)),0) -> 40 | X7: =IF(ISNUMBER(W7),W7+W7*(MAX(0,$G7-28))*1.5/100,"") -> 44.8 | Z7: 2610 | AA7: =IF(Z7="","",RANK(Z7,Z$3:Z$70,1)) -> 6 | AB7: =IFERROR(IF(AA7="","",VLOOKUP(AA7,'Concordance Classmt & Points'!$A$2:$B$33,2,FALSE)),0) -> 40 | AC7: =IF(ISNUMBER(AB7),AB7+AB7*(MAX(0,$G7-28))*1.5/100,"") -> 44.8 | AE7: 0.0024907407 | AF7: =IF(AE7="","",RANK(AE7,AE$3:AE$70,1)) -> 4 | AG7: =IFERROR(IF(AF7="","",VLOOKUP(AF7,'Concordance Classmt & Points'!$A$2:$B$33,2,FALSE)),0) -> 50 | AH7: =IF(ISNUMBER(AG7),AG7+AG7*(MAX(0,$G7-28))*1.5/100,"") -> 56 | AJ7: 0.0024907407 | AK7: =IF(AJ7="","",RANK(AJ7,AJ$3:AJ$70,1)) -> 4 | AL7: =IFERROR(IF(AK7="","",VLOOKUP(AK7,'Concordance Classmt & Points'!$A$2:$B$33,2,FALSE)),0) -> 50 | AM7: =IF(ISNUMBER(AL7),AL7+AL7*(MAX(0,$G7-28))*1.5/100,"") -> 56 | AO7: 2610 | AP7: =IF(AO7="","",RANK(AO7,AO$3:AO$70,1)) -> 6 | AQ7: =IFERROR(IF(AP7="","",VLOOKUP(AP7,'Concordance Classmt & Points'!$A$2:$B$33,2,FALSE)),0) -> 40 | AR7: =IF(ISNUMBER(AQ7),AQ7+AQ7*(MAX(0,$G7-28))*1.5/100,"") -> 44.8 | AT7: 2610 | AU7: =IF(AT7="","",RANK(AT7,AT$3:AT$70,1)) -> 6 | AV7: =IFERROR(IF(AU7="","",VLOOKUP(AU7,'Concordance Classmt & Points'!$A$2:$B$33,2,FALSE)),0) -> 40 | AW7: =IF(ISNUMBER(AV7),AV7+AV7*(MAX(0,$G7-28))*1.5/100,"") -> 44.8 | AY7: 2610 | AZ7: =IF(AY7="","",RANK(AY7,AY$3:AY$70,1)) -> 6 | BA7: =IFERROR(IF(AZ7="","",VLOOKUP(AZ7,'Concordance Classmt & Points'!$A$2:$B$33,2,FALSE)),0) -> 40 | BB7: =IF(ISNUMBER(BA7),BA7+BA7*(MAX(0,$G7-28))*1.5/100,"") -> 44.8 | BD7: 2610 | BE7: =IF(BD7="","",RANK(BD7,BD$3:BD$70,1)) -> 6 | BF7: =IFERROR(IF(BE7="","",VLOOKUP(BE7,'Concordance Classmt & Points'!$A$2:$B$33,2,FALSE)),0) -> 40 | BG7: =IF(ISNUMBER(BF7),BF7+BF7*(MAX(0,$G7-28))*1.5/100,"") -> 44.8 | BI7: =IF(COUNT(L7,R7,W7,AB7,AG7,AQ7,AL7,AV7,BA7,BF7),SUM(L7,R7,W7,AB7,AG7,AQ7,AL7,AV7,BA7,BF7),"-") -> 414 | BJ7: =IF(COUNT(M7,S7,X7,AC7,AH7,AM7,AR7,AW7,BB7,BG7),SUM(M7,S7,X7,AC7,AH7,AM7,AR7,AW7,BB7,BG7),"-") -> 463.68 | BK7: =IF(BJ7="-","",RANK(BJ7,BJ$3:BJ$70)) -> 5
A8: =IF(BJ8="-","",RANK(BJ8,BJ$3:BJ$70)) -> 6 | B8: Marseille CP | D8: Antony | E8: 222222 | F8: 35554 | G8: =DATEDIF(F8,NOW(),"Y") -> 28 | H8: 93 | I8: 178 | J8: 25 | K8: =IF(J8="","",RANK(J8,J$3:J$70,0)) -> 3 | L8: =IFERROR(IF(K8="","",VLOOKUP(K8,'Concordance Classmt & Points'!$A$2:$B$33,2,FALSE)),0) -> 60 | M8: =IF(ISNUMBER(L8),L8+L8*(MAX(0,$G8-28))*1.5/100,"") -> 60 | O8: 7 | P8: =437.8*O8*H8/(I8*I8) -> 8.9953226 | Q8: =IF(P8="","",RANK(P8,P$3:P$70,0)) -> 5 | R8: =IFERROR(IF(Q8="","",VLOOKUP(Q8,'Concordance Classmt & Points'!$A$2:$B$33,2,FALSE)),0) -> 45 | S8: =IF(ISNUMBER(R8),R8+R8*(MAX(0,$G8-28))*1.5/100,"") -> 45 | U8: 2750 | V8: =IF(U8="","",RANK(U8,U$3:U$70,1)) -> 9 | W8: =IFERROR(IF(V8="","",VLOOKUP(V8,'Concordance Classmt & Points'!$A$2:$B$33,2,FALSE)),0) -> 32 | X8: =IF(ISNUMBER(W8),W8+W8*(MAX(0,$G8-28))*1.5/100,"") -> 32 | Z8: 2750 | AA8: =IF(Z8="","",RANK(Z8,Z$3:Z$70,1)) -> 9 | AB8: =IFERROR(IF(AA8="","",VLOOKUP(AA8,'Concordance Classmt & Points'!$A$2:$B$33,2,FALSE)),0) -> 32 | AC8: =IF(ISNUMBER(AB8),AB8+AB8*(MAX(0,$G8-28))*1.5/100,"") -> 32 | AE8: 0.0024525463 | AF8: =IF(AE8="","",RANK(AE8,AE$3:AE$70,1)) -> 2 | AG8: =IFERROR(IF(AF8="","",VLOOKUP(AF8,'Concordance Classmt & Points'!$A$2:$B$33,2,FALSE)),0) -> 75 | AH8: =IF(ISNUMBER(AG8),AG8+AG8*(MAX(0,$G8-28))*1.5/100,"") -> 75 | AJ8: 0.0024525463 | AK8: =IF(AJ8="","",RANK(AJ8,AJ$3:AJ$70,1)) -> 2 | AL8: =IFERROR(IF(AK8="","",VLOOKUP(AK8,'Concordance Classmt & Points'!$A$2:$B$33,2,FALSE)),0) -> 75 | AM8: =IF(ISNUMBER(AL8),AL8+AL8*(MAX(0,$G8-28))*1.5/100,"") -> 75 | AO8: 2750 | AP8: =IF(AO8="","",RANK(AO8,AO$3:AO$70,1)) -> 9 | AQ8: =IFERROR(IF(AP8="","",VLOOKUP(AP8,'Concordance Classmt & Points'!$A$2:$B$33,2,FALSE)),0) -> 32 | AR8: =IF(ISNUMBER(AQ8),AQ8+AQ8*(MAX(0,$G8-28))*1.5/100,"") -> 32 | AT8: 2750 | AU8: =IF(AT8="","",RANK(AT8,AT$3:AT$70,1)) -> 9 | AV8: =IFERROR(IF(AU8="","",VLOOKUP(AU8,'Concordance Classmt & Points'!$A$2:$B$33,2,FALSE)),0) -> 32 | AW8: =IF(ISNUMBER(AV8),AV8+AV8*(MAX(0,$G8-28))*1.5/100,"") -> 32 | AY8: 2750 | AZ8: =IF(AY8="","",RANK(AY8,AY$3:AY$70,1)) -> 9 | BA8: =IFERROR(IF(AZ8="","",VLOOKUP(AZ8,'Concordance Classmt & Points'!$A$2:$B$33,2,FALSE)),0) -> 32 | BB8: =IF(ISNUMBER(BA8),BA8+BA8*(MAX(0,$G8-28))*1.5/100,"") -> 32 | BD8: 2750 | BE8: =IF(BD8="","",RANK(BD8,BD$3:BD$70,1)) -> 9 | BF8: =IFERROR(IF(BE8="","",VLOOKUP(BE8,'Concordance Classmt & Points'!$A$2:$B$33,2,FALSE)),0) -> 32 | BG8: =IF(ISNUMBER(BF8),BF8+BF8*(MAX(0,$G8-28))*1.5/100,"") -> 32 | BI8: =IF(COUNT(L8,R8,W8,AB8,AG8,AQ8,AL8,AV8,BA8,BF8),SUM(L8,R8,W8,AB8,AG8,AQ8,AL8,AV8,BA8,BF8),"-") -> 447 | BJ8: =IF(COUNT(M8,S8,X8,AC8,AH8,AM8,AR8,AW8,BB8,BG8),SUM(M8,S8,X8,AC8,AH8,AM8,AR8,AW8,BB8,BG8),"-") -> 447 | BK8: =IF(BJ8="-","",RANK(BJ8,BJ$3:BJ$70)) -> 6
A9: =IF(BJ9="-","",RANK(BJ9,BJ$3:BJ$70)) -> 7 | B9: Tarascon CD | D9: Danyl | F9: 35795 | G9: =DATEDIF(F9,NOW(),"Y") -> 27 | K9: =IF(J9="","",RANK(J9,J$3:J$70,0)) | L9: =IFERROR(IF(K9="","",VLOOKUP(K9,'Concordance Classmt & Points'!$A$2:$B$33,2,FALSE)),0) | M9: =IF(ISNUMBER(L9),L9+L9*(MAX(0,$G9-28))*1.5/100,"") | Q9: =IF(P9="","",RANK(P9,P$3:P$70,0)) | R9: =IFERROR(IF(Q9="","",VLOOKUP(Q9,'Concordance Classmt & Points'!$A$2:$B$33,2,FALSE)),0) | S9: =IF(ISNUMBER(R9),R9+R9*(MAX(0,$G9-28))*1.5/100,"") | U9: 2421 | V9: =IF(U9="","",RANK(U9,U$3:U$70,1)) -> 5 | W9: =IFERROR(IF(V9="","",VLOOKUP(V9,'Concordance Classmt & Points'!$A$2:$B$33,2,FALSE)),0) -> 45 | X9: =IF(ISNUMBER(W9),W9+W9*(MAX(0,$G9-28))*1.5/100,"") -> 45 | Z9: 2421 | AA9: =IF(Z9="","",RANK(Z9,Z$3:Z$70,1)) -> 5 | AB9: =IFERROR(IF(AA9="","",VLOOKUP(AA9,'Concordance Classmt & Points'!$A$2:$B$33,2,FALSE)),0) -> 45 | AC9: =IF(ISNUMBER(AB9),AB9+AB9*(MAX(0,$G9-28))*1.5/100,"") -> 45 | AF9: =IF(AE9="","",RANK(AE9,AE$3:AE$70,1)) | AG9: =IFERROR(IF(AF9="","",VLOOKUP(AF9,'Concordance Classmt & Points'!$A$2:$B$33,2,FALSE)),0) | AH9: =IF(ISNUMBER(AG9),AG9+AG9*(MAX(0,$G9-28))*1.5/100,"") | AK9: =IF(AJ9="","",RANK(AJ9,AJ$3:AJ$70,1)) | AL9: =IFERROR(IF(AK9="","",VLOOKUP(AK9,'Concordance Classmt & Points'!$A$2:$B$33,2,FALSE)),0) | AM9: =IF(ISNUMBER(AL9),AL9+AL9*(MAX(0,$G9-28))*1.5/100,"") | AO9: 2421 | AP9: =IF(AO9="","",RANK(AO9,AO$3:AO$70,1)) -> 5 | AQ9: =IFERROR(IF(AP9="","",VLOOKUP(AP9,'Concordance Classmt & Points'!$A$2:$B$33,2,FALSE)),0) -> 45 | AR9: =IF(ISNUMBER(AQ9),AQ9+AQ9*(MAX(0,$G9-28))*1.5/100,"") -> 45 | AT9: 2421 | AU9: =IF(AT9="","",RANK(AT9,AT$3:AT$70,1)) -> 5 | AV9: =IFERROR(IF(AU9="","",VLOOKUP(AU9,'Concordance Classmt & Points'!$A$2:$B$33,2,FALSE)),0) -> 45 | AW9: =IF(ISNUMBER(AV9),AV9+AV9*(MAX(0,$G9-28))*1.5/100,"") -> 45 | AY9: 2421 | AZ9: =IF(AY9="","",RANK(AY9,AY$3:AY$70,1)) -> 5 | BA9: =IFERROR(IF(AZ9="","",VLOOKUP(AZ9,'Concordance Classmt & Points'!$A$2:$B$33,2,FALSE)),0) -> 45 | BB9: =IF(ISNUMBER(BA9),BA9+BA9*(MAX(0,$G9-28))*1.5/100,"") -> 45 | BD9: 2421 | BE9: =IF(BD9="","",RANK(BD9,BD$3:BD$70,1)) -> 5 | BF9: =IFERROR(IF(BE9="","",VLOOKUP(BE9,'Concordance Classmt & Points'!$A$2:$B$33,2,FALSE)),0) -> 45 | BG9: =IF(ISNUMBER(BF9),BF9+BF9*(MAX(0,$G9-28))*1.5/100,"") -> 45 | BI9: =IF(COUNT(L9,R9,W9,AB9,AG9,AQ9,AL9,AV9,BA9,BF9),SUM(L9,R9,W9,AB9,AG9,AQ9,AL9,AV9,BA9,BF9),"-") -> 270 | BJ9: =IF(COUNT(M9,S9,X9,AC9,AH9,AM9,AR9,AW9,BB9,BG9),SUM(M9,S9,X9,AC9,AH9,AM9,AR9,AW9,BB9,BG9),"-") -> 270 | BK9: =IF(BJ9="-","",RANK(BJ9,BJ$3:BJ$70)) -> 7
A10: =IF(BJ10="-","",RANK(BJ10,BJ$3:BJ$70)) -> 8 | B10: Marseille CP | D10: Patricia | F10: 25461 | G10: =DATEDIF(F10,NOW(),"Y") -> 55 | K10: =IF(J10="","",RANK(J10,J$3:J$70,0)) | L10: =IFERROR(IF(K10="","",VLOOKUP(K10,'Concordance Classmt & Points'!$A$2:$B$33,2,FALSE)),0) | M10: =IF(ISNUMBER(L10),L10+L10*(MAX(0,$G10-28))*1.5/100,"") | Q10: =IF(P10="","",RANK(P10,P$3:P$70,0)) | R10: =IFERROR(IF(Q10="","",VLOOKUP(Q10,'Concordance Classmt & Points'!$A$2:$B$33,2,FALSE)),0) | S10: =IF(ISNUMBER(R10),R10+R10*(MAX(0,$G10-28))*1.5/100,"") | U10: 2941 | V10: =IF(U10="","",RANK(U10,U$3:U$70,1)) -> 10 | W10: =IFERROR(IF(V10="","",VLOOKUP(V10,'Concordance Classmt & Points'!$A$2:$B$33,2,FALSE)),0) -> 31 | X10: =IF(ISNUMBER(W10),W10+W10*(MAX(0,$G10-28))*1.5/100,"") -> 43.555 | Z10: 2941 | AA10: =IF(Z10="","",RANK(Z10,Z$3:Z$70,1)) -> 10 | AB10: =IFERROR(IF(AA10="","",VLOOKUP(AA10,'Concordance Classmt & Points'!$A$2:$B$33,2,FALSE)),0) -> 31 | AC10: =IF(ISNUMBER(AB10),AB10+AB10*(MAX(0,$G10-28))*1.5/100,"") -> 43.555 | AF10: =IF(AE10="","",RANK(AE10,AE$3:AE$70,1)) | AG10: =IFERROR(IF(AF10="","",VLOOKUP(AF10,'Concordance Classmt & Points'!$A$2:$B$33,2,FALSE)),0) | AH10: =IF(ISNUMBER(AG10),AG10+AG10*(MAX(0,$G10-28))*1.5/100,"") | AK10: =IF(AJ10="","",RANK(AJ10,AJ$3:AJ$70,1)) | AL10: =IFERROR(IF(AK10="","",VLOOKUP(AK10,'Concordance Classmt & Points'!$A$2:$B$33,2,FALSE)),0) | AM10: =IF(ISNUMBER(AL10),AL10+AL10*(MAX(0,$G10-28))*1.5/100,"") | AO10: 2941 | AP10: =IF(AO10="","",RANK(AO10,AO$3:AO$70,1)) -> 10 | AQ10: =IFERROR(IF(AP10="","",VLOOKUP(AP10,'Concordance Classmt & Points'!$A$2:$B$33,2,FALSE)),0) -> 31 | AR10: =IF(ISNUMBER(AQ10),AQ10+AQ10*(MAX(0,$G10-28))*1.5/100,"") -> 43.555 | AT10: 2941 | AU10: =IF(AT10="","",RANK(AT10,AT$3:AT$70,1)) -> 10 | AV10: =IFERROR(IF(AU10="","",VLOOKUP(AU10,'Concordance Classmt & Points'!$A$2:$B$33,2,FALSE)),0) -> 31 | AW10: =IF(ISNUMBER(AV10),AV10+AV10*(MAX(0,$G10-28))*1.5/100,"") -> 43.555 | AY10: 2941 | AZ10: =IF(AY10="","",RANK(AY10,AY$3:AY$70,1)) -> 10 | BA10: =IFERROR(IF(AZ10="","",VLOOKUP(AZ10,'Concordance Classmt & Points'!$A$2:$B$33,2,FALSE)),0) -> 31 | BB10: =IF(ISNUMBER(BA10),BA10+BA10*(MAX(0,$G10-28))*1.5/100,"") -> 43.555 | BD10: 2941 | BE10: =IF(BD10="","",RANK(BD10,BD$3:BD$70,1)) -> 10 | BF10: =IFERROR(IF(BE10="","",VLOOKUP(BE10,'Concordance Classmt & Points'!$A$2:$B$33,2,FALSE)),0) -> 31 | BG10: =IF(ISNUMBER(BF10),BF10+BF10*(MAX(0,$G10-28))*1.5/100,"") -> 43.555 | BI10: =IF(COUNT(L10,R10,W10,AB10,AG10,AQ10,AL10,AV10,BA10,BF10),SUM(L10,R10,W10,AB10,AG10,AQ10,AL10,AV10,BA10,BF10),"-") -> 186 | BJ10: =IF(COUNT(M10,S10,X10,AC10,AH10,AM10,AR10,AW10,BB10,BG10),SUM(M10,S10,X10,AC10,AH10,AM10,AR10,AW10,BB10,BG10),"-") -> 261.33 | BK10: =IF(BJ10="-","",RANK(BJ10,BJ$3:BJ$70)) -> 8
A11: =IF(BJ11="-","",RANK(BJ11,BJ$3:BJ$70)) -> 9 | B11: Troyes MA | D11: Badara | F11: 27429 | G11: =DATEDIF(F11,NOW(),"Y") -> 50 | J11: 4 | K11: =IF(J11="","",RANK(J11,J$3:J$70,0)) -> 44 | L11: =IFERROR(IF(K11="","",VLOOKUP(K11,'Concordance Classmt & Points'!$A$2:$B$33,2,FALSE)),0) -> 0 | M11: =IF(ISNUMBER(L11),L11+L11*(MAX(0,$G11-28))*1.5/100,"") -> 0 | O11: 4 | Q11: =IF(P11="","",RANK(P11,P$3:P$70,0)) | R11: =IFERROR(IF(Q11="","",VLOOKUP(Q11,'Concordance Classmt & Points'!$A$2:$B$33,2,FALSE)),0) | S11: =IF(ISNUMBER(R11),R11+R11*(MAX(0,$G11-28))*1.5/100,"") | U11: 2995 | V11: =IF(U11="","",RANK(U11,U$3:U$70,1)) -> 11 | W11: =IFERROR(IF(V11="","",VLOOKUP(V11,'Concordance Classmt & Points'!$A$2:$B$33,2,FALSE)),0) -> 30 | X11: =IF(ISNUMBER(W11),W11+W11*(MAX(0,$G11-28))*1.5/100,"") -> 39.9 | Z11: 2995 | AA11: =IF(Z11="","",RANK(Z11,Z$3:Z$70,1)) -> 11 | AB11: =IFERROR(IF(AA11="","",VLOOKUP(AA11,'Concordance Classmt & Points'!$A$2:$B$33,2,FALSE)),0) -> 30 | AC11: =IF(ISNUMBER(AB11),AB11+AB11*(MAX(0,$G11-28))*1.5/100,"") -> 39.9 | AE11: 0.0031840278 | AF11: =IF(AE11="","",RANK(AE11,AE$3:AE$70,1)) -> 27 | AG11: =IFERROR(IF(AF11="","",VLOOKUP(AF11,'Concordance Classmt & Points'!$A$2:$B$33,2,FALSE)),0) -> 8 | AH11: =IF(ISNUMBER(AG11),AG11+AG11*(MAX(0,$G11-28))*1.5/100,"") -> 10.64 | AJ11: 0.0031840278 | AK11: =IF(AJ11="","",RANK(AJ11,AJ$3:AJ$70,1)) -> 27 | AL11: =IFERROR(IF(AK11="","",VLOOKUP(AK11,'Concordance Classmt & Points'!$A$2:$B$33,2,FALSE)),0) -> 8 | AM11: =IF(ISNUMBER(AL11),AL11+AL11*(MAX(0,$G11-28))*1.5/100,"") -> 10.64 | AO11: 2995 | AP11: =IF(AO11="","",RANK(AO11,AO$3:AO$70,1)) -> 11 | AQ11: =IFERROR(IF(AP11="","",VLOOKUP(AP11,'Concordance Classmt & Points'!$A$2:$B$33,2,FALSE)),0) -> 30 | AR11: =IF(ISNUMBER(AQ11),AQ11+AQ11*(MAX(0,$G11-28))*1.5/100,"") -> 39.9 | AT11: 2995 | AU11: =IF(AT11="","",RANK(AT11,AT$3:AT$70,1)) -> 11 | AV11: =IFERROR(IF(AU11="","",VLOOKUP(AU11,'Concordance Classmt & Points'!$A$2:$B$33,2,FALSE)),0) -> 30 | AW11: =IF(ISNUMBER(AV11),AV11+AV11*(MAX(0,$G11-28))*1.5/100,"") -> 39.9 | AY11: 2995 | AZ11: =IF(AY11="","",RANK(AY11,AY$3:AY$70,1)) -> 11 | BA11: =IFERROR(IF(AZ11="","",VLOOKUP(AZ11,'Concordance Classmt & Points'!$A$2:$B$33,2,FALSE)),0) -> 30 | BB11: =IF(ISNUMBER(BA11),BA11+BA11*(MAX(0,$G11-28))*1.5/100,"") -> 39.9 | BD11: 2995 | BE11: =IF(BD11="","",RANK(BD11,BD$3:BD$70,1)) -> 11 | BF11: =IFERROR(IF(BE11="","",VLOOKUP(BE11,'Concordance Classmt & Points'!$A$2:$B$33,2,FALSE)),0) -> 30 | BG11: =IF(ISNUMBER(BF11),BF11+BF11*(MAX(0,$G11-28))*1.5/100,"") -> 39.9 | BI11: =IF(COUNT(L11,R11,W11,AB11,AG11,AQ11,AL11,AV11,BA11,BF11),SUM(L11,R11,W11,AB11,AG11,AQ11,AL11,AV11,BA11,BF11),"-") -> 196 | BJ11: =IF(COUNT(M11,S11,X11,AC11,AH11,AM11,AR11,AW11,BB11,BG11),SUM(M11,S11,X11,AC11,AH11,AM11,AR11,AW11,BB11,BG11),"-") -> 260.68 | BK11: =IF(BJ11="-","",RANK(BJ11,BJ$3:BJ$70)) -> 9
A12: =IF(BJ12="-","",RANK(BJ12,BJ$3:BJ$70)) -> 10 | B12: Lille CP | D12: Idrissa | F12: 34822 | G12: =DATEDIF(F12,NOW(),"Y") -> 30 | J12: 6 | K12: =IF(J12="","",RANK(J12,J$3:J$70,0)) -> 32 | L12: =IFERROR(IF(K12="","",VLOOKUP(K12,'Concordance Classmt & Points'!$A$2:$B$33,2,FALSE)),0) -> 0 | M12: =IF(ISNUMBER(L12),L12+L12*(MAX(0,$G12-28))*1.5/100,"") -> 0 | O12: 6 | Q12: =IF(P12="","",RANK(P12,P$3:P$70,0)) | R12: =IFERROR(IF(Q12="","",VLOOKUP(Q12,'Concordance Classmt & Points'!$A$2:$B$33,2,FALSE)),0) | S12: =IF(ISNUMBER(R12),R12+R12*(MAX(0,$G12-28))*1.5/100,"") | U12: 3011 | V12: =IF(U12="","",RANK(U12,U$3:U$70,1)) -> 12 | W12: =IFERROR(IF(V12="","",VLOOKUP(V12,'Concordance Classmt & Points'!$A$2:$B$33,2,FALSE)),0) -> 29 | X12: =IF(ISNUMBER(W12),W12+W12*(MAX(0,$G12-28))*1.5/100,"") -> 29.87 | Z12: 3011 | AA12: =IF(Z12="","",RANK(Z12,Z$3:Z$70,1)) -> 12 | AB12: =IFERROR(IF(AA12="","",VLOOKUP(AA12,'Concordance Classmt & Points'!$A$2:$B$33,2,FALSE)),0) -> 29 | AC12: =IF(ISNUMBER(AB12),AB12+AB12*(MAX(0,$G12-28))*1.5/100,"") -> 29.87 | AE12: 0.0026412037 | AF12: =IF(AE12="","",RANK(AE12,AE$3:AE$70,1)) -> 13 | AG12: =IFERROR(IF(AF12="","",VLOOKUP(AF12,'Concordance Classmt & Points'!$A$2:$B$33,2,FALSE)),0) -> 28 | AH12: =IF(ISNUMBER(AG12),AG12+AG12*(MAX(0,$G12-28))*1.5/100,"") -> 28.84 | AJ12: 0.0026412037 | AK12: =IF(AJ12="","",RANK(AJ12,AJ$3:AJ$70,1)) -> 13 | AL12: =IFERROR(IF(AK12="","",VLOOKUP(AK12,'Concordance Classmt & Points'!$A$2:$B$33,2,FALSE)),0) -> 28 | AM12: =IF(ISNUMBER(AL12),AL12+AL12*(MAX(0,$G12-28))*1.5/100,"") -> 28.84 | AO12: 3011 | AP12: =IF(AO12="","",RANK(AO12,AO$3:AO$70,1)) -> 12 | AQ12: =IFERROR(IF(AP12="","",VLOOKUP(AP12,'Concordance Classmt & Points'!$A$2:$B$33,2,FALSE)),0) -> 29 | AR12: =IF(ISNUMBER(AQ12),AQ12+AQ12*(MAX(0,$G12-28))*1.5/100,"") -> 29.87 | AT12: 3011 | AU12: =IF(AT12="","",RANK(AT12,AT$3:AT$70,1)) -> 12 | AV12: =IFERROR(IF(AU12="","",VLOOKUP(AU12,'Concordance Classmt & Points'!$A$2:$B$33,2,FALSE)),0) -> 29 | AW12: =IF(ISNUMBER(AV12),AV12+AV12*(MAX(0,$G12-28))*1.5/100,"") -> 29.87 | AY12: 3011 | AZ12: =IF(AY12="","",RANK(AY12,AY$3:AY$70,1)) -> 12 | BA12: =IFERROR(IF(AZ12="","",VLOOKUP(AZ12,'Concordance Classmt & Points'!$A$2:$B$33,2,FALSE)),0) -> 29 | BB12: =IF(ISNUMBER(BA12),BA12+BA12*(MAX(0,$G12-28))*1.5/100,"") -> 29.87 | BD12: 3011 | BE12: =IF(BD12="","",RANK(BD12,BD$3:BD$70,1)) -> 12 | BF12: =IFERROR(IF(BE12="","",VLOOKUP(BE12,'Concordance Classmt & Points'!$A$2:$B$33,2,FALSE)),0) -> 29 | BG12: =IF(ISNUMBER(BF12),BF12+BF12*(MAX(0,$G12-28))*1.5/100,"") -> 29.87 | BI12: =IF(COUNT(L12,R12,W12,AB12,AG12,AQ12,AL12,AV12,BA12,BF12),SUM(L12,R12,W12,AB12,AG12,AQ12,AL12,AV12,BA12,BF12),"-") -> 230 | BJ12: =IF(COUNT(M12,S12,X12,AC12,AH12,AM12,AR12,AW12,BB12,BG12),SUM(M12,S12,X12,AC12,AH12,AM12,AR12,AW12,BB12,BG12),"-") -> 236.9 | BK12: =IF(BJ12="-","",RANK(BJ12,BJ$3:BJ$70)) -> 10
A13: =IF(BJ13="-","",RANK(BJ13,BJ$3:BJ$70)) -> 11 | D13: Mamadou | F13: 35300 | G13: =DATEDIF(F13,NOW(),"Y") -> 28 | J13: 6 | K13: =IF(J13="","",RANK(J13,J$3:J$70,0)) -> 32 | L13: =IFERROR(IF(K13="","",VLOOKUP(K13,'Concordance Classmt & Points'!$A$2:$B$33,2,FALSE)),0) -> 0 | M13: =IF(ISNUMBER(L13),L13+L13*(MAX(0,$G13-28))*1.5/100,"") -> 0 | O13: 6 | Q13: =IF(P13="","",RANK(P13,P$3:P$70,0)) | R13: =IFERROR(IF(Q13="","",VLOOKUP(Q13,'Concordance Classmt & Points'!$A$2:$B$33,2,FALSE)),0) | S13: =IF(ISNUMBER(R13),R13+R13*(MAX(0,$G13-28))*1.5/100,"") | U13: 2613 | V13: =IF(U13="","",RANK(U13,U$3:U$70,1)) -> 7 | W13: =IFERROR(IF(V13="","",VLOOKUP(V13,'Concordance Classmt & Points'!$A$2:$B$33,2,FALSE)),0) -> 36 | X13: =IF(ISNUMBER(W13),W13+W13*(MAX(0,$G13-28))*1.5/100,"") -> 36 | Z13: 2613 | AA13: =IF(Z13="","",RANK(Z13,Z$3:Z$70,1)) -> 7 | AB13: =IFERROR(IF(AA13="","",VLOOKUP(AA13,'Concordance Classmt & Points'!$A$2:$B$33,2,FALSE)),0) -> 36 | AC13: =IF(ISNUMBER(AB13),AB13+AB13*(MAX(0,$G13-28))*1.5/100,"") -> 36 | AF13: =IF(AE13="","",RANK(AE13,AE$3:AE$70,1)) | AG13: =IFERROR(IF(AF13="","",VLOOKUP(AF13,'Concordance Classmt & Points'!$A$2:$B$33,2,FALSE)),0) | AH13: =IF(ISNUMBER(AG13),AG13+AG13*(MAX(0,$G13-28))*1.5/100,"") | AK13: =IF(AJ13="","",RANK(AJ13,AJ$3:AJ$70,1)) | AL13: =IFERROR(IF(AK13="","",VLOOKUP(AK13,'Concordance Classmt & Points'!$A$2:$B$33,2,FALSE)),0) | AM13: =IF(ISNUMBER(AL13),AL13+AL13*(MAX(0,$G13-28))*1.5/100,"") | AO13: 2613 | AP13: =IF(AO13="","",RANK(AO13,AO$3:AO$70,1)) -> 7 | AQ13: =IFERROR(IF(AP13="","",VLOOKUP(AP13,'Concordance Classmt & Points'!$A$2:$B$33,2,FALSE)),0) -> 36 | AR13: =IF(ISNUMBER(AQ13),AQ13+AQ13*(MAX(0,$G13-28))*1.5/100,"") -> 36 | AT13: 2613 | AU13: =IF(AT13="","",RANK(AT13,AT$3:AT$70,1)) -> 7 | AV13: =IFERROR(IF(AU13="","",VLOOKUP(AU13,'Concordance Classmt & Points'!$A$2:$B$33,2,FALSE)),0) -> 36 | AW13: =IF(ISNUMBER(AV13),AV13+AV13*(MAX(0,$G13-28))*1.5/100,"") -> 36 | AY13: 2613 | AZ13: =IF(AY13="","",RANK(AY13,AY$3:AY$70,1)) -> 7 | BA13: =IFERROR(IF(AZ13="","",VLOOKUP(AZ13,'Concordance Classmt & Points'!$A$2:$B$33,2,FALSE)),0) -> 36 | BB13: =IF(ISNUMBER(BA13),BA13+BA13*(MAX(0,$G13-28))*1.5/100,"") -> 36 | BD13: 2613 | BE13: =IF(BD13="","",RANK(BD13,BD$3:BD$70,1)) -> 7 | BF13: =IFERROR(IF(BE13="","",VLOOKUP(BE13,'Concordance Classmt & Points'!$A$2:$B$33,2,FALSE)),0) -> 36 | BG13: =IF(ISNUMBER(BF13),BF13+BF13*(MAX(0,$G13-28))*1.5/100,"") -> 36 | BI13: =IF(COUNT(L13,R13,W13,AB13,AG13,AQ13,AL13,AV13,BA13,BF13),SUM(L13,R13,W13,AB13,AG13,AQ13,AL13,AV13,BA13,BF13),"-") -> 216 | BJ13: =IF(COUNT(M13,S13,X13,AC13,AH13,AM13,AR13,AW13,BB13,BG13),SUM(M13,S13,X13,AC13,AH13,AM13,AR13,AW13,BB13,BG13),"-") -> 216 | BK13: =IF(BJ13="-","",RANK(BJ13,BJ$3:BJ$70)) -> 11
A14: =IF(BJ14="-","",RANK(BJ14,BJ$3:BJ$70)) -> 12 | D14: Housrine | F14: 38466 | G14: =DATEDIF(F14,NOW(),"Y") -> 20 | K14: =IF(J14="","",RANK(J14,J$3:J$70,0)) | L14: =IFERROR(IF(K14="","",VLOOKUP(K14,'Concordance Classmt & Points'!$A$2:$B$33,2,FALSE)),0) | M14: =IF(ISNUMBER(L14),L14+L14*(MAX(0,$G14-28))*1.5/100,"") | Q14: =IF(P14="","",RANK(P14,P$3:P$70,0)) | R14: =IFERROR(IF(Q14="","",VLOOKUP(Q14,'Concordance Classmt & Points'!$A$2:$B$33,2,FALSE)),0) | S14: =IF(ISNUMBER(R14),R14+R14*(MAX(0,$G14-28))*1.5/100,"") | U14: 2712 | V14: =IF(U14="","",RANK(U14,U$3:U$70,1)) -> 8 | W14: =IFERROR(IF(V14="","",VLOOKUP(V14,'Concordance Classmt & Points'!$A$2:$B$33,2,FALSE)),0) -> 34 | X14: =IF(ISNUMBER(W14),W14+W14*(MAX(0,$G14-28))*1.5/100,"") -> 34 | Z14: 2712 | AA14: =IF(Z14="","",RANK(Z14,Z$3:Z$70,1)) -> 8 | AB14: =IFERROR(IF(AA14="","",VLOOKUP(AA14,'Concordance Classmt & Points'!$A$2:$B$33,2,FALSE)),0) -> 34 | AC14: =IF(ISNUMBER(AB14),AB14+AB14*(MAX(0,$G14-28))*1.5/100,"") -> 34 | AE14: 0.0033425926 | AF14: =IF(AE14="","",RANK(AE14,AE$3:AE$70,1)) -> 32 | AG14: =IFERROR(IF(AF14="","",VLOOKUP(AF14,'Concordance Classmt & Points'!$A$2:$B$33,2,FALSE)),0) -> 0 | AH14: =IF(ISNUMBER(AG14),AG14+AG14*(MAX(0,$G14-28))*1.5/100,"") -> 0 | AJ14: 0.0033425926 | AK14: =IF(AJ14="","",RANK(AJ14,AJ$3:AJ$70,1)) -> 32 | AL14: =IFERROR(IF(AK14="","",VLOOKUP(AK14,'Concordance Classmt & Points'!$A$2:$B$33,2,FALSE)),0) -> 0 | AM14: =IF(ISNUMBER(AL14),AL14+AL14*(MAX(0,$G14-28))*1.5/100,"") -> 0 | AO14: 2712 | AP14: =IF(AO14="","",RANK(AO14,AO$3:AO$70,1)) -> 8 | AQ14: =IFERROR(IF(AP14="","",VLOOKUP(AP14,'Concordance Classmt & Points'!$A$2:$B$33,2,FALSE)),0) -> 34 | AR14: =IF(ISNUMBER(AQ14),AQ14+AQ14*(MAX(0,$G14-28))*1.5/100,"") -> 34 | AT14: 2712 | AU14: =IF(AT14="","",RANK(AT14,AT$3:AT$70,1)) -> 8 | AV14: =IFERROR(IF(AU14="","",VLOOKUP(AU14,'Concordance Classmt & Points'!$A$2:$B$33,2,FALSE)),0) -> 34 | AW14: =IF(ISNUMBER(AV14),AV14+AV14*(MAX(0,$G14-28))*1.5/100,"") -> 34 | AY14: 2712 | AZ14: =IF(AY14="","",RANK(AY14,AY$3:AY$70,1)) -> 8 | BA14: =IFERROR(IF(AZ14="","",VLOOKUP(AZ14,'Concordance Classmt & Points'!$A$2:$B$33,2,FALSE)),0) -> 34 | BB14: =IF(ISNUMBER(BA14),BA14+BA14*(MAX(0,$G14-28))*1.5/100,"") -> 34 | BD14: 2712 | BE14: =IF(BD14="","",RANK(BD14,BD$3:BD$70,1)) -> 8 | BF14: =IFERROR(IF(BE14="","",VLOOKUP(BE14,'Concordance Classmt & Points'!$A$2:$B$33,2,FALSE)),0) -> 34 | BG14: =IF(ISNUMBER(BF14),BF14+BF14*(MAX(0,$G14-28))*1.5/100,"") -> 34 | BI14: =IF(COUNT(L14,R14,W14,AB14,AG14,AQ14,AL14,AV14,BA14,BF14),SUM(L14,R14,W14,AB14,AG14,AQ14,AL14,AV14,BA14,BF14),"-") -> 204 | BJ14: =IF(COUNT(M14,S14,X14,AC14,AH14,AM14,AR14,AW14,BB14,BG14),SUM(M14,S14,X14,AC14,AH14,AM14,AR14,AW14,BB14,BG14),"-") -> 204 | BK14: =IF(BJ14="-","",RANK(BJ14,BJ$3:BJ$70)) -> 12
A15: =IF(BJ15="-","",RANK(BJ15,BJ$3:BJ$70)) -> 13 | B15: Tarascon CD | D15: Yacine | F15: 36094 | G15: =DATEDIF(F15,NOW(),"Y") -> 26 | J15: 9 | K15: =IF(J15="","",RANK(J15,J$3:J$70,0)) -> 20 | L15: =IFERROR(IF(K15="","",VLOOKUP(K15,'Concordance Classmt & Points'!$A$2:$B$33,2,FALSE)),0) -> 21 | M15: =IF(ISNUMBER(L15),L15+L15*(MAX(0,$G15-28))*1.5/100,"") -> 21 | O15: 9 | Q15: =IF(P15="","",RANK(P15,P$3:P$70,0)) | R15: =IFERROR(IF(Q15="","",VLOOKUP(Q15,'Concordance Classmt & Points'!$A$2:$B$33,2,FALSE)),0) | S15: =IF(ISNUMBER(R15),R15+R15*(MAX(0,$G15-28))*1.5/100,"") | V15: =IF(U15="","",RANK(U15,U$3:U$70,1)) | W15: =IFERROR(IF(V15="","",VLOOKUP(V15,'Concordance Classmt & Points'!$A$2:$B$33,2,FALSE)),0) | X15: =IF(ISNUMBER(W15),W15+W15*(MAX(0,$G15-28))*1.5/100,"") | AA15: =IF(Z15="","",RANK(Z15,Z$3:Z$70,1)) | AB15: =IFERROR(IF(AA15="","",VLOOKUP(AA15,'Concordance Classmt & Points'!$A$2:$B$33,2,FALSE)),0) | AC15: =IF(ISNUMBER(AB15),AB15+AB15*(MAX(0,$G15-28))*1.5/100,"") | AE15: 0.0024340278 | AF15: =IF(AE15="","",RANK(AE15,AE$3:AE$70,1)) -> 1 | AG15: =IFERROR(IF(AF15="","",VLOOKUP(AF15,'Concordance Classmt & Points'!$A$2:$B$33,2,FALSE)),0) -> 90 | AH15: =IF(ISNUMBER(AG15),AG15+AG15*(MAX(0,$G15-28))*1.5/100,"") -> 90 | AJ15: 0.0024340278 | AK15: =IF(AJ15="","",RANK(AJ15,AJ$3:AJ$70,1)) -> 1 | AL15: =IFERROR(IF(AK15="","",VLOOKUP(AK15,'Concordance Classmt & Points'!$A$2:$B$33,2,FALSE)),0) -> 90 | AM15: =IF(ISNUMBER(AL15),AL15+AL15*(MAX(0,$G15-28))*1.5/100,"") -> 90 | AP15: =IF(AO15="","",RANK(AO15,AO$3:AO$70,1)) | AQ15: =IFERROR(IF(AP15="","",VLOOKUP(AP15,'Concordance Classmt & Points'!$A$2:$B$33,2,FALSE)),0) | AR15: =IF(ISNUMBER(AQ15),AQ15+AQ15*(MAX(0,$G15-28))*1.5/100,"") | AU15: =IF(AT15="","",RANK(AT15,AT$3:AT$70,1)) | AV15: =IFERROR(IF(AU15="","",VLOOKUP(AU15,'Concordance Classmt & Points'!$A$2:$B$33,2,FALSE)),0) | AW15: =IF(ISNUMBER(AV15),AV15+AV15*(MAX(0,$G15-28))*1.5/100,"") | AZ15: =IF(AY15="","",RANK(AY15,AY$3:AY$70,1)) | BA15: =IFERROR(IF(AZ15="","",VLOOKUP(AZ15,'Concordance Classmt & Points'!$A$2:$B$33,2,FALSE)),0) | BB15: =IF(ISNUMBER(BA15),BA15+BA15*(MAX(0,$G15-28))*1.5/100,"") | BE15: =IF(BD15="","",RANK(BD15,BD$3:BD$70,1)) | BF15: =IFERROR(IF(BE15="","",VLOOKUP(BE15,'Concordance Classmt & Points'!$A$2:$B$33,2,FALSE)),0) | BG15: =IF(ISNUMBER(BF15),BF15+BF15*(MAX(0,$G15-28))*1.5/100,"") | BI15: =IF(COUNT(L15,R15,W15,AB15,AG15,AQ15,AL15,AV15,BA15,BF15),SUM(L15,R15,W15,AB15,AG15,AQ15,AL15,AV15,BA15,BF15),"-") -> 201 | BJ15: =IF(COUNT(M15,S15,X15,AC15,AH15,AM15,AR15,AW15,BB15,BG15),SUM(M15,S15,X15,AC15,AH15,AM15,AR15,AW15,BB15,BG15),"-") -> 201 | BK15: =IF(BJ15="-","",RANK(BJ15,BJ$3:BJ$70)) -> 13
A16: =IF(BJ16="-","",RANK(BJ16,BJ$3:BJ$70)) -> 14 | D16: Emilie | F16: 33420 | G16: =DATEDIF(F16,NOW(),"Y") -> 33 | J16: 4 | K16: =IF(J16="","",RANK(J16,J$3:J$70,0)) -> 44 | L16: =IFERROR(IF(K16="","",VLOOKUP(K16,'Concordance Classmt & Points'!$A$2:$B$33,2,FALSE)),0) -> 0 | M16: =IF(ISNUMBER(L16),L16+L16*(MAX(0,$G16-28))*1.5/100,"") -> 0 | O16: 4 | Q16: =IF(P16="","",RANK(P16,P$3:P$70,0)) | R16: =IFERROR(IF(Q16="","",VLOOKUP(Q16,'Concordance Classmt & Points'!$A$2:$B$33,2,FALSE)),0) | S16: =IF(ISNUMBER(R16),R16+R16*(MAX(0,$G16-28))*1.5/100,"") | U16: 3550 | V16: =IF(U16="","",RANK(U16,U$3:U$70,1)) -> 13 | W16: =IFERROR(IF(V16="","",VLOOKUP(V16,'Concordance Classmt & Points'!$A$2:$B$33,2,FALSE)),0) -> 28 | X16: =IF(ISNUMBER(W16),W16+W16*(MAX(0,$G16-28))*1.5/100,"") -> 30.1 | Z16: 3550 | AA16: =IF(Z16="","",RANK(Z16,Z$3:Z$70,1)) -> 13 | AB16: =IFERROR(IF(AA16="","",VLOOKUP(AA16,'Concordance Classmt & Points'!$A$2:$B$33,2,FALSE)),0) -> 28 | AC16: =IF(ISNUMBER(AB16),AB16+AB16*(MAX(0,$G16-28))*1.5/100,"") -> 30.1 | AF16: =IF(AE16="","",RANK(AE16,AE$3:AE$70,1)) | AG16: =IFERROR(IF(AF16="","",VLOOKUP(AF16,'Concordance Classmt & Points'!$A$2:$B$33,2,FALSE)),0) | AH16: =IF(ISNUMBER(AG16),AG16+AG16*(MAX(0,$G16-28))*1.5/100,"") | AK16: =IF(AJ16="","",RANK(AJ16,AJ$3:AJ$70,1)) | AL16: =IFERROR(IF(AK16="","",VLOOKUP(AK16,'Concordance Classmt & Points'!$A$2:$B$33,2,FALSE)),0) | AM16: =IF(ISNUMBER(AL16),AL16+AL16*(MAX(0,$G16-28))*1.5/100,"") | AO16: 3550 | AP16: =IF(AO16="","",RANK(AO16,AO$3:AO$70,1)) -> 13 | AQ16: =IFERROR(IF(AP16="","",VLOOKUP(AP16,'Concordance Classmt & Points'!$A$2:$B$33,2,FALSE)),0) -> 28 | AR16: =IF(ISNUMBER(AQ16),AQ16+AQ16*(MAX(0,$G16-28))*1.5/100,"") -> 30.1 | AT16: 3550 | AU16: =IF(AT16="","",RANK(AT16,AT$3:AT$70,1)) -> 13 | AV16: =IFERROR(IF(AU16="","",VLOOKUP(AU16,'Concordance Classmt & Points'!$A$2:$B$33,2,FALSE)),0) -> 28 | AW16: =IF(ISNUMBER(AV16),AV16+AV16*(MAX(0,$G16-28))*1.5/100,"") -> 30.1 | AY16: 3550 | AZ16: =IF(AY16="","",RANK(AY16,AY$3:AY$70,1)) -> 13 | BA16: =IFERROR(IF(AZ16="","",VLOOKUP(AZ16,'Concordance Classmt & Points'!$A$2:$B$33,2,FALSE)),0) -> 28 | BB16: =IF(ISNUMBER(BA16),BA16+BA16*(MAX(0,$G16-28))*1.5/100,"") -> 30.1 | BD16: 3550 | BE16: =IF(BD16="","",RANK(BD16,BD$3:BD$70,1)) -> 13 | BF16: =IFERROR(IF(BE16="","",VLOOKUP(BE16,'Concordance Classmt & Points'!$A$2:$B$33,2,FALSE)),0) -> 28 | BG16: =IF(ISNUMBER(BF16),BF16+BF16*(MAX(0,$G16-28))*1.5/100,"") -> 30.1 | BI16: =IF(COUNT(L16,R16,W16,AB16,AG16,AQ16,AL16,AV16,BA16,BF16),SUM(L16,R16,W16,AB16,AG16,AQ16,AL16,AV16,BA16,BF16),"-") -> 168 | BJ16: =IF(COUNT(M16,S16,X16,AC16,AH16,AM16,AR16,AW16,BB16,BG16),SUM(M16,S16,X16,AC16,AH16,AM16,AR16,AW16,BB16,BG16),"-") -> 180.6 | BK16: =IF(BJ16="-","",RANK(BJ16,BJ$3:BJ$70)) -> 14
A17: =IF(BJ17="-","",RANK(BJ17,BJ$3:BJ$70)) -> 15 | B17: Troyes MA | D17: Ghjan Carlu | F17: 33286 | G17: =DATEDIF(F17,NOW(),"Y") -> 34 | J17: 12 | K17: =IF(J17="","",RANK(J17,J$3:J$70,0)) -> 9 | L17: =IFERROR(IF(K17="","",VLOOKUP(K17,'Concordance Classmt & Points'!$A$2:$B$33,2,FALSE)),0) -> 32 | M17: =IF(ISNUMBER(L17),L17+L17*(MAX(0,$G17-28))*1.5/100,"") -> 34.88 | O17: 12 | Q17: =IF(P17="","",RANK(P17,P$3:P$70,0)) | R17: =IFERROR(IF(Q17="","",VLOOKUP(Q17,'Concordance Classmt & Points'!$A$2:$B$33,2,FALSE)),0) | S17: =IF(ISNUMBER(R17),R17+R17*(MAX(0,$G17-28))*1.5/100,"") | V17: =IF(U17="","",RANK(U17,U$3:U$70,1)) | W17: =IFERROR(IF(V17="","",VLOOKUP(V17,'Concordance Classmt & Points'!$A$2:$B$33,2,FALSE)),0) | X17: =IF(ISNUMBER(W17),W17+W17*(MAX(0,$G17-28))*1.5/100,"") | AA17: =IF(Z17="","",RANK(Z17,Z$3:Z$70,1)) | AB17: =IFERROR(IF(AA17="","",VLOOKUP(AA17,'Concordance Classmt & Points'!$A$2:$B$33,2,FALSE)),0) | AC17: =IF(ISNUMBER(AB17),AB17+AB17*(MAX(0,$G17-28))*1.5/100,"") | AE17: 0.0024918981 | AF17: =IF(AE17="","",RANK(AE17,AE$3:AE$70,1)) -> 5 | AG17: =IFERROR(IF(AF17="","",VLOOKUP(AF17,'Concordance Classmt & Points'!$A$2:$B$33,2,FALSE)),0) -> 45 | AH17: =IF(ISNUMBER(AG17),AG17+AG17*(MAX(0,$G17-28))*1.5/100,"") -> 49.05 | AJ17: 0.0024918981 | AK17: =IF(AJ17="","",RANK(AJ17,AJ$3:AJ$70,1)) -> 5 | AL17: =IFERROR(IF(AK17="","",VLOOKUP(AK17,'Concordance Classmt & Points'!$A$2:$B$33,2,FALSE)),0) -> 45 | AM17: =IF(ISNUMBER(AL17),AL17+AL17*(MAX(0,$G17-28))*1.5/100,"") -> 49.05 | AP17: =IF(AO17="","",RANK(AO17,AO$3:AO$70,1)) | AQ17: =IFERROR(IF(AP17="","",VLOOKUP(AP17,'Concordance Classmt & Points'!$A$2:$B$33,2,FALSE)),0) | AR17: =IF(ISNUMBER(AQ17),AQ17+AQ17*(MAX(0,$G17-28))*1.5/100,"") | AU17: =IF(AT17="","",RANK(AT17,AT$3:AT$70,1)) | AV17: =IFERROR(IF(AU17="","",VLOOKUP(AU17,'Concordance Classmt & Points'!$A$2:$B$33,2,FALSE)),0) | AW17: =IF(ISNUMBER(AV17),AV17+AV17*(MAX(0,$G17-28))*1.5/100,"") | AZ17: =IF(AY17="","",RANK(AY17,AY$3:AY$70,1)) | BA17: =IFERROR(IF(AZ17="","",VLOOKUP(AZ17,'Concordance Classmt & Points'!$A$2:$B$33,2,FALSE)),0) | BB17: =IF(ISNUMBER(BA17),BA17+BA17*(MAX(0,$G17-28))*1.5/100,"") | BE17: =IF(BD17="","",RANK(BD17,BD$3:BD$70,1)) | BF17: =IFERROR(IF(BE17="","",VLOOKUP(BE17,'Concordance Classmt & Points'!$A$2:$B$33,2,FALSE)),0) | BG17: =IF(ISNUMBER(BF17),BF17+BF17*(MAX(0,$G17-28))*1.5/100,"") | BI17: =IF(COUNT(L17,R17,W17,AB17,AG17,AQ17,AL17,AV17,BA17,BF17),SUM(L17,R17,W17,AB17,AG17,AQ17,AL17,AV17,BA17,BF17),"-") -> 122 | BJ17: =IF(COUNT(M17,S17,X17,AC17,AH17,AM17,AR17,AW17,BB17,BG17),SUM(M17,S17,X17,AC17,AH17,AM17,AR17,AW17,BB17,BG17),"-") -> 132.98 | BK17: =IF(BJ17="-","",RANK(BJ17,BJ$3:BJ$70)) -> 15
A18: =IF(BJ18="-","",RANK(BJ18,BJ$3:BJ$70)) -> 16 | B18: Tarascon CD | D18: Akim | F18: 32681 | G18: =DATEDIF(F18,NOW(),"Y") -> 35 | J18: 12 | K18: =IF(J18="","",RANK(J18,J$3:J$70,0)) -> 9 | L18: =IFERROR(IF(K18="","",VLOOKUP(K18,'Concordance Classmt & Points'!$A$2:$B$33,2,FALSE)),0) -> 32 | M18: =IF(ISNUMBER(L18),L18+L18*(MAX(0,$G18-28))*1.5/100,"") -> 35.36 | O18: 12 | Q18: =IF(P18="","",RANK(P18,P$3:P$70,0)) | R18: =IFERROR(IF(Q18="","",VLOOKUP(Q18,'Concordance Classmt & Points'!$A$2:$B$33,2,FALSE)),0) | S18: =IF(ISNUMBER(R18),R18+R18*(MAX(0,$G18-28))*1.5/100,"") | V18: =IF(U18="","",RANK(U18,U$3:U$70,1)) | W18: =IFERROR(IF(V18="","",VLOOKUP(V18,'Concordance Classmt & Points'!$A$2:$B$33,2,FALSE)),0) | X18: =IF(ISNUMBER(W18),W18+W18*(MAX(0,$G18-28))*1.5/100,"") | AA18: =IF(Z18="","",RANK(Z18,Z$3:Z$70,1)) | AB18: =IFERROR(IF(AA18="","",VLOOKUP(AA18,'Concordance Classmt & Points'!$A$2:$B$33,2,FALSE)),0) | AC18: =IF(ISNUMBER(AB18),AB18+AB18*(MAX(0,$G18-28))*1.5/100,"") | AE18: 0.0025300926 | AF18: =IF(AE18="","",RANK(AE18,AE$3:AE$70,1)) -> 6 | AG18: =IFERROR(IF(AF18="","",VLOOKUP(AF18,'Concordance Classmt & Points'!$A$2:$B$33,2,FALSE)),0) -> 40 | AH18: =IF(ISNUMBER(AG18),AG18+AG18*(MAX(0,$G18-28))*1.5/100,"") -> 44.2 | AJ18: 0.0025300926 | AK18: =IF(AJ18="","",RANK(AJ18,AJ$3:AJ$70,1)) -> 6 | AL18: =IFERROR(IF(AK18="","",VLOOKUP(AK18,'Concordance Classmt & Points'!$A$2:$B$33,2,FALSE)),0) -> 40 | AM18: =IF(ISNUMBER(AL18),AL18+AL18*(MAX(0,$G18-28))*1.5/100,"") -> 44.2 | AP18: =IF(AO18="","",RANK(AO18,AO$3:AO$70,1)) | AQ18: =IFERROR(IF(AP18="","",VLOOKUP(AP18,'Concordance Classmt & Points'!$A$2:$B$33,2,FALSE)),0) | AR18: =IF(ISNUMBER(AQ18),AQ18+AQ18*(MAX(0,$G18-28))*1.5/100,"") | AU18: =IF(AT18="","",RANK(AT18,AT$3:AT$70,1)) | AV18: =IFERROR(IF(AU18="","",VLOOKUP(AU18,'Concordance Classmt & Points'!$A$2:$B$33,2,FALSE)),0) | AW18: =IF(ISNUMBER(AV18),AV18+AV18*(MAX(0,$G18-28))*1.5/100,"") | AZ18: =IF(AY18="","",RANK(AY18,AY$3:AY$70,1)) | BA18: =IFERROR(IF(AZ18="","",VLOOKUP(AZ18,'Concordance Classmt & Points'!$A$2:$B$33,2,FALSE)),0) | BB18: =IF(ISNUMBER(BA18),BA18+BA18*(MAX(0,$G18-28))*1.5/100,"") | BE18: =IF(BD18="","",RANK(BD18,BD$3:BD$70,1)) | BF18: =IFERROR(IF(BE18="","",VLOOKUP(BE18,'Concordance Classmt & Points'!$A$2:$B$33,2,FALSE)),0) | BG18: =IF(ISNUMBER(BF18),BF18+BF18*(MAX(0,$G18-28))*1.5/100,"") | BI18: =IF(COUNT(L18,R18,W18,AB18,AG18,AQ18,AL18,AV18,BA18,BF18),SUM(L18,R18,W18,AB18,AG18,AQ18,AL18,AV18,BA18,BF18),"-") -> 112 | BJ18: =IF(COUNT(M18,S18,X18,AC18,AH18,AM18,AR18,AW18,BB18,BG18),SUM(M18,S18,X18,AC18,AH18,AM18,AR18,AW18,BB18,BG18),"-") -> 123.76 | BK18: =IF(BJ18="-","",RANK(BJ18,BJ$3:BJ$70)) -> 16
A19: =IF(BJ19="-","",RANK(BJ19,BJ$3:BJ$70)) -> 17 | B19: Lille CP | D19: Amza | F19: 31452 | G19: =DATEDIF(F19,NOW(),"Y") -> 39 | J19: 10 | K19: =IF(J19="","",RANK(J19,J$3:J$70,0)) -> 14 | L19: =IFERROR(IF(K19="","",VLOOKUP(K19,'Concordance Classmt & Points'!$A$2:$B$33,2,FALSE)),0) -> 27 | M19: =IF(ISNUMBER(L19),L19+L19*(MAX(0,$G19-28))*1.5/100,"") -> 31.455 | O19: 10 | Q19: =IF(P19="","",RANK(P19,P$3:P$70,0)) | R19: =IFERROR(IF(Q19="","",VLOOKUP(Q19,'Concordance Classmt & Points'!$A$2:$B$33,2,FALSE)),0) | S19: =IF(ISNUMBER(R19),R19+R19*(MAX(0,$G19-28))*1.5/100,"") | V19: =IF(U19="","",RANK(U19,U$3:U$70,1)) | W19: =IFERROR(IF(V19="","",VLOOKUP(V19,'Concordance Classmt & Points'!$A$2:$B$33,2,FALSE)),0) | X19: =IF(ISNUMBER(W19),W19+W19*(MAX(0,$G19-28))*1.5/100,"") | AA19: =IF(Z19="","",RANK(Z19,Z$3:Z$70,1)) | AB19: =IFERROR(IF(AA19="","",VLOOKUP(AA19,'Concordance Classmt & Points'!$A$2:$B$33,2,FALSE)),0) | AC19: =IF(ISNUMBER(AB19),AB19+AB19*(MAX(0,$G19-28))*1.5/100,"") | AE19: 0.0025902778 | AF19: =IF(AE19="","",RANK(AE19,AE$3:AE$70,1)) -> 9 | AG19: =IFERROR(IF(AF19="","",VLOOKUP(AF19,'Concordance Classmt & Points'!$A$2:$B$33,2,FALSE)),0) -> 32 | AH19: =IF(ISNUMBER(AG19),AG19+AG19*(MAX(0,$G19-28))*1.5/100,"") -> 37.28 | AJ19: 0.0025902778 | AK19: =IF(AJ19="","",RANK(AJ19,AJ$3:AJ$70,1)) -> 9 | AL19: =IFERROR(IF(AK19="","",VLOOKUP(AK19,'Concordance Classmt & Points'!$A$2:$B$33,2,FALSE)),0) -> 32 | AM19: =IF(ISNUMBER(AL19),AL19+AL19*(MAX(0,$G19-28))*1.5/100,"") -> 37.28 | AP19: =IF(AO19="","",RANK(AO19,AO$3:AO$70,1)) | AQ19: =IFERROR(IF(AP19="","",VLOOKUP(AP19,'Concordance Classmt & Points'!$A$2:$B$33,2,FALSE)),0) | AR19: =IF(ISNUMBER(AQ19),AQ19+AQ19*(MAX(0,$G19-28))*1.5/100,"") | AU19: =IF(AT19="","",RANK(AT19,AT$3:AT$70,1)) | AV19: =IFERROR(IF(AU19="","",VLOOKUP(AU19,'Concordance Classmt & Points'!$A$2:$B$33,2,FALSE)),0) | AW19: =IF(ISNUMBER(AV19),AV19+AV19*(MAX(0,$G19-28))*1.5/100,"") | AZ19: =IF(AY19="","",RANK(AY19,AY$3:AY$70,1)) | BA19: =IFERROR(IF(AZ19="","",VLOOKUP(AZ19,'Concordance Classmt & Points'!$A$2:$B$33,2,FALSE)),0) | BB19: =IF(ISNUMBER(BA19),BA19+BA19*(MAX(0,$G19-28))*1.5/100,"") | BE19: =IF(BD19="","",RANK(BD19,BD$3:BD$70,1)) | BF19: =IFERROR(IF(BE19="","",VLOOKUP(BE19,'Concordance Classmt & Points'!$A$2:$B$33,2,FALSE)),0) | BG19: =IF(ISNUMBER(BF19),BF19+BF19*(MAX(0,$G19-28))*1.5/100,"") | BI19: =IF(COUNT(L19,R19,W19,AB19,AG19,AQ19,AL19,AV19,BA19,BF19),SUM(L19,R19,W19,AB19,AG19,AQ19,AL19,AV19,BA19,BF19),"-") -> 91 | BJ19: =IF(COUNT(M19,S19,X19,AC19,AH19,AM19,AR19,AW19,BB19,BG19),SUM(M19,S19,X19,AC19,AH19,AM19,AR19,AW19,BB19,BG19),"-") -> 106.015 | BK19: =IF(BJ19="-","",RANK(BJ19,BJ$3:BJ$70)) -> 17
A20: =IF(BJ20="-","",RANK(BJ20,BJ$3:BJ$70)) -> 18 | B20: Lille CP | D20: Omar | F20: 34762 | G20: =DATEDIF(F20,NOW(),"Y") -> 30 | J20: 16 | K20: =IF(J20="","",RANK(J20,J$3:J$70,0)) -> 5 | L20: =IFERROR(IF(K20="","",VLOOKUP(K20,'Concordance Classmt & Points'!$A$2:$B$33,2,FALSE)),0) -> 45 | M20: =IF(ISNUMBER(L20),L20+L20*(MAX(0,$G20-28))*1.5/100,"") -> 46.35 | O20: 16 | Q20: =IF(P20="","",RANK(P20,P$3:P$70,0)) | R20: =IFERROR(IF(Q20="","",VLOOKUP(Q20,'Concordance Classmt & Points'!$A$2:$B$33,2,FALSE)),0) | S20: =IF(ISNUMBER(R20),R20+R20*(MAX(0,$G20-28))*1.5/100,"") | V20: =IF(U20="","",RANK(U20,U$3:U$70,1)) | W20: =IFERROR(IF(V20="","",VLOOKUP(V20,'Concordance Classmt & Points'!$A$2:$B$33,2,FALSE)),0) | X20: =IF(ISNUMBER(W20),W20+W20*(MAX(0,$G20-28))*1.5/100,"") | AA20: =IF(Z20="","",RANK(Z20,Z$3:Z$70,1)) | AB20: =IFERROR(IF(AA20="","",VLOOKUP(AA20,'Concordance Classmt & Points'!$A$2:$B$33,2,FALSE)),0) | AC20: =IF(ISNUMBER(AB20),AB20+AB20*(MAX(0,$G20-28))*1.5/100,"") | AE20: 0.0026770833 | AF20: =IF(AE20="","",RANK(AE20,AE$3:AE$70,1)) -> 14 | AG20: =IFERROR(IF(AF20="","",VLOOKUP(AF20,'Concordance Classmt & Points'!$A$2:$B$33,2,FALSE)),0) -> 27 | AH20: =IF(ISNUMBER(AG20),AG20+AG20*(MAX(0,$G20-28))*1.5/100,"") -> 27.81 | AJ20: 0.0026770833 | AK20: =IF(AJ20="","",RANK(AJ20,AJ$3:AJ$70,1)) -> 14 | AL20: =IFERROR(IF(AK20="","",VLOOKUP(AK20,'Concordance Classmt & Points'!$A$2:$B$33,2,FALSE)),0) -> 27 | AM20: =IF(ISNUMBER(AL20),AL20+AL20*(MAX(0,$G20-28))*1.5/100,"") -> 27.81 | AP20: =IF(AO20="","",RANK(AO20,AO$3:AO$70,1)) | AQ20: =IFERROR(IF(AP20="","",VLOOKUP(AP20,'Concordance Classmt & Points'!$A$2:$B$33,2,FALSE)),0) | AR20: =IF(ISNUMBER(AQ20),AQ20+AQ20*(MAX(0,$G20-28))*1.5/100,"") | AU20: =IF(AT20="","",RANK(AT20,AT$3:AT$70,1)) | AV20: =IFERROR(IF(AU20="","",VLOOKUP(AU20,'Concordance Classmt & Points'!$A$2:$B$33,2,FALSE)),0) | AW20: =IF(ISNUMBER(AV20),AV20+AV20*(MAX(0,$G20-28))*1.5/100,"") | AZ20: =IF(AY20="","",RANK(AY20,AY$3:AY$70,1)) | BA20: =IFERROR(IF(AZ20="","",VLOOKUP(AZ20,'Concordance Classmt & Points'!$A$2:$B$33,2,FALSE)),0) | BB20: =IF(ISNUMBER(BA20),BA20+BA20*(MAX(0,$G20-28))*1.5/100,"") | BE20: =IF(BD20="","",RANK(BD20,BD$3:BD$70,1)) | BF20: =IFERROR(IF(BE20="","",VLOOKUP(BE20,'Concordance Classmt & Points'!$A$2:$B$33,2,FALSE)),0) | BG20: =IF(ISNUMBER(BF20),BF20+BF20*(MAX(0,$G20-28))*1.5/100,"") | BI20: =IF(COUNT(L20,R20,W20,AB20,AG20,AQ20,AL20,AV20,BA20,BF20),SUM(L20,R20,W20,AB20,AG20,AQ20,AL20,AV20,BA20,BF20),"-") -> 99 | BJ20: =IF(COUNT(M20,S20,X20,AC20,AH20,AM20,AR20,AW20,BB20,BG20),SUM(M20,S20,X20,AC20,AH20,AM20,AR20,AW20,BB20,BG20),"-") -> 101.97 | BK20: =IF(BJ20="-","",RANK(BJ20,BJ$3:BJ$70)) -> 18
A21: =IF(BJ21="-","",RANK(BJ21,BJ$3:BJ$70)) -> 19 | B21: Tarascon CD | D21: Pierre | F21: 29555 | G21: =DATEDIF(F21,NOW(),"Y") -> 44 | K21: =IF(J21="","",RANK(J21,J$3:J$70,0)) | L21: =IFERROR(IF(K21="","",VLOOKUP(K21,'Concordance Classmt & Points'!$A$2:$B$33,2,FALSE)),0) | M21: =IF(ISNUMBER(L21),L21+L21*(MAX(0,$G21-28))*1.5/100,"") | Q21: =IF(P21="","",RANK(P21,P$3:P$70,0)) | R21: =IFERROR(IF(Q21="","",VLOOKUP(Q21,'Concordance Classmt & Points'!$A$2:$B$33,2,FALSE)),0) | S21: =IF(ISNUMBER(R21),R21+R21*(MAX(0,$G21-28))*1.5/100,"") | V21: =IF(U21="","",RANK(U21,U$3:U$70,1)) | W21: =IFERROR(IF(V21="","",VLOOKUP(V21,'Concordance Classmt & Points'!$A$2:$B$33,2,FALSE)),0) | X21: =IF(ISNUMBER(W21),W21+W21*(MAX(0,$G21-28))*1.5/100,"") | AA21: =IF(Z21="","",RANK(Z21,Z$3:Z$70,1)) | AB21: =IFERROR(IF(AA21="","",VLOOKUP(AA21,'Concordance Classmt & Points'!$A$2:$B$33,2,FALSE)),0) | AC21: =IF(ISNUMBER(AB21),AB21+AB21*(MAX(0,$G21-28))*1.5/100,"") | AE21: 0.0025439815 | AF21: =IF(AE21="","",RANK(AE21,AE$3:AE$70,1)) -> 8 | AG21: =IFERROR(IF(AF21="","",VLOOKUP(AF21,'Concordance Classmt & Points'!$A$2:$B$33,2,FALSE)),0) -> 34 | AH21: =IF(ISNUMBER(AG21),AG21+AG21*(MAX(0,$G21-28))*1.5/100,"") -> 42.16 | AJ21: 0.0025439815 | AK21: =IF(AJ21="","",RANK(AJ21,AJ$3:AJ$70,1)) -> 8 | AL21: =IFERROR(IF(AK21="","",VLOOKUP(AK21,'Concordance Classmt & Points'!$A$2:$B$33,2,FALSE)),0) -> 34 | AM21: =IF(ISNUMBER(AL21),AL21+AL21*(MAX(0,$G21-28))*1.5/100,"") -> 42.16 | AP21: =IF(AO21="","",RANK(AO21,AO$3:AO$70,1)) | AQ21: =IFERROR(IF(AP21="","",VLOOKUP(AP21,'Concordance Classmt & Points'!$A$2:$B$33,2,FALSE)),0) | AR21: =IF(ISNUMBER(AQ21),AQ21+AQ21*(MAX(0,$G21-28))*1.5/100,"") | AU21: =IF(AT21="","",RANK(AT21,AT$3:AT$70,1)) | AV21: =IFERROR(IF(AU21="","",VLOOKUP(AU21,'Concordance Classmt & Points'!$A$2:$B$33,2,FALSE)),0) | AW21: =IF(ISNUMBER(AV21),AV21+AV21*(MAX(0,$G21-28))*1.5/100,"") | AZ21: =IF(AY21="","",RANK(AY21,AY$3:AY$70,1)) | BA21: =IFERROR(IF(AZ21="","",VLOOKUP(AZ21,'Concordance Classmt & Points'!$A$2:$B$33,2,FALSE)),0) | BB21: =IF(ISNUMBER(BA21),BA21+BA21*(MAX(0,$G21-28))*1.5/100,"") | BE21: =IF(BD21="","",RANK(BD21,BD$3:BD$70,1)) | BF21: =IFERROR(IF(BE21="","",VLOOKUP(BE21,'Concordance Classmt & Points'!$A$2:$B$33,2,FALSE)),0) | BG21: =IF(ISNUMBER(BF21),BF21+BF21*(MAX(0,$G21-28))*1.5/100,"") | BI21: =IF(COUNT(L21,R21,W21,AB21,AG21,AQ21,AL21,AV21,BA21,BF21),SUM(L21,R21,W21,AB21,AG21,AQ21,AL21,AV21,BA21,BF21),"-") -> 68 | BJ21: =IF(COUNT(M21,S21,X21,AC21,AH21,AM21,AR21,AW21,BB21,BG21),SUM(M21,S21,X21,AC21,AH21,AM21,AR21,AW21,BB21,BG21),"-") -> 84.32 | BK21: =IF(BJ21="-","",RANK(BJ21,BJ$3:BJ$70)) -> 19
A22: =IF(BJ22="-","",RANK(BJ22,BJ$3:BJ$70)) -> 20 | B22: Tarascon CD | D22: Yohan | F22: 30957 | G22: =DATEDIF(F22,NOW(),"Y") -> 40 | J22: 8 | K22: =IF(J22="","",RANK(J22,J$3:J$70,0)) -> 25 | L22: =IFERROR(IF(K22="","",VLOOKUP(K22,'Concordance Classmt & Points'!$A$2:$B$33,2,FALSE)),0) -> 12 | M22: =IF(ISNUMBER(L22),L22+L22*(MAX(0,$G22-28))*1.5/100,"") -> 14.16 | O22: 8 | Q22: =IF(P22="","",RANK(P22,P$3:P$70,0)) | R22: =IFERROR(IF(Q22="","",VLOOKUP(Q22,'Concordance Classmt & Points'!$A$2:$B$33,2,FALSE)),0) | S22: =IF(ISNUMBER(R22),R22+R22*(MAX(0,$G22-28))*1.5/100,"") | V22: =IF(U22="","",RANK(U22,U$3:U$70,1)) | W22: =IFERROR(IF(V22="","",VLOOKUP(V22,'Concordance Classmt & Points'!$A$2:$B$33,2,FALSE)),0) | X22: =IF(ISNUMBER(W22),W22+W22*(MAX(0,$G22-28))*1.5/100,"") | AA22: =IF(Z22="","",RANK(Z22,Z$3:Z$70,1)) | AB22: =IFERROR(IF(AA22="","",VLOOKUP(AA22,'Concordance Classmt & Points'!$A$2:$B$33,2,FALSE)),0) | AC22: =IF(ISNUMBER(AB22),AB22+AB22*(MAX(0,$G22-28))*1.5/100,"") | AE22: 0.0027384259 | AF22: =IF(AE22="","",RANK(AE22,AE$3:AE$70,1)) -> 16 | AG22: =IFERROR(IF(AF22="","",VLOOKUP(AF22,'Concordance Classmt & Points'!$A$2:$B$33,2,FALSE)),0) -> 25 | AH22: =IF(ISNUMBER(AG22),AG22+AG22*(MAX(0,$G22-28))*1.5/100,"") -> 29.5 | AJ22: 0.0027384259 | AK22: =IF(AJ22="","",RANK(AJ22,AJ$3:AJ$70,1)) -> 16 | AL22: =IFERROR(IF(AK22="","",VLOOKUP(AK22,'Concordance Classmt & Points'!$A$2:$B$33,2,FALSE)),0) -> 25 | AM22: =IF(ISNUMBER(AL22),AL22+AL22*(MAX(0,$G22-28))*1.5/100,"") -> 29.5 | AP22: =IF(AO22="","",RANK(AO22,AO$3:AO$70,1)) | AQ22: =IFERROR(IF(AP22="","",VLOOKUP(AP22,'Concordance Classmt & Points'!$A$2:$B$33,2,FALSE)),0) | AR22: =IF(ISNUMBER(AQ22),AQ22+AQ22*(MAX(0,$G22-28))*1.5/100,"") | AU22: =IF(AT22="","",RANK(AT22,AT$3:AT$70,1)) | AV22: =IFERROR(IF(AU22="","",VLOOKUP(AU22,'Concordance Classmt & Points'!$A$2:$B$33,2,FALSE)),0) | AW22: =IF(ISNUMBER(AV22),AV22+AV22*(MAX(0,$G22-28))*1.5/100,"") | AZ22: =IF(AY22="","",RANK(AY22,AY$3:AY$70,1)) | BA22: =IFERROR(IF(AZ22="","",VLOOKUP(AZ22,'Concordance Classmt & Points'!$A$2:$B$33,2,FALSE)),0) | BB22: =IF(ISNUMBER(BA22),BA22+BA22*(MAX(0,$G22-28))*1.5/100,"") | BE22: =IF(BD22="","",RANK(BD22,BD$3:BD$70,1)) | BF22: =IFERROR(IF(BE22="","",VLOOKUP(BE22,'Concordance Classmt & Points'!$A$2:$B$33,2,FALSE)),0) | BG22: =IF(ISNUMBER(BF22),BF22+BF22*(MAX(0,$G22-28))*1.5/100,"") | BI22: =IF(COUNT(L22,R22,W22,AB22,AG22,AQ22,AL22,AV22,BA22,BF22),SUM(L22,R22,W22,AB22,AG22,AQ22,AL22,AV22,BA22,BF22),"-") -> 62 | BJ22: =IF(COUNT(M22,S22,X22,AC22,AH22,AM22,AR22,AW22,BB22,BG22),SUM(M22,S22,X22,AC22,AH22,AM22,AR22,AW22,BB22,BG22),"-") -> 73.16 | BK22: =IF(BJ22="-","",RANK(BJ22,BJ$3:BJ$70)) -> 20
A23: =IF(BJ23="-","",RANK(BJ23,BJ$3:BJ$70)) -> 21 | D23: Djawed | F23: 37965 | G23: =DATEDIF(F23,NOW(),"Y") -> 21 | J23: 9 | K23: =IF(J23="","",RANK(J23,J$3:J$70,0)) -> 20 | L23: =IFERROR(IF(K23="","",VLOOKUP(K23,'Concordance Classmt & Points'!$A$2:$B$33,2,FALSE)),0) -> 21 | M23: =IF(ISNUMBER(L23),L23+L23*(MAX(0,$G23-28))*1.5/100,"") -> 21 | O23: 9 | Q23: =IF(P23="","",RANK(P23,P$3:P$70,0)) | R23: =IFERROR(IF(Q23="","",VLOOKUP(Q23,'Concordance Classmt & Points'!$A$2:$B$33,2,FALSE)),0) | S23: =IF(ISNUMBER(R23),R23+R23*(MAX(0,$G23-28))*1.5/100,"") | V23: =IF(U23="","",RANK(U23,U$3:U$70,1)) | W23: =IFERROR(IF(V23="","",VLOOKUP(V23,'Concordance Classmt & Points'!$A$2:$B$33,2,FALSE)),0) | X23: =IF(ISNUMBER(W23),W23+W23*(MAX(0,$G23-28))*1.5/100,"") | AA23: =IF(Z23="","",RANK(Z23,Z$3:Z$70,1)) | AB23: =IFERROR(IF(AA23="","",VLOOKUP(AA23,'Concordance Classmt & Points'!$A$2:$B$33,2,FALSE)),0) | AC23: =IF(ISNUMBER(AB23),AB23+AB23*(MAX(0,$G23-28))*1.5/100,"") | AE23: 0.0027060185 | AF23: =IF(AE23="","",RANK(AE23,AE$3:AE$70,1)) -> 15 | AG23: =IFERROR(IF(AF23="","",VLOOKUP(AF23,'Concordance Classmt & Points'!$A$2:$B$33,2,FALSE)),0) -> 26 | AH23: =IF(ISNUMBER(AG23),AG23+AG23*(MAX(0,$G23-28))*1.5/100,"") -> 26 | AJ23: 0.0027060185 | AK23: =IF(AJ23="","",RANK(AJ23,AJ$3:AJ$70,1)) -> 15 | AL23: =IFERROR(IF(AK23="","",VLOOKUP(AK23,'Concordance Classmt & Points'!$A$2:$B$33,2,FALSE)),0) -> 26 | AM23: =IF(ISNUMBER(AL23),AL23+AL23*(MAX(0,$G23-28))*1.5/100,"") -> 26 | AP23: =IF(AO23="","",RANK(AO23,AO$3:AO$70,1)) | AQ23: =IFERROR(IF(AP23="","",VLOOKUP(AP23,'Concordance Classmt & Points'!$A$2:$B$33,2,FALSE)),0) | AR23: =IF(ISNUMBER(AQ23),AQ23+AQ23*(MAX(0,$G23-28))*1.5/100,"") | AU23: =IF(AT23="","",RANK(AT23,AT$3:AT$70,1)) | AV23: =IFERROR(IF(AU23="","",VLOOKUP(AU23,'Concordance Classmt & Points'!$A$2:$B$33,2,FALSE)),0) | AW23: =IF(ISNUMBER(AV23),AV23+AV23*(MAX(0,$G23-28))*1.5/100,"") | AZ23: =IF(AY23="","",RANK(AY23,AY$3:AY$70,1)) | BA23: =IFERROR(IF(AZ23="","",VLOOKUP(AZ23,'Concordance Classmt & Points'!$A$2:$B$33,2,FALSE)),0) | BB23: =IF(ISNUMBER(BA23),BA23+BA23*(MAX(0,$G23-28))*1.5/100,"") | BE23: =IF(BD23="","",RANK(BD23,BD$3:BD$70,1)) | BF23: =IFERROR(IF(BE23="","",VLOOKUP(BE23,'Concordance Classmt & Points'!$A$2:$B$33,2,FALSE)),0) | BG23: =IF(ISNUMBER(BF23),BF23+BF23*(MAX(0,$G23-28))*1.5/100,"") | BI23: =IF(COUNT(L23,R23,W23,AB23,AG23,AQ23,AL23,AV23,BA23,BF23),SUM(L23,R23,W23,AB23,AG23,AQ23,AL23,AV23,BA23,BF23),"-") -> 73 | BJ23: =IF(COUNT(M23,S23,X23,AC23,AH23,AM23,AR23,AW23,BB23,BG23),SUM(M23,S23,X23,AC23,AH23,AM23,AR23,AW23,BB23,BG23),"-") -> 73 | BK23: =IF(BJ23="-","",RANK(BJ23,BJ$3:BJ$70)) -> 21
A24: =IF(BJ24="-","",RANK(BJ24,BJ$3:BJ$70)) -> 22 | B24: Lille CP | D24: Laurent | F24: 32292 | G24: =DATEDIF(F24,NOW(),"Y") -> 36 | J24: 10 | K24: =IF(J24="","",RANK(J24,J$3:J$70,0)) -> 14 | L24: =IFERROR(IF(K24="","",VLOOKUP(K24,'Concordance Classmt & Points'!$A$2:$B$33,2,FALSE)),0) -> 27 | M24: =IF(ISNUMBER(L24),L24+L24*(MAX(0,$G24-28))*1.5/100,"") -> 30.24 | O24: 10 | Q24: =IF(P24="","",RANK(P24,P$3:P$70,0)) | R24: =IFERROR(IF(Q24="","",VLOOKUP(Q24,'Concordance Classmt & Points'!$A$2:$B$33,2,FALSE)),0) | S24: =IF(ISNUMBER(R24),R24+R24*(MAX(0,$G24-28))*1.5/100,"") | V24: =IF(U24="","",RANK(U24,U$3:U$70,1)) | W24: =IFERROR(IF(V24="","",VLOOKUP(V24,'Concordance Classmt & Points'!$A$2:$B$33,2,FALSE)),0) | X24: =IF(ISNUMBER(W24),W24+W24*(MAX(0,$G24-28))*1.5/100,"") | AA24: =IF(Z24="","",RANK(Z24,Z$3:Z$70,1)) | AB24: =IFERROR(IF(AA24="","",VLOOKUP(AA24,'Concordance Classmt & Points'!$A$2:$B$33,2,FALSE)),0) | AC24: =IF(ISNUMBER(AB24),AB24+AB24*(MAX(0,$G24-28))*1.5/100,"") | AE24: 0.0029606481 | AF24: =IF(AE24="","",RANK(AE24,AE$3:AE$70,1)) -> 24 | AG24: =IFERROR(IF(AF24="","",VLOOKUP(AF24,'Concordance Classmt & Points'!$A$2:$B$33,2,FALSE)),0) -> 14 | AH24: =IF(ISNUMBER(AG24),AG24+AG24*(MAX(0,$G24-28))*1.5/100,"") -> 15.68 | AJ24: 0.0029606481 | AK24: =IF(AJ24="","",RANK(AJ24,AJ$3:AJ$70,1)) -> 24 | AL24: =IFERROR(IF(AK24="","",VLOOKUP(AK24,'Concordance Classmt & Points'!$A$2:$B$33,2,FALSE)),0) -> 14 | AM24: =IF(ISNUMBER(AL24),AL24+AL24*(MAX(0,$G24-28))*1.5/100,"") -> 15.68 | AP24: =IF(AO24="","",RANK(AO24,AO$3:AO$70,1)) | AQ24: =IFERROR(IF(AP24="","",VLOOKUP(AP24,'Concordance Classmt & Points'!$A$2:$B$33,2,FALSE)),0) | AR24: =IF(ISNUMBER(AQ24),AQ24+AQ24*(MAX(0,$G24-28))*1.5/100,"") | AU24: =IF(AT24="","",RANK(AT24,AT$3:AT$70,1)) | AV24: =IFERROR(IF(AU24="","",VLOOKUP(AU24,'Concordance Classmt & Points'!$A$2:$B$33,2,FALSE)),0) | AW24: =IF(ISNUMBER(AV24),AV24+AV24*(MAX(0,$G24-28))*1.5/100,"") | AZ24: =IF(AY24="","",RANK(AY24,AY$3:AY$70,1)) | BA24: =IFERROR(IF(AZ24="","",VLOOKUP(AZ24,'Concordance Classmt & Points'!$A$2:$B$33,2,FALSE)),0) | BB24: =IF(ISNUMBER(BA24),BA24+BA24*(MAX(0,$G24-28))*1.5/100,"") | BE24: =IF(BD24="","",RANK(BD24,BD$3:BD$70,1)) | BF24: =IFERROR(IF(BE24="","",VLOOKUP(BE24,'Concordance Classmt & Points'!$A$2:$B$33,2,FALSE)),0) | BG24: =IF(ISNUMBER(BF24),BF24+BF24*(MAX(0,$G24-28))*1.5/100,"") | BI24: =IF(COUNT(L24,R24,W24,AB24,AG24,AQ24,AL24,AV24,BA24,BF24),SUM(L24,R24,W24,AB24,AG24,AQ24,AL24,AV24,BA24,BF24),"-") -> 55 | BJ24: =IF(COUNT(M24,S24,X24,AC24,AH24,AM24,AR24,AW24,BB24,BG24),SUM(M24,S24,X24,AC24,AH24,AM24,AR24,AW24,BB24,BG24),"-") -> 61.6 | BK24: =IF(BJ24="-","",RANK(BJ24,BJ$3:BJ$70)) -> 22
A25: =IF(BJ25="-","",RANK(BJ25,BJ$3:BJ$70)) -> 23 | D25: Fardi | F25: 35004 | G25: =DATEDIF(F25,NOW(),"Y") -> 29 | J25: 5 | K25: =IF(J25="","",RANK(J25,J$3:J$70,0)) -> 35 | L25: =IFERROR(IF(K25="","",VLOOKUP(K25,'Concordance Classmt & Points'!$A$2:$B$33,2,FALSE)),0) -> 0 | M25: =IF(ISNUMBER(L25),L25+L25*(MAX(0,$G25-28))*1.5/100,"") -> 0 | O25: 5 | Q25: =IF(P25="","",RANK(P25,P$3:P$70,0)) | R25: =IFERROR(IF(Q25="","",VLOOKUP(Q25,'Concordance Classmt & Points'!$A$2:$B$33,2,FALSE)),0) | S25: =IF(ISNUMBER(R25),R25+R25*(MAX(0,$G25-28))*1.5/100,"") | V25: =IF(U25="","",RANK(U25,U$3:U$70,1)) | W25: =IFERROR(IF(V25="","",VLOOKUP(V25,'Concordance Classmt & Points'!$A$2:$B$33,2,FALSE)),0) | X25: =IF(ISNUMBER(W25),W25+W25*(MAX(0,$G25-28))*1.5/100,"") | AA25: =IF(Z25="","",RANK(Z25,Z$3:Z$70,1)) | AB25: =IFERROR(IF(AA25="","",VLOOKUP(AA25,'Concordance Classmt & Points'!$A$2:$B$33,2,FALSE)),0) | AC25: =IF(ISNUMBER(AB25),AB25+AB25*(MAX(0,$G25-28))*1.5/100,"") | AE25: 0.0026168981 | AF25: =IF(AE25="","",RANK(AE25,AE$3:AE$70,1)) -> 11 | AG25: =IFERROR(IF(AF25="","",VLOOKUP(AF25,'Concordance Classmt & Points'!$A$2:$B$33,2,FALSE)),0) -> 30 | AH25: =IF(ISNUMBER(AG25),AG25+AG25*(MAX(0,$G25-28))*1.5/100,"") -> 30.45 | AJ25: 0.0026168981 | AK25: =IF(AJ25="","",RANK(AJ25,AJ$3:AJ$70,1)) -> 11 | AL25: =IFERROR(IF(AK25="","",VLOOKUP(AK25,'Concordance Classmt & Points'!$A$2:$B$33,2,FALSE)),0) -> 30 | AM25: =IF(ISNUMBER(AL25),AL25+AL25*(MAX(0,$G25-28))*1.5/100,"") -> 30.45 | AP25: =IF(AO25="","",RANK(AO25,AO$3:AO$70,1)) | AQ25: =IFERROR(IF(AP25="","",VLOOKUP(AP25,'Concordance Classmt & Points'!$A$2:$B$33,2,FALSE)),0) | AR25: =IF(ISNUMBER(AQ25),AQ25+AQ25*(MAX(0,$G25-28))*1.5/100,"") | AU25: =IF(AT25="","",RANK(AT25,AT$3:AT$70,1)) | AV25: =IFERROR(IF(AU25="","",VLOOKUP(AU25,'Concordance Classmt & Points'!$A$2:$B$33,2,FALSE)),0) | AW25: =IF(ISNUMBER(AV25),AV25+AV25*(MAX(0,$G25-28))*1.5/100,"") | AZ25: =IF(AY25="","",RANK(AY25,AY$3:AY$70,1)) | BA25: =IFERROR(IF(AZ25="","",VLOOKUP(AZ25,'Concordance Classmt & Points'!$A$2:$B$33,2,FALSE)),0) | BB25: =IF(ISNUMBER(BA25),BA25+BA25*(MAX(0,$G25-28))*1.5/100,"") | BE25: =IF(BD25="","",RANK(BD25,BD$3:BD$70,1)) | BF25: =IFERROR(IF(BE25="","",VLOOKUP(BE25,'Concordance Classmt & Points'!$A$2:$B$33,2,FALSE)),0) | BG25: =IF(ISNUMBER(BF25),BF25+BF25*(MAX(0,$G25-28))*1.5/100,"") | BI25: =IF(COUNT(L25,R25,W25,AB25,AG25,AQ25,AL25,AV25,BA25,BF25),SUM(L25,R25,W25,AB25,AG25,AQ25,AL25,AV25,BA25,BF25),"-") -> 60 | BJ25: =IF(COUNT(M25,S25,X25,AC25,AH25,AM25,AR25,AW25,BB25,BG25),SUM(M25,S25,X25,AC25,AH25,AM25,AR25,AW25,BB25,BG25),"-") -> 60.9 | BK25: =IF(BJ25="-","",RANK(BJ25,BJ$3:BJ$70)) -> 23
A26: =IF(BJ26="-","",RANK(BJ26,BJ$3:BJ$70)) -> 24 | B26: Lille CP | D26: Hicham | F26: 30132 | G26: =DATEDIF(F26,NOW(),"Y") -> 42 | J26: 17 | K26: =IF(J26="","",RANK(J26,J$3:J$70,0)) -> 4 | L26: =IFERROR(IF(K26="","",VLOOKUP(K26,'Concordance Classmt & Points'!$A$2:$B$33,2,FALSE)),0) -> 50 | M26: =IF(ISNUMBER(L26),L26+L26*(MAX(0,$G26-28))*1.5/100,"") -> 60.5 | O26: 17 | Q26: =IF(P26="","",RANK(P26,P$3:P$70,0)) | R26: =IFERROR(IF(Q26="","",VLOOKUP(Q26,'Concordance Classmt & Points'!$A$2:$B$33,2,FALSE)),0) | S26: =IF(ISNUMBER(R26),R26+R26*(MAX(0,$G26-28))*1.5/100,"") | V26: =IF(U26="","",RANK(U26,U$3:U$70,1)) | W26: =IFERROR(IF(V26="","",VLOOKUP(V26,'Concordance Classmt & Points'!$A$2:$B$33,2,FALSE)),0) | X26: =IF(ISNUMBER(W26),W26+W26*(MAX(0,$G26-28))*1.5/100,"") | AA26: =IF(Z26="","",RANK(Z26,Z$3:Z$70,1)) | AB26: =IFERROR(IF(AA26="","",VLOOKUP(AA26,'Concordance Classmt & Points'!$A$2:$B$33,2,FALSE)),0) | AC26: =IF(ISNUMBER(AB26),AB26+AB26*(MAX(0,$G26-28))*1.5/100,"") | AF26: =IF(AE26="","",RANK(AE26,AE$3:AE$70,1)) | AG26: =IFERROR(IF(AF26="","",VLOOKUP(AF26,'Concordance Classmt & Points'!$A$2:$B$33,2,FALSE)),0) | AH26: =IF(ISNUMBER(AG26),AG26+AG26*(MAX(0,$G26-28))*1.5/100,"") | AK26: =IF(AJ26="","",RANK(AJ26,AJ$3:AJ$70,1)) | AL26: =IFERROR(IF(AK26="","",VLOOKUP(AK26,'Concordance Classmt & Points'!$A$2:$B$33,2,FALSE)),0) | AM26: =IF(ISNUMBER(AL26),AL26+AL26*(MAX(0,$G26-28))*1.5/100,"") | AP26: =IF(AO26="","",RANK(AO26,AO$3:AO$70,1)) | AQ26: =IFERROR(IF(AP26="","",VLOOKUP(AP26,'Concordance Classmt & Points'!$A$2:$B$33,2,FALSE)),0) | AR26: =IF(ISNUMBER(AQ26),AQ26+AQ26*(MAX(0,$G26-28))*1.5/100,"") | AU26: =IF(AT26="","",RANK(AT26,AT$3:AT$70,1)) | AV26: =IFERROR(IF(AU26="","",VLOOKUP(AU26,'Concordance Classmt & Points'!$A$2:$B$33,2,FALSE)),0) | AW26: =IF(ISNUMBER(AV26),AV26+AV26*(MAX(0,$G26-28))*1.5/100,"") | AZ26: =IF(AY26="","",RANK(AY26,AY$3:AY$70,1)) | BA26: =IFERROR(IF(AZ26="","",VLOOKUP(AZ26,'Concordance Classmt & Points'!$A$2:$B$33,2,FALSE)),0) | BB26: =IF(ISNUMBER(BA26),BA26+BA26*(MAX(0,$G26-28))*1.5/100,"") | BE26: =IF(BD26="","",RANK(BD26,BD$3:BD$70,1)) | BF26: =IFERROR(IF(BE26="","",VLOOKUP(BE26,'Concordance Classmt & Points'!$A$2:$B$33,2,FALSE)),0) | BG26: =IF(ISNUMBER(BF26),BF26+BF26*(MAX(0,$G26-28))*1.5/100,"") | BI26: =IF(COUNT(L26,R26,W26,AB26,AG26,AQ26,AL26,AV26,BA26,BF26),SUM(L26,R26,W26,AB26,AG26,AQ26,AL26,AV26,BA26,BF26),"-") -> 50 | BJ26: =IF(COUNT(M26,S26,X26,AC26,AH26,AM26,AR26,AW26,BB26,BG26),SUM(M26,S26,X26,AC26,AH26,AM26,AR26,AW26,BB26,BG26),"-") -> 60.5 | BK26: =IF(BJ26="-","",RANK(BJ26,BJ$3:BJ$70)) -> 24
A27: =IF(BJ27="-","",RANK(BJ27,BJ$3:BJ$70)) -> 25 | D27: Yacine | F27: 36722 | G27: =DATEDIF(F27,NOW(),"Y") -> 24 | K27: =IF(J27="","",RANK(J27,J$3:J$70,0)) | L27: =IFERROR(IF(K27="","",VLOOKUP(K27,'Concordance Classmt & Points'!$A$2:$B$33,2,FALSE)),0) | M27: =IF(ISNUMBER(L27),L27+L27*(MAX(0,$G27-28))*1.5/100,"") | Q27: =IF(P27="","",RANK(P27,P$3:P$70,0)) | R27: =IFERROR(IF(Q27="","",VLOOKUP(Q27,'Concordance Classmt & Points'!$A$2:$B$33,2,FALSE)),0) | S27: =IF(ISNUMBER(R27),R27+R27*(MAX(0,$G27-28))*1.5/100,"") | V27: =IF(U27="","",RANK(U27,U$3:U$70,1)) | W27: =IFERROR(IF(V27="","",VLOOKUP(V27,'Concordance Classmt & Points'!$A$2:$B$33,2,FALSE)),0) | X27: =IF(ISNUMBER(W27),W27+W27*(MAX(0,$G27-28))*1.5/100,"") | AA27: =IF(Z27="","",RANK(Z27,Z$3:Z$70,1)) | AB27: =IFERROR(IF(AA27="","",VLOOKUP(AA27,'Concordance Classmt & Points'!$A$2:$B$33,2,FALSE)),0) | AC27: =IF(ISNUMBER(AB27),AB27+AB27*(MAX(0,$G27-28))*1.5/100,"") | AE27: 0.0026238426 | AF27: =IF(AE27="","",RANK(AE27,AE$3:AE$70,1)) -> 12 | AG27: =IFERROR(IF(AF27="","",VLOOKUP(AF27,'Concordance Classmt & Points'!$A$2:$B$33,2,FALSE)),0) -> 29 | AH27: =IF(ISNUMBER(AG27),AG27+AG27*(MAX(0,$G27-28))*1.5/100,"") -> 29 | AJ27: 0.0026238426 | AK27: =IF(AJ27="","",RANK(AJ27,AJ$3:AJ$70,1)) -> 12 | AL27: =IFERROR(IF(AK27="","",VLOOKUP(AK27,'Concordance Classmt & Points'!$A$2:$B$33,2,FALSE)),0) -> 29 | AM27: =IF(ISNUMBER(AL27),AL27+AL27*(MAX(0,$G27-28))*1.5/100,"") -> 29 | AP27: =IF(AO27="","",RANK(AO27,AO$3:AO$70,1)) | AQ27: =IFERROR(IF(AP27="","",VLOOKUP(AP27,'Concordance Classmt & Points'!$A$2:$B$33,2,FALSE)),0) | AR27: =IF(ISNUMBER(AQ27),AQ27+AQ27*(MAX(0,$G27-28))*1.5/100,"") | AU27: =IF(AT27="","",RANK(AT27,AT$3:AT$70,1)) | AV27: =IFERROR(IF(AU27="","",VLOOKUP(AU27,'Concordance Classmt & Points'!$A$2:$B$33,2,FALSE)),0) | AW27: =IF(ISNUMBER(AV27),AV27+AV27*(MAX(0,$G27-28))*1.5/100,"") | AZ27: =IF(AY27="","",RANK(AY27,AY$3:AY$70,1)) | BA27: =IFERROR(IF(AZ27="","",VLOOKUP(AZ27,'Concordance Classmt & Points'!$A$2:$B$33,2,FALSE)),0) | BB27: =IF(ISNUMBER(BA27),BA27+BA27*(MAX(0,$G27-28))*1.5/100,"") | BE27: =IF(BD27="","",RANK(BD27,BD$3:BD$70,1)) | BF27: =IFERROR(IF(BE27="","",VLOOKUP(BE27,'Concordance Classmt & Points'!$A$2:$B$33,2,FALSE)),0) | BG27: =IF(ISNUMBER(BF27),BF27+BF27*(MAX(0,$G27-28))*1.5/100,"") | BI27: =IF(COUNT(L27,R27,W27,AB27,AG27,AQ27,AL27,AV27,BA27,BF27),SUM(L27,R27,W27,AB27,AG27,AQ27,AL27,AV27,BA27,BF27),"-") -> 58 | BJ27: =IF(COUNT(M27,S27,X27,AC27,AH27,AM27,AR27,AW27,BB27,BG27),SUM(M27,S27,X27,AC27,AH27,AM27,AR27,AW27,BB27,BG27),"-") -> 58 | BK27: =IF(BJ27="-","",RANK(BJ27,BJ$3:BJ$70)) -> 25
A28: =IF(BJ28="-","",RANK(BJ28,BJ$3:BJ$70)) -> 26 | D28: Aleksandar | F28: 32786 | G28: =DATEDIF(F28,NOW(),"Y") -> 35 | J28: 16 | K28: =IF(J28="","",RANK(J28,J$3:J$70,0)) -> 5 | L28: =IFERROR(IF(K28="","",VLOOKUP(K28,'Concordance Classmt & Points'!$A$2:$B$33,2,FALSE)),0) -> 45 | M28: =IF(ISNUMBER(L28),L28+L28*(MAX(0,$G28-28))*1.5/100,"") -> 49.725 | O28: 16 | Q28: =IF(P28="","",RANK(P28,P$3:P$70,0)) | R28: =IFERROR(IF(Q28="","",VLOOKUP(Q28,'Concordance Classmt & Points'!$A$2:$B$33,2,FALSE)),0) | S28: =IF(ISNUMBER(R28),R28+R28*(MAX(0,$G28-28))*1.5/100,"") | V28: =IF(U28="","",RANK(U28,U$3:U$70,1)) | W28: =IFERROR(IF(V28="","",VLOOKUP(V28,'Concordance Classmt & Points'!$A$2:$B$33,2,FALSE)),0) | X28: =IF(ISNUMBER(W28),W28+W28*(MAX(0,$G28-28))*1.5/100,"") | AA28: =IF(Z28="","",RANK(Z28,Z$3:Z$70,1)) | AB28: =IFERROR(IF(AA28="","",VLOOKUP(AA28,'Concordance Classmt & Points'!$A$2:$B$33,2,FALSE)),0) | AC28: =IF(ISNUMBER(AB28),AB28+AB28*(MAX(0,$G28-28))*1.5/100,"") | AF28: =IF(AE28="","",RANK(AE28,AE$3:AE$70,1)) | AG28: =IFERROR(IF(AF28="","",VLOOKUP(AF28,'Concordance Classmt & Points'!$A$2:$B$33,2,FALSE)),0) | AH28: =IF(ISNUMBER(AG28),AG28+AG28*(MAX(0,$G28-28))*1.5/100,"") | AK28: =IF(AJ28="","",RANK(AJ28,AJ$3:AJ$70,1)) | AL28: =IFERROR(IF(AK28="","",VLOOKUP(AK28,'Concordance Classmt & Points'!$A$2:$B$33,2,FALSE)),0) | AM28: =IF(ISNUMBER(AL28),AL28+AL28*(MAX(0,$G28-28))*1.5/100,"") | AP28: =IF(AO28="","",RANK(AO28,AO$3:AO$70,1)) | AQ28: =IFERROR(IF(AP28="","",VLOOKUP(AP28,'Concordance Classmt & Points'!$A$2:$B$33,2,FALSE)),0) | AR28: =IF(ISNUMBER(AQ28),AQ28+AQ28*(MAX(0,$G28-28))*1.5/100,"") | AU28: =IF(AT28="","",RANK(AT28,AT$3:AT$70,1)) | AV28: =IFERROR(IF(AU28="","",VLOOKUP(AU28,'Concordance Classmt & Points'!$A$2:$B$33,2,FALSE)),0) | AW28: =IF(ISNUMBER(AV28),AV28+AV28*(MAX(0,$G28-28))*1.5/100,"") | AZ28: =IF(AY28="","",RANK(AY28,AY$3:AY$70,1)) | BA28: =IFERROR(IF(AZ28="","",VLOOKUP(AZ28,'Concordance Classmt & Points'!$A$2:$B$33,2,FALSE)),0) | BB28: =IF(ISNUMBER(BA28),BA28+BA28*(MAX(0,$G28-28))*1.5/100,"") | BE28: =IF(BD28="","",RANK(BD28,BD$3:BD$70,1)) | BF28: =IFERROR(IF(BE28="","",VLOOKUP(BE28,'Concordance Classmt & Points'!$A$2:$B$33,2,FALSE)),0) | BG28: =IF(ISNUMBER(BF28),BF28+BF28*(MAX(0,$G28-28))*1.5/100,"") | BI28: =IF(COUNT(L28,R28,W28,AB28,AG28,AQ28,AL28,AV28,BA28,BF28),SUM(L28,R28,W28,AB28,AG28,AQ28,AL28,AV28,BA28,BF28),"-") -> 45 | BJ28: =IF(COUNT(M28,S28,X28,AC28,AH28,AM28,AR28,AW28,BB28,BG28),SUM(M28,S28,X28,AC28,AH28,AM28,AR28,AW28,BB28,BG28),"-") -> 49.725 | BK28: =IF(BJ28="-","",RANK(BJ28,BJ$3:BJ$70)) -> 26
A29: =IF(BJ29="-","",RANK(BJ29,BJ$3:BJ$70)) -> 27 | D29: Lorenzo | F29: 38442 | G29: =DATEDIF(F29,NOW(),"Y") -> 20 | J29: 5 | K29: =IF(J29="","",RANK(J29,J$3:J$70,0)) -> 35 | L29: =IFERROR(IF(K29="","",VLOOKUP(K29,'Concordance Classmt & Points'!$A$2:$B$33,2,FALSE)),0) -> 0 | M29: =IF(ISNUMBER(L29),L29+L29*(MAX(0,$G29-28))*1.5/100,"") -> 0 | O29: 5 | Q29: =IF(P29="","",RANK(P29,P$3:P$70,0)) | R29: =IFERROR(IF(Q29="","",VLOOKUP(Q29,'Concordance Classmt & Points'!$A$2:$B$33,2,FALSE)),0) | S29: =IF(ISNUMBER(R29),R29+R29*(MAX(0,$G29-28))*1.5/100,"") | V29: =IF(U29="","",RANK(U29,U$3:U$70,1)) | W29: =IFERROR(IF(V29="","",VLOOKUP(V29,'Concordance Classmt & Points'!$A$2:$B$33,2,FALSE)),0) | X29: =IF(ISNUMBER(W29),W29+W29*(MAX(0,$G29-28))*1.5/100,"") | AA29: =IF(Z29="","",RANK(Z29,Z$3:Z$70,1)) | AB29: =IFERROR(IF(AA29="","",VLOOKUP(AA29,'Concordance Classmt & Points'!$A$2:$B$33,2,FALSE)),0) | AC29: =IF(ISNUMBER(AB29),AB29+AB29*(MAX(0,$G29-28))*1.5/100,"") | AE29: 0.0027719907 | AF29: =IF(AE29="","",RANK(AE29,AE$3:AE$70,1)) -> 17 | AG29: =IFERROR(IF(AF29="","",VLOOKUP(AF29,'Concordance Classmt & Points'!$A$2:$B$33,2,FALSE)),0) -> 24 | AH29: =IF(ISNUMBER(AG29),AG29+AG29*(MAX(0,$G29-28))*1.5/100,"") -> 24 | AJ29: 0.0027719907 | AK29: =IF(AJ29="","",RANK(AJ29,AJ$3:AJ$70,1)) -> 17 | AL29: =IFERROR(IF(AK29="","",VLOOKUP(AK29,'Concordance Classmt & Points'!$A$2:$B$33,2,FALSE)),0) -> 24 | AM29: =IF(ISNUMBER(AL29),AL29+AL29*(MAX(0,$G29-28))*1.5/100,"") -> 24 | AP29: =IF(AO29="","",RANK(AO29,AO$3:AO$70,1)) | AQ29: =IFERROR(IF(AP29="","",VLOOKUP(AP29,'Concordance Classmt & Points'!$A$2:$B$33,2,FALSE)),0) | AR29: =IF(ISNUMBER(AQ29),AQ29+AQ29*(MAX(0,$G29-28))*1.5/100,"") | AU29: =IF(AT29="","",RANK(AT29,AT$3:AT$70,1)) | AV29: =IFERROR(IF(AU29="","",VLOOKUP(AU29,'Concordance Classmt & Points'!$A$2:$B$33,2,FALSE)),0) | AW29: =IF(ISNUMBER(AV29),AV29+AV29*(MAX(0,$G29-28))*1.5/100,"") | AZ29: =IF(AY29="","",RANK(AY29,AY$3:AY$70,1)) | BA29: =IFERROR(IF(AZ29="","",VLOOKUP(AZ29,'Concordance Classmt & Points'!$A$2:$B$33,2,FALSE)),0) | BB29: =IF(ISNUMBER(BA29),BA29+BA29*(MAX(0,$G29-28))*1.5/100,"") | BE29: =IF(BD29="","",RANK(BD29,BD$3:BD$70,1)) | BF29: =IFERROR(IF(BE29="","",VLOOKUP(BE29,'Concordance Classmt & Points'!$A$2:$B$33,2,FALSE)),0) | BG29: =IF(ISNUMBER(BF29),BF29+BF29*(MAX(0,$G29-28))*1.5/100,"") | BI29: =IF(COUNT(L29,R29,W29,AB29,AG29,AQ29,AL29,AV29,BA29,BF29),SUM(L29,R29,W29,AB29,AG29,AQ29,AL29,AV29,BA29,BF29),"-") -> 48 | BJ29: =IF(COUNT(M29,S29,X29,AC29,AH29,AM29,AR29,AW29,BB29,BG29),SUM(M29,S29,X29,AC29,AH29,AM29,AR29,AW29,BB29,BG29),"-") -> 48 | BK29: =IF(BJ29="-","",RANK(BJ29,BJ$3:BJ$70)) -> 27
A30: =IF(BJ30="-","",RANK(BJ30,BJ$3:BJ$70)) -> 28 | D30: Seif eddine | F30: 35436 | G30: =DATEDIF(F30,NOW(),"Y") -> 28 | J30: 2 | K30: =IF(J30="","",RANK(J30,J$3:J$70,0)) -> 50 | L30: =IFERROR(IF(K30="","",VLOOKUP(K30,'Concordance Classmt & Points'!$A$2:$B$33,2,FALSE)),0) -> 0 | M30: =IF(ISNUMBER(L30),L30+L30*(MAX(0,$G30-28))*1.5/100,"") -> 0 | O30: 2 | Q30: =IF(P30="","",RANK(P30,P$3:P$70,0)) | R30: =IFERROR(IF(Q30="","",VLOOKUP(Q30,'Concordance Classmt & Points'!$A$2:$B$33,2,FALSE)),0) | S30: =IF(ISNUMBER(R30),R30+R30*(MAX(0,$G30-28))*1.5/100,"") | V30: =IF(U30="","",RANK(U30,U$3:U$70,1)) | W30: =IFERROR(IF(V30="","",VLOOKUP(V30,'Concordance Classmt & Points'!$A$2:$B$33,2,FALSE)),0) | X30: =IF(ISNUMBER(W30),W30+W30*(MAX(0,$G30-28))*1.5/100,"") | AA30: =IF(Z30="","",RANK(Z30,Z$3:Z$70,1)) | AB30: =IFERROR(IF(AA30="","",VLOOKUP(AA30,'Concordance Classmt & Points'!$A$2:$B$33,2,FALSE)),0) | AC30: =IF(ISNUMBER(AB30),AB30+AB30*(MAX(0,$G30-28))*1.5/100,"") | AE30: 0.002880787 | AF30: =IF(AE30="","",RANK(AE30,AE$3:AE$70,1)) -> 18 | AG30: =IFERROR(IF(AF30="","",VLOOKUP(AF30,'Concordance Classmt & Points'!$A$2:$B$33,2,FALSE)),0) -> 23 | AH30: =IF(ISNUMBER(AG30),AG30+AG30*(MAX(0,$G30-28))*1.5/100,"") -> 23 | AJ30: 0.002880787 | AK30: =IF(AJ30="","",RANK(AJ30,AJ$3:AJ$70,1)) -> 18 | AL30: =IFERROR(IF(AK30="","",VLOOKUP(AK30,'Concordance Classmt & Points'!$A$2:$B$33,2,FALSE)),0) -> 23 | AM30: =IF(ISNUMBER(AL30),AL30+AL30*(MAX(0,$G30-28))*1.5/100,"") -> 23 | AP30: =IF(AO30="","",RANK(AO30,AO$3:AO$70,1)) | AQ30: =IFERROR(IF(AP30="","",VLOOKUP(AP30,'Concordance Classmt & Points'!$A$2:$B$33,2,FALSE)),0) | AR30: =IF(ISNUMBER(AQ30),AQ30+AQ30*(MAX(0,$G30-28))*1.5/100,"") | AU30: =IF(AT30="","",RANK(AT30,AT$3:AT$70,1)) | AV30: =IFERROR(IF(AU30="","",VLOOKUP(AU30,'Concordance Classmt & Points'!$A$2:$B$33,2,FALSE)),0) | AW30: =IF(ISNUMBER(AV30),AV30+AV30*(MAX(0,$G30-28))*1.5/100,"") | AZ30: =IF(AY30="","",RANK(AY30,AY$3:AY$70,1)) | BA30: =IFERROR(IF(AZ30="","",VLOOKUP(AZ30,'Concordance Classmt & Points'!$A$2:$B$33,2,FALSE)),0) | BB30: =IF(ISNUMBER(BA30),BA30+BA30*(MAX(0,$G30-28))*1.5/100,"") | BE30: =IF(BD30="","",RANK(BD30,BD$3:BD$70,1)) | BF30: =IFERROR(IF(BE30="","",VLOOKUP(BE30,'Concordance Classmt & Points'!$A$2:$B$33,2,FALSE)),0) | BG30: =IF(ISNUMBER(BF30),BF30+BF30*(MAX(0,$G30-28))*1.5/100,"") | BI30: =IF(COUNT(L30,R30,W30,AB30,AG30,AQ30,AL30,AV30,BA30,BF30),SUM(L30,R30,W30,AB30,AG30,AQ30,AL30,AV30,BA30,BF30),"-") -> 46 | BJ30: =IF(COUNT(M30,S30,X30,AC30,AH30,AM30,AR30,AW30,BB30,BG30),SUM(M30,S30,X30,AC30,AH30,AM30,AR30,AW30,BB30,BG30),"-") -> 46 | BK30: =IF(BJ30="-","",RANK(BJ30,BJ$3:BJ$70)) -> 28
A31: =IF(BJ31="-","",RANK(BJ31,BJ$3:BJ$70)) -> 29 | D31: Jeremy | F31: 32246 | G31: =DATEDIF(F31,NOW(),"Y") -> 37 | J31: 5 | K31: =IF(J31="","",RANK(J31,J$3:J$70,0)) -> 35 | L31: =IFERROR(IF(K31="","",VLOOKUP(K31,'Concordance Classmt & Points'!$A$2:$B$33,2,FALSE)),0) -> 0 | M31: =IF(ISNUMBER(L31),L31+L31*(MAX(0,$G31-28))*1.5/100,"") -> 0 | O31: 5 | Q31: =IF(P31="","",RANK(P31,P$3:P$70,0)) | R31: =IFERROR(IF(Q31="","",VLOOKUP(Q31,'Concordance Classmt & Points'!$A$2:$B$33,2,FALSE)),0) | S31: =IF(ISNUMBER(R31),R31+R31*(MAX(0,$G31-28))*1.5/100,"") | V31: =IF(U31="","",RANK(U31,U$3:U$70,1)) | W31: =IFERROR(IF(V31="","",VLOOKUP(V31,'Concordance Classmt & Points'!$A$2:$B$33,2,FALSE)),0) | X31: =IF(ISNUMBER(W31),W31+W31*(MAX(0,$G31-28))*1.5/100,"") | AA31: =IF(Z31="","",RANK(Z31,Z$3:Z$70,1)) | AB31: =IFERROR(IF(AA31="","",VLOOKUP(AA31,'Concordance Classmt & Points'!$A$2:$B$33,2,FALSE)),0) | AC31: =IF(ISNUMBER(AB31),AB31+AB31*(MAX(0,$G31-28))*1.5/100,"") | AE31: 0.0029166667 | AF31: =IF(AE31="","",RANK(AE31,AE$3:AE$70,1)) -> 21 | AG31: =IFERROR(IF(AF31="","",VLOOKUP(AF31,'Concordance Classmt & Points'!$A$2:$B$33,2,FALSE)),0) -> 20 | AH31: =IF(ISNUMBER(AG31),AG31+AG31*(MAX(0,$G31-28))*1.5/100,"") -> 22.7 | AJ31: 0.0029166667 | AK31: =IF(AJ31="","",RANK(AJ31,AJ$3:AJ$70,1)) -> 21 | AL31: =IFERROR(IF(AK31="","",VLOOKUP(AK31,'Concordance Classmt & Points'!$A$2:$B$33,2,FALSE)),0) -> 20 | AM31: =IF(ISNUMBER(AL31),AL31+AL31*(MAX(0,$G31-28))*1.5/100,"") -> 22.7 | AP31: =IF(AO31="","",RANK(AO31,AO$3:AO$70,1)) | AQ31: =IFERROR(IF(AP31="","",VLOOKUP(AP31,'Concordance Classmt & Points'!$A$2:$B$33,2,FALSE)),0) | AR31: =IF(ISNUMBER(AQ31),AQ31+AQ31*(MAX(0,$G31-28))*1.5/100,"") | AU31: =IF(AT31="","",RANK(AT31,AT$3:AT$70,1)) | AV31: =IFERROR(IF(AU31="","",VLOOKUP(AU31,'Concordance Classmt & Points'!$A$2:$B$33,2,FALSE)),0) | AW31: =IF(ISNUMBER(AV31),AV31+AV31*(MAX(0,$G31-28))*1.5/100,"") | AZ31: =IF(AY31="","",RANK(AY31,AY$3:AY$70,1)) | BA31: =IFERROR(IF(AZ31="","",VLOOKUP(AZ31,'Concordance Classmt & Points'!$A$2:$B$33,2,FALSE)),0) | BB31: =IF(ISNUMBER(BA31),BA31+BA31*(MAX(0,$G31-28))*1.5/100,"") | BE31: =IF(BD31="","",RANK(BD31,BD$3:BD$70,1)) | BF31: =IFERROR(IF(BE31="","",VLOOKUP(BE31,'Concordance Classmt & Points'!$A$2:$B$33,2,FALSE)),0) | BG31: =IF(ISNUMBER(BF31),BF31+BF31*(MAX(0,$G31-28))*1.5/100,"") | BI31: =IF(COUNT(L31,R31,W31,AB31,AG31,AQ31,AL31,AV31,BA31,BF31),SUM(L31,R31,W31,AB31,AG31,AQ31,AL31,AV31,BA31,BF31),"-") -> 40 | BJ31: =IF(COUNT(M31,S31,X31,AC31,AH31,AM31,AR31,AW31,BB31,BG31),SUM(M31,S31,X31,AC31,AH31,AM31,AR31,AW31,BB31,BG31),"-") -> 45.4 | BK31: =IF(BJ31="-","",RANK(BJ31,BJ$3:BJ$70)) -> 29
A32: =IF(BJ32="-","",RANK(BJ32,BJ$3:BJ$70)) -> 30 | B32: Marseille CP | D32: Adlane | F32: 35287 | G32: =DATEDIF(F32,NOW(),"Y") -> 28 | J32: 16 | K32: =IF(J32="","",RANK(J32,J$3:J$70,0)) -> 5 | L32: =IFERROR(IF(K32="","",VLOOKUP(K32,'Concordance Classmt & Points'!$A$2:$B$33,2,FALSE)),0) -> 45 | M32: =IF(ISNUMBER(L32),L32+L32*(MAX(0,$G32-28))*1.5/100,"") -> 45 | O32: 16 | Q32: =IF(P32="","",RANK(P32,P$3:P$70,0)) | R32: =IFERROR(IF(Q32="","",VLOOKUP(Q32,'Concordance Classmt & Points'!$A$2:$B$33,2,FALSE)),0) | S32: =IF(ISNUMBER(R32),R32+R32*(MAX(0,$G32-28))*1.5/100,"") | V32: =IF(U32="","",RANK(U32,U$3:U$70,1)) | W32: =IFERROR(IF(V32="","",VLOOKUP(V32,'Concordance Classmt & Points'!$A$2:$B$33,2,FALSE)),0) | X32: =IF(ISNUMBER(W32),W32+W32*(MAX(0,$G32-28))*1.5/100,"") | AA32: =IF(Z32="","",RANK(Z32,Z$3:Z$70,1)) | AB32: =IFERROR(IF(AA32="","",VLOOKUP(AA32,'Concordance Classmt & Points'!$A$2:$B$33,2,FALSE)),0) | AC32: =IF(ISNUMBER(AB32),AB32+AB32*(MAX(0,$G32-28))*1.5/100,"") | AF32: =IF(AE32="","",RANK(AE32,AE$3:AE$70,1)) | AG32: =IFERROR(IF(AF32="","",VLOOKUP(AF32,'Concordance Classmt & Points'!$A$2:$B$33,2,FALSE)),0) | AH32: =IF(ISNUMBER(AG32),AG32+AG32*(MAX(0,$G32-28))*1.5/100,"") | AK32: =IF(AJ32="","",RANK(AJ32,AJ$3:AJ$70,1)) | AL32: =IFERROR(IF(AK32="","",VLOOKUP(AK32,'Concordance Classmt & Points'!$A$2:$B$33,2,FALSE)),0) | AM32: =IF(ISNUMBER(AL32),AL32+AL32*(MAX(0,$G32-28))*1.5/100,"") | AP32: =IF(AO32="","",RANK(AO32,AO$3:AO$70,1)) | AQ32: =IFERROR(IF(AP32="","",VLOOKUP(AP32,'Concordance Classmt & Points'!$A$2:$B$33,2,FALSE)),0) | AR32: =IF(ISNUMBER(AQ32),AQ32+AQ32*(MAX(0,$G32-28))*1.5/100,"") | AU32: =IF(AT32="","",RANK(AT32,AT$3:AT$70,1)) | AV32: =IFERROR(IF(AU32="","",VLOOKUP(AU32,'Concordance Classmt & Points'!$A$2:$B$33,2,FALSE)),0) | AW32: =IF(ISNUMBER(AV32),AV32+AV32*(MAX(0,$G32-28))*1.5/100,"") | AZ32: =IF(AY32="","",RANK(AY32,AY$3:AY$70,1)) | BA32: =IFERROR(IF(AZ32="","",VLOOKUP(AZ32,'Concordance Classmt & Points'!$A$2:$B$33,2,FALSE)),0) | BB32: =IF(ISNUMBER(BA32),BA32+BA32*(MAX(0,$G32-28))*1.5/100,"") | BE32: =IF(BD32="","",RANK(BD32,BD$3:BD$70,1)) | BF32: =IFERROR(IF(BE32="","",VLOOKUP(BE32,'Concordance Classmt & Points'!$A$2:$B$33,2,FALSE)),0) | BG32: =IF(ISNUMBER(BF32),BF32+BF32*(MAX(0,$G32-28))*1.5/100,"") | BI32: =IF(COUNT(L32,R32,W32,AB32,AG32,AQ32,AL32,AV32,BA32,BF32),SUM(L32,R32,W32,AB32,AG32,AQ32,AL32,AV32,BA32,BF32),"-") -> 45 | BJ32: =IF(COUNT(M32,S32,X32,AC32,AH32,AM32,AR32,AW32,BB32,BG32),SUM(M32,S32,X32,AC32,AH32,AM32,AR32,AW32,BB32,BG32),"-") -> 45 | BK32: =IF(BJ32="-","",RANK(BJ32,BJ$3:BJ$70)) -> 30
A33: =IF(BJ33="-","",RANK(BJ33,BJ$3:BJ$70)) -> 31 | D33: Heidi | F33: 36500 | G33: =DATEDIF(F33,NOW(),"Y") -> 25 | J33: 5 | K33: =IF(J33="","",RANK(J33,J$3:J$70,0)) -> 35 | L33: =IFERROR(IF(K33="","",VLOOKUP(K33,'Concordance Classmt & Points'!$A$2:$B$33,2,FALSE)),0) -> 0 | M33: =IF(ISNUMBER(L33),L33+L33*(MAX(0,$G33-28))*1.5/100,"") -> 0 | O33: 5 | Q33: =IF(P33="","",RANK(P33,P$3:P$70,0)) | R33: =IFERROR(IF(Q33="","",VLOOKUP(Q33,'Concordance Classmt & Points'!$A$2:$B$33,2,FALSE)),0) | S33: =IF(ISNUMBER(R33),R33+R33*(MAX(0,$G33-28))*1.5/100,"") | V33: =IF(U33="","",RANK(U33,U$3:U$70,1)) | W33: =IFERROR(IF(V33="","",VLOOKUP(V33,'Concordance Classmt & Points'!$A$2:$B$33,2,FALSE)),0) | X33: =IF(ISNUMBER(W33),W33+W33*(MAX(0,$G33-28))*1.5/100,"") | AA33: =IF(Z33="","",RANK(Z33,Z$3:Z$70,1)) | AB33: =IFERROR(IF(AA33="","",VLOOKUP(AA33,'Concordance Classmt & Points'!$A$2:$B$33,2,FALSE)),0) | AC33: =IF(ISNUMBER(AB33),AB33+AB33*(MAX(0,$G33-28))*1.5/100,"") | AE33: 0.0028912037 | AF33: =IF(AE33="","",RANK(AE33,AE$3:AE$70,1)) -> 19 | AG33: =IFERROR(IF(AF33="","",VLOOKUP(AF33,'Concordance Classmt & Points'!$A$2:$B$33,2,FALSE)),0) -> 22 | AH33: =IF(ISNUMBER(AG33),AG33+AG33*(MAX(0,$G33-28))*1.5/100,"") -> 22 | AJ33: 0.0028912037 | AK33: =IF(AJ33="","",RANK(AJ33,AJ$3:AJ$70,1)) -> 19 | AL33: =IFERROR(IF(AK33="","",VLOOKUP(AK33,'Concordance Classmt & Points'!$A$2:$B$33,2,FALSE)),0) -> 22 | AM33: =IF(ISNUMBER(AL33),AL33+AL33*(MAX(0,$G33-28))*1.5/100,"") -> 22 | AP33: =IF(AO33="","",RANK(AO33,AO$3:AO$70,1)) | AQ33: =IFERROR(IF(AP33="","",VLOOKUP(AP33,'Concordance Classmt & Points'!$A$2:$B$33,2,FALSE)),0) | AR33: =IF(ISNUMBER(AQ33),AQ33+AQ33*(MAX(0,$G33-28))*1.5/100,"") | AU33: =IF(AT33="","",RANK(AT33,AT$3:AT$70,1)) | AV33: =IFERROR(IF(AU33="","",VLOOKUP(AU33,'Concordance Classmt & Points'!$A$2:$B$33,2,FALSE)),0) | AW33: =IF(ISNUMBER(AV33),AV33+AV33*(MAX(0,$G33-28))*1.5/100,"") | AZ33: =IF(AY33="","",RANK(AY33,AY$3:AY$70,1)) | BA33: =IFERROR(IF(AZ33="","",VLOOKUP(AZ33,'Concordance Classmt & Points'!$A$2:$B$33,2,FALSE)),0) | BB33: =IF(ISNUMBER(BA33),BA33+BA33*(MAX(0,$G33-28))*1.5/100,"") | BE33: =IF(BD33="","",RANK(BD33,BD$3:BD$70,1)) | BF33: =IFERROR(IF(BE33="","",VLOOKUP(BE33,'Concordance Classmt & Points'!$A$2:$B$33,2,FALSE)),0) | BG33: =IF(ISNUMBER(BF33),BF33+BF33*(MAX(0,$G33-28))*1.5/100,"") | BI33: =IF(COUNT(L33,R33,W33,AB33,AG33,AQ33,AL33,AV33,BA33,BF33),SUM(L33,R33,W33,AB33,AG33,AQ33,AL33,AV33,BA33,BF33),"-") -> 44 | BJ33: =IF(COUNT(M33,S33,X33,AC33,AH33,AM33,AR33,AW33,BB33,BG33),SUM(M33,S33,X33,AC33,AH33,AM33,AR33,AW33,BB33,BG33),"-") -> 44 | BK33: =IF(BJ33="-","",RANK(BJ33,BJ$3:BJ$70)) -> 31
A34: =IF(BJ34="-","",RANK(BJ34,BJ$3:BJ$70)) -> 32 | D34: Favour | F34: 30755 | G34: =DATEDIF(F34,NOW(),"Y") -> 41 | K34: =IF(J34="","",RANK(J34,J$3:J$70,0)) | L34: =IFERROR(IF(K34="","",VLOOKUP(K34,'Concordance Classmt & Points'!$A$2:$B$33,2,FALSE)),0) | M34: =IF(ISNUMBER(L34),L34+L34*(MAX(0,$G34-28))*1.5/100,"") | Q34: =IF(P34="","",RANK(P34,P$3:P$70,0)) | R34: =IFERROR(IF(Q34="","",VLOOKUP(Q34,'Concordance Classmt & Points'!$A$2:$B$33,2,FALSE)),0) | S34: =IF(ISNUMBER(R34),R34+R34*(MAX(0,$G34-28))*1.5/100,"") | V34: =IF(U34="","",RANK(U34,U$3:U$70,1)) | W34: =IFERROR(IF(V34="","",VLOOKUP(V34,'Concordance Classmt & Points'!$A$2:$B$33,2,FALSE)),0) | X34: =IF(ISNUMBER(W34),W34+W34*(MAX(0,$G34-28))*1.5/100,"") | AA34: =IF(Z34="","",RANK(Z34,Z$3:Z$70,1)) | AB34: =IFERROR(IF(AA34="","",VLOOKUP(AA34,'Concordance Classmt & Points'!$A$2:$B$33,2,FALSE)),0) | AC34: =IF(ISNUMBER(AB34),AB34+AB34*(MAX(0,$G34-28))*1.5/100,"") | AE34: 0.0029421296 | AF34: =IF(AE34="","",RANK(AE34,AE$3:AE$70,1)) -> 22 | AG34: =IFERROR(IF(AF34="","",VLOOKUP(AF34,'Concordance Classmt & Points'!$A$2:$B$33,2,FALSE)),0) -> 18 | AH34: =IF(ISNUMBER(AG34),AG34+AG34*(MAX(0,$G34-28))*1.5/100,"") -> 21.51 | AJ34: 0.0029421296 | AK34: =IF(AJ34="","",RANK(AJ34,AJ$3:AJ$70,1)) -> 22 | AL34: =IFERROR(IF(AK34="","",VLOOKUP(AK34,'Concordance Classmt & Points'!$A$2:$B$33,2,FALSE)),0) -> 18 | AM34: =IF(ISNUMBER(AL34),AL34+AL34*(MAX(0,$G34-28))*1.5/100,"") -> 21.51 | AP34: =IF(AO34="","",RANK(AO34,AO$3:AO$70,1)) | AQ34: =IFERROR(IF(AP34="","",VLOOKUP(AP34,'Concordance Classmt & Points'!$A$2:$B$33,2,FALSE)),0) | AR34: =IF(ISNUMBER(AQ34),AQ34+AQ34*(MAX(0,$G34-28))*1.5/100,"") | AU34: =IF(AT34="","",RANK(AT34,AT$3:AT$70,1)) | AV34: =IFERROR(IF(AU34="","",VLOOKUP(AU34,'Concordance Classmt & Points'!$A$2:$B$33,2,FALSE)),0) | AW34: =IF(ISNUMBER(AV34),AV34+AV34*(MAX(0,$G34-28))*1.5/100,"") | AZ34: =IF(AY34="","",RANK(AY34,AY$3:AY$70,1)) | BA34: =IFERROR(IF(AZ34="","",VLOOKUP(AZ34,'Concordance Classmt & Points'!$A$2:$B$33,2,FALSE)),0) | BB34: =IF(ISNUMBER(BA34),BA34+BA34*(MAX(0,$G34-28))*1.5/100,"") | BE34: =IF(BD34="","",RANK(BD34,BD$3:BD$70,1)) | BF34: =IFERROR(IF(BE34="","",VLOOKUP(BE34,'Concordance Classmt & Points'!$A$2:$B$33,2,FALSE)),0) | BG34: =IF(ISNUMBER(BF34),BF34+BF34*(MAX(0,$G34-28))*1.5/100,"") | BI34: =IF(COUNT(L34,R34,W34,AB34,AG34,AQ34,AL34,AV34,BA34,BF34),SUM(L34,R34,W34,AB34,AG34,AQ34,AL34,AV34,BA34,BF34),"-") -> 36 | BJ34: =IF(COUNT(M34,S34,X34,AC34,AH34,AM34,AR34,AW34,BB34,BG34),SUM(M34,S34,X34,AC34,AH34,AM34,AR34,AW34,BB34,BG34),"-") -> 43.02 | BK34: =IF(BJ34="-","",RANK(BJ34,BJ$3:BJ$70)) -> 32
A35: =IF(BJ35="-","",RANK(BJ35,BJ$3:BJ$70)) -> 33 | D35: Daniel | F35: 33680 | G35: =DATEDIF(F35,NOW(),"Y") -> 33 | J35: 12 | K35: =IF(J35="","",RANK(J35,J$3:J$70,0)) -> 9 | L35: =IFERROR(IF(K35="","",VLOOKUP(K35,'Concordance Classmt & Points'!$A$2:$B$33,2,FALSE)),0) -> 32 | M35: =IF(ISNUMBER(L35),L35+L35*(MAX(0,$G35-28))*1.5/100,"") -> 34.4 | O35: 12 | Q35: =IF(P35="","",RANK(P35,P$3:P$70,0)) | R35: =IFERROR(IF(Q35="","",VLOOKUP(Q35,'Concordance Classmt & Points'!$A$2:$B$33,2,FALSE)),0) | S35: =IF(ISNUMBER(R35),R35+R35*(MAX(0,$G35-28))*1.5/100,"") | V35: =IF(U35="","",RANK(U35,U$3:U$70,1)) | W35: =IFERROR(IF(V35="","",VLOOKUP(V35,'Concordance Classmt & Points'!$A$2:$B$33,2,FALSE)),0) | X35: =IF(ISNUMBER(W35),W35+W35*(MAX(0,$G35-28))*1.5/100,"") | AA35: =IF(Z35="","",RANK(Z35,Z$3:Z$70,1)) | AB35: =IFERROR(IF(AA35="","",VLOOKUP(AA35,'Concordance Classmt & Points'!$A$2:$B$33,2,FALSE)),0) | AC35: =IF(ISNUMBER(AB35),AB35+AB35*(MAX(0,$G35-28))*1.5/100,"") | AF35: =IF(AE35="","",RANK(AE35,AE$3:AE$70,1)) | AG35: =IFERROR(IF(AF35="","",VLOOKUP(AF35,'Concordance Classmt & Points'!$A$2:$B$33,2,FALSE)),0) | AH35: =IF(ISNUMBER(AG35),AG35+AG35*(MAX(0,$G35-28))*1.5/100,"") | AK35: =IF(AJ35="","",RANK(AJ35,AJ$3:AJ$70,1)) | AL35: =IFERROR(IF(AK35="","",VLOOKUP(AK35,'Concordance Classmt & Points'!$A$2:$B$33,2,FALSE)),0) | AM35: =IF(ISNUMBER(AL35),AL35+AL35*(MAX(0,$G35-28))*1.5/100,"") | AP35: =IF(AO35="","",RANK(AO35,AO$3:AO$70,1)) | AQ35: =IFERROR(IF(AP35="","",VLOOKUP(AP35,'Concordance Classmt & Points'!$A$2:$B$33,2,FALSE)),0) | AR35: =IF(ISNUMBER(AQ35),AQ35+AQ35*(MAX(0,$G35-28))*1.5/100,"") | AU35: =IF(AT35="","",RANK(AT35,AT$3:AT$70,1)) | AV35: =IFERROR(IF(AU35="","",VLOOKUP(AU35,'Concordance Classmt & Points'!$A$2:$B$33,2,FALSE)),0) | AW35: =IF(ISNUMBER(AV35),AV35+AV35*(MAX(0,$G35-28))*1.5/100,"") | AZ35: =IF(AY35="","",RANK(AY35,AY$3:AY$70,1)) | BA35: =IFERROR(IF(AZ35="","",VLOOKUP(AZ35,'Concordance Classmt & Points'!$A$2:$B$33,2,FALSE)),0) | BB35: =IF(ISNUMBER(BA35),BA35+BA35*(MAX(0,$G35-28))*1.5/100,"") | BE35: =IF(BD35="","",RANK(BD35,BD$3:BD$70,1)) | BF35: =IFERROR(IF(BE35="","",VLOOKUP(BE35,'Concordance Classmt & Points'!$A$2:$B$33,2,FALSE)),0) | BG35: =IF(ISNUMBER(BF35),BF35+BF35*(MAX(0,$G35-28))*1.5/100,"") | BI35: =IF(COUNT(L35,R35,W35,AB35,AG35,AQ35,AL35,AV35,BA35,BF35),SUM(L35,R35,W35,AB35,AG35,AQ35,AL35,AV35,BA35,BF35),"-") -> 32 | BJ35: =IF(COUNT(M35,S35,X35,AC35,AH35,AM35,AR35,AW35,BB35,BG35),SUM(M35,S35,X35,AC35,AH35,AM35,AR35,AW35,BB35,BG35),"-") -> 34.4 | BK35: =IF(BJ35="-","",RANK(BJ35,BJ$3:BJ$70)) -> 33
A36: =IF(BJ36="-","",RANK(BJ36,BJ$3:BJ$70)) -> 34 | D36: Djilali | F36: 32218 | G36: =DATEDIF(F36,NOW(),"Y") -> 37 | J36: 11 | K36: =IF(J36="","",RANK(J36,J$3:J$70,0)) -> 12 | L36: =IFERROR(IF(K36="","",VLOOKUP(K36,'Concordance Classmt & Points'!$A$2:$B$33,2,FALSE)),0) -> 29 | M36: =IF(ISNUMBER(L36),L36+L36*(MAX(0,$G36-28))*1.5/100,"") -> 32.915 | O36: 11 | Q36: =IF(P36="","",RANK(P36,P$3:P$70,0)) | R36: =IFERROR(IF(Q36="","",VLOOKUP(Q36,'Concordance Classmt & Points'!$A$2:$B$33,2,FALSE)),0) | S36: =IF(ISNUMBER(R36),R36+R36*(MAX(0,$G36-28))*1.5/100,"") | V36: =IF(U36="","",RANK(U36,U$3:U$70,1)) | W36: =IFERROR(IF(V36="","",VLOOKUP(V36,'Concordance Classmt & Points'!$A$2:$B$33,2,FALSE)),0) | X36: =IF(ISNUMBER(W36),W36+W36*(MAX(0,$G36-28))*1.5/100,"") | AA36: =IF(Z36="","",RANK(Z36,Z$3:Z$70,1)) | AB36: =IFERROR(IF(AA36="","",VLOOKUP(AA36,'Concordance Classmt & Points'!$A$2:$B$33,2,FALSE)),0) | AC36: =IF(ISNUMBER(AB36),AB36+AB36*(MAX(0,$G36-28))*1.5/100,"") | AF36: =IF(AE36="","",RANK(AE36,AE$3:AE$70,1)) | AG36: =IFERROR(IF(AF36="","",VLOOKUP(AF36,'Concordance Classmt & Points'!$A$2:$B$33,2,FALSE)),0) | AH36: =IF(ISNUMBER(AG36),AG36+AG36*(MAX(0,$G36-28))*1.5/100,"") | AK36: =IF(AJ36="","",RANK(AJ36,AJ$3:AJ$70,1)) | AL36: =IFERROR(IF(AK36="","",VLOOKUP(AK36,'Concordance Classmt & Points'!$A$2:$B$33,2,FALSE)),0) | AM36: =IF(ISNUMBER(AL36),AL36+AL36*(MAX(0,$G36-28))*1.5/100,"") | AP36: =IF(AO36="","",RANK(AO36,AO$3:AO$70,1)) | AQ36: =IFERROR(IF(AP36="","",VLOOKUP(AP36,'Concordance Classmt & Points'!$A$2:$B$33,2,FALSE)),0) | AR36: =IF(ISNUMBER(AQ36),AQ36+AQ36*(MAX(0,$G36-28))*1.5/100,"") | AU36: =IF(AT36="","",RANK(AT36,AT$3:AT$70,1)) | AV36: =IFERROR(IF(AU36="","",VLOOKUP(AU36,'Concordance Classmt & Points'!$A$2:$B$33,2,FALSE)),0) | AW36: =IF(ISNUMBER(AV36),AV36+AV36*(MAX(0,$G36-28))*1.5/100,"") | AZ36: =IF(AY36="","",RANK(AY36,AY$3:AY$70,1)) | BA36: =IFERROR(IF(AZ36="","",VLOOKUP(AZ36,'Concordance Classmt & Points'!$A$2:$B$33,2,FALSE)),0) | BB36: =IF(ISNUMBER(BA36),BA36+BA36*(MAX(0,$G36-28))*1.5/100,"") | BE36: =IF(BD36="","",RANK(BD36,BD$3:BD$70,1)) | BF36: =IFERROR(IF(BE36="","",VLOOKUP(BE36,'Concordance Classmt & Points'!$A$2:$B$33,2,FALSE)),0) | BG36: =IF(ISNUMBER(BF36),BF36+BF36*(MAX(0,$G36-28))*1.5/100,"") | BI36: =IF(COUNT(L36,R36,W36,AB36,AG36,AQ36,AL36,AV36,BA36,BF36),SUM(L36,R36,W36,AB36,AG36,AQ36,AL36,AV36,BA36,BF36),"-") -> 29 | BJ36: =IF(COUNT(M36,S36,X36,AC36,AH36,AM36,AR36,AW36,BB36,BG36),SUM(M36,S36,X36,AC36,AH36,AM36,AR36,AW36,BB36,BG36),"-") -> 32.915 | BK36: =IF(BJ36="-","",RANK(BJ36,BJ$3:BJ$70)) -> 34
A37: =IF(BJ37="-","",RANK(BJ37,BJ$3:BJ$70)) -> 35 | D37: Sofiia | F37: 35801 | G37: =DATEDIF(F37,NOW(),"Y") -> 27 | K37: =IF(J37="","",RANK(J37,J$3:J$70,0)) | L37: =IFERROR(IF(K37="","",VLOOKUP(K37,'Concordance Classmt & Points'!$A$2:$B$33,2,FALSE)),0) | M37: =IF(ISNUMBER(L37),L37+L37*(MAX(0,$G37-28))*1.5/100,"") | Q37: =IF(P37="","",RANK(P37,P$3:P$70,0)) | R37: =IFERROR(IF(Q37="","",VLOOKUP(Q37,'Concordance Classmt & Points'!$A$2:$B$33,2,FALSE)),0) | S37: =IF(ISNUMBER(R37),R37+R37*(MAX(0,$G37-28))*1.5/100,"") | V37: =IF(U37="","",RANK(U37,U$3:U$70,1)) | W37: =IFERROR(IF(V37="","",VLOOKUP(V37,'Concordance Classmt & Points'!$A$2:$B$33,2,FALSE)),0) | X37: =IF(ISNUMBER(W37),W37+W37*(MAX(0,$G37-28))*1.5/100,"") | AA37: =IF(Z37="","",RANK(Z37,Z$3:Z$70,1)) | AB37: =IFERROR(IF(AA37="","",VLOOKUP(AA37,'Concordance Classmt & Points'!$A$2:$B$33,2,FALSE)),0) | AC37: =IF(ISNUMBER(AB37),AB37+AB37*(MAX(0,$G37-28))*1.5/100,"") | AE37: 0.0029456019 | AF37: =IF(AE37="","",RANK(AE37,AE$3:AE$70,1)) -> 23 | AG37: =IFERROR(IF(AF37="","",VLOOKUP(AF37,'Concordance Classmt & Points'!$A$2:$B$33,2,FALSE)),0) -> 16 | AH37: =IF(ISNUMBER(AG37),AG37+AG37*(MAX(0,$G37-28))*1.5/100,"") -> 16 | AJ37: 0.0029456019 | AK37: =IF(AJ37="","",RANK(AJ37,AJ$3:AJ$70,1)) -> 23 | AL37: =IFERROR(IF(AK37="","",VLOOKUP(AK37,'Concordance Classmt & Points'!$A$2:$B$33,2,FALSE)),0) -> 16 | AM37: =IF(ISNUMBER(AL37),AL37+AL37*(MAX(0,$G37-28))*1.5/100,"") -> 16 | AP37: =IF(AO37="","",RANK(AO37,AO$3:AO$70,1)) | AQ37: =IFERROR(IF(AP37="","",VLOOKUP(AP37,'Concordance Classmt & Points'!$A$2:$B$33,2,FALSE)),0) | AR37: =IF(ISNUMBER(AQ37),AQ37+AQ37*(MAX(0,$G37-28))*1.5/100,"") | AU37: =IF(AT37="","",RANK(AT37,AT$3:AT$70,1)) | AV37: =IFERROR(IF(AU37="","",VLOOKUP(AU37,'Concordance Classmt & Points'!$A$2:$B$33,2,FALSE)),0) | AW37: =IF(ISNUMBER(AV37),AV37+AV37*(MAX(0,$G37-28))*1.5/100,"") | AZ37: =IF(AY37="","",RANK(AY37,AY$3:AY$70,1)) | BA37: =IFERROR(IF(AZ37="","",VLOOKUP(AZ37,'Concordance Classmt & Points'!$A$2:$B$33,2,FALSE)),0) | BB37: =IF(ISNUMBER(BA37),BA37+BA37*(MAX(0,$G37-28))*1.5/100,"") | BE37: =IF(BD37="","",RANK(BD37,BD$3:BD$70,1)) | BF37: =IFERROR(IF(BE37="","",VLOOKUP(BE37,'Concordance Classmt & Points'!$A$2:$B$33,2,FALSE)),0) | BG37: =IF(ISNUMBER(BF37),BF37+BF37*(MAX(0,$G37-28))*1.5/100,"") | BI37: =IF(COUNT(L37,R37,W37,AB37,AG37,AQ37,AL37,AV37,BA37,BF37),SUM(L37,R37,W37,AB37,AG37,AQ37,AL37,AV37,BA37,BF37),"-") -> 32 | BJ37: =IF(COUNT(M37,S37,X37,AC37,AH37,AM37,AR37,AW37,BB37,BG37),SUM(M37,S37,X37,AC37,AH37,AM37,AR37,AW37,BB37,BG37),"-") -> 32 | BK37: =IF(BJ37="-","",RANK(BJ37,BJ$3:BJ$70)) -> 35
A38: =IF(BJ38="-","",RANK(BJ38,BJ$3:BJ$70)) -> 36 | D38: Joe | F38: 32507 | G38: =DATEDIF(F38,NOW(),"Y") -> 36 | J38: 10 | K38: =IF(J38="","",RANK(J38,J$3:J$70,0)) -> 14 | L38: =IFERROR(IF(K38="","",VLOOKUP(K38,'Concordance Classmt & Points'!$A$2:$B$33,2,FALSE)),0) -> 27 | M38: =IF(ISNUMBER(L38),L38+L38*(MAX(0,$G38-28))*1.5/100,"") -> 30.24 | O38: 10 | Q38: =IF(P38="","",RANK(P38,P$3:P$70,0)) | R38: =IFERROR(IF(Q38="","",VLOOKUP(Q38,'Concordance Classmt & Points'!$A$2:$B$33,2,FALSE)),0) | S38: =IF(ISNUMBER(R38),R38+R38*(MAX(0,$G38-28))*1.5/100,"") | V38: =IF(U38="","",RANK(U38,U$3:U$70,1)) | W38: =IFERROR(IF(V38="","",VLOOKUP(V38,'Concordance Classmt & Points'!$A$2:$B$33,2,FALSE)),0) | X38: =IF(ISNUMBER(W38),W38+W38*(MAX(0,$G38-28))*1.5/100,"") | AA38: =IF(Z38="","",RANK(Z38,Z$3:Z$70,1)) | AB38: =IFERROR(IF(AA38="","",VLOOKUP(AA38,'Concordance Classmt & Points'!$A$2:$B$33,2,FALSE)),0) | AC38: =IF(ISNUMBER(AB38),AB38+AB38*(MAX(0,$G38-28))*1.5/100,"") | AF38: =IF(AE38="","",RANK(AE38,AE$3:AE$70,1)) | AG38: =IFERROR(IF(AF38="","",VLOOKUP(AF38,'Concordance Classmt & Points'!$A$2:$B$33,2,FALSE)),0) | AH38: =IF(ISNUMBER(AG38),AG38+AG38*(MAX(0,$G38-28))*1.5/100,"") | AK38: =IF(AJ38="","",RANK(AJ38,AJ$3:AJ$70,1)) | AL38: =IFERROR(IF(AK38="","",VLOOKUP(AK38,'Concordance Classmt & Points'!$A$2:$B$33,2,FALSE)),0) | AM38: =IF(ISNUMBER(AL38),AL38+AL38*(MAX(0,$G38-28))*1.5/100,"") | AP38: =IF(AO38="","",RANK(AO38,AO$3:AO$70,1)) | AQ38: =IFERROR(IF(AP38="","",VLOOKUP(AP38,'Concordance Classmt & Points'!$A$2:$B$33,2,FALSE)),0) | AR38: =IF(ISNUMBER(AQ38),AQ38+AQ38*(MAX(0,$G38-28))*1.5/100,"") | AU38: =IF(AT38="","",RANK(AT38,AT$3:AT$70,1)) | AV38: =IFERROR(IF(AU38="","",VLOOKUP(AU38,'Concordance Classmt & Points'!$A$2:$B$33,2,FALSE)),0) | AW38: =IF(ISNUMBER(AV38),AV38+AV38*(MAX(0,$G38-28))*1.5/100,"") | AZ38: =IF(AY38="","",RANK(AY38,AY$3:AY$70,1)) | BA38: =IFERROR(IF(AZ38="","",VLOOKUP(AZ38,'Concordance Classmt & Points'!$A$2:$B$33,2,FALSE)),0) | BB38: =IF(ISNUMBER(BA38),BA38+BA38*(MAX(0,$G38-28))*1.5/100,"") | BE38: =IF(BD38="","",RANK(BD38,BD$3:BD$70,1)) | BF38: =IFERROR(IF(BE38="","",VLOOKUP(BE38,'Concordance Classmt & Points'!$A$2:$B$33,2,FALSE)),0) | BG38: =IF(ISNUMBER(BF38),BF38+BF38*(MAX(0,$G38-28))*1.5/100,"") | BI38: =IF(COUNT(L38,R38,W38,AB38,AG38,AQ38,AL38,AV38,BA38,BF38),SUM(L38,R38,W38,AB38,AG38,AQ38,AL38,AV38,BA38,BF38),"-") -> 27 | BJ38: =IF(COUNT(M38,S38,X38,AC38,AH38,AM38,AR38,AW38,BB38,BG38),SUM(M38,S38,X38,AC38,AH38,AM38,AR38,AW38,BB38,BG38),"-") -> 30.24 | BK38: =IF(BJ38="-","",RANK(BJ38,BJ$3:BJ$70)) -> 36
A39: =IF(BJ39="-","",RANK(BJ39,BJ$3:BJ$70)) -> 37 | D39: Soumia | F39: 33725 | G39: =DATEDIF(F39,NOW(),"Y") -> 33 | J39: 10 | K39: =IF(J39="","",RANK(J39,J$3:J$70,0)) -> 14 | L39: =IFERROR(IF(K39="","",VLOOKUP(K39,'Concordance Classmt & Points'!$A$2:$B$33,2,FALSE)),0) -> 27 | M39: =IF(ISNUMBER(L39),L39+L39*(MAX(0,$G39-28))*1.5/100,"") -> 29.025 | O39: 10 | Q39: =IF(P39="","",RANK(P39,P$3:P$70,0)) | R39: =IFERROR(IF(Q39="","",VLOOKUP(Q39,'Concordance Classmt & Points'!$A$2:$B$33,2,FALSE)),0) | S39: =IF(ISNUMBER(R39),R39+R39*(MAX(0,$G39-28))*1.5/100,"") | V39: =IF(U39="","",RANK(U39,U$3:U$70,1)) | W39: =IFERROR(IF(V39="","",VLOOKUP(V39,'Concordance Classmt & Points'!$A$2:$B$33,2,FALSE)),0) | X39: =IF(ISNUMBER(W39),W39+W39*(MAX(0,$G39-28))*1.5/100,"") | AA39: =IF(Z39="","",RANK(Z39,Z$3:Z$70,1)) | AB39: =IFERROR(IF(AA39="","",VLOOKUP(AA39,'Concordance Classmt & Points'!$A$2:$B$33,2,FALSE)),0) | AC39: =IF(ISNUMBER(AB39),AB39+AB39*(MAX(0,$G39-28))*1.5/100,"") | AF39: =IF(AE39="","",RANK(AE39,AE$3:AE$70,1)) | AG39: =IFERROR(IF(AF39="","",VLOOKUP(AF39,'Concordance Classmt & Points'!$A$2:$B$33,2,FALSE)),0) | AH39: =IF(ISNUMBER(AG39),AG39+AG39*(MAX(0,$G39-28))*1.5/100,"") | AK39: =IF(AJ39="","",RANK(AJ39,AJ$3:AJ$70,1)) | AL39: =IFERROR(IF(AK39="","",VLOOKUP(AK39,'Concordance Classmt & Points'!$A$2:$B$33,2,FALSE)),0) | AM39: =IF(ISNUMBER(AL39),AL39+AL39*(MAX(0,$G39-28))*1.5/100,"") | AP39: =IF(AO39="","",RANK(AO39,AO$3:AO$70,1)) | AQ39: =IFERROR(IF(AP39="","",VLOOKUP(AP39,'Concordance Classmt & Points'!$A$2:$B$33,2,FALSE)),0) | AR39: =IF(ISNUMBER(AQ39),AQ39+AQ39*(MAX(0,$G39-28))*1.5/100,"") | AU39: =IF(AT39="","",RANK(AT39,AT$3:AT$70,1)) | AV39: =IFERROR(IF(AU39="","",VLOOKUP(AU39,'Concordance Classmt & Points'!$A$2:$B$33,2,FALSE)),0) | AW39: =IF(ISNUMBER(AV39),AV39+AV39*(MAX(0,$G39-28))*1.5/100,"") | AZ39: =IF(AY39="","",RANK(AY39,AY$3:AY$70,1)) | BA39: =IFERROR(IF(AZ39="","",VLOOKUP(AZ39,'Concordance Classmt & Points'!$A$2:$B$33,2,FALSE)),0) | BB39: =IF(ISNUMBER(BA39),BA39+BA39*(MAX(0,$G39-28))*1.5/100,"") | BE39: =IF(BD39="","",RANK(BD39,BD$3:BD$70,1)) | BF39: =IFERROR(IF(BE39="","",VLOOKUP(BE39,'Concordance Classmt & Points'!$A$2:$B$33,2,FALSE)),0) | BG39: =IF(ISNUMBER(BF39),BF39+BF39*(MAX(0,$G39-28))*1.5/100,"") | BI39: =IF(COUNT(L39,R39,W39,AB39,AG39,AQ39,AL39,AV39,BA39,BF39),SUM(L39,R39,W39,AB39,AG39,AQ39,AL39,AV39,BA39,BF39),"-") -> 27 | BJ39: =IF(COUNT(M39,S39,X39,AC39,AH39,AM39,AR39,AW39,BB39,BG39),SUM(M39,S39,X39,AC39,AH39,AM39,AR39,AW39,BB39,BG39),"-") -> 29.025 | BK39: =IF(BJ39="-","",RANK(BJ39,BJ$3:BJ$70)) -> 37
A40: =IF(BJ40="-","",RANK(BJ40,BJ$3:BJ$70)) -> 37 | D40: Mario | F40: 33424 | G40: =DATEDIF(F40,NOW(),"Y") -> 33 | J40: 10 | K40: =IF(J40="","",RANK(J40,J$3:J$70,0)) -> 14 | L40: =IFERROR(IF(K40="","",VLOOKUP(K40,'Concordance Classmt & Points'!$A$2:$B$33,2,FALSE)),0) -> 27 | M40: =IF(ISNUMBER(L40),L40+L40*(MAX(0,$G40-28))*1.5/100,"") -> 29.025 | O40: 10 | Q40: =IF(P40="","",RANK(P40,P$3:P$70,0)) | R40: =IFERROR(IF(Q40="","",VLOOKUP(Q40,'Concordance Classmt & Points'!$A$2:$B$33,2,FALSE)),0) | S40: =IF(ISNUMBER(R40),R40+R40*(MAX(0,$G40-28))*1.5/100,"") | V40: =IF(U40="","",RANK(U40,U$3:U$70,1)) | W40: =IFERROR(IF(V40="","",VLOOKUP(V40,'Concordance Classmt & Points'!$A$2:$B$33,2,FALSE)),0) | X40: =IF(ISNUMBER(W40),W40+W40*(MAX(0,$G40-28))*1.5/100,"") | AA40: =IF(Z40="","",RANK(Z40,Z$3:Z$70,1)) | AB40: =IFERROR(IF(AA40="","",VLOOKUP(AA40,'Concordance Classmt & Points'!$A$2:$B$33,2,FALSE)),0) | AC40: =IF(ISNUMBER(AB40),AB40+AB40*(MAX(0,$G40-28))*1.5/100,"") | AF40: =IF(AE40="","",RANK(AE40,AE$3:AE$70,1)) | AG40: =IFERROR(IF(AF40="","",VLOOKUP(AF40,'Concordance Classmt & Points'!$A$2:$B$33,2,FALSE)),0) | AH40: =IF(ISNUMBER(AG40),AG40+AG40*(MAX(0,$G40-28))*1.5/100,"") | AK40: =IF(AJ40="","",RANK(AJ40,AJ$3:AJ$70,1)) | AL40: =IFERROR(IF(AK40="","",VLOOKUP(AK40,'Concordance Classmt & Points'!$A$2:$B$33,2,FALSE)),0) | AM40: =IF(ISNUMBER(AL40),AL40+AL40*(MAX(0,$G40-28))*1.5/100,"") | AP40: =IF(AO40="","",RANK(AO40,AO$3:AO$70,1)) | AQ40: =IFERROR(IF(AP40="","",VLOOKUP(AP40,'Concordance Classmt & Points'!$A$2:$B$33,2,FALSE)),0) | AR40: =IF(ISNUMBER(AQ40),AQ40+AQ40*(MAX(0,$G40-28))*1.5/100,"") | AU40: =IF(AT40="","",RANK(AT40,AT$3:AT$70,1)) | AV40: =IFERROR(IF(AU40="","",VLOOKUP(AU40,'Concordance Classmt & Points'!$A$2:$B$33,2,FALSE)),0) | AW40: =IF(ISNUMBER(AV40),AV40+AV40*(MAX(0,$G40-28))*1.5/100,"") | AZ40: =IF(AY40="","",RANK(AY40,AY$3:AY$70,1)) | BA40: =IFERROR(IF(AZ40="","",VLOOKUP(AZ40,'Concordance Classmt & Points'!$A$2:$B$33,2,FALSE)),0) | BB40: =IF(ISNUMBER(BA40),BA40+BA40*(MAX(0,$G40-28))*1.5/100,"") | BE40: =IF(BD40="","",RANK(BD40,BD$3:BD$70,1)) | BF40: =IFERROR(IF(BE40="","",VLOOKUP(BE40,'Concordance Classmt & Points'!$A$2:$B$33,2,FALSE)),0) | BG40: =IF(ISNUMBER(BF40),BF40+BF40*(MAX(0,$G40-28))*1.5/100,"") | BI40: =IF(COUNT(L40,R40,W40,AB40,AG40,AQ40,AL40,AV40,BA40,BF40),SUM(L40,R40,W40,AB40,AG40,AQ40,AL40,AV40,BA40,BF40),"-") -> 27 | BJ40: =IF(COUNT(M40,S40,X40,AC40,AH40,AM40,AR40,AW40,BB40,BG40),SUM(M40,S40,X40,AC40,AH40,AM40,AR40,AW40,BB40,BG40),"-") -> 29.025 | BK40: =IF(BJ40="-","",RANK(BJ40,BJ$3:BJ$70)) -> 37
A41: =IF(BJ41="-","",RANK(BJ41,BJ$3:BJ$70)) -> 39 | B41: Tarascon CD | D41: Liliana Paola | F41: 35889 | G41: =DATEDIF(F41,NOW(),"Y") -> 27 | J41: 11 | K41: =IF(J41="","",RANK(J41,J$3:J$70,0)) -> 12 | L41: =IFERROR(IF(K41="","",VLOOKUP(K41,'Concordance Classmt & Points'!$A$2:$B$33,2,FALSE)),0) -> 29 | M41: =IF(ISNUMBER(L41),L41+L41*(MAX(0,$G41-28))*1.5/100,"") -> 29 | O41: 11 | Q41: =IF(P41="","",RANK(P41,P$3:P$70,0)) | R41: =IFERROR(IF(Q41="","",VLOOKUP(Q41,'Concordance Classmt & Points'!$A$2:$B$33,2,FALSE)),0) | S41: =IF(ISNUMBER(R41),R41+R41*(MAX(0,$G41-28))*1.5/100,"") | V41: =IF(U41="","",RANK(U41,U$3:U$70,1)) | W41: =IFERROR(IF(V41="","",VLOOKUP(V41,'Concordance Classmt & Points'!$A$2:$B$33,2,FALSE)),0) | X41: =IF(ISNUMBER(W41),W41+W41*(MAX(0,$G41-28))*1.5/100,"") | AA41: =IF(Z41="","",RANK(Z41,Z$3:Z$70,1)) | AB41: =IFERROR(IF(AA41="","",VLOOKUP(AA41,'Concordance Classmt & Points'!$A$2:$B$33,2,FALSE)),0) | AC41: =IF(ISNUMBER(AB41),AB41+AB41*(MAX(0,$G41-28))*1.5/100,"") | AE41: 0.0033275463 | AF41: =IF(AE41="","",RANK(AE41,AE$3:AE$70,1)) -> 31 | AG41: =IFERROR(IF(AF41="","",VLOOKUP(AF41,'Concordance Classmt & Points'!$A$2:$B$33,2,FALSE)),0) -> 0 | AH41: =IF(ISNUMBER(AG41),AG41+AG41*(MAX(0,$G41-28))*1.5/100,"") -> 0 | AJ41: 0.0033275463 | AK41: =IF(AJ41="","",RANK(AJ41,AJ$3:AJ$70,1)) -> 31 | AL41: =IFERROR(IF(AK41="","",VLOOKUP(AK41,'Concordance Classmt & Points'!$A$2:$B$33,2,FALSE)),0) -> 0 | AM41: =IF(ISNUMBER(AL41),AL41+AL41*(MAX(0,$G41-28))*1.5/100,"") -> 0 | AP41: =IF(AO41="","",RANK(AO41,AO$3:AO$70,1)) | AQ41: =IFERROR(IF(AP41="","",VLOOKUP(AP41,'Concordance Classmt & Points'!$A$2:$B$33,2,FALSE)),0) | AR41: =IF(ISNUMBER(AQ41),AQ41+AQ41*(MAX(0,$G41-28))*1.5/100,"") | AU41: =IF(AT41="","",RANK(AT41,AT$3:AT$70,1)) | AV41: =IFERROR(IF(AU41="","",VLOOKUP(AU41,'Concordance Classmt & Points'!$A$2:$B$33,2,FALSE)),0) | AW41: =IF(ISNUMBER(AV41),AV41+AV41*(MAX(0,$G41-28))*1.5/100,"") | AZ41: =IF(AY41="","",RANK(AY41,AY$3:AY$70,1)) | BA41: =IFERROR(IF(AZ41="","",VLOOKUP(AZ41,'Concordance Classmt & Points'!$A$2:$B$33,2,FALSE)),0) | BB41: =IF(ISNUMBER(BA41),BA41+BA41*(MAX(0,$G41-28))*1.5/100,"") | BE41: =IF(BD41="","",RANK(BD41,BD$3:BD$70,1)) | BF41: =IFERROR(IF(BE41="","",VLOOKUP(BE41,'Concordance Classmt & Points'!$A$2:$B$33,2,FALSE)),0) | BG41: =IF(ISNUMBER(BF41),BF41+BF41*(MAX(0,$G41-28))*1.5/100,"") | BI41: =IF(COUNT(L41,R41,W41,AB41,AG41,AQ41,AL41,AV41,BA41,BF41),SUM(L41,R41,W41,AB41,AG41,AQ41,AL41,AV41,BA41,BF41),"-") -> 29 | BJ41: =IF(COUNT(M41,S41,X41,AC41,AH41,AM41,AR41,AW41,BB41,BG41),SUM(M41,S41,X41,AC41,AH41,AM41,AR41,AW41,BB41,BG41),"-") -> 29 | BK41: =IF(BJ41="-","",RANK(BJ41,BJ$3:BJ$70)) -> 39
A42: =IF(BJ42="-","",RANK(BJ42,BJ$3:BJ$70)) -> 40 | D42: Joelle | F42: 31330 | G42: =DATEDIF(F42,NOW(),"Y") -> 39 | K42: =IF(J42="","",RANK(J42,J$3:J$70,0)) | L42: =IFERROR(IF(K42="","",VLOOKUP(K42,'Concordance Classmt & Points'!$A$2:$B$33,2,FALSE)),0) | M42: =IF(ISNUMBER(L42),L42+L42*(MAX(0,$G42-28))*1.5/100,"") | Q42: =IF(P42="","",RANK(P42,P$3:P$70,0)) | R42: =IFERROR(IF(Q42="","",VLOOKUP(Q42,'Concordance Classmt & Points'!$A$2:$B$33,2,FALSE)),0) | S42: =IF(ISNUMBER(R42),R42+R42*(MAX(0,$G42-28))*1.5/100,"") | V42: =IF(U42="","",RANK(U42,U$3:U$70,1)) | W42: =IFERROR(IF(V42="","",VLOOKUP(V42,'Concordance Classmt & Points'!$A$2:$B$33,2,FALSE)),0) | X42: =IF(ISNUMBER(W42),W42+W42*(MAX(0,$G42-28))*1.5/100,"") | AA42: =IF(Z42="","",RANK(Z42,Z$3:Z$70,1)) | AB42: =IFERROR(IF(AA42="","",VLOOKUP(AA42,'Concordance Classmt & Points'!$A$2:$B$33,2,FALSE)),0) | AC42: =IF(ISNUMBER(AB42),AB42+AB42*(MAX(0,$G42-28))*1.5/100,"") | AE42: 0.0030671296 | AF42: =IF(AE42="","",RANK(AE42,AE$3:AE$70,1)) -> 25 | AG42: =IFERROR(IF(AF42="","",VLOOKUP(AF42,'Concordance Classmt & Points'!$A$2:$B$33,2,FALSE)),0) -> 12 | AH42: =IF(ISNUMBER(AG42),AG42+AG42*(MAX(0,$G42-28))*1.5/100,"") -> 13.98 | AJ42: 0.0030671296 | AK42: =IF(AJ42="","",RANK(AJ42,AJ$3:AJ$70,1)) -> 25 | AL42: =IFERROR(IF(AK42="","",VLOOKUP(AK42,'Concordance Classmt & Points'!$A$2:$B$33,2,FALSE)),0) -> 12 | AM42: =IF(ISNUMBER(AL42),AL42+AL42*(MAX(0,$G42-28))*1.5/100,"") -> 13.98 | AP42: =IF(AO42="","",RANK(AO42,AO$3:AO$70,1)) | AQ42: =IFERROR(IF(AP42="","",VLOOKUP(AP42,'Concordance Classmt & Points'!$A$2:$B$33,2,FALSE)),0) | AR42: =IF(ISNUMBER(AQ42),AQ42+AQ42*(MAX(0,$G42-28))*1.5/100,"") | AU42: =IF(AT42="","",RANK(AT42,AT$3:AT$70,1)) | AV42: =IFERROR(IF(AU42="","",VLOOKUP(AU42,'Concordance Classmt & Points'!$A$2:$B$33,2,FALSE)),0) | AW42: =IF(ISNUMBER(AV42),AV42+AV42*(MAX(0,$G42-28))*1.5/100,"") | AZ42: =IF(AY42="","",RANK(AY42,AY$3:AY$70,1)) | BA42: =IFERROR(IF(AZ42="","",VLOOKUP(AZ42,'Concordance Classmt & Points'!$A$2:$B$33,2,FALSE)),0) | BB42: =IF(ISNUMBER(BA42),BA42+BA42*(MAX(0,$G42-28))*1.5/100,"") | BE42: =IF(BD42="","",RANK(BD42,BD$3:BD$70,1)) | BF42: =IFERROR(IF(BE42="","",VLOOKUP(BE42,'Concordance Classmt & Points'!$A$2:$B$33,2,FALSE)),0) | BG42: =IF(ISNUMBER(BF42),BF42+BF42*(MAX(0,$G42-28))*1.5/100,"") | BI42: =IF(COUNT(L42,R42,W42,AB42,AG42,AQ42,AL42,AV42,BA42,BF42),SUM(L42,R42,W42,AB42,AG42,AQ42,AL42,AV42,BA42,BF42),"-") -> 24 | BJ42: =IF(COUNT(M42,S42,X42,AC42,AH42,AM42,AR42,AW42,BB42,BG42),SUM(M42,S42,X42,AC42,AH42,AM42,AR42,AW42,BB42,BG42),"-") -> 27.96 | BK42: =IF(BJ42="-","",RANK(BJ42,BJ$3:BJ$70)) -> 40
A43: =IF(BJ43="-","",RANK(BJ43,BJ$3:BJ$70)) -> 41 | D43: Moncef | F43: 37691 | G43: =DATEDIF(F43,NOW(),"Y") -> 22 | J43: 10 | K43: =IF(J43="","",RANK(J43,J$3:J$70,0)) -> 14 | L43: =IFERROR(IF(K43="","",VLOOKUP(K43,'Concordance Classmt & Points'!$A$2:$B$33,2,FALSE)),0) -> 27 | M43: =IF(ISNUMBER(L43),L43+L43*(MAX(0,$G43-28))*1.5/100,"") -> 27 | O43: 10 | Q43: =IF(P43="","",RANK(P43,P$3:P$70,0)) | R43: =IFERROR(IF(Q43="","",VLOOKUP(Q43,'Concordance Classmt & Points'!$A$2:$B$33,2,FALSE)),0) | S43: =IF(ISNUMBER(R43),R43+R43*(MAX(0,$G43-28))*1.5/100,"") | V43: =IF(U43="","",RANK(U43,U$3:U$70,1)) | W43: =IFERROR(IF(V43="","",VLOOKUP(V43,'Concordance Classmt & Points'!$A$2:$B$33,2,FALSE)),0) | X43: =IF(ISNUMBER(W43),W43+W43*(MAX(0,$G43-28))*1.5/100,"") | AA43: =IF(Z43="","",RANK(Z43,Z$3:Z$70,1)) | AB43: =IFERROR(IF(AA43="","",VLOOKUP(AA43,'Concordance Classmt & Points'!$A$2:$B$33,2,FALSE)),0) | AC43: =IF(ISNUMBER(AB43),AB43+AB43*(MAX(0,$G43-28))*1.5/100,"") | AF43: =IF(AE43="","",RANK(AE43,AE$3:AE$70,1)) | AG43: =IFERROR(IF(AF43="","",VLOOKUP(AF43,'Concordance Classmt & Points'!$A$2:$B$33,2,FALSE)),0) | AH43: =IF(ISNUMBER(AG43),AG43+AG43*(MAX(0,$G43-28))*1.5/100,"") | AK43: =IF(AJ43="","",RANK(AJ43,AJ$3:AJ$70,1)) | AL43: =IFERROR(IF(AK43="","",VLOOKUP(AK43,'Concordance Classmt & Points'!$A$2:$B$33,2,FALSE)),0) | AM43: =IF(ISNUMBER(AL43),AL43+AL43*(MAX(0,$G43-28))*1.5/100,"") | AP43: =IF(AO43="","",RANK(AO43,AO$3:AO$70,1)) | AQ43: =IFERROR(IF(AP43="","",VLOOKUP(AP43,'Concordance Classmt & Points'!$A$2:$B$33,2,FALSE)),0) | AR43: =IF(ISNUMBER(AQ43),AQ43+AQ43*(MAX(0,$G43-28))*1.5/100,"") | AU43: =IF(AT43="","",RANK(AT43,AT$3:AT$70,1)) | AV43: =IFERROR(IF(AU43="","",VLOOKUP(AU43,'Concordance Classmt & Points'!$A$2:$B$33,2,FALSE)),0) | AW43: =IF(ISNUMBER(AV43),AV43+AV43*(MAX(0,$G43-28))*1.5/100,"") | AZ43: =IF(AY43="","",RANK(AY43,AY$3:AY$70,1)) | BA43: =IFERROR(IF(AZ43="","",VLOOKUP(AZ43,'Concordance Classmt & Points'!$A$2:$B$33,2,FALSE)),0) | BB43: =IF(ISNUMBER(BA43),BA43+BA43*(MAX(0,$G43-28))*1.5/100,"") | BE43: =IF(BD43="","",RANK(BD43,BD$3:BD$70,1)) | BF43: =IFERROR(IF(BE43="","",VLOOKUP(BE43,'Concordance Classmt & Points'!$A$2:$B$33,2,FALSE)),0) | BG43: =IF(ISNUMBER(BF43),BF43+BF43*(MAX(0,$G43-28))*1.5/100,"") | BI43: =IF(COUNT(L43,R43,W43,AB43,AG43,AQ43,AL43,AV43,BA43,BF43),SUM(L43,R43,W43,AB43,AG43,AQ43,AL43,AV43,BA43,BF43),"-") -> 27 | BJ43: =IF(COUNT(M43,S43,X43,AC43,AH43,AM43,AR43,AW43,BB43,BG43),SUM(M43,S43,X43,AC43,AH43,AM43,AR43,AW43,BB43,BG43),"-") -> 27 | BK43: =IF(BJ43="-","",RANK(BJ43,BJ$3:BJ$70)) -> 41
A44: =IF(BJ44="-","",RANK(BJ44,BJ$3:BJ$70)) -> 42 | D44: Joice | F44: 33435 | G44: =DATEDIF(F44,NOW(),"Y") -> 33 | K44: =IF(J44="","",RANK(J44,J$3:J$70,0)) | L44: =IFERROR(IF(K44="","",VLOOKUP(K44,'Concordance Classmt & Points'!$A$2:$B$33,2,FALSE)),0) | M44: =IF(ISNUMBER(L44),L44+L44*(MAX(0,$G44-28))*1.5/100,"") | Q44: =IF(P44="","",RANK(P44,P$3:P$70,0)) | R44: =IFERROR(IF(Q44="","",VLOOKUP(Q44,'Concordance Classmt & Points'!$A$2:$B$33,2,FALSE)),0) | S44: =IF(ISNUMBER(R44),R44+R44*(MAX(0,$G44-28))*1.5/100,"") | V44: =IF(U44="","",RANK(U44,U$3:U$70,1)) | W44: =IFERROR(IF(V44="","",VLOOKUP(V44,'Concordance Classmt & Points'!$A$2:$B$33,2,FALSE)),0) | X44: =IF(ISNUMBER(W44),W44+W44*(MAX(0,$G44-28))*1.5/100,"") | AA44: =IF(Z44="","",RANK(Z44,Z$3:Z$70,1)) | AB44: =IFERROR(IF(AA44="","",VLOOKUP(AA44,'Concordance Classmt & Points'!$A$2:$B$33,2,FALSE)),0) | AC44: =IF(ISNUMBER(AB44),AB44+AB44*(MAX(0,$G44-28))*1.5/100,"") | AE44: 0.0031423611 | AF44: =IF(AE44="","",RANK(AE44,AE$3:AE$70,1)) -> 26 | AG44: =IFERROR(IF(AF44="","",VLOOKUP(AF44,'Concordance Classmt & Points'!$A$2:$B$33,2,FALSE)),0) -> 10 | AH44: =IF(ISNUMBER(AG44),AG44+AG44*(MAX(0,$G44-28))*1.5/100,"") -> 10.75 | AJ44: 0.0031423611 | AK44: =IF(AJ44="","",RANK(AJ44,AJ$3:AJ$70,1)) -> 26 | AL44: =IFERROR(IF(AK44="","",VLOOKUP(AK44,'Concordance Classmt & Points'!$A$2:$B$33,2,FALSE)),0) -> 10 | AM44: =IF(ISNUMBER(AL44),AL44+AL44*(MAX(0,$G44-28))*1.5/100,"") -> 10.75 | AP44: =IF(AO44="","",RANK(AO44,AO$3:AO$70,1)) | AQ44: =IFERROR(IF(AP44="","",VLOOKUP(AP44,'Concordance Classmt & Points'!$A$2:$B$33,2,FALSE)),0) | AR44: =IF(ISNUMBER(AQ44),AQ44+AQ44*(MAX(0,$G44-28))*1.5/100,"") | AU44: =IF(AT44="","",RANK(AT44,AT$3:AT$70,1)) | AV44: =IFERROR(IF(AU44="","",VLOOKUP(AU44,'Concordance Classmt & Points'!$A$2:$B$33,2,FALSE)),0) | AW44: =IF(ISNUMBER(AV44),AV44+AV44*(MAX(0,$G44-28))*1.5/100,"") | AZ44: =IF(AY44="","",RANK(AY44,AY$3:AY$70,1)) | BA44: =IFERROR(IF(AZ44="","",VLOOKUP(AZ44,'Concordance Classmt & Points'!$A$2:$B$33,2,FALSE)),0) | BB44: =IF(ISNUMBER(BA44),BA44+BA44*(MAX(0,$G44-28))*1.5/100,"") | BE44: =IF(BD44="","",RANK(BD44,BD$3:BD$70,1)) | BF44: =IFERROR(IF(BE44="","",VLOOKUP(BE44,'Concordance Classmt & Points'!$A$2:$B$33,2,FALSE)),0) | BG44: =IF(ISNUMBER(BF44),BF44+BF44*(MAX(0,$G44-28))*1.5/100,"") | BI44: =IF(COUNT(L44,R44,W44,AB44,AG44,AQ44,AL44,AV44,BA44,BF44),SUM(L44,R44,W44,AB44,AG44,AQ44,AL44,AV44,BA44,BF44),"-") -> 20 | BJ44: =IF(COUNT(M44,S44,X44,AC44,AH44,AM44,AR44,AW44,BB44,BG44),SUM(M44,S44,X44,AC44,AH44,AM44,AR44,AW44,BB44,BG44),"-") -> 21.5 | BK44: =IF(BJ44="-","",RANK(BJ44,BJ$3:BJ$70)) -> 42
A45: =IF(BJ45="-","",RANK(BJ45,BJ$3:BJ$70)) -> 43 | D45: Lilian | F45: 36837 | G45: =DATEDIF(F45,NOW(),"Y") -> 24 | J45: 9 | K45: =IF(J45="","",RANK(J45,J$3:J$70,0)) -> 20 | L45: =IFERROR(IF(K45="","",VLOOKUP(K45,'Concordance Classmt & Points'!$A$2:$B$33,2,FALSE)),0) -> 21 | M45: =IF(ISNUMBER(L45),L45+L45*(MAX(0,$G45-28))*1.5/100,"") -> 21 | O45: 9 | Q45: =IF(P45="","",RANK(P45,P$3:P$70,0)) | R45: =IFERROR(IF(Q45="","",VLOOKUP(Q45,'Concordance Classmt & Points'!$A$2:$B$33,2,FALSE)),0) | S45: =IF(ISNUMBER(R45),R45+R45*(MAX(0,$G45-28))*1.5/100,"") | V45: =IF(U45="","",RANK(U45,U$3:U$70,1)) | W45: =IFERROR(IF(V45="","",VLOOKUP(V45,'Concordance Classmt & Points'!$A$2:$B$33,2,FALSE)),0) | X45: =IF(ISNUMBER(W45),W45+W45*(MAX(0,$G45-28))*1.5/100,"") | AA45: =IF(Z45="","",RANK(Z45,Z$3:Z$70,1)) | AB45: =IFERROR(IF(AA45="","",VLOOKUP(AA45,'Concordance Classmt & Points'!$A$2:$B$33,2,FALSE)),0) | AC45: =IF(ISNUMBER(AB45),AB45+AB45*(MAX(0,$G45-28))*1.5/100,"") | AF45: =IF(AE45="","",RANK(AE45,AE$3:AE$70,1)) | AG45: =IFERROR(IF(AF45="","",VLOOKUP(AF45,'Concordance Classmt & Points'!$A$2:$B$33,2,FALSE)),0) | AH45: =IF(ISNUMBER(AG45),AG45+AG45*(MAX(0,$G45-28))*1.5/100,"") | AK45: =IF(AJ45="","",RANK(AJ45,AJ$3:AJ$70,1)) | AL45: =IFERROR(IF(AK45="","",VLOOKUP(AK45,'Concordance Classmt & Points'!$A$2:$B$33,2,FALSE)),0) | AM45: =IF(ISNUMBER(AL45),AL45+AL45*(MAX(0,$G45-28))*1.5/100,"") | AP45: =IF(AO45="","",RANK(AO45,AO$3:AO$70,1)) | AQ45: =IFERROR(IF(AP45="","",VLOOKUP(AP45,'Concordance Classmt & Points'!$A$2:$B$33,2,FALSE)),0) | AR45: =IF(ISNUMBER(AQ45),AQ45+AQ45*(MAX(0,$G45-28))*1.5/100,"") | AU45: =IF(AT45="","",RANK(AT45,AT$3:AT$70,1)) | AV45: =IFERROR(IF(AU45="","",VLOOKUP(AU45,'Concordance Classmt & Points'!$A$2:$B$33,2,FALSE)),0) | AW45: =IF(ISNUMBER(AV45),AV45+AV45*(MAX(0,$G45-28))*1.5/100,"") | AZ45: =IF(AY45="","",RANK(AY45,AY$3:AY$70,1)) | BA45: =IFERROR(IF(AZ45="","",VLOOKUP(AZ45,'Concordance Classmt & Points'!$A$2:$B$33,2,FALSE)),0) | BB45: =IF(ISNUMBER(BA45),BA45+BA45*(MAX(0,$G45-28))*1.5/100,"") | BE45: =IF(BD45="","",RANK(BD45,BD$3:BD$70,1)) | BF45: =IFERROR(IF(BE45="","",VLOOKUP(BE45,'Concordance Classmt & Points'!$A$2:$B$33,2,FALSE)),0) | BG45: =IF(ISNUMBER(BF45),BF45+BF45*(MAX(0,$G45-28))*1.5/100,"") | BI45: =IF(COUNT(L45,R45,W45,AB45,AG45,AQ45,AL45,AV45,BA45,BF45),SUM(L45,R45,W45,AB45,AG45,AQ45,AL45,AV45,BA45,BF45),"-") -> 21 | BJ45: =IF(COUNT(M45,S45,X45,AC45,AH45,AM45,AR45,AW45,BB45,BG45),SUM(M45,S45,X45,AC45,AH45,AM45,AR45,AW45,BB45,BG45),"-") -> 21 | BK45: =IF(BJ45="-","",RANK(BJ45,BJ$3:BJ$70)) -> 43
A46: =IF(BJ46="-","",RANK(BJ46,BJ$3:BJ$70)) -> 43 | D46: Mohamed | F46: 36734 | G46: =DATEDIF(F46,NOW(),"Y") -> 24 | J46: 9 | K46: =IF(J46="","",RANK(J46,J$3:J$70,0)) -> 20 | L46: =IFERROR(IF(K46="","",VLOOKUP(K46,'Concordance Classmt & Points'!$A$2:$B$33,2,FALSE)),0) -> 21 | M46: =IF(ISNUMBER(L46),L46+L46*(MAX(0,$G46-28))*1.5/100,"") -> 21 | O46: 9 | Q46: =IF(P46="","",RANK(P46,P$3:P$70,0)) | R46: =IFERROR(IF(Q46="","",VLOOKUP(Q46,'Concordance Classmt & Points'!$A$2:$B$33,2,FALSE)),0) | S46: =IF(ISNUMBER(R46),R46+R46*(MAX(0,$G46-28))*1.5/100,"") | V46: =IF(U46="","",RANK(U46,U$3:U$70,1)) | W46: =IFERROR(IF(V46="","",VLOOKUP(V46,'Concordance Classmt & Points'!$A$2:$B$33,2,FALSE)),0) | X46: =IF(ISNUMBER(W46),W46+W46*(MAX(0,$G46-28))*1.5/100,"") | AA46: =IF(Z46="","",RANK(Z46,Z$3:Z$70,1)) | AB46: =IFERROR(IF(AA46="","",VLOOKUP(AA46,'Concordance Classmt & Points'!$A$2:$B$33,2,FALSE)),0) | AC46: =IF(ISNUMBER(AB46),AB46+AB46*(MAX(0,$G46-28))*1.5/100,"") | AF46: =IF(AE46="","",RANK(AE46,AE$3:AE$70,1)) | AG46: =IFERROR(IF(AF46="","",VLOOKUP(AF46,'Concordance Classmt & Points'!$A$2:$B$33,2,FALSE)),0) | AH46: =IF(ISNUMBER(AG46),AG46+AG46*(MAX(0,$G46-28))*1.5/100,"") | AK46: =IF(AJ46="","",RANK(AJ46,AJ$3:AJ$70,1)) | AL46: =IFERROR(IF(AK46="","",VLOOKUP(AK46,'Concordance Classmt & Points'!$A$2:$B$33,2,FALSE)),0) | AM46: =IF(ISNUMBER(AL46),AL46+AL46*(MAX(0,$G46-28))*1.5/100,"") | AP46: =IF(AO46="","",RANK(AO46,AO$3:AO$70,1)) | AQ46: =IFERROR(IF(AP46="","",VLOOKUP(AP46,'Concordance Classmt & Points'!$A$2:$B$33,2,FALSE)),0) | AR46: =IF(ISNUMBER(AQ46),AQ46+AQ46*(MAX(0,$G46-28))*1.5/100,"") | AU46: =IF(AT46="","",RANK(AT46,AT$3:AT$70,1)) | AV46: =IFERROR(IF(AU46="","",VLOOKUP(AU46,'Concordance Classmt & Points'!$A$2:$B$33,2,FALSE)),0) | AW46: =IF(ISNUMBER(AV46),AV46+AV46*(MAX(0,$G46-28))*1.5/100,"") | AZ46: =IF(AY46="","",RANK(AY46,AY$3:AY$70,1)) | BA46: =IFERROR(IF(AZ46="","",VLOOKUP(AZ46,'Concordance Classmt & Points'!$A$2:$B$33,2,FALSE)),0) | BB46: =IF(ISNUMBER(BA46),BA46+BA46*(MAX(0,$G46-28))*1.5/100,"") | BE46: =IF(BD46="","",RANK(BD46,BD$3:BD$70,1)) | BF46: =IFERROR(IF(BE46="","",VLOOKUP(BE46,'Concordance Classmt & Points'!$A$2:$B$33,2,FALSE)),0) | BG46: =IF(ISNUMBER(BF46),BF46+BF46*(MAX(0,$G46-28))*1.5/100,"") | BI46: =IF(COUNT(L46,R46,W46,AB46,AG46,AQ46,AL46,AV46,BA46,BF46),SUM(L46,R46,W46,AB46,AG46,AQ46,AL46,AV46,BA46,BF46),"-") -> 21 | BJ46: =IF(COUNT(M46,S46,X46,AC46,AH46,AM46,AR46,AW46,BB46,BG46),SUM(M46,S46,X46,AC46,AH46,AM46,AR46,AW46,BB46,BG46),"-") -> 21 | BK46: =IF(BJ46="-","",RANK(BJ46,BJ$3:BJ$70)) -> 43
A47: =IF(BJ47="-","",RANK(BJ47,BJ$3:BJ$70)) -> 45 | D47: Mohamed | F47: 30910 | G47: =DATEDIF(F47,NOW(),"Y") -> 40 | J47: 8 | K47: =IF(J47="","",RANK(J47,J$3:J$70,0)) -> 25 | L47: =IFERROR(IF(K47="","",VLOOKUP(K47,'Concordance Classmt & Points'!$A$2:$B$33,2,FALSE)),0) -> 12 | M47: =IF(ISNUMBER(L47),L47+L47*(MAX(0,$G47-28))*1.5/100,"") -> 14.16 | O47: 8 | Q47: =IF(P47="","",RANK(P47,P$3:P$70,0)) | R47: =IFERROR(IF(Q47="","",VLOOKUP(Q47,'Concordance Classmt & Points'!$A$2:$B$33,2,FALSE)),0) | S47: =IF(ISNUMBER(R47),R47+R47*(MAX(0,$G47-28))*1.5/100,"") | V47: =IF(U47="","",RANK(U47,U$3:U$70,1)) | W47: =IFERROR(IF(V47="","",VLOOKUP(V47,'Concordance Classmt & Points'!$A$2:$B$33,2,FALSE)),0) | X47: =IF(ISNUMBER(W47),W47+W47*(MAX(0,$G47-28))*1.5/100,"") | AA47: =IF(Z47="","",RANK(Z47,Z$3:Z$70,1)) | AB47: =IFERROR(IF(AA47="","",VLOOKUP(AA47,'Concordance Classmt & Points'!$A$2:$B$33,2,FALSE)),0) | AC47: =IF(ISNUMBER(AB47),AB47+AB47*(MAX(0,$G47-28))*1.5/100,"") | AF47: =IF(AE47="","",RANK(AE47,AE$3:AE$70,1)) | AG47: =IFERROR(IF(AF47="","",VLOOKUP(AF47,'Concordance Classmt & Points'!$A$2:$B$33,2,FALSE)),0) | AH47: =IF(ISNUMBER(AG47),AG47+AG47*(MAX(0,$G47-28))*1.5/100,"") | AK47: =IF(AJ47="","",RANK(AJ47,AJ$3:AJ$70,1)) | AL47: =IFERROR(IF(AK47="","",VLOOKUP(AK47,'Concordance Classmt & Points'!$A$2:$B$33,2,FALSE)),0) | AM47: =IF(ISNUMBER(AL47),AL47+AL47*(MAX(0,$G47-28))*1.5/100,"") | AP47: =IF(AO47="","",RANK(AO47,AO$3:AO$70,1)) | AQ47: =IFERROR(IF(AP47="","",VLOOKUP(AP47,'Concordance Classmt & Points'!$A$2:$B$33,2,FALSE)),0) | AR47: =IF(ISNUMBER(AQ47),AQ47+AQ47*(MAX(0,$G47-28))*1.5/100,"") | AU47: =IF(AT47="","",RANK(AT47,AT$3:AT$70,1)) | AV47: =IFERROR(IF(AU47="","",VLOOKUP(AU47,'Concordance Classmt & Points'!$A$2:$B$33,2,FALSE)),0) | AW47: =IF(ISNUMBER(AV47),AV47+AV47*(MAX(0,$G47-28))*1.5/100,"") | AZ47: =IF(AY47="","",RANK(AY47,AY$3:AY$70,1)) | BA47: =IFERROR(IF(AZ47="","",VLOOKUP(AZ47,'Concordance Classmt & Points'!$A$2:$B$33,2,FALSE)),0) | BB47: =IF(ISNUMBER(BA47),BA47+BA47*(MAX(0,$G47-28))*1.5/100,"") | BE47: =IF(BD47="","",RANK(BD47,BD$3:BD$70,1)) | BF47: =IFERROR(IF(BE47="","",VLOOKUP(BE47,'Concordance Classmt & Points'!$A$2:$B$33,2,FALSE)),0) | BG47: =IF(ISNUMBER(BF47),BF47+BF47*(MAX(0,$G47-28))*1.5/100,"") | BI47: =IF(COUNT(L47,R47,W47,AB47,AG47,AQ47,AL47,AV47,BA47,BF47),SUM(L47,R47,W47,AB47,AG47,AQ47,AL47,AV47,BA47,BF47),"-") -> 12 | BJ47: =IF(COUNT(M47,S47,X47,AC47,AH47,AM47,AR47,AW47,BB47,BG47),SUM(M47,S47,X47,AC47,AH47,AM47,AR47,AW47,BB47,BG47),"-") -> 14.16 | BK47: =IF(BJ47="-","",RANK(BJ47,BJ$3:BJ$70)) -> 45
A48: =IF(BJ48="-","",RANK(BJ48,BJ$3:BJ$70)) -> 46 | D48: Joris | F48: 34190 | G48: =DATEDIF(F48,NOW(),"Y") -> 31 | J48: 8 | K48: =IF(J48="","",RANK(J48,J$3:J$70,0)) -> 25 | L48: =IFERROR(IF(K48="","",VLOOKUP(K48,'Concordance Classmt & Points'!$A$2:$B$33,2,FALSE)),0) -> 12 | M48: =IF(ISNUMBER(L48),L48+L48*(MAX(0,$G48-28))*1.5/100,"") -> 12.54 | O48: 8 | Q48: =IF(P48="","",RANK(P48,P$3:P$70,0)) | R48: =IFERROR(IF(Q48="","",VLOOKUP(Q48,'Concordance Classmt & Points'!$A$2:$B$33,2,FALSE)),0) | S48: =IF(ISNUMBER(R48),R48+R48*(MAX(0,$G48-28))*1.5/100,"") | V48: =IF(U48="","",RANK(U48,U$3:U$70,1)) | W48: =IFERROR(IF(V48="","",VLOOKUP(V48,'Concordance Classmt & Points'!$A$2:$B$33,2,FALSE)),0) | X48: =IF(ISNUMBER(W48),W48+W48*(MAX(0,$G48-28))*1.5/100,"") | AA48: =IF(Z48="","",RANK(Z48,Z$3:Z$70,1)) | AB48: =IFERROR(IF(AA48="","",VLOOKUP(AA48,'Concordance Classmt & Points'!$A$2:$B$33,2,FALSE)),0) | AC48: =IF(ISNUMBER(AB48),AB48+AB48*(MAX(0,$G48-28))*1.5/100,"") | AH48: =IF(ISNUMBER(AG48),AG48+AG48*(MAX(0,$G48-28))*1.5/100,"") | AM48: =IF(ISNUMBER(AL48),AL48+AL48*(MAX(0,$G48-28))*1.5/100,"") | AP48: =IF(AO48="","",RANK(AO48,AO$3:AO$70,1)) | AQ48: =IFERROR(IF(AP48="","",VLOOKUP(AP48,'Concordance Classmt & Points'!$A$2:$B$33,2,FALSE)),0) | AR48: =IF(ISNUMBER(AQ48),AQ48+AQ48*(MAX(0,$G48-28))*1.5/100,"") | AU48: =IF(AT48="","",RANK(AT48,AT$3:AT$70,1)) | AV48: =IFERROR(IF(AU48="","",VLOOKUP(AU48,'Concordance Classmt & Points'!$A$2:$B$33,2,FALSE)),0) | AW48: =IF(ISNUMBER(AV48),AV48+AV48*(MAX(0,$G48-28))*1.5/100,"") | AZ48: =IF(AY48="","",RANK(AY48,AY$3:AY$70,1)) | BA48: =IFERROR(IF(AZ48="","",VLOOKUP(AZ48,'Concordance Classmt & Points'!$A$2:$B$33,2,FALSE)),0) | BB48: =IF(ISNUMBER(BA48),BA48+BA48*(MAX(0,$G48-28))*1.5/100,"") | BE48: =IF(BD48="","",RANK(BD48,BD$3:BD$70,1)) | BF48: =IFERROR(IF(BE48="","",VLOOKUP(BE48,'Concordance Classmt & Points'!$A$2:$B$33,2,FALSE)),0) | BG48: =IF(ISNUMBER(BF48),BF48+BF48*(MAX(0,$G48-28))*1.5/100,"") | BI48: =IF(COUNT(L48,R48,W48,AB48,AG48,AQ48,AL48,AV48,BA48,BF48),SUM(L48,R48,W48,AB48,AG48,AQ48,AL48,AV48,BA48,BF48),"-") -> 12 | BJ48: =IF(COUNT(M48,S48,X48,AC48,AH48,AM48,AR48,AW48,BB48,BG48),SUM(M48,S48,X48,AC48,AH48,AM48,AR48,AW48,BB48,BG48),"-") -> 12.54 | BK48: =IF(BJ48="-","",RANK(BJ48,BJ$3:BJ$70)) -> 46
A49: =IF(BJ49="-","",RANK(BJ49,BJ$3:BJ$70)) -> 47 | D49: Mohammed | J49: 8 | K49: =IF(J49="","",RANK(J49,J$3:J$70,0)) -> 25 | L49: =IFERROR(IF(K49="","",VLOOKUP(K49,'Concordance Classmt & Points'!$A$2:$B$33,2,FALSE)),0) -> 12 | M49: =IF(ISNUMBER(L49),L49+L49*(MAX(0,$G49-28))*1.5/100,"") -> 12 | O49: 8 | Q49: =IF(P49="","",RANK(P49,P$3:P$70,0)) | R49: =IFERROR(IF(Q49="","",VLOOKUP(Q49,'Concordance Classmt & Points'!$A$2:$B$33,2,FALSE)),0) | S49: =IF(ISNUMBER(R49),R49+R49*(MAX(0,$G49-28))*1.5/100,"") | V49: =IF(U49="","",RANK(U49,U$3:U$70,1)) | W49: =IFERROR(IF(V49="","",VLOOKUP(V49,'Concordance Classmt & Points'!$A$2:$B$33,2,FALSE)),0) | X49: =IF(ISNUMBER(W49),W49+W49*(MAX(0,$G49-28))*1.5/100,"") | AA49: =IF(Z49="","",RANK(Z49,Z$3:Z$70,1)) | AB49: =IFERROR(IF(AA49="","",VLOOKUP(AA49,'Concordance Classmt & Points'!$A$2:$B$33,2,FALSE)),0) | AC49: =IF(ISNUMBER(AB49),AB49+AB49*(MAX(0,$G49-28))*1.5/100,"") | AF49: =IF(AE49="","",RANK(AE49,AE$3:AE$70,1)) | AG49: =IFERROR(IF(AF49="","",VLOOKUP(AF49,'Concordance Classmt & Points'!$A$2:$B$33,2,FALSE)),0) | AH49: =IF(ISNUMBER(AG49),AG49+AG49*(MAX(0,$G49-28))*1.5/100,"") | AK49: =IF(AJ49="","",RANK(AJ49,AJ$3:AJ$70,1)) | AL49: =IFERROR(IF(AK49="","",VLOOKUP(AK49,'Concordance Classmt & Points'!$A$2:$B$33,2,FALSE)),0) | AM49: =IF(ISNUMBER(AL49),AL49+AL49*(MAX(0,$G49-28))*1.5/100,"") | AP49: =IF(AO49="","",RANK(AO49,AO$3:AO$70,1)) | AQ49: =IFERROR(IF(AP49="","",VLOOKUP(AP49,'Concordance Classmt & Points'!$A$2:$B$33,2,FALSE)),0) | AR49: =IF(ISNUMBER(AQ49),AQ49+AQ49*(MAX(0,$G49-28))*1.5/100,"") | AU49: =IF(AT49="","",RANK(AT49,AT$3:AT$70,1)) | AV49: =IFERROR(IF(AU49="","",VLOOKUP(AU49,'Concordance Classmt & Points'!$A$2:$B$33,2,FALSE)),0) | AW49: =IF(ISNUMBER(AV49),AV49+AV49*(MAX(0,$G49-28))*1.5/100,"") | AZ49: =IF(AY49="","",RANK(AY49,AY$3:AY$70,1)) | BA49: =IFERROR(IF(AZ49="","",VLOOKUP(AZ49,'Concordance Classmt & Points'!$A$2:$B$33,2,FALSE)),0) | BB49: =IF(ISNUMBER(BA49),BA49+BA49*(MAX(0,$G49-28))*1.5/100,"") | BE49: =IF(BD49="","",RANK(BD49,BD$3:BD$70,1)) | BF49: =IFERROR(IF(BE49="","",VLOOKUP(BE49,'Concordance Classmt & Points'!$A$2:$B$33,2,FALSE)),0) | BG49: =IF(ISNUMBER(BF49),BF49+BF49*(MAX(0,$G49-28))*1.5/100,"") | BI49: =IF(COUNT(L49,R49,W49,AB49,AG49,AQ49,AL49,AV49,BA49,BF49),SUM(L49,R49,W49,AB49,AG49,AQ49,AL49,AV49,BA49,BF49),"-") -> 12 | BJ49: =IF(COUNT(M49,S49,X49,AC49,AH49,AM49,AR49,AW49,BB49,BG49),SUM(M49,S49,X49,AC49,AH49,AM49,AR49,AW49,BB49,BG49),"-") -> 12 | BK49: =IF(BJ49="-","",RANK(BJ49,BJ$3:BJ$70)) -> 47
A50: =IF(BJ50="-","",RANK(BJ50,BJ$3:BJ$70)) -> 47 | D50: Zakirdine | F50: 36319 | G50: =DATEDIF(F50,NOW(),"Y") -> 25 | J50: 8 | K50: =IF(J50="","",RANK(J50,J$3:J$70,0)) -> 25 | L50: =IFERROR(IF(K50="","",VLOOKUP(K50,'Concordance Classmt & Points'!$A$2:$B$33,2,FALSE)),0) -> 12 | M50: =IF(ISNUMBER(L50),L50+L50*(MAX(0,$G50-28))*1.5/100,"") -> 12 | O50: 8 | Q50: =IF(P50="","",RANK(P50,P$3:P$70,0)) | R50: =IFERROR(IF(Q50="","",VLOOKUP(Q50,'Concordance Classmt & Points'!$A$2:$B$33,2,FALSE)),0) | S50: =IF(ISNUMBER(R50),R50+R50*(MAX(0,$G50-28))*1.5/100,"") | V50: =IF(U50="","",RANK(U50,U$3:U$70,1)) | W50: =IFERROR(IF(V50="","",VLOOKUP(V50,'Concordance Classmt & Points'!$A$2:$B$33,2,FALSE)),0) | X50: =IF(ISNUMBER(W50),W50+W50*(MAX(0,$G50-28))*1.5/100,"") | AA50: =IF(Z50="","",RANK(Z50,Z$3:Z$70,1)) | AB50: =IFERROR(IF(AA50="","",VLOOKUP(AA50,'Concordance Classmt & Points'!$A$2:$B$33,2,FALSE)),0) | AC50: =IF(ISNUMBER(AB50),AB50+AB50*(MAX(0,$G50-28))*1.5/100,"") | AF50: =IF(AE50="","",RANK(AE50,AE$3:AE$70,1)) | AG50: =IFERROR(IF(AF50="","",VLOOKUP(AF50,'Concordance Classmt & Points'!$A$2:$B$33,2,FALSE)),0) | AH50: =IF(ISNUMBER(AG50),AG50+AG50*(MAX(0,$G50-28))*1.5/100,"") | AK50: =IF(AJ50="","",RANK(AJ50,AJ$3:AJ$70,1)) | AL50: =IFERROR(IF(AK50="","",VLOOKUP(AK50,'Concordance Classmt & Points'!$A$2:$B$33,2,FALSE)),0) | AM50: =IF(ISNUMBER(AL50),AL50+AL50*(MAX(0,$G50-28))*1.5/100,"") | AP50: =IF(AO50="","",RANK(AO50,AO$3:AO$70,1)) | AQ50: =IFERROR(IF(AP50="","",VLOOKUP(AP50,'Concordance Classmt & Points'!$A$2:$B$33,2,FALSE)),0) | AR50: =IF(ISNUMBER(AQ50),AQ50+AQ50*(MAX(0,$G50-28))*1.5/100,"") | AU50: =IF(AT50="","",RANK(AT50,AT$3:AT$70,1)) | AV50: =IFERROR(IF(AU50="","",VLOOKUP(AU50,'Concordance Classmt & Points'!$A$2:$B$33,2,FALSE)),0) | AW50: =IF(ISNUMBER(AV50),AV50+AV50*(MAX(0,$G50-28))*1.5/100,"") | AZ50: =IF(AY50="","",RANK(AY50,AY$3:AY$70,1)) | BA50: =IFERROR(IF(AZ50="","",VLOOKUP(AZ50,'Concordance Classmt & Points'!$A$2:$B$33,2,FALSE)),0) | BB50: =IF(ISNUMBER(BA50),BA50+BA50*(MAX(0,$G50-28))*1.5/100,"") | BE50: =IF(BD50="","",RANK(BD50,BD$3:BD$70,1)) | BF50: =IFERROR(IF(BE50="","",VLOOKUP(BE50,'Concordance Classmt & Points'!$A$2:$B$33,2,FALSE)),0) | BG50: =IF(ISNUMBER(BF50),BF50+BF50*(MAX(0,$G50-28))*1.5/100,"") | BI50: =IF(COUNT(L50,R50,W50,AB50,AG50,AQ50,AL50,AV50,BA50,BF50),SUM(L50,R50,W50,AB50,AG50,AQ50,AL50,AV50,BA50,BF50),"-") -> 12 | BJ50: =IF(COUNT(M50,S50,X50,AC50,AH50,AM50,AR50,AW50,BB50,BG50),SUM(M50,S50,X50,AC50,AH50,AM50,AR50,AW50,BB50,BG50),"-") -> 12 | BK50: =IF(BJ50="-","",RANK(BJ50,BJ$3:BJ$70)) -> 47
A51: =IF(BJ51="-","",RANK(BJ51,BJ$3:BJ$70)) -> 47 | D51: Merine | F51: 37959 | G51: =DATEDIF(F51,NOW(),"Y") -> 21 | J51: 4 | K51: =IF(J51="","",RANK(J51,J$3:J$70,0)) -> 44 | L51: =IFERROR(IF(K51="","",VLOOKUP(K51,'Concordance Classmt & Points'!$A$2:$B$33,2,FALSE)),0) -> 0 | M51: =IF(ISNUMBER(L51),L51+L51*(MAX(0,$G51-28))*1.5/100,"") -> 0 | O51: 4 | Q51: =IF(P51="","",RANK(P51,P$3:P$70,0)) | R51: =IFERROR(IF(Q51="","",VLOOKUP(Q51,'Concordance Classmt & Points'!$A$2:$B$33,2,FALSE)),0) | S51: =IF(ISNUMBER(R51),R51+R51*(MAX(0,$G51-28))*1.5/100,"") | V51: =IF(U51="","",RANK(U51,U$3:U$70,1)) | W51: =IFERROR(IF(V51="","",VLOOKUP(V51,'Concordance Classmt & Points'!$A$2:$B$33,2,FALSE)),0) | X51: =IF(ISNUMBER(W51),W51+W51*(MAX(0,$G51-28))*1.5/100,"") | AA51: =IF(Z51="","",RANK(Z51,Z$3:Z$70,1)) | AB51: =IFERROR(IF(AA51="","",VLOOKUP(AA51,'Concordance Classmt & Points'!$A$2:$B$33,2,FALSE)),0) | AC51: =IF(ISNUMBER(AB51),AB51+AB51*(MAX(0,$G51-28))*1.5/100,"") | AE51: 0.0031909722 | AF51: =IF(AE51="","",RANK(AE51,AE$3:AE$70,1)) -> 28 | AG51: =IFERROR(IF(AF51="","",VLOOKUP(AF51,'Concordance Classmt & Points'!$A$2:$B$33,2,FALSE)),0) -> 6 | AH51: =IF(ISNUMBER(AG51),AG51+AG51*(MAX(0,$G51-28))*1.5/100,"") -> 6 | AJ51: 0.0031909722 | AK51: =IF(AJ51="","",RANK(AJ51,AJ$3:AJ$70,1)) -> 28 | AL51: =IFERROR(IF(AK51="","",VLOOKUP(AK51,'Concordance Classmt & Points'!$A$2:$B$33,2,FALSE)),0) -> 6 | AM51: =IF(ISNUMBER(AL51),AL51+AL51*(MAX(0,$G51-28))*1.5/100,"") -> 6 | AP51: =IF(AO51="","",RANK(AO51,AO$3:AO$70,1)) | AQ51: =IFERROR(IF(AP51="","",VLOOKUP(AP51,'Concordance Classmt & Points'!$A$2:$B$33,2,FALSE)),0) | AR51: =IF(ISNUMBER(AQ51),AQ51+AQ51*(MAX(0,$G51-28))*1.5/100,"") | AU51: =IF(AT51="","",RANK(AT51,AT$3:AT$70,1)) | AV51: =IFERROR(IF(AU51="","",VLOOKUP(AU51,'Concordance Classmt & Points'!$A$2:$B$33,2,FALSE)),0) | AW51: =IF(ISNUMBER(AV51),AV51+AV51*(MAX(0,$G51-28))*1.5/100,"") | AZ51: =IF(AY51="","",RANK(AY51,AY$3:AY$70,1)) | BA51: =IFERROR(IF(AZ51="","",VLOOKUP(AZ51,'Concordance Classmt & Points'!$A$2:$B$33,2,FALSE)),0) | BB51: =IF(ISNUMBER(BA51),BA51+BA51*(MAX(0,$G51-28))*1.5/100,"") | BE51: =IF(BD51="","",RANK(BD51,BD$3:BD$70,1)) | BF51: =IFERROR(IF(BE51="","",VLOOKUP(BE51,'Concordance Classmt & Points'!$A$2:$B$33,2,FALSE)),0) | BG51: =IF(ISNUMBER(BF51),BF51+BF51*(MAX(0,$G51-28))*1.5/100,"") | BI51: =IF(COUNT(L51,R51,W51,AB51,AG51,AQ51,AL51,AV51,BA51,BF51),SUM(L51,R51,W51,AB51,AG51,AQ51,AL51,AV51,BA51,BF51),"-") -> 12 | BJ51: =IF(COUNT(M51,S51,X51,AC51,AH51,AM51,AR51,AW51,BB51,BG51),SUM(M51,S51,X51,AC51,AH51,AM51,AR51,AW51,BB51,BG51),"-") -> 12 | BK51: =IF(BJ51="-","",RANK(BJ51,BJ$3:BJ$70)) -> 47
A52: =IF(BJ52="-","",RANK(BJ52,BJ$3:BJ$70)) -> 50 | D52: Marjorie | F52: 34401 | G52: =DATEDIF(F52,NOW(),"Y") -> 31 | J52: 2 | K52: =IF(J52="","",RANK(J52,J$3:J$70,0)) -> 50 | L52: =IFERROR(IF(K52="","",VLOOKUP(K52,'Concordance Classmt & Points'!$A$2:$B$33,2,FALSE)),0) -> 0 | M52: =IF(ISNUMBER(L52),L52+L52*(MAX(0,$G52-28))*1.5/100,"") -> 0 | O52: 2 | Q52: =IF(P52="","",RANK(P52,P$3:P$70,0)) | R52: =IFERROR(IF(Q52="","",VLOOKUP(Q52,'Concordance Classmt & Points'!$A$2:$B$33,2,FALSE)),0) | S52: =IF(ISNUMBER(R52),R52+R52*(MAX(0,$G52-28))*1.5/100,"") | V52: =IF(U52="","",RANK(U52,U$3:U$70,1)) | W52: =IFERROR(IF(V52="","",VLOOKUP(V52,'Concordance Classmt & Points'!$A$2:$B$33,2,FALSE)),0) | X52: =IF(ISNUMBER(W52),W52+W52*(MAX(0,$G52-28))*1.5/100,"") | AA52: =IF(Z52="","",RANK(Z52,Z$3:Z$70,1)) | AB52: =IFERROR(IF(AA52="","",VLOOKUP(AA52,'Concordance Classmt & Points'!$A$2:$B$33,2,FALSE)),0) | AC52: =IF(ISNUMBER(AB52),AB52+AB52*(MAX(0,$G52-28))*1.5/100,"") | AE52: 0.0032476852 | AF52: =IF(AE52="","",RANK(AE52,AE$3:AE$70,1)) -> 29 | AG52: =IFERROR(IF(AF52="","",VLOOKUP(AF52,'Concordance Classmt & Points'!$A$2:$B$33,2,FALSE)),0) -> 4 | AH52: =IF(ISNUMBER(AG52),AG52+AG52*(MAX(0,$G52-28))*1.5/100,"") -> 4.18 | AJ52: 0.0032476852 | AK52: =IF(AJ52="","",RANK(AJ52,AJ$3:AJ$70,1)) -> 29 | AL52: =IFERROR(IF(AK52="","",VLOOKUP(AK52,'Concordance Classmt & Points'!$A$2:$B$33,2,FALSE)),0) -> 4 | AM52: =IF(ISNUMBER(AL52),AL52+AL52*(MAX(0,$G52-28))*1.5/100,"") -> 4.18 | AP52: =IF(AO52="","",RANK(AO52,AO$3:AO$70,1)) | AQ52: =IFERROR(IF(AP52="","",VLOOKUP(AP52,'Concordance Classmt & Points'!$A$2:$B$33,2,FALSE)),0) | AR52: =IF(ISNUMBER(AQ52),AQ52+AQ52*(MAX(0,$G52-28))*1.5/100,"") | AU52: =IF(AT52="","",RANK(AT52,AT$3:AT$70,1)) | AV52: =IFERROR(IF(AU52="","",VLOOKUP(AU52,'Concordance Classmt & Points'!$A$2:$B$33,2,FALSE)),0) | AW52: =IF(ISNUMBER(AV52),AV52+AV52*(MAX(0,$G52-28))*1.5/100,"") | AZ52: =IF(AY52="","",RANK(AY52,AY$3:AY$70,1)) | BA52: =IFERROR(IF(AZ52="","",VLOOKUP(AZ52,'Concordance Classmt & Points'!$A$2:$B$33,2,FALSE)),0) | BB52: =IF(ISNUMBER(BA52),BA52+BA52*(MAX(0,$G52-28))*1.5/100,"") | BE52: =IF(BD52="","",RANK(BD52,BD$3:BD$70,1)) | BF52: =IFERROR(IF(BE52="","",VLOOKUP(BE52,'Concordance Classmt & Points'!$A$2:$B$33,2,FALSE)),0) | BG52: =IF(ISNUMBER(BF52),BF52+BF52*(MAX(0,$G52-28))*1.5/100,"") | BI52: =IF(COUNT(L52,R52,W52,AB52,AG52,AQ52,AL52,AV52,BA52,BF52),SUM(L52,R52,W52,AB52,AG52,AQ52,AL52,AV52,BA52,BF52),"-") -> 8 | BJ52: =IF(COUNT(M52,S52,X52,AC52,AH52,AM52,AR52,AW52,BB52,BG52),SUM(M52,S52,X52,AC52,AH52,AM52,AR52,AW52,BB52,BG52),"-") -> 8.36 | BK52: =IF(BJ52="-","",RANK(BJ52,BJ$3:BJ$70)) -> 50
A53: =IF(BJ53="-","",RANK(BJ53,BJ$3:BJ$70)) -> 51 | D53: Luz Leyla | F53: 33737 | G53: =DATEDIF(F53,NOW(),"Y") -> 33 | K53: =IF(J53="","",RANK(J53,J$3:J$70,0)) | L53: =IFERROR(IF(K53="","",VLOOKUP(K53,'Concordance Classmt & Points'!$A$2:$B$33,2,FALSE)),0) | M53: =IF(ISNUMBER(L53),L53+L53*(MAX(0,$G53-28))*1.5/100,"") | Q53: =IF(P53="","",RANK(P53,P$3:P$70,0)) | R53: =IFERROR(IF(Q53="","",VLOOKUP(Q53,'Concordance Classmt & Points'!$A$2:$B$33,2,FALSE)),0) | S53: =IF(ISNUMBER(R53),R53+R53*(MAX(0,$G53-28))*1.5/100,"") | V53: =IF(U53="","",RANK(U53,U$3:U$70,1)) | W53: =IFERROR(IF(V53="","",VLOOKUP(V53,'Concordance Classmt & Points'!$A$2:$B$33,2,FALSE)),0) | X53: =IF(ISNUMBER(W53),W53+W53*(MAX(0,$G53-28))*1.5/100,"") | AA53: =IF(Z53="","",RANK(Z53,Z$3:Z$70,1)) | AB53: =IFERROR(IF(AA53="","",VLOOKUP(AA53,'Concordance Classmt & Points'!$A$2:$B$33,2,FALSE)),0) | AC53: =IF(ISNUMBER(AB53),AB53+AB53*(MAX(0,$G53-28))*1.5/100,"") | AE53: 0.0033020833 | AF53: =IF(AE53="","",RANK(AE53,AE$3:AE$70,1)) -> 30 | AG53: =IFERROR(IF(AF53="","",VLOOKUP(AF53,'Concordance Classmt & Points'!$A$2:$B$33,2,FALSE)),0) -> 2 | AH53: =IF(ISNUMBER(AG53),AG53+AG53*(MAX(0,$G53-28))*1.5/100,"") -> 2.15 | AJ53: 0.0033020833 | AK53: =IF(AJ53="","",RANK(AJ53,AJ$3:AJ$70,1)) -> 30 | AL53: =IFERROR(IF(AK53="","",VLOOKUP(AK53,'Concordance Classmt & Points'!$A$2:$B$33,2,FALSE)),0) -> 2 | AM53: =IF(ISNUMBER(AL53),AL53+AL53*(MAX(0,$G53-28))*1.5/100,"") -> 2.15 | AP53: =IF(AO53="","",RANK(AO53,AO$3:AO$70,1)) | AQ53: =IFERROR(IF(AP53="","",VLOOKUP(AP53,'Concordance Classmt & Points'!$A$2:$B$33,2,FALSE)),0) | AR53: =IF(ISNUMBER(AQ53),AQ53+AQ53*(MAX(0,$G53-28))*1.5/100,"") | AU53: =IF(AT53="","",RANK(AT53,AT$3:AT$70,1)) | AV53: =IFERROR(IF(AU53="","",VLOOKUP(AU53,'Concordance Classmt & Points'!$A$2:$B$33,2,FALSE)),0) | AW53: =IF(ISNUMBER(AV53),AV53+AV53*(MAX(0,$G53-28))*1.5/100,"") | AZ53: =IF(AY53="","",RANK(AY53,AY$3:AY$70,1)) | BA53: =IFERROR(IF(AZ53="","",VLOOKUP(AZ53,'Concordance Classmt & Points'!$A$2:$B$33,2,FALSE)),0) | BB53: =IF(ISNUMBER(BA53),BA53+BA53*(MAX(0,$G53-28))*1.5/100,"") | BE53: =IF(BD53="","",RANK(BD53,BD$3:BD$70,1)) | BF53: =IFERROR(IF(BE53="","",VLOOKUP(BE53,'Concordance Classmt & Points'!$A$2:$B$33,2,FALSE)),0) | BG53: =IF(ISNUMBER(BF53),BF53+BF53*(MAX(0,$G53-28))*1.5/100,"") | BI53: =IF(COUNT(L53,R53,W53,AB53,AG53,AQ53,AL53,AV53,BA53,BF53),SUM(L53,R53,W53,AB53,AG53,AQ53,AL53,AV53,BA53,BF53),"-") -> 4 | BJ53: =IF(COUNT(M53,S53,X53,AC53,AH53,AM53,AR53,AW53,BB53,BG53),SUM(M53,S53,X53,AC53,AH53,AM53,AR53,AW53,BB53,BG53),"-") -> 4.3 | BK53: =IF(BJ53="-","",RANK(BJ53,BJ$3:BJ$70)) -> 51
A54: =IF(BJ54="-","",RANK(BJ54,BJ$3:BJ$70)) -> 52 | D54: Nacim | F54: 34145 | G54: =DATEDIF(F54,NOW(),"Y") -> 31 | J54: 7 | K54: =IF(J54="","",RANK(J54,J$3:J$70,0)) -> 30 | L54: =IFERROR(IF(K54="","",VLOOKUP(K54,'Concordance Classmt & Points'!$A$2:$B$33,2,FALSE)),0) -> 2 | M54: =IF(ISNUMBER(L54),L54+L54*(MAX(0,$G54-28))*1.5/100,"") -> 2.09 | O54: 7 | Q54: =IF(P54="","",RANK(P54,P$3:P$70,0)) | R54: =IFERROR(IF(Q54="","",VLOOKUP(Q54,'Concordance Classmt & Points'!$A$2:$B$33,2,FALSE)),0) | S54: =IF(ISNUMBER(R54),R54+R54*(MAX(0,$G54-28))*1.5/100,"") | V54: =IF(U54="","",RANK(U54,U$3:U$70,1)) | W54: =IFERROR(IF(V54="","",VLOOKUP(V54,'Concordance Classmt & Points'!$A$2:$B$33,2,FALSE)),0) | X54: =IF(ISNUMBER(W54),W54+W54*(MAX(0,$G54-28))*1.5/100,"") | AA54: =IF(Z54="","",RANK(Z54,Z$3:Z$70,1)) | AB54: =IFERROR(IF(AA54="","",VLOOKUP(AA54,'Concordance Classmt & Points'!$A$2:$B$33,2,FALSE)),0) | AC54: =IF(ISNUMBER(AB54),AB54+AB54*(MAX(0,$G54-28))*1.5/100,"") | AF54: =IF(AE54="","",RANK(AE54,AE$3:AE$70,1)) | AG54: =IFERROR(IF(AF54="","",VLOOKUP(AF54,'Concordance Classmt & Points'!$A$2:$B$33,2,FALSE)),0) | AH54: =IF(ISNUMBER(AG54),AG54+AG54*(MAX(0,$G54-28))*1.5/100,"") | AK54: =IF(AJ54="","",RANK(AJ54,AJ$3:AJ$70,1)) | AL54: =IFERROR(IF(AK54="","",VLOOKUP(AK54,'Concordance Classmt & Points'!$A$2:$B$33,2,FALSE)),0) | AM54: =IF(ISNUMBER(AL54),AL54+AL54*(MAX(0,$G54-28))*1.5/100,"") | AP54: =IF(AO54="","",RANK(AO54,AO$3:AO$70,1)) | AQ54: =IFERROR(IF(AP54="","",VLOOKUP(AP54,'Concordance Classmt & Points'!$A$2:$B$33,2,FALSE)),0) | AR54: =IF(ISNUMBER(AQ54),AQ54+AQ54*(MAX(0,$G54-28))*1.5/100,"") | AU54: =IF(AT54="","",RANK(AT54,AT$3:AT$70,1)) | AV54: =IFERROR(IF(AU54="","",VLOOKUP(AU54,'Concordance Classmt & Points'!$A$2:$B$33,2,FALSE)),0) | AW54: =IF(ISNUMBER(AV54),AV54+AV54*(MAX(0,$G54-28))*1.5/100,"") | AZ54: =IF(AY54="","",RANK(AY54,AY$3:AY$70,1)) | BA54: =IFERROR(IF(AZ54="","",VLOOKUP(AZ54,'Concordance Classmt & Points'!$A$2:$B$33,2,FALSE)),0) | BB54: =IF(ISNUMBER(BA54),BA54+BA54*(MAX(0,$G54-28))*1.5/100,"") | BE54: =IF(BD54="","",RANK(BD54,BD$3:BD$70,1)) | BF54: =IFERROR(IF(BE54="","",VLOOKUP(BE54,'Concordance Classmt & Points'!$A$2:$B$33,2,FALSE)),0) | BG54: =IF(ISNUMBER(BF54),BF54+BF54*(MAX(0,$G54-28))*1.5/100,"") | BI54: =IF(COUNT(L54,R54,W54,AB54,AG54,AQ54,AL54,AV54,BA54,BF54),SUM(L54,R54,W54,AB54,AG54,AQ54,AL54,AV54,BA54,BF54),"-") -> 2 | BJ54: =IF(COUNT(M54,S54,X54,AC54,AH54,AM54,AR54,AW54,BB54,BG54),SUM(M54,S54,X54,AC54,AH54,AM54,AR54,AW54,BB54,BG54),"-") -> 2.09 | BK54: =IF(BJ54="-","",RANK(BJ54,BJ$3:BJ$70)) -> 52
A55: =IF(BJ55="-","",RANK(BJ55,BJ$3:BJ$70)) -> 53 | D55: Robert | F55: 35029 | G55: =DATEDIF(F55,NOW(),"Y") -> 29 | J55: 7 | K55: =IF(J55="","",RANK(J55,J$3:J$70,0)) -> 30 | L55: =IFERROR(IF(K55="","",VLOOKUP(K55,'Concordance Classmt & Points'!$A$2:$B$33,2,FALSE)),0) -> 2 | M55: =IF(ISNUMBER(L55),L55+L55*(MAX(0,$G55-28))*1.5/100,"") -> 2.03 | O55: 7 | Q55: =IF(P55="","",RANK(P55,P$3:P$70,0)) | R55: =IFERROR(IF(Q55="","",VLOOKUP(Q55,'Concordance Classmt & Points'!$A$2:$B$33,2,FALSE)),0) | S55: =IF(ISNUMBER(R55),R55+R55*(MAX(0,$G55-28))*1.5/100,"") | V55: =IF(U55="","",RANK(U55,U$3:U$70,1)) | W55: =IFERROR(IF(V55="","",VLOOKUP(V55,'Concordance Classmt & Points'!$A$2:$B$33,2,FALSE)),0) | X55: =IF(ISNUMBER(W55),W55+W55*(MAX(0,$G55-28))*1.5/100,"") | AA55: =IF(Z55="","",RANK(Z55,Z$3:Z$70,1)) | AB55: =IFERROR(IF(AA55="","",VLOOKUP(AA55,'Concordance Classmt & Points'!$A$2:$B$33,2,FALSE)),0) | AC55: =IF(ISNUMBER(AB55),AB55+AB55*(MAX(0,$G55-28))*1.5/100,"") | AF55: =IF(AE55="","",RANK(AE55,AE$3:AE$70,1)) | AG55: =IFERROR(IF(AF55="","",VLOOKUP(AF55,'Concordance Classmt & Points'!$A$2:$B$33,2,FALSE)),0) | AH55: =IF(ISNUMBER(AG55),AG55+AG55*(MAX(0,$G55-28))*1.5/100,"") | AK55: =IF(AJ55="","",RANK(AJ55,AJ$3:AJ$70,1)) | AL55: =IFERROR(IF(AK55="","",VLOOKUP(AK55,'Concordance Classmt & Points'!$A$2:$B$33,2,FALSE)),0) | AM55: =IF(ISNUMBER(AL55),AL55+AL55*(MAX(0,$G55-28))*1.5/100,"") | AP55: =IF(AO55="","",RANK(AO55,AO$3:AO$70,1)) | AQ55: =IFERROR(IF(AP55="","",VLOOKUP(AP55,'Concordance Classmt & Points'!$A$2:$B$33,2,FALSE)),0) | AR55: =IF(ISNUMBER(AQ55),AQ55+AQ55*(MAX(0,$G55-28))*1.5/100,"") | AU55: =IF(AT55="","",RANK(AT55,AT$3:AT$70,1)) | AV55: =IFERROR(IF(AU55="","",VLOOKUP(AU55,'Concordance Classmt & Points'!$A$2:$B$33,2,FALSE)),0) | AW55: =IF(ISNUMBER(AV55),AV55+AV55*(MAX(0,$G55-28))*1.5/100,"") | AZ55: =IF(AY55="","",RANK(AY55,AY$3:AY$70,1)) | BA55: =IFERROR(IF(AZ55="","",VLOOKUP(AZ55,'Concordance Classmt & Points'!$A$2:$B$33,2,FALSE)),0) | BB55: =IF(ISNUMBER(BA55),BA55+BA55*(MAX(0,$G55-28))*1.5/100,"") | BE55: =IF(BD55="","",RANK(BD55,BD$3:BD$70,1)) | BF55: =IFERROR(IF(BE55="","",VLOOKUP(BE55,'Concordance Classmt & Points'!$A$2:$B$33,2,FALSE)),0) | BG55: =IF(ISNUMBER(BF55),BF55+BF55*(MAX(0,$G55-28))*1.5/100,"") | BI55: =IF(COUNT(L55,R55,W55,AB55,AG55,AQ55,AL55,AV55,BA55,BF55),SUM(L55,R55,W55,AB55,AG55,AQ55,AL55,AV55,BA55,BF55),"-") -> 2 | BJ55: =IF(COUNT(M55,S55,X55,AC55,AH55,AM55,AR55,AW55,BB55,BG55),SUM(M55,S55,X55,AC55,AH55,AM55,AR55,AW55,BB55,BG55),"-") -> 2.03 | BK55: =IF(BJ55="-","",RANK(BJ55,BJ$3:BJ$70)) -> 53
A56: =IF(BJ56="-","",RANK(BJ56,BJ$3:BJ$70)) -> 54 | D56: Liping | F56: 22779 | G56: =DATEDIF(F56,NOW(),"Y") -> 63 | K56: =IF(J56="","",RANK(J56,J$3:J$70,0)) | L56: =IFERROR(IF(K56="","",VLOOKUP(K56,'Concordance Classmt & Points'!$A$2:$B$33,2,FALSE)),0) | M56: =IF(ISNUMBER(L56),L56+L56*(MAX(0,$G56-28))*1.5/100,"") | Q56: =IF(P56="","",RANK(P56,P$3:P$70,0)) | R56: =IFERROR(IF(Q56="","",VLOOKUP(Q56,'Concordance Classmt & Points'!$A$2:$B$33,2,FALSE)),0) | S56: =IF(ISNUMBER(R56),R56+R56*(MAX(0,$G56-28))*1.5/100,"") | V56: =IF(U56="","",RANK(U56,U$3:U$70,1)) | W56: =IFERROR(IF(V56="","",VLOOKUP(V56,'Concordance Classmt & Points'!$A$2:$B$33,2,FALSE)),0) | X56: =IF(ISNUMBER(W56),W56+W56*(MAX(0,$G56-28))*1.5/100,"") | AA56: =IF(Z56="","",RANK(Z56,Z$3:Z$70,1)) | AB56: =IFERROR(IF(AA56="","",VLOOKUP(AA56,'Concordance Classmt & Points'!$A$2:$B$33,2,FALSE)),0) | AC56: =IF(ISNUMBER(AB56),AB56+AB56*(MAX(0,$G56-28))*1.5/100,"") | AE56: 0.0037407407 | AF56: =IF(AE56="","",RANK(AE56,AE$3:AE$70,1)) -> 39 | AG56: =IFERROR(IF(AF56="","",VLOOKUP(AF56,'Concordance Classmt & Points'!$A$2:$B$33,2,FALSE)),0) -> 0 | AH56: =IF(ISNUMBER(AG56),AG56+AG56*(MAX(0,$G56-28))*1.5/100,"") -> 0 | AJ56: 0.0037407407 | AK56: =IF(AJ56="","",RANK(AJ56,AJ$3:AJ$70,1)) -> 39 | AL56: =IFERROR(IF(AK56="","",VLOOKUP(AK56,'Concordance Classmt & Points'!$A$2:$B$33,2,FALSE)),0) -> 0 | AM56: =IF(ISNUMBER(AL56),AL56+AL56*(MAX(0,$G56-28))*1.5/100,"") -> 0 | AP56: =IF(AO56="","",RANK(AO56,AO$3:AO$70,1)) | AQ56: =IFERROR(IF(AP56="","",VLOOKUP(AP56,'Concordance Classmt & Points'!$A$2:$B$33,2,FALSE)),0) | AR56: =IF(ISNUMBER(AQ56),AQ56+AQ56*(MAX(0,$G56-28))*1.5/100,"") | AU56: =IF(AT56="","",RANK(AT56,AT$3:AT$70,1)) | AV56: =IFERROR(IF(AU56="","",VLOOKUP(AU56,'Concordance Classmt & Points'!$A$2:$B$33,2,FALSE)),0) | AW56: =IF(ISNUMBER(AV56),AV56+AV56*(MAX(0,$G56-28))*1.5/100,"") | AZ56: =IF(AY56="","",RANK(AY56,AY$3:AY$70,1)) | BA56: =IFERROR(IF(AZ56="","",VLOOKUP(AZ56,'Concordance Classmt & Points'!$A$2:$B$33,2,FALSE)),0) | BB56: =IF(ISNUMBER(BA56),BA56+BA56*(MAX(0,$G56-28))*1.5/100,"") | BE56: =IF(BD56="","",RANK(BD56,BD$3:BD$70,1)) | BF56: =IFERROR(IF(BE56="","",VLOOKUP(BE56,'Concordance Classmt & Points'!$A$2:$B$33,2,FALSE)),0) | BG56: =IF(ISNUMBER(BF56),BF56+BF56*(MAX(0,$G56-28))*1.5/100,"") | BI56: =IF(COUNT(L56,R56,W56,AB56,AG56,AQ56,AL56,AV56,BA56,BF56),SUM(L56,R56,W56,AB56,AG56,AQ56,AL56,AV56,BA56,BF56),"-") -> 0 | BJ56: =IF(COUNT(M56,S56,X56,AC56,AH56,AM56,AR56,AW56,BB56,BG56),SUM(M56,S56,X56,AC56,AH56,AM56,AR56,AW56,BB56,BG56),"-") -> 0 | BK56: =IF(BJ56="-","",RANK(BJ56,BJ$3:BJ$70)) -> 54
A57: =IF(BJ57="-","",RANK(BJ57,BJ$3:BJ$70)) -> 54 | D57: Ai | F57: 28058 | G57: =DATEDIF(F57,NOW(),"Y") -> 48 | K57: =IF(J57="","",RANK(J57,J$3:J$70,0)) | L57: =IFERROR(IF(K57="","",VLOOKUP(K57,'Concordance Classmt & Points'!$A$2:$B$33,2,FALSE)),0) | M57: =IF(ISNUMBER(L57),L57+L57*(MAX(0,$G57-28))*1.5/100,"") | Q57: =IF(P57="","",RANK(P57,P$3:P$70,0)) | R57: =IFERROR(IF(Q57="","",VLOOKUP(Q57,'Concordance Classmt & Points'!$A$2:$B$33,2,FALSE)),0) | S57: =IF(ISNUMBER(R57),R57+R57*(MAX(0,$G57-28))*1.5/100,"") | V57: =IF(U57="","",RANK(U57,U$3:U$70,1)) | W57: =IFERROR(IF(V57="","",VLOOKUP(V57,'Concordance Classmt & Points'!$A$2:$B$33,2,FALSE)),0) | X57: =IF(ISNUMBER(W57),W57+W57*(MAX(0,$G57-28))*1.5/100,"") | AA57: =IF(Z57="","",RANK(Z57,Z$3:Z$70,1)) | AB57: =IFERROR(IF(AA57="","",VLOOKUP(AA57,'Concordance Classmt & Points'!$A$2:$B$33,2,FALSE)),0) | AC57: =IF(ISNUMBER(AB57),AB57+AB57*(MAX(0,$G57-28))*1.5/100,"") | AE57: 0.0037326389 | AF57: =IF(AE57="","",RANK(AE57,AE$3:AE$70,1)) -> 37 | AG57: =IFERROR(IF(AF57="","",VLOOKUP(AF57,'Concordance Classmt & Points'!$A$2:$B$33,2,FALSE)),0) -> 0 | AH57: =IF(ISNUMBER(AG57),AG57+AG57*(MAX(0,$G57-28))*1.5/100,"") -> 0 | AJ57: 0.0037326389 | AK57: =IF(AJ57="","",RANK(AJ57,AJ$3:AJ$70,1)) -> 37 | AL57: =IFERROR(IF(AK57="","",VLOOKUP(AK57,'Concordance Classmt & Points'!$A$2:$B$33,2,FALSE)),0) -> 0 | AM57: =IF(ISNUMBER(AL57),AL57+AL57*(MAX(0,$G57-28))*1.5/100,"") -> 0 | AP57: =IF(AO57="","",RANK(AO57,AO$3:AO$70,1)) | AQ57: =IFERROR(IF(AP57="","",VLOOKUP(AP57,'Concordance Classmt & Points'!$A$2:$B$33,2,FALSE)),0) | AR57: =IF(ISNUMBER(AQ57),AQ57+AQ57*(MAX(0,$G57-28))*1.5/100,"") | AU57: =IF(AT57="","",RANK(AT57,AT$3:AT$70,1)) | AV57: =IFERROR(IF(AU57="","",VLOOKUP(AU57,'Concordance Classmt & Points'!$A$2:$B$33,2,FALSE)),0) | AW57: =IF(ISNUMBER(AV57),AV57+AV57*(MAX(0,$G57-28))*1.5/100,"") | AZ57: =IF(AY57="","",RANK(AY57,AY$3:AY$70,1)) | BA57: =IFERROR(IF(AZ57="","",VLOOKUP(AZ57,'Concordance Classmt & Points'!$A$2:$B$33,2,FALSE)),0) | BB57: =IF(ISNUMBER(BA57),BA57+BA57*(MAX(0,$G57-28))*1.5/100,"") | BE57: =IF(BD57="","",RANK(BD57,BD$3:BD$70,1)) | BF57: =IFERROR(IF(BE57="","",VLOOKUP(BE57,'Concordance Classmt & Points'!$A$2:$B$33,2,FALSE)),0) | BG57: =IF(ISNUMBER(BF57),BF57+BF57*(MAX(0,$G57-28))*1.5/100,"") | BI57: =IF(COUNT(L57,R57,W57,AB57,AG57,AQ57,AL57,AV57,BA57,BF57),SUM(L57,R57,W57,AB57,AG57,AQ57,AL57,AV57,BA57,BF57),"-") -> 0 | BJ57: =IF(COUNT(M57,S57,X57,AC57,AH57,AM57,AR57,AW57,BB57,BG57),SUM(M57,S57,X57,AC57,AH57,AM57,AR57,AW57,BB57,BG57),"-") -> 0 | BK57: =IF(BJ57="-","",RANK(BJ57,BJ$3:BJ$70)) -> 54
A58: =IF(BJ58="-","",RANK(BJ58,BJ$3:BJ$70)) -> 54 | D58: Natalia | F58: 34586 | G58: =DATEDIF(F58,NOW(),"Y") -> 30 | K58: =IF(J58="","",RANK(J58,J$3:J$70,0)) | L58: =IFERROR(IF(K58="","",VLOOKUP(K58,'Concordance Classmt & Points'!$A$2:$B$33,2,FALSE)),0) | M58: =IF(ISNUMBER(L58),L58+L58*(MAX(0,$G58-28))*1.5/100,"") | Q58: =IF(P58="","",RANK(P58,P$3:P$70,0)) | R58: =IFERROR(IF(Q58="","",VLOOKUP(Q58,'Concordance Classmt & Points'!$A$2:$B$33,2,FALSE)),0) | S58: =IF(ISNUMBER(R58),R58+R58*(MAX(0,$G58-28))*1.5/100,"") | V58: =IF(U58="","",RANK(U58,U$3:U$70,1)) | W58: =IFERROR(IF(V58="","",VLOOKUP(V58,'Concordance Classmt & Points'!$A$2:$B$33,2,FALSE)),0) | X58: =IF(ISNUMBER(W58),W58+W58*(MAX(0,$G58-28))*1.5/100,"") | AA58: =IF(Z58="","",RANK(Z58,Z$3:Z$70,1)) | AB58: =IFERROR(IF(AA58="","",VLOOKUP(AA58,'Concordance Classmt & Points'!$A$2:$B$33,2,FALSE)),0) | AC58: =IF(ISNUMBER(AB58),AB58+AB58*(MAX(0,$G58-28))*1.5/100,"") | AE58: 0.0036747685 | AF58: =IF(AE58="","",RANK(AE58,AE$3:AE$70,1)) -> 35 | AG58: =IFERROR(IF(AF58="","",VLOOKUP(AF58,'Concordance Classmt & Points'!$A$2:$B$33,2,FALSE)),0) -> 0 | AH58: =IF(ISNUMBER(AG58),AG58+AG58*(MAX(0,$G58-28))*1.5/100,"") -> 0 | AJ58: 0.0036747685 | AK58: =IF(AJ58="","",RANK(AJ58,AJ$3:AJ$70,1)) -> 35 | AL58: =IFERROR(IF(AK58="","",VLOOKUP(AK58,'Concordance Classmt & Points'!$A$2:$B$33,2,FALSE)),0) -> 0 | AM58: =IF(ISNUMBER(AL58),AL58+AL58*(MAX(0,$G58-28))*1.5/100,"") -> 0 | AP58: =IF(AO58="","",RANK(AO58,AO$3:AO$70,1)) | AQ58: =IFERROR(IF(AP58="","",VLOOKUP(AP58,'Concordance Classmt & Points'!$A$2:$B$33,2,FALSE)),0) | AR58: =IF(ISNUMBER(AQ58),AQ58+AQ58*(MAX(0,$G58-28))*1.5/100,"") | AU58: =IF(AT58="","",RANK(AT58,AT$3:AT$70,1)) | AV58: =IFERROR(IF(AU58="","",VLOOKUP(AU58,'Concordance Classmt & Points'!$A$2:$B$33,2,FALSE)),0) | AW58: =IF(ISNUMBER(AV58),AV58+AV58*(MAX(0,$G58-28))*1.5/100,"") | AZ58: =IF(AY58="","",RANK(AY58,AY$3:AY$70,1)) | BA58: =IFERROR(IF(AZ58="","",VLOOKUP(AZ58,'Concordance Classmt & Points'!$A$2:$B$33,2,FALSE)),0) | BB58: =IF(ISNUMBER(BA58),BA58+BA58*(MAX(0,$G58-28))*1.5/100,"") | BE58: =IF(BD58="","",RANK(BD58,BD$3:BD$70,1)) | BF58: =IFERROR(IF(BE58="","",VLOOKUP(BE58,'Concordance Classmt & Points'!$A$2:$B$33,2,FALSE)),0) | BG58: =IF(ISNUMBER(BF58),BF58+BF58*(MAX(0,$G58-28))*1.5/100,"") | BI58: =IF(COUNT(L58,R58,W58,AB58,AG58,AQ58,AL58,AV58,BA58,BF58),SUM(L58,R58,W58,AB58,AG58,AQ58,AL58,AV58,BA58,BF58),"-") -> 0 | BJ58: =IF(COUNT(M58,S58,X58,AC58,AH58,AM58,AR58,AW58,BB58,BG58),SUM(M58,S58,X58,AC58,AH58,AM58,AR58,AW58,BB58,BG58),"-") -> 0 | BK58: =IF(BJ58="-","",RANK(BJ58,BJ$3:BJ$70)) -> 54
A59: =IF(BJ59="-","",RANK(BJ59,BJ$3:BJ$70)) -> 54 | D59: Nadia | F59: 29666 | G59: =DATEDIF(F59,NOW(),"Y") -> 44 | K59: =IF(J59="","",RANK(J59,J$3:J$70,0)) | L59: =IFERROR(IF(K59="","",VLOOKUP(K59,'Concordance Classmt & Points'!$A$2:$B$33,2,FALSE)),0) | M59: =IF(ISNUMBER(L59),L59+L59*(MAX(0,$G59-28))*1.5/100,"") | Q59: =IF(P59="","",RANK(P59,P$3:P$70,0)) | R59: =IFERROR(IF(Q59="","",VLOOKUP(Q59,'Concordance Classmt & Points'!$A$2:$B$33,2,FALSE)),0) | S59: =IF(ISNUMBER(R59),R59+R59*(MAX(0,$G59-28))*1.5/100,"") | V59: =IF(U59="","",RANK(U59,U$3:U$70,1)) | W59: =IFERROR(IF(V59="","",VLOOKUP(V59,'Concordance Classmt & Points'!$A$2:$B$33,2,FALSE)),0) | X59: =IF(ISNUMBER(W59),W59+W59*(MAX(0,$G59-28))*1.5/100,"") | AA59: =IF(Z59="","",RANK(Z59,Z$3:Z$70,1)) | AB59: =IFERROR(IF(AA59="","",VLOOKUP(AA59,'Concordance Classmt & Points'!$A$2:$B$33,2,FALSE)),0) | AC59: =IF(ISNUMBER(AB59),AB59+AB59*(MAX(0,$G59-28))*1.5/100,"") | AE59: 0.0037002315 | AF59: =IF(AE59="","",RANK(AE59,AE$3:AE$70,1)) -> 36 | AG59: =IFERROR(IF(AF59="","",VLOOKUP(AF59,'Concordance Classmt & Points'!$A$2:$B$33,2,FALSE)),0) -> 0 | AH59: =IF(ISNUMBER(AG59),AG59+AG59*(MAX(0,$G59-28))*1.5/100,"") -> 0 | AJ59: 0.0037002315 | AK59: =IF(AJ59="","",RANK(AJ59,AJ$3:AJ$70,1)) -> 36 | AL59: =IFERROR(IF(AK59="","",VLOOKUP(AK59,'Concordance Classmt & Points'!$A$2:$B$33,2,FALSE)),0) -> 0 | AM59: =IF(ISNUMBER(AL59),AL59+AL59*(MAX(0,$G59-28))*1.5/100,"") -> 0 | AP59: =IF(AO59="","",RANK(AO59,AO$3:AO$70,1)) | AQ59: =IFERROR(IF(AP59="","",VLOOKUP(AP59,'Concordance Classmt & Points'!$A$2:$B$33,2,FALSE)),0) | AR59: =IF(ISNUMBER(AQ59),AQ59+AQ59*(MAX(0,$G59-28))*1.5/100,"") | AU59: =IF(AT59="","",RANK(AT59,AT$3:AT$70,1)) | AV59: =IFERROR(IF(AU59="","",VLOOKUP(AU59,'Concordance Classmt & Points'!$A$2:$B$33,2,FALSE)),0) | AW59: =IF(ISNUMBER(AV59),AV59+AV59*(MAX(0,$G59-28))*1.5/100,"") | AZ59: =IF(AY59="","",RANK(AY59,AY$3:AY$70,1)) | BA59: =IFERROR(IF(AZ59="","",VLOOKUP(AZ59,'Concordance Classmt & Points'!$A$2:$B$33,2,FALSE)),0) | BB59: =IF(ISNUMBER(BA59),BA59+BA59*(MAX(0,$G59-28))*1.5/100,"") | BE59: =IF(BD59="","",RANK(BD59,BD$3:BD$70,1)) | BF59: =IFERROR(IF(BE59="","",VLOOKUP(BE59,'Concordance Classmt & Points'!$A$2:$B$33,2,FALSE)),0) | BG59: =IF(ISNUMBER(BF59),BF59+BF59*(MAX(0,$G59-28))*1.5/100,"") | BI59: =IF(COUNT(L59,R59,W59,AB59,AG59,AQ59,AL59,AV59,BA59,BF59),SUM(L59,R59,W59,AB59,AG59,AQ59,AL59,AV59,BA59,BF59),"-") -> 0 | BJ59: =IF(COUNT(M59,S59,X59,AC59,AH59,AM59,AR59,AW59,BB59,BG59),SUM(M59,S59,X59,AC59,AH59,AM59,AR59,AW59,BB59,BG59),"-") -> 0 | BK59: =IF(BJ59="-","",RANK(BJ59,BJ$3:BJ$70)) -> 54
A60: =IF(BJ60="-","",RANK(BJ60,BJ$3:BJ$70)) -> 54 | D60: Amal | J60: 6 | K60: =IF(J60="","",RANK(J60,J$3:J$70,0)) -> 32 | L60: =IFERROR(IF(K60="","",VLOOKUP(K60,'Concordance Classmt & Points'!$A$2:$B$33,2,FALSE)),0) -> 0 | M60: =IF(ISNUMBER(L60),L60+L60*(MAX(0,$G60-28))*1.5/100,"") -> 0 | O60: 6 | Q60: =IF(P60="","",RANK(P60,P$3:P$70,0)) | R60: =IFERROR(IF(Q60="","",VLOOKUP(Q60,'Concordance Classmt & Points'!$A$2:$B$33,2,FALSE)),0) | S60: =IF(ISNUMBER(R60),R60+R60*(MAX(0,$G60-28))*1.5/100,"") | V60: =IF(U60="","",RANK(U60,U$3:U$70,1)) | W60: =IFERROR(IF(V60="","",VLOOKUP(V60,'Concordance Classmt & Points'!$A$2:$B$33,2,FALSE)),0) | X60: =IF(ISNUMBER(W60),W60+W60*(MAX(0,$G60-28))*1.5/100,"") | AA60: =IF(Z60="","",RANK(Z60,Z$3:Z$70,1)) | AB60: =IFERROR(IF(AA60="","",VLOOKUP(AA60,'Concordance Classmt & Points'!$A$2:$B$33,2,FALSE)),0) | AC60: =IF(ISNUMBER(AB60),AB60+AB60*(MAX(0,$G60-28))*1.5/100,"") | AF60: =IF(AE60="","",RANK(AE60,AE$3:AE$70,1)) | AG60: =IFERROR(IF(AF60="","",VLOOKUP(AF60,'Concordance Classmt & Points'!$A$2:$B$33,2,FALSE)),0) | AH60: =IF(ISNUMBER(AG60),AG60+AG60*(MAX(0,$G60-28))*1.5/100,"") | AK60: =IF(AJ60="","",RANK(AJ60,AJ$3:AJ$70,1)) | AL60: =IFERROR(IF(AK60="","",VLOOKUP(AK60,'Concordance Classmt & Points'!$A$2:$B$33,2,FALSE)),0) | AM60: =IF(ISNUMBER(AL60),AL60+AL60*(MAX(0,$G60-28))*1.5/100,"") | AP60: =IF(AO60="","",RANK(AO60,AO$3:AO$70,1)) | AQ60: =IFERROR(IF(AP60="","",VLOOKUP(AP60,'Concordance Classmt & Points'!$A$2:$B$33,2,FALSE)),0) | AR60: =IF(ISNUMBER(AQ60),AQ60+AQ60*(MAX(0,$G60-28))*1.5/100,"") | AU60: =IF(AT60="","",RANK(AT60,AT$3:AT$70,1)) | AV60: =IFERROR(IF(AU60="","",VLOOKUP(AU60,'Concordance Classmt & Points'!$A$2:$B$33,2,FALSE)),0) | AW60: =IF(ISNUMBER(AV60),AV60+AV60*(MAX(0,$G60-28))*1.5/100,"") | AZ60: =IF(AY60="","",RANK(AY60,AY$3:AY$70,1)) | BA60: =IFERROR(IF(AZ60="","",VLOOKUP(AZ60,'Concordance Classmt & Points'!$A$2:$B$33,2,FALSE)),0) | BB60: =IF(ISNUMBER(BA60),BA60+BA60*(MAX(0,$G60-28))*1.5/100,"") | BE60: =IF(BD60="","",RANK(BD60,BD$3:BD$70,1)) | BF60: =IFERROR(IF(BE60="","",VLOOKUP(BE60,'Concordance Classmt & Points'!$A$2:$B$33,2,FALSE)),0) | BG60: =IF(ISNUMBER(BF60),BF60+BF60*(MAX(0,$G60-28))*1.5/100,"") | BI60: =IF(COUNT(L60,R60,W60,AB60,AG60,AQ60,AL60,AV60,BA60,BF60),SUM(L60,R60,W60,AB60,AG60,AQ60,AL60,AV60,BA60,BF60),"-") -> 0 | BJ60: =IF(COUNT(M60,S60,X60,AC60,AH60,AM60,AR60,AW60,BB60,BG60),SUM(M60,S60,X60,AC60,AH60,AM60,AR60,AW60,BB60,BG60),"-") -> 0 | BK60: =IF(BJ60="-","",RANK(BJ60,BJ$3:BJ$70)) -> 54
A61: =IF(BJ61="-","",RANK(BJ61,BJ$3:BJ$70)) -> 54 | D61: Falou | F61: 37952 | G61: =DATEDIF(F61,NOW(),"Y") -> 21 | J61: 5 | K61: =IF(J61="","",RANK(J61,J$3:J$70,0)) -> 35 | L61: =IFERROR(IF(K61="","",VLOOKUP(K61,'Concordance Classmt & Points'!$A$2:$B$33,2,FALSE)),0) -> 0 | M61: =IF(ISNUMBER(L61),L61+L61*(MAX(0,$G61-28))*1.5/100,"") -> 0 | O61: 5 | Q61: =IF(P61="","",RANK(P61,P$3:P$70,0)) | R61: =IFERROR(IF(Q61="","",VLOOKUP(Q61,'Concordance Classmt & Points'!$A$2:$B$33,2,FALSE)),0) | S61: =IF(ISNUMBER(R61),R61+R61*(MAX(0,$G61-28))*1.5/100,"") | V61: =IF(U61="","",RANK(U61,U$3:U$70,1)) | W61: =IFERROR(IF(V61="","",VLOOKUP(V61,'Concordance Classmt & Points'!$A$2:$B$33,2,FALSE)),0) | X61: =IF(ISNUMBER(W61),W61+W61*(MAX(0,$G61-28))*1.5/100,"") | AA61: =IF(Z61="","",RANK(Z61,Z$3:Z$70,1)) | AB61: =IFERROR(IF(AA61="","",VLOOKUP(AA61,'Concordance Classmt & Points'!$A$2:$B$33,2,FALSE)),0) | AC61: =IF(ISNUMBER(AB61),AB61+AB61*(MAX(0,$G61-28))*1.5/100,"") | AF61: =IF(AE61="","",RANK(AE61,AE$3:AE$70,1)) | AG61: =IFERROR(IF(AF61="","",VLOOKUP(AF61,'Concordance Classmt & Points'!$A$2:$B$33,2,FALSE)),0) | AH61: =IF(ISNUMBER(AG61),AG61+AG61*(MAX(0,$G61-28))*1.5/100,"") | AK61: =IF(AJ61="","",RANK(AJ61,AJ$3:AJ$70,1)) | AL61: =IFERROR(IF(AK61="","",VLOOKUP(AK61,'Concordance Classmt & Points'!$A$2:$B$33,2,FALSE)),0) | AM61: =IF(ISNUMBER(AL61),AL61+AL61*(MAX(0,$G61-28))*1.5/100,"") | AP61: =IF(AO61="","",RANK(AO61,AO$3:AO$70,1)) | AQ61: =IFERROR(IF(AP61="","",VLOOKUP(AP61,'Concordance Classmt & Points'!$A$2:$B$33,2,FALSE)),0) | AR61: =IF(ISNUMBER(AQ61),AQ61+AQ61*(MAX(0,$G61-28))*1.5/100,"") | AU61: =IF(AT61="","",RANK(AT61,AT$3:AT$70,1)) | AV61: =IFERROR(IF(AU61="","",VLOOKUP(AU61,'Concordance Classmt & Points'!$A$2:$B$33,2,FALSE)),0) | AW61: =IF(ISNUMBER(AV61),AV61+AV61*(MAX(0,$G61-28))*1.5/100,"") | AZ61: =IF(AY61="","",RANK(AY61,AY$3:AY$70,1)) | BA61: =IFERROR(IF(AZ61="","",VLOOKUP(AZ61,'Concordance Classmt & Points'!$A$2:$B$33,2,FALSE)),0) | BB61: =IF(ISNUMBER(BA61),BA61+BA61*(MAX(0,$G61-28))*1.5/100,"") | BE61: =IF(BD61="","",RANK(BD61,BD$3:BD$70,1)) | BF61: =IFERROR(IF(BE61="","",VLOOKUP(BE61,'Concordance Classmt & Points'!$A$2:$B$33,2,FALSE)),0) | BG61: =IF(ISNUMBER(BF61),BF61+BF61*(MAX(0,$G61-28))*1.5/100,"") | BI61: =IF(COUNT(L61,R61,W61,AB61,AG61,AQ61,AL61,AV61,BA61,BF61),SUM(L61,R61,W61,AB61,AG61,AQ61,AL61,AV61,BA61,BF61),"-") -> 0 | BJ61: =IF(COUNT(M61,S61,X61,AC61,AH61,AM61,AR61,AW61,BB61,BG61),SUM(M61,S61,X61,AC61,AH61,AM61,AR61,AW61,BB61,BG61),"-") -> 0 | BK61: =IF(BJ61="-","",RANK(BJ61,BJ$3:BJ$70)) -> 54
A62: =IF(BJ62="-","",RANK(BJ62,BJ$3:BJ$70)) -> 54 | D62: Dayane | F62: 35117 | G62: =DATEDIF(F62,NOW(),"Y") -> 29 | J62: 5 | K62: =IF(J62="","",RANK(J62,J$3:J$70,0)) -> 35 | L62: =IFERROR(IF(K62="","",VLOOKUP(K62,'Concordance Classmt & Points'!$A$2:$B$33,2,FALSE)),0) -> 0 | M62: =IF(ISNUMBER(L62),L62+L62*(MAX(0,$G62-28))*1.5/100,"") -> 0 | O62: 5 | Q62: =IF(P62="","",RANK(P62,P$3:P$70,0)) | R62: =IFERROR(IF(Q62="","",VLOOKUP(Q62,'Concordance Classmt & Points'!$A$2:$B$33,2,FALSE)),0) | S62: =IF(ISNUMBER(R62),R62+R62*(MAX(0,$G62-28))*1.5/100,"") | V62: =IF(U62="","",RANK(U62,U$3:U$70,1)) | W62: =IFERROR(IF(V62="","",VLOOKUP(V62,'Concordance Classmt & Points'!$A$2:$B$33,2,FALSE)),0) | X62: =IF(ISNUMBER(W62),W62+W62*(MAX(0,$G62-28))*1.5/100,"") | AA62: =IF(Z62="","",RANK(Z62,Z$3:Z$70,1)) | AB62: =IFERROR(IF(AA62="","",VLOOKUP(AA62,'Concordance Classmt & Points'!$A$2:$B$33,2,FALSE)),0) | AC62: =IF(ISNUMBER(AB62),AB62+AB62*(MAX(0,$G62-28))*1.5/100,"") | AE62: 0.003630787 | AF62: =IF(AE62="","",RANK(AE62,AE$3:AE$70,1)) -> 34 | AG62: =IFERROR(IF(AF62="","",VLOOKUP(AF62,'Concordance Classmt & Points'!$A$2:$B$33,2,FALSE)),0) -> 0 | AH62: =IF(ISNUMBER(AG62),AG62+AG62*(MAX(0,$G62-28))*1.5/100,"") -> 0 | AJ62: 0.003630787 | AK62: =IF(AJ62="","",RANK(AJ62,AJ$3:AJ$70,1)) -> 34 | AL62: =IFERROR(IF(AK62="","",VLOOKUP(AK62,'Concordance Classmt & Points'!$A$2:$B$33,2,FALSE)),0) -> 0 | AM62: =IF(ISNUMBER(AL62),AL62+AL62*(MAX(0,$G62-28))*1.5/100,"") -> 0 | AP62: =IF(AO62="","",RANK(AO62,AO$3:AO$70,1)) | AQ62: =IFERROR(IF(AP62="","",VLOOKUP(AP62,'Concordance Classmt & Points'!$A$2:$B$33,2,FALSE)),0) | AR62: =IF(ISNUMBER(AQ62),AQ62+AQ62*(MAX(0,$G62-28))*1.5/100,"") | AU62: =IF(AT62="","",RANK(AT62,AT$3:AT$70,1)) | AV62: =IFERROR(IF(AU62="","",VLOOKUP(AU62,'Concordance Classmt & Points'!$A$2:$B$33,2,FALSE)),0) | AW62: =IF(ISNUMBER(AV62),AV62+AV62*(MAX(0,$G62-28))*1.5/100,"") | AZ62: =IF(AY62="","",RANK(AY62,AY$3:AY$70,1)) | BA62: =IFERROR(IF(AZ62="","",VLOOKUP(AZ62,'Concordance Classmt & Points'!$A$2:$B$33,2,FALSE)),0) | BB62: =IF(ISNUMBER(BA62),BA62+BA62*(MAX(0,$G62-28))*1.5/100,"") | BE62: =IF(BD62="","",RANK(BD62,BD$3:BD$70,1)) | BF62: =IFERROR(IF(BE62="","",VLOOKUP(BE62,'Concordance Classmt & Points'!$A$2:$B$33,2,FALSE)),0) | BG62: =IF(ISNUMBER(BF62),BF62+BF62*(MAX(0,$G62-28))*1.5/100,"") | BI62: =IF(COUNT(L62,R62,W62,AB62,AG62,AQ62,AL62,AV62,BA62,BF62),SUM(L62,R62,W62,AB62,AG62,AQ62,AL62,AV62,BA62,BF62),"-") -> 0 | BJ62: =IF(COUNT(M62,S62,X62,AC62,AH62,AM62,AR62,AW62,BB62,BG62),SUM(M62,S62,X62,AC62,AH62,AM62,AR62,AW62,BB62,BG62),"-") -> 0 | BK62: =IF(BJ62="-","",RANK(BJ62,BJ$3:BJ$70)) -> 54
A63: =IF(BJ63="-","",RANK(BJ63,BJ$3:BJ$70)) -> 54 | D63: Demba | F63: 37658 | G63: =DATEDIF(F63,NOW(),"Y") -> 22 | J63: 5 | K63: =IF(J63="","",RANK(J63,J$3:J$70,0)) -> 35 | L63: =IFERROR(IF(K63="","",VLOOKUP(K63,'Concordance Classmt & Points'!$A$2:$B$33,2,FALSE)),0) -> 0 | M63: =IF(ISNUMBER(L63),L63+L63*(MAX(0,$G63-28))*1.5/100,"") -> 0 | O63: 5 | Q63: =IF(P63="","",RANK(P63,P$3:P$70,0)) | R63: =IFERROR(IF(Q63="","",VLOOKUP(Q63,'Concordance Classmt & Points'!$A$2:$B$33,2,FALSE)),0) | S63: =IF(ISNUMBER(R63),R63+R63*(MAX(0,$G63-28))*1.5/100,"") | V63: =IF(U63="","",RANK(U63,U$3:U$70,1)) | W63: =IFERROR(IF(V63="","",VLOOKUP(V63,'Concordance Classmt & Points'!$A$2:$B$33,2,FALSE)),0) | X63: =IF(ISNUMBER(W63),W63+W63*(MAX(0,$G63-28))*1.5/100,"") | AA63: =IF(Z63="","",RANK(Z63,Z$3:Z$70,1)) | AB63: =IFERROR(IF(AA63="","",VLOOKUP(AA63,'Concordance Classmt & Points'!$A$2:$B$33,2,FALSE)),0) | AC63: =IF(ISNUMBER(AB63),AB63+AB63*(MAX(0,$G63-28))*1.5/100,"") | AH63: =IF(ISNUMBER(AG63),AG63+AG63*(MAX(0,$G63-28))*1.5/100,"") | AM63: =IF(ISNUMBER(AL63),AL63+AL63*(MAX(0,$G63-28))*1.5/100,"") | AP63: =IF(AO63="","",RANK(AO63,AO$3:AO$70,1)) | AQ63: =IFERROR(IF(AP63="","",VLOOKUP(AP63,'Concordance Classmt & Points'!$A$2:$B$33,2,FALSE)),0) | AR63: =IF(ISNUMBER(AQ63),AQ63+AQ63*(MAX(0,$G63-28))*1.5/100,"") | AU63: =IF(AT63="","",RANK(AT63,AT$3:AT$70,1)) | AV63: =IFERROR(IF(AU63="","",VLOOKUP(AU63,'Concordance Classmt & Points'!$A$2:$B$33,2,FALSE)),0) | AW63: =IF(ISNUMBER(AV63),AV63+AV63*(MAX(0,$G63-28))*1.5/100,"") | AZ63: =IF(AY63="","",RANK(AY63,AY$3:AY$70,1)) | BA63: =IFERROR(IF(AZ63="","",VLOOKUP(AZ63,'Concordance Classmt & Points'!$A$2:$B$33,2,FALSE)),0) | BB63: =IF(ISNUMBER(BA63),BA63+BA63*(MAX(0,$G63-28))*1.5/100,"") | BE63: =IF(BD63="","",RANK(BD63,BD$3:BD$70,1)) | BF63: =IFERROR(IF(BE63="","",VLOOKUP(BE63,'Concordance Classmt & Points'!$A$2:$B$33,2,FALSE)),0) | BG63: =IF(ISNUMBER(BF63),BF63+BF63*(MAX(0,$G63-28))*1.5/100,"") | BI63: =IF(COUNT(L63,R63,W63,AB63,AG63,AQ63,AL63,AV63,BA63,BF63),SUM(L63,R63,W63,AB63,AG63,AQ63,AL63,AV63,BA63,BF63),"-") -> 0 | BJ63: =IF(COUNT(M63,S63,X63,AC63,AH63,AM63,AR63,AW63,BB63,BG63),SUM(M63,S63,X63,AC63,AH63,AM63,AR63,AW63,BB63,BG63),"-") -> 0 | BK63: =IF(BJ63="-","",RANK(BJ63,BJ$3:BJ$70)) -> 54
A64: =IF(BJ64="-","",RANK(BJ64,BJ$3:BJ$70)) -> 54 | D64: Djedal | F64: 36182 | G64: =DATEDIF(F64,NOW(),"Y") -> 26 | J64: 5 | K64: =IF(J64="","",RANK(J64,J$3:J$70,0)) -> 35 | L64: =IFERROR(IF(K64="","",VLOOKUP(K64,'Concordance Classmt & Points'!$A$2:$B$33,2,FALSE)),0) -> 0 | M64: =IF(ISNUMBER(L64),L64+L64*(MAX(0,$G64-28))*1.5/100,"") -> 0 | O64: 5 | Q64: =IF(P64="","",RANK(P64,P$3:P$70,0)) | R64: =IFERROR(IF(Q64="","",VLOOKUP(Q64,'Concordance Classmt & Points'!$A$2:$B$33,2,FALSE)),0) | S64: =IF(ISNUMBER(R64),R64+R64*(MAX(0,$G64-28))*1.5/100,"") | V64: =IF(U64="","",RANK(U64,U$3:U$70,1)) | W64: =IFERROR(IF(V64="","",VLOOKUP(V64,'Concordance Classmt & Points'!$A$2:$B$33,2,FALSE)),0) | X64: =IF(ISNUMBER(W64),W64+W64*(MAX(0,$G64-28))*1.5/100,"") | AA64: =IF(Z64="","",RANK(Z64,Z$3:Z$70,1)) | AB64: =IFERROR(IF(AA64="","",VLOOKUP(AA64,'Concordance Classmt & Points'!$A$2:$B$33,2,FALSE)),0) | AC64: =IF(ISNUMBER(AB64),AB64+AB64*(MAX(0,$G64-28))*1.5/100,"") | AF64: =IF(AE64="","",RANK(AE64,AE$3:AE$70,1)) | AG64: =IFERROR(IF(AF64="","",VLOOKUP(AF64,'Concordance Classmt & Points'!$A$2:$B$33,2,FALSE)),0) | AH64: =IF(ISNUMBER(AG64),AG64+AG64*(MAX(0,$G64-28))*1.5/100,"") | AK64: =IF(AJ64="","",RANK(AJ64,AJ$3:AJ$70,1)) | AL64: =IFERROR(IF(AK64="","",VLOOKUP(AK64,'Concordance Classmt & Points'!$A$2:$B$33,2,FALSE)),0) | AM64: =IF(ISNUMBER(AL64),AL64+AL64*(MAX(0,$G64-28))*1.5/100,"") | AP64: =IF(AO64="","",RANK(AO64,AO$3:AO$70,1)) | AQ64: =IFERROR(IF(AP64="","",VLOOKUP(AP64,'Concordance Classmt & Points'!$A$2:$B$33,2,FALSE)),0) | AR64: =IF(ISNUMBER(AQ64),AQ64+AQ64*(MAX(0,$G64-28))*1.5/100,"") | AU64: =IF(AT64="","",RANK(AT64,AT$3:AT$70,1)) | AV64: =IFERROR(IF(AU64="","",VLOOKUP(AU64,'Concordance Classmt & Points'!$A$2:$B$33,2,FALSE)),0) | AW64: =IF(ISNUMBER(AV64),AV64+AV64*(MAX(0,$G64-28))*1.5/100,"") | AZ64: =IF(AY64="","",RANK(AY64,AY$3:AY$70,1)) | BA64: =IFERROR(IF(AZ64="","",VLOOKUP(AZ64,'Concordance Classmt & Points'!$A$2:$B$33,2,FALSE)),0) | BB64: =IF(ISNUMBER(BA64),BA64+BA64*(MAX(0,$G64-28))*1.5/100,"") | BE64: =IF(BD64="","",RANK(BD64,BD$3:BD$70,1)) | BF64: =IFERROR(IF(BE64="","",VLOOKUP(BE64,'Concordance Classmt & Points'!$A$2:$B$33,2,FALSE)),0) | BG64: =IF(ISNUMBER(BF64),BF64+BF64*(MAX(0,$G64-28))*1.5/100,"") | BI64: =IF(COUNT(L64,R64,W64,AB64,AG64,AQ64,AL64,AV64,BA64,BF64),SUM(L64,R64,W64,AB64,AG64,AQ64,AL64,AV64,BA64,BF64),"-") -> 0 | BJ64: =IF(COUNT(M64,S64,X64,AC64,AH64,AM64,AR64,AW64,BB64,BG64),SUM(M64,S64,X64,AC64,AH64,AM64,AR64,AW64,BB64,BG64),"-") -> 0 | BK64: =IF(BJ64="-","",RANK(BJ64,BJ$3:BJ$70)) -> 54
A65: =IF(BJ65="-","",RANK(BJ65,BJ$3:BJ$70)) -> 54 | D65: Amanda | F65: 33797 | G65: =DATEDIF(F65,NOW(),"Y") -> 32 | J65: 5 | K65: =IF(J65="","",RANK(J65,J$3:J$70,0)) -> 35 | L65: =IFERROR(IF(K65="","",VLOOKUP(K65,'Concordance Classmt & Points'!$A$2:$B$33,2,FALSE)),0) -> 0 | M65: =IF(ISNUMBER(L65),L65+L65*(MAX(0,$G65-28))*1.5/100,"") -> 0 | O65: 5 | Q65: =IF(P65="","",RANK(P65,P$3:P$70,0)) | R65: =IFERROR(IF(Q65="","",VLOOKUP(Q65,'Concordance Classmt & Points'!$A$2:$B$33,2,FALSE)),0) | S65: =IF(ISNUMBER(R65),R65+R65*(MAX(0,$G65-28))*1.5/100,"") | V65: =IF(U65="","",RANK(U65,U$3:U$70,1)) | W65: =IFERROR(IF(V65="","",VLOOKUP(V65,'Concordance Classmt & Points'!$A$2:$B$33,2,FALSE)),0) | X65: =IF(ISNUMBER(W65),W65+W65*(MAX(0,$G65-28))*1.5/100,"") | AA65: =IF(Z65="","",RANK(Z65,Z$3:Z$70,1)) | AB65: =IFERROR(IF(AA65="","",VLOOKUP(AA65,'Concordance Classmt & Points'!$A$2:$B$33,2,FALSE)),0) | AC65: =IF(ISNUMBER(AB65),AB65+AB65*(MAX(0,$G65-28))*1.5/100,"") | AE65: 0.0037372685 | AF65: =IF(AE65="","",RANK(AE65,AE$3:AE$70,1)) -> 38 | AG65: =IFERROR(IF(AF65="","",VLOOKUP(AF65,'Concordance Classmt & Points'!$A$2:$B$33,2,FALSE)),0) -> 0 | AH65: =IF(ISNUMBER(AG65),AG65+AG65*(MAX(0,$G65-28))*1.5/100,"") -> 0 | AJ65: 0.0037372685 | AK65: =IF(AJ65="","",RANK(AJ65,AJ$3:AJ$70,1)) -> 38 | AL65: =IFERROR(IF(AK65="","",VLOOKUP(AK65,'Concordance Classmt & Points'!$A$2:$B$33,2,FALSE)),0) -> 0 | AM65: =IF(ISNUMBER(AL65),AL65+AL65*(MAX(0,$G65-28))*1.5/100,"") -> 0 | AP65: =IF(AO65="","",RANK(AO65,AO$3:AO$70,1)) | AQ65: =IFERROR(IF(AP65="","",VLOOKUP(AP65,'Concordance Classmt & Points'!$A$2:$B$33,2,FALSE)),0) | AR65: =IF(ISNUMBER(AQ65),AQ65+AQ65*(MAX(0,$G65-28))*1.5/100,"") | AU65: =IF(AT65="","",RANK(AT65,AT$3:AT$70,1)) | AV65: =IFERROR(IF(AU65="","",VLOOKUP(AU65,'Concordance Classmt & Points'!$A$2:$B$33,2,FALSE)),0) | AW65: =IF(ISNUMBER(AV65),AV65+AV65*(MAX(0,$G65-28))*1.5/100,"") | AZ65: =IF(AY65="","",RANK(AY65,AY$3:AY$70,1)) | BA65: =IFERROR(IF(AZ65="","",VLOOKUP(AZ65,'Concordance Classmt & Points'!$A$2:$B$33,2,FALSE)),0) | BB65: =IF(ISNUMBER(BA65),BA65+BA65*(MAX(0,$G65-28))*1.5/100,"") | BE65: =IF(BD65="","",RANK(BD65,BD$3:BD$70,1)) | BF65: =IFERROR(IF(BE65="","",VLOOKUP(BE65,'Concordance Classmt & Points'!$A$2:$B$33,2,FALSE)),0) | BG65: =IF(ISNUMBER(BF65),BF65+BF65*(MAX(0,$G65-28))*1.5/100,"") | BI65: =IF(COUNT(L65,R65,W65,AB65,AG65,AQ65,AL65,AV65,BA65,BF65),SUM(L65,R65,W65,AB65,AG65,AQ65,AL65,AV65,BA65,BF65),"-") -> 0 | BJ65: =IF(COUNT(M65,S65,X65,AC65,AH65,AM65,AR65,AW65,BB65,BG65),SUM(M65,S65,X65,AC65,AH65,AM65,AR65,AW65,BB65,BG65),"-") -> 0 | BK65: =IF(BJ65="-","",RANK(BJ65,BJ$3:BJ$70)) -> 54
A66: =IF(BJ66="-","",RANK(BJ66,BJ$3:BJ$70)) -> 54 | D66: Nasser | F66: 36188 | G66: =DATEDIF(F66,NOW(),"Y") -> 26 | J66: 3 | K66: =IF(J66="","",RANK(J66,J$3:J$70,0)) -> 47 | L66: =IFERROR(IF(K66="","",VLOOKUP(K66,'Concordance Classmt & Points'!$A$2:$B$33,2,FALSE)),0) -> 0 | M66: =IF(ISNUMBER(L66),L66+L66*(MAX(0,$G66-28))*1.5/100,"") -> 0 | O66: 3 | Q66: =IF(P66="","",RANK(P66,P$3:P$70,0)) | R66: =IFERROR(IF(Q66="","",VLOOKUP(Q66,'Concordance Classmt & Points'!$A$2:$B$33,2,FALSE)),0) | S66: =IF(ISNUMBER(R66),R66+R66*(MAX(0,$G66-28))*1.5/100,"") | V66: =IF(U66="","",RANK(U66,U$3:U$70,1)) | W66: =IFERROR(IF(V66="","",VLOOKUP(V66,'Concordance Classmt & Points'!$A$2:$B$33,2,FALSE)),0) | X66: =IF(ISNUMBER(W66),W66+W66*(MAX(0,$G66-28))*1.5/100,"") | AA66: =IF(Z66="","",RANK(Z66,Z$3:Z$70,1)) | AB66: =IFERROR(IF(AA66="","",VLOOKUP(AA66,'Concordance Classmt & Points'!$A$2:$B$33,2,FALSE)),0) | AC66: =IF(ISNUMBER(AB66),AB66+AB66*(MAX(0,$G66-28))*1.5/100,"") | AF66: =IF(AE66="","",RANK(AE66,AE$3:AE$70,1)) | AG66: =IFERROR(IF(AF66="","",VLOOKUP(AF66,'Concordance Classmt & Points'!$A$2:$B$33,2,FALSE)),0) | AH66: =IF(ISNUMBER(AG66),AG66+AG66*(MAX(0,$G66-28))*1.5/100,"") | AK66: =IF(AJ66="","",RANK(AJ66,AJ$3:AJ$70,1)) | AL66: =IFERROR(IF(AK66="","",VLOOKUP(AK66,'Concordance Classmt & Points'!$A$2:$B$33,2,FALSE)),0) | AM66: =IF(ISNUMBER(AL66),AL66+AL66*(MAX(0,$G66-28))*1.5/100,"") | AP66: =IF(AO66="","",RANK(AO66,AO$3:AO$70,1)) | AQ66: =IFERROR(IF(AP66="","",VLOOKUP(AP66,'Concordance Classmt & Points'!$A$2:$B$33,2,FALSE)),0) | AR66: =IF(ISNUMBER(AQ66),AQ66+AQ66*(MAX(0,$G66-28))*1.5/100,"") | AU66: =IF(AT66="","",RANK(AT66,AT$3:AT$70,1)) | AV66: =IFERROR(IF(AU66="","",VLOOKUP(AU66,'Concordance Classmt & Points'!$A$2:$B$33,2,FALSE)),0) | AW66: =IF(ISNUMBER(AV66),AV66+AV66*(MAX(0,$G66-28))*1.5/100,"") | AZ66: =IF(AY66="","",RANK(AY66,AY$3:AY$70,1)) | BA66: =IFERROR(IF(AZ66="","",VLOOKUP(AZ66,'Concordance Classmt & Points'!$A$2:$B$33,2,FALSE)),0) | BB66: =IF(ISNUMBER(BA66),BA66+BA66*(MAX(0,$G66-28))*1.5/100,"") | BE66: =IF(BD66="","",RANK(BD66,BD$3:BD$70,1)) | BF66: =IFERROR(IF(BE66="","",VLOOKUP(BE66,'Concordance Classmt & Points'!$A$2:$B$33,2,FALSE)),0) | BG66: =IF(ISNUMBER(BF66),BF66+BF66*(MAX(0,$G66-28))*1.5/100,"") | BI66: =IF(COUNT(L66,R66,W66,AB66,AG66,AQ66,AL66,AV66,BA66,BF66),SUM(L66,R66,W66,AB66,AG66,AQ66,AL66,AV66,BA66,BF66),"-") -> 0 | BJ66: =IF(COUNT(M66,S66,X66,AC66,AH66,AM66,AR66,AW66,BB66,BG66),SUM(M66,S66,X66,AC66,AH66,AM66,AR66,AW66,BB66,BG66),"-") -> 0 | BK66: =IF(BJ66="-","",RANK(BJ66,BJ$3:BJ$70)) -> 54
A67: =IF(BJ67="-","",RANK(BJ67,BJ$3:BJ$70)) -> 54 | D67: Tatiana | F67: 36350 | G67: =DATEDIF(F67,NOW(),"Y") -> 25 | J67: 3 | K67: =IF(J67="","",RANK(J67,J$3:J$70,0)) -> 47 | L67: =IFERROR(IF(K67="","",VLOOKUP(K67,'Concordance Classmt & Points'!$A$2:$B$33,2,FALSE)),0) -> 0 | M67: =IF(ISNUMBER(L67),L67+L67*(MAX(0,$G67-28))*1.5/100,"") -> 0 | O67: 3 | Q67: =IF(P67="","",RANK(P67,P$3:P$70,0)) | R67: =IFERROR(IF(Q67="","",VLOOKUP(Q67,'Concordance Classmt & Points'!$A$2:$B$33,2,FALSE)),0) | S67: =IF(ISNUMBER(R67),R67+R67*(MAX(0,$G67-28))*1.5/100,"") | V67: =IF(U67="","",RANK(U67,U$3:U$70,1)) | W67: =IFERROR(IF(V67="","",VLOOKUP(V67,'Concordance Classmt & Points'!$A$2:$B$33,2,FALSE)),0) | X67: =IF(ISNUMBER(W67),W67+W67*(MAX(0,$G67-28))*1.5/100,"") | AA67: =IF(Z67="","",RANK(Z67,Z$3:Z$70,1)) | AB67: =IFERROR(IF(AA67="","",VLOOKUP(AA67,'Concordance Classmt & Points'!$A$2:$B$33,2,FALSE)),0) | AC67: =IF(ISNUMBER(AB67),AB67+AB67*(MAX(0,$G67-28))*1.5/100,"") | AE67: 0.0035925926 | AF67: =IF(AE67="","",RANK(AE67,AE$3:AE$70,1)) -> 33 | AG67: =IFERROR(IF(AF67="","",VLOOKUP(AF67,'Concordance Classmt & Points'!$A$2:$B$33,2,FALSE)),0) -> 0 | AH67: =IF(ISNUMBER(AG67),AG67+AG67*(MAX(0,$G67-28))*1.5/100,"") -> 0 | AJ67: 0.0035925926 | AK67: =IF(AJ67="","",RANK(AJ67,AJ$3:AJ$70,1)) -> 33 | AL67: =IFERROR(IF(AK67="","",VLOOKUP(AK67,'Concordance Classmt & Points'!$A$2:$B$33,2,FALSE)),0) -> 0 | AM67: =IF(ISNUMBER(AL67),AL67+AL67*(MAX(0,$G67-28))*1.5/100,"") -> 0 | AP67: =IF(AO67="","",RANK(AO67,AO$3:AO$70,1)) | AQ67: =IFERROR(IF(AP67="","",VLOOKUP(AP67,'Concordance Classmt & Points'!$A$2:$B$33,2,FALSE)),0) | AR67: =IF(ISNUMBER(AQ67),AQ67+AQ67*(MAX(0,$G67-28))*1.5/100,"") | AU67: =IF(AT67="","",RANK(AT67,AT$3:AT$70,1)) | AV67: =IFERROR(IF(AU67="","",VLOOKUP(AU67,'Concordance Classmt & Points'!$A$2:$B$33,2,FALSE)),0) | AW67: =IF(ISNUMBER(AV67),AV67+AV67*(MAX(0,$G67-28))*1.5/100,"") | AZ67: =IF(AY67="","",RANK(AY67,AY$3:AY$70,1)) | BA67: =IFERROR(IF(AZ67="","",VLOOKUP(AZ67,'Concordance Classmt & Points'!$A$2:$B$33,2,FALSE)),0) | BB67: =IF(ISNUMBER(BA67),BA67+BA67*(MAX(0,$G67-28))*1.5/100,"") | BE67: =IF(BD67="","",RANK(BD67,BD$3:BD$70,1)) | BF67: =IFERROR(IF(BE67="","",VLOOKUP(BE67,'Concordance Classmt & Points'!$A$2:$B$33,2,FALSE)),0) | BG67: =IF(ISNUMBER(BF67),BF67+BF67*(MAX(0,$G67-28))*1.5/100,"") | BI67: =IF(COUNT(L67,R67,W67,AB67,AG67,AQ67,AL67,AV67,BA67,BF67),SUM(L67,R67,W67,AB67,AG67,AQ67,AL67,AV67,BA67,BF67),"-") -> 0 | BJ67: =IF(COUNT(M67,S67,X67,AC67,AH67,AM67,AR67,AW67,BB67,BG67),SUM(M67,S67,X67,AC67,AH67,AM67,AR67,AW67,BB67,BG67),"-") -> 0 | BK67: =IF(BJ67="-","",RANK(BJ67,BJ$3:BJ$70)) -> 54
A68: =IF(BJ68="-","",RANK(BJ68,BJ$3:BJ$70)) -> 54 | D68: Rami | F68: 35665 | G68: =DATEDIF(F68,NOW(),"Y") -> 27 | J68: 3 | K68: =IF(J68="","",RANK(J68,J$3:J$70,0)) -> 47 | L68: =IFERROR(IF(K68="","",VLOOKUP(K68,'Concordance Classmt & Points'!$A$2:$B$33,2,FALSE)),0) -> 0 | M68: =IF(ISNUMBER(L68),L68+L68*(MAX(0,$G68-28))*1.5/100,"") -> 0 | O68: 3 | Q68: =IF(P68="","",RANK(P68,P$3:P$70,0)) | R68: =IFERROR(IF(Q68="","",VLOOKUP(Q68,'Concordance Classmt & Points'!$A$2:$B$33,2,FALSE)),0) | S68: =IF(ISNUMBER(R68),R68+R68*(MAX(0,$G68-28))*1.5/100,"") | V68: =IF(U68="","",RANK(U68,U$3:U$70,1)) | W68: =IFERROR(IF(V68="","",VLOOKUP(V68,'Concordance Classmt & Points'!$A$2:$B$33,2,FALSE)),0) | X68: =IF(ISNUMBER(W68),W68+W68*(MAX(0,$G68-28))*1.5/100,"") | AA68: =IF(Z68="","",RANK(Z68,Z$3:Z$70,1)) | AB68: =IFERROR(IF(AA68="","",VLOOKUP(AA68,'Concordance Classmt & Points'!$A$2:$B$33,2,FALSE)),0) | AC68: =IF(ISNUMBER(AB68),AB68+AB68*(MAX(0,$G68-28))*1.5/100,"") | AF68: =IF(AE68="","",RANK(AE68,AE$3:AE$70,1)) | AG68: =IFERROR(IF(AF68="","",VLOOKUP(AF68,'Concordance Classmt & Points'!$A$2:$B$33,2,FALSE)),0) | AH68: =IF(ISNUMBER(AG68),AG68+AG68*(MAX(0,$G68-28))*1.5/100,"") | AK68: =IF(AJ68="","",RANK(AJ68,AJ$3:AJ$70,1)) | AL68: =IFERROR(IF(AK68="","",VLOOKUP(AK68,'Concordance Classmt & Points'!$A$2:$B$33,2,FALSE)),0) | AM68: =IF(ISNUMBER(AL68),AL68+AL68*(MAX(0,$G68-28))*1.5/100,"") | AP68: =IF(AO68="","",RANK(AO68,AO$3:AO$70,1)) | AQ68: =IFERROR(IF(AP68="","",VLOOKUP(AP68,'Concordance Classmt & Points'!$A$2:$B$33,2,FALSE)),0) | AR68: =IF(ISNUMBER(AQ68),AQ68+AQ68*(MAX(0,$G68-28))*1.5/100,"") | AU68: =IF(AT68="","",RANK(AT68,AT$3:AT$70,1)) | AV68: =IFERROR(IF(AU68="","",VLOOKUP(AU68,'Concordance Classmt & Points'!$A$2:$B$33,2,FALSE)),0) | AW68: =IF(ISNUMBER(AV68),AV68+AV68*(MAX(0,$G68-28))*1.5/100,"") | AZ68: =IF(AY68="","",RANK(AY68,AY$3:AY$70,1)) | BA68: =IFERROR(IF(AZ68="","",VLOOKUP(AZ68,'Concordance Classmt & Points'!$A$2:$B$33,2,FALSE)),0) | BB68: =IF(ISNUMBER(BA68),BA68+BA68*(MAX(0,$G68-28))*1.5/100,"") | BE68: =IF(BD68="","",RANK(BD68,BD$3:BD$70,1)) | BF68: =IFERROR(IF(BE68="","",VLOOKUP(BE68,'Concordance Classmt & Points'!$A$2:$B$33,2,FALSE)),0) | BG68: =IF(ISNUMBER(BF68),BF68+BF68*(MAX(0,$G68-28))*1.5/100,"") | BI68: =IF(COUNT(L68,R68,W68,AB68,AG68,AQ68,AL68,AV68,BA68,BF68),SUM(L68,R68,W68,AB68,AG68,AQ68,AL68,AV68,BA68,BF68),"-") -> 0 | BJ68: =IF(COUNT(M68,S68,X68,AC68,AH68,AM68,AR68,AW68,BB68,BG68),SUM(M68,S68,X68,AC68,AH68,AM68,AR68,AW68,BB68,BG68),"-") -> 0 | BK68: =IF(BJ68="-","",RANK(BJ68,BJ$3:BJ$70)) -> 54
A69: =IF(BJ69="-","",RANK(BJ69,BJ$3:BJ$70)) -> 54 | D69: Kimberley | F69: 36942 | G69: =DATEDIF(F69,NOW(),"Y") -> 24 | J69: 2 | K69: =IF(J69="","",RANK(J69,J$3:J$70,0)) -> 50 | L69: =IFERROR(IF(K69="","",VLOOKUP(K69,'Concordance Classmt & Points'!$A$2:$B$33,2,FALSE)),0) -> 0 | M69: =IF(ISNUMBER(L69),L69+L69*(MAX(0,$G69-28))*1.5/100,"") -> 0 | O69: 2 | Q69: =IF(P69="","",RANK(P69,P$3:P$70,0)) | R69: =IFERROR(IF(Q69="","",VLOOKUP(Q69,'Concordance Classmt & Points'!$A$2:$B$33,2,FALSE)),0) | S69: =IF(ISNUMBER(R69),R69+R69*(MAX(0,$G69-28))*1.5/100,"") | V69: =IF(U69="","",RANK(U69,U$3:U$70,1)) | W69: =IFERROR(IF(V69="","",VLOOKUP(V69,'Concordance Classmt & Points'!$A$2:$B$33,2,FALSE)),0) | X69: =IF(ISNUMBER(W69),W69+W69*(MAX(0,$G69-28))*1.5/100,"") | AA69: =IF(Z69="","",RANK(Z69,Z$3:Z$70,1)) | AB69: =IFERROR(IF(AA69="","",VLOOKUP(AA69,'Concordance Classmt & Points'!$A$2:$B$33,2,FALSE)),0) | AC69: =IF(ISNUMBER(AB69),AB69+AB69*(MAX(0,$G69-28))*1.5/100,"") | AF69: =IF(AE69="","",RANK(AE69,AE$3:AE$70,1)) | AG69: =IFERROR(IF(AF69="","",VLOOKUP(AF69,'Concordance Classmt & Points'!$A$2:$B$33,2,FALSE)),0) | AH69: =IF(ISNUMBER(AG69),AG69+AG69*(MAX(0,$G69-28))*1.5/100,"") | AK69: =IF(AJ69="","",RANK(AJ69,AJ$3:AJ$70,1)) | AL69: =IFERROR(IF(AK69="","",VLOOKUP(AK69,'Concordance Classmt & Points'!$A$2:$B$33,2,FALSE)),0) | AM69: =IF(ISNUMBER(AL69),AL69+AL69*(MAX(0,$G69-28))*1.5/100,"") | AP69: =IF(AO69="","",RANK(AO69,AO$3:AO$70,1)) | AQ69: =IFERROR(IF(AP69="","",VLOOKUP(AP69,'Concordance Classmt & Points'!$A$2:$B$33,2,FALSE)),0) | AR69: =IF(ISNUMBER(AQ69),AQ69+AQ69*(MAX(0,$G69-28))*1.5/100,"") | AU69: =IF(AT69="","",RANK(AT69,AT$3:AT$70,1)) | AV69: =IFERROR(IF(AU69="","",VLOOKUP(AU69,'Concordance Classmt & Points'!$A$2:$B$33,2,FALSE)),0) | AW69: =IF(ISNUMBER(AV69),AV69+AV69*(MAX(0,$G69-28))*1.5/100,"") | AZ69: =IF(AY69="","",RANK(AY69,AY$3:AY$70,1)) | BA69: =IFERROR(IF(AZ69="","",VLOOKUP(AZ69,'Concordance Classmt & Points'!$A$2:$B$33,2,FALSE)),0) | BB69: =IF(ISNUMBER(BA69),BA69+BA69*(MAX(0,$G69-28))*1.5/100,"") | BE69: =IF(BD69="","",RANK(BD69,BD$3:BD$70,1)) | BF69: =IFERROR(IF(BE69="","",VLOOKUP(BE69,'Concordance Classmt & Points'!$A$2:$B$33,2,FALSE)),0) | BG69: =IF(ISNUMBER(BF69),BF69+BF69*(MAX(0,$G69-28))*1.5/100,"") | BI69: =IF(COUNT(L69,R69,W69,AB69,AG69,AQ69,AL69,AV69,BA69,BF69),SUM(L69,R69,W69,AB69,AG69,AQ69,AL69,AV69,BA69,BF69),"-") -> 0 | BJ69: =IF(COUNT(M69,S69,X69,AC69,AH69,AM69,AR69,AW69,BB69,BG69),SUM(M69,S69,X69,AC69,AH69,AM69,AR69,AW69,BB69,BG69),"-") -> 0 | BK69: =IF(BJ69="-","",RANK(BJ69,BJ$3:BJ$70)) -> 54
A70: =IF(BJ70="-","",RANK(BJ70,BJ$3:BJ$70)) -> 54 | D70: Papa-Cheikh | F70: 33416 | G70: =DATEDIF(F70,NOW(),"Y") -> 33 | J70: 2 | K70: =IF(J70="","",RANK(J70,J$3:J$70,0)) -> 50 | L70: =IFERROR(IF(K70="","",VLOOKUP(K70,'Concordance Classmt & Points'!$A$2:$B$33,2,FALSE)),0) -> 0 | M70: =IF(ISNUMBER(L70),L70+L70*(MAX(0,$G70-28))*1.5/100,"") -> 0 | O70: 2 | Q70: =IF(P70="","",RANK(P70,P$3:P$70,0)) | R70: =IFERROR(IF(Q70="","",VLOOKUP(Q70,'Concordance Classmt & Points'!$A$2:$B$33,2,FALSE)),0) | S70: =IF(ISNUMBER(R70),R70+R70*(MAX(0,$G70-28))*1.5/100,"") | V70: =IF(U70="","",RANK(U70,U$3:U$70,1)) | W70: =IFERROR(IF(V70="","",VLOOKUP(V70,'Concordance Classmt & Points'!$A$2:$B$33,2,FALSE)),0) | X70: =IF(ISNUMBER(W70),W70+W70*(MAX(0,$G70-28))*1.5/100,"") | AA70: =IF(Z70="","",RANK(Z70,Z$3:Z$70,1)) | AB70: =IFERROR(IF(AA70="","",VLOOKUP(AA70,'Concordance Classmt & Points'!$A$2:$B$33,2,FALSE)),0) | AC70: =IF(ISNUMBER(AB70),AB70+AB70*(MAX(0,$G70-28))*1.5/100,"") | AF70: =IF(AE70="","",RANK(AE70,AE$3:AE$70,1)) | AG70: =IFERROR(IF(AF70="","",VLOOKUP(AF70,'Concordance Classmt & Points'!$A$2:$B$33,2,FALSE)),0) | AH70: =IF(ISNUMBER(AG70),AG70+AG70*(MAX(0,$G70-28))*1.5/100,"") | AK70: =IF(AJ70="","",RANK(AJ70,AJ$3:AJ$70,1)) | AL70: =IFERROR(IF(AK70="","",VLOOKUP(AK70,'Concordance Classmt & Points'!$A$2:$B$33,2,FALSE)),0) | AM70: =IF(ISNUMBER(AL70),AL70+AL70*(MAX(0,$G70-28))*1.5/100,"") | AP70: =IF(AO70="","",RANK(AO70,AO$3:AO$70,1)) | AQ70: =IFERROR(IF(AP70="","",VLOOKUP(AP70,'Concordance Classmt & Points'!$A$2:$B$33,2,FALSE)),0) | AR70: =IF(ISNUMBER(AQ70),AQ70+AQ70*(MAX(0,$G70-28))*1.5/100,"") | AU70: =IF(AT70="","",RANK(AT70,AT$3:AT$70,1)) | AV70: =IFERROR(IF(AU70="","",VLOOKUP(AU70,'Concordance Classmt & Points'!$A$2:$B$33,2,FALSE)),0) | AW70: =IF(ISNUMBER(AV70),AV70+AV70*(MAX(0,$G70-28))*1.5/100,"") | AZ70: =IF(AY70="","",RANK(AY70,AY$3:AY$70,1)) | BA70: =IFERROR(IF(AZ70="","",VLOOKUP(AZ70,'Concordance Classmt & Points'!$A$2:$B$33,2,FALSE)),0) | BB70: =IF(ISNUMBER(BA70),BA70+BA70*(MAX(0,$G70-28))*1.5/100,"") | BE70: =IF(BD70="","",RANK(BD70,BD$3:BD$70,1)) | BF70: =IFERROR(IF(BE70="","",VLOOKUP(BE70,'Concordance Classmt & Points'!$A$2:$B$33,2,FALSE)),0) | BG70: =IF(ISNUMBER(BF70),BF70+BF70*(MAX(0,$G70-28))*1.5/100,"") | BI70: =IF(COUNT(L70,R70,W70,AB70,AG70,AQ70,AL70,AV70,BA70,BF70),SUM(L70,R70,W70,AB70,AG70,AQ70,AL70,AV70,BA70,BF70),"-") -> 0 | BJ70: =IF(COUNT(M70,S70,X70,AC70,AH70,AM70,AR70,AW70,BB70,BG70),SUM(M70,S70,X70,AC70,AH70,AM70,AR70,AW70,BB70,BG70),"-") -> 0 | BK70: =IF(BJ70="-","",RANK(BJ70,BJ$3:BJ$70)) -> 54

Sheet Concordance Classmt & Points
A2: Classmt | B2: Points
A3: 1 | B3: 90
A4: 2 | B4: 75
A5: 3 | B5: 60
A6: 4 | B6: 50
A7: 5 | B7: 45
A8: 6 | B8: 40
A9: 7 | B9: 36
A10: 8 | B10: 34
A11: 9 | B11: 32
A12: 10 | B12: 31
A13: 11 | B13: 30
A14: 12 | B14: 29
... A33: 31 | B33: 0
