Workbook

Sheet Classement COURSES
A2: Clt | B2: Nom | C2: Prénom | D2: Age | E2: Rameur | F2: Clt | G2: Pts | H2: Pts âge | I2: Vélo | J2: Clt | K2: Pts | L2: Pts âge | M2: Sky-erg | N2: Clt | O2: Pts | P2: Pts âge | Q2: Pétanque | R2: Clt | S2: COEF | T2: Pts | U2: Pts âge | V2: Basket-ball | W2: Clt | X2: Pts | Y2: Pts âge | Z2: Totaux | AA2: Totaux âge | AB2: CLT
A3: =IF(AA3="-","",RANK(AA3,AA$3:AA$108)) -> 1 | B3: LOUISON | C3: Antony | D3: 27 | E3: 0.0022743056 | F3: =IF(E3="","",RANK(E3,E$3:E$108,1)) -> 2 | G3: =IFERROR(IF(F3="","",VLOOKUP(F3,'Concordance Classmt & Points'!$A$2:$B$32,2,FALSE)),0) -> 75 | H3: =IF(ISNUMBER(G3),G3+G3*(MAX(0,$D3-28))*2/100,"") -> 75 | I3: 0.0065393519 | J3: =IF(I3="","",RANK(I3,I$3:I$108,1)) -> 1 | K3: =IFERROR(IF(J3="","",VLOOKUP(J3,'Concordance Classmt & Points'!$A$2:$B$32,2,FALSE)),0) -> 90 | L3: =IF(ISNUMBER(K3),K3+K3*(MAX(0,$D3-28))*2/100,"") -> 90 | M3: 0.0052488426 | N3: =IF(M3="","",RANK(M3,M$3:M$108,1)) -> 1 | O3: =IFERROR(IF(N3="","",VLOOKUP(N3,'Concordance Classmt & Points'!$A$2:$B$32,2,FALSE)),0) -> 90 | P3: =IF(ISNUMBER(O3),O3+O3*(MAX(0,$D3-28))*2/100,"") -> 90 | Q3: 20 | R3: =IF(Q3="","",RANK(Q3,Q$3:Q$108,0)) -> 2 | S3: 1 | T3: =IFERROR(IF(R3="","",VLOOKUP(R3,'Concordance Classmt & Points'!$A$2:$B$32,2,FALSE)/S3),0) -> 75 | U3: =IF(ISNUMBER(T3),T3+T3*(MAX(0,$D3-28))*2/100,"") -> 75 | V3: 40 | W3: =IF(V3="","",RANK(V3,V$3:V$108,0)) -> 3 | X3: =IFERROR(IF(W3="","",VLOOKUP(W3,'Concordance Classmt & Points'!$A$2:$B$32,2,FALSE)),0) -> 60 | Y3: =IF(ISNUMBER(X3),X3+X3*(MAX(0,$D3-28))*2/100,"") -> 60 | Z3: =IF(COUNT(G3,K3,O3,T3,X3),SUM(G3,K3,O3,T3,X3),"-") -> 390 | AA3: =IF(COUNT(H3,L3,P3,U3,Y3),SUM(H3,L3,P3,U3,Y3),"-") -> 390 | AB3: =IF(AA3="-","",RANK(AA3,AA$3:AA$109)) -> 1
A4: =IF(AA4="-","",RANK(AA4,AA$3:AA$108)) -> 3 | B4: LOTAIRE | C4: Lilian | D4: 23 | E4: 0.0029586806 | F4: =IF(E4="","",RANK(E4,E$3:E$108,1)) -> 3 | G4: =IFERROR(IF(F4="","",VLOOKUP(F4,'Concordance Classmt & Points'!$A$2:$B$32,2,FALSE)),0) -> 60 | H4: =IF(ISNUMBER(G4),G4+G4*(MAX(0,$D4-28))*2/100,"") -> 60 | I4: 0.048206019 | J4: =IF(I4="","",RANK(I4,I$3:I$108,1)) -> 2 | K4: =IFERROR(IF(J4="","",VLOOKUP(J4,'Concordance Classmt & Points'!$A$2:$B$32,2,FALSE)),0) -> 75 | L4: =IF(ISNUMBER(K4),K4+K4*(MAX(0,$D4-28))*2/100,"") -> 75 | M4: 0.0065453704 | N4: =IF(M4="","",RANK(M4,M$3:M$108,1)) -> 3 | O4: =IFERROR(IF(N4="","",VLOOKUP(N4,'Concordance Classmt & Points'!$A$2:$B$32,2,FALSE)),0) -> 60 | P4: =IF(ISNUMBER(O4),O4+O4*(MAX(0,$D4-28))*2/100,"") -> 60 | Q4: 10 | R4: =IF(Q4="","",RANK(Q4,Q$3:Q$108,0)) -> 5 | S4: 2 | T4: =IFERROR(IF(R4="","",VLOOKUP(R4,'Concordance Classmt & Points'!$A$2:$B$32,2,FALSE)/S4),0) -> 22.5 | U4: =IF(ISNUMBER(T4),T4+T4*(MAX(0,$D4-28))*2/100,"") -> 22.5 | V4: 25 | W4: =IF(V4="","",RANK(V4,V$3:V$108,0)) -> 5 | X4: =IFERROR(IF(W4="","",VLOOKUP(W4,'Concordance Classmt & Points'!$A$2:$B$32,2,FALSE)),0) -> 45 | Y4: =IF(ISNUMBER(X4),X4+X4*(MAX(0,$D4-28))*2/100,"") -> 45 | Z4: =IF(COUNT(G4,K4,O4,T4,X4),SUM(G4,K4,O4,T4,X4),"-") -> 262.5 | AA4: =IF(COUNT(H4,L4,P4,U4,Y4),SUM(H4,L4,P4,U4,Y4),"-") -> 262.5 | AB4: =IF(AA4="-","",RANK(AA4,AA$3:AA$109)) -> 3
A5: =IF(AA5="-","",RANK(AA5,AA$3:AA$108)) -> 5 | B5: EL YAAGOUBI | C5: Samir | D5: 26 | E5: 0.0033825231 | F5: =IF(E5="","",RANK(E5,E$3:E$108,1)) -> 5 | G5: =IFERROR(IF(F5="","",VLOOKUP(F5,'Concordance Classmt & Points'!$A$2:$B$32,2,FALSE)),0) -> 45 | H5: =IF(ISNUMBER(G5),G5+G5*(MAX(0,$D5-28))*2/100,"") -> 45 | I5: 0.089872685 | J5: =IF(I5="","",RANK(I5,I$3:I$108,1)) -> 3 | K5: =IFERROR(IF(J5="","",VLOOKUP(J5,'Concordance Classmt & Points'!$A$2:$B$32,2,FALSE)),0) -> 60 | L5: =IF(ISNUMBER(K5),K5+K5*(MAX(0,$D5-28))*2/100,"") -> 60 | N5: =IF(M5="","",RANK(M5,M$3:M$108,1)) | O5: =IFERROR(IF(N5="","",VLOOKUP(N5,'Concordance Classmt & Points'!$A$2:$B$32,2,FALSE)),0) | P5: =IF(ISNUMBER(O5),O5+O5*(MAX(0,$D5-28))*2/100,"") | Q5: 25 | R5: =IF(Q5="","",RANK(Q5,Q$3:Q$108,0)) -> 1 | S5: 3 | T5: =IFERROR(IF(R5="","",VLOOKUP(R5,'Concordance Classmt & Points'!$A$2:$B$32,2,FALSE)/S5),0) -> 30 | U5: =IF(ISNUMBER(T5),T5+T5*(MAX(0,$D5-28))*2/100,"") -> 30 | V5: 42 | W5: =IF(V5="","",RANK(V5,V$3:V$108,0)) -> 1 | X5: =IFERROR(IF(W5="","",VLOOKUP(W5,'Concordance Classmt & Points'!$A$2:$B$32,2,FALSE)),0) -> 90 | Y5: =IF(ISNUMBER(X5),X5+X5*(MAX(0,$D5-28))*2/100,"") -> 90 | Z5: =IF(COUNT(G5,K5,O5,T5,X5),SUM(G5,K5,O5,T5,X5),"-") -> 225 | AA5: =IF(COUNT(H5,L5,P5,U5,Y5),SUM(H5,L5,P5,U5,Y5),"-") -> 225 | AB5: =IF(AA5="-","",RANK(AA5,AA$3:AA$109)) -> 5
A6: =IF(AA6="-","",RANK(AA6,AA$3:AA$108)) -> 4 | B6: MOUTAOUAKIL | C6: Mohammed | D6: 35 | E6: 0.0030466435 | F6: =IF(E6="","",RANK(E6,E$3:E$108,1)) -> 4 | G6: =IFERROR(IF(F6="","",VLOOKUP(F6,'Concordance Classmt & Points'!$A$2:$B$32,2,FALSE)),0) -> 50 | H6: =IF(ISNUMBER(G6),G6+G6*(MAX(0,$D6-28))*2/100,"") -> 57 | I6: 0.13153935 | J6: =IF(I6="","",RANK(I6,I$3:I$108,1)) -> 4 | K6: =IFERROR(IF(J6="","",VLOOKUP(J6,'Concordance Classmt & Points'!$A$2:$B$32,2,FALSE)),0) -> 50 | L6: =IF(ISNUMBER(K6),K6+K6*(MAX(0,$D6-28))*2/100,"") -> 57 | N6: =IF(M6="","",RANK(M6,M$3:M$108,1)) | O6: =IFERROR(IF(N6="","",VLOOKUP(N6,'Concordance Classmt & Points'!$A$2:$B$32,2,FALSE)),0) | P6: =IF(ISNUMBER(O6),O6+O6*(MAX(0,$D6-28))*2/100,"") | Q6: 17 | R6: =IF(Q6="","",RANK(Q6,Q$3:Q$108,0)) -> 3 | S6: 1 | T6: =IFERROR(IF(R6="","",VLOOKUP(R6,'Concordance Classmt & Points'!$A$2:$B$32,2,FALSE)/S6),0) -> 60 | U6: =IF(ISNUMBER(T6),T6+T6*(MAX(0,$D6-28))*2/100,"") -> 68.4 | V6: 36 | W6: =IF(V6="","",RANK(V6,V$3:V$108,0)) -> 4 | X6: =IFERROR(IF(W6="","",VLOOKUP(W6,'Concordance Classmt & Points'!$A$2:$B$32,2,FALSE)),0) -> 50 | Y6: =IF(ISNUMBER(X6),X6+X6*(MAX(0,$D6-28))*2/100,"") -> 57 | Z6: =IF(COUNT(G6,K6,O6,T6,X6),SUM(G6,K6,O6,T6,X6),"-") -> 210 | AA6: =IF(COUNT(H6,L6,P6,U6,Y6),SUM(H6,L6,P6,U6,Y6),"-") -> 239.4 | AB6: =IF(AA6="-","",RANK(AA6,AA$3:AA$109)) -> 4
A7: =IF(AA7="-","",RANK(AA7,AA$3:AA$108)) -> 2 | B7: GOMIS | C7: Joe | D7: 35 | E7: 0.0022699074 | F7: =IF(E7="","",RANK(E7,E$3:E$108,1)) -> 1 | G7: =IFERROR(IF(F7="","",VLOOKUP(F7,'Concordance Classmt & Points'!$A$2:$B$32,2,FALSE)),0) -> 90 | H7: =IF(ISNUMBER(G7),G7+G7*(MAX(0,$D7-28))*2/100,"") -> 102.6 | I7: 0.17320602 | J7: =IF(I7="","",RANK(I7,I$3:I$108,1)) -> 5 | K7: =IFERROR(IF(J7="","",VLOOKUP(J7,'Concordance Classmt & Points'!$A$2:$B$32,2,FALSE)),0) -> 45 | L7: =IF(ISNUMBER(K7),K7+K7*(MAX(0,$D7-28))*2/100,"") -> 51.3 | M7: 0.0058244213 | N7: =IF(M7="","",RANK(M7,M$3:M$108,1)) -> 2 | O7: =IFERROR(IF(N7="","",VLOOKUP(N7,'Concordance Classmt & Points'!$A$2:$B$32,2,FALSE)),0) -> 75 | P7: =IF(ISNUMBER(O7),O7+O7*(MAX(0,$D7-28))*2/100,"") -> 85.5 | Q7: 15 | R7: =IF(Q7="","",RANK(Q7,Q$3:Q$108,0)) -> 4 | S7: 1 | T7: =IFERROR(IF(R7="","",VLOOKUP(R7,'Concordance Classmt & Points'!$A$2:$B$32,2,FALSE)/S7),0) -> 50 | U7: =IF(ISNUMBER(T7),T7+T7*(MAX(0,$D7-28))*2/100,"") -> 57 | V7: 41 | W7: =IF(V7="","",RANK(V7,V$3:V$108,0)) -> 2 | X7: =IFERROR(IF(W7="","",VLOOKUP(W7,'Concordance Classmt & Points'!$A$2:$B$32,2,FALSE)),0) -> 75 | Y7: =IF(ISNUMBER(X7),X7+X7*(MAX(0,$D7-28))*2/100,"") -> 85.5 | Z7: =IF(COUNT(G7,K7,O7,T7,X7),SUM(G7,K7,O7,T7,X7),"-") -> 335 | AA7: =IF(COUNT(H7,L7,P7,U7,Y7),SUM(H7,L7,P7,U7,Y7),"-") -> 381.9 | AB7: =IF(AA7="-","",RANK(AA7,AA$3:AA$109)) -> 2
A8: =IF(AA8="-","",RANK(AA8,AA$3:AA$108)) -> 7 | B8: LATIL | C8: Thomas | D8: 24 | F8: =IF(E8="","",RANK(E8,E$3:E$108,1)) | G8: =IFERROR(IF(F8="","",VLOOKUP(F8,'Concordance Classmt & Points'!$A$2:$B$32,2,FALSE)),0) | H8: =IF(ISNUMBER(G8),G8+G8*(MAX(0,$D8-28))*2/100,"") | I8: 0.21487269 | J8: =IF(I8="","",RANK(I8,I$3:I$108,1)) -> 6 | K8: =IFERROR(IF(J8="","",VLOOKUP(J8,'Concordance Classmt & Points'!$A$2:$B$32,2,FALSE)),0) -> 40 | L8: =IF(ISNUMBER(K8),K8+K8*(MAX(0,$D8-28))*2/100,"") -> 40 | N8: =IF(M8="","",RANK(M8,M$3:M$108,1)) | O8: =IFERROR(IF(N8="","",VLOOKUP(N8,'Concordance Classmt & Points'!$A$2:$B$32,2,FALSE)),0) | P8: =IF(ISNUMBER(O8),O8+O8*(MAX(0,$D8-28))*2/100,"") | R8: =IF(Q8="","",RANK(Q8,Q$3:Q$108,0)) | T8: =IFERROR(IF(R8="","",VLOOKUP(R8,'Concordance Classmt & Points'!$A$2:$B$32,2,FALSE)/S8),0) | U8: =IF(ISNUMBER(T8),T8+T8*(MAX(0,$D8-28))*2/100,"") | W8: =IF(V8="","",RANK(V8,V$3:V$108,0)) | X8: =IFERROR(IF(W8="","",VLOOKUP(W8,'Concordance Classmt & Points'!$A$2:$B$32,2,FALSE)),0) | Y8: =IF(ISNUMBER(X8),X8+X8*(MAX(0,$D8-28))*2/100,"") | Z8: =IF(COUNT(G8,K8,O8,T8,X8),SUM(G8,K8,O8,T8,X8),"-") -> 40 | AA8: =IF(COUNT(H8,L8,P8,U8,Y8),SUM(H8,L8,P8,U8,Y8),"-") -> 40 | AB8: =IF(AA8="-","",RANK(AA8,AA$3:AA$109)) -> 7
A9: =IF(AA9="-","",RANK(AA9,AA$3:AA$108)) -> 8 | B9: KERBADOU | C9: Saber | D9: 30 | F9: =IF(E9="","",RANK(E9,E$3:E$108,1)) | G9: =IFERROR(IF(F9="","",VLOOKUP(F9,'Concordance Classmt & Points'!$A$2:$B$32,2,FALSE)),0) | H9: =IF(ISNUMBER(G9),G9+G9*(MAX(0,$D9-28))*2/100,"") | I9: 0.25653935 | J9: =IF(I9="","",RANK(I9,I$3:I$108,1)) -> 7 | K9: =IFERROR(IF(J9="","",VLOOKUP(J9,'Concordance Classmt & Points'!$A$2:$B$32,2,FALSE)),0) -> 36 | L9: =IF(ISNUMBER(K9),K9+K9*(MAX(0,$D9-28))*2/100,"") -> 37.44 | N9: =IF(M9="","",RANK(M9,M$3:M$108,1)) | O9: =IFERROR(IF(N9="","",VLOOKUP(N9,'Concordance Classmt & Points'!$A$2:$B$32,2,FALSE)),0) | P9: =IF(ISNUMBER(O9),O9+O9*(MAX(0,$D9-28))*2/100,"") | R9: =IF(Q9="","",RANK(Q9,Q$3:Q$108,0)) | T9: =IFERROR(IF(R9="","",VLOOKUP(R9,'Concordance Classmt & Points'!$A$2:$B$32,2,FALSE)/S9),0) | U9: =IF(ISNUMBER(T9),T9+T9*(MAX(0,$D9-28))*2/100,"") | W9: =IF(V9="","",RANK(V9,V$3:V$108,0)) | X9: =IFERROR(IF(W9="","",VLOOKUP(W9,'Concordance Classmt & Points'!$A$2:$B$32,2,FALSE)),0) | Y9: =IF(ISNUMBER(X9),X9+X9*(MAX(0,$D9-28))*2/100,"") | Z9: =IF(COUNT(G9,K9,O9,T9,X9),SUM(G9,K9,O9,T9,X9),"-") -> 36 | AA9: =IF(COUNT(H9,L9,P9,U9,Y9),SUM(H9,L9,P9,U9,Y9),"-") -> 37.44 | AB9: =IF(AA9="-","",RANK(AA9,AA$3:AA$109)) -> 8
A10: =IF(AA10="-","",RANK(AA10,AA$3:AA$108)) -> 6 | B10: OUARI | C10: Karim | D10: 50 | F10: =IF(E10="","",RANK(E10,E$3:E$108,1)) | G10: =IFERROR(IF(F10="","",VLOOKUP(F10,'Concordance Classmt & Points'!$A$2:$B$32,2,FALSE)),0) | H10: =IF(ISNUMBER(G10),G10+G10*(MAX(0,$D10-28))*2/100,"") | I10: 0.29820602 | J10: =IF(I10="","",RANK(I10,I$3:I$108,1)) -> 8 | K10: =IFERROR(IF(J10="","",VLOOKUP(J10,'Concordance Classmt & Points'!$A$2:$B$32,2,FALSE)),0) -> 34 | L10: =IF(ISNUMBER(K10),K10+K10*(MAX(0,$D10-28))*2/100,"") -> 48.96 | N10: =IF(M10="","",RANK(M10,M$3:M$108,1)) | O10: =IFERROR(IF(N10="","",VLOOKUP(N10,'Concordance Classmt & Points'!$A$2:$B$32,2,FALSE)),0) | P10: =IF(ISNUMBER(O10),O10+O10*(MAX(0,$D10-28))*2/100,"") | R10: =IF(Q10="","",RANK(Q10,Q$3:Q$108,0)) | T10: =IFERROR(IF(R10="","",VLOOKUP(R10,'Concordance Classmt & Points'!$A$2:$B$32,2,FALSE)/S10),0) | U10: =IF(ISNUMBER(T10),T10+T10*(MAX(0,$D10-28))*2/100,"") | W10: =IF(V10="","",RANK(V10,V$3:V$108,0)) | X10: =IFERROR(IF(W10="","",VLOOKUP(W10,'Concordance Classmt & Points'!$A$2:$B$32,2,FALSE)),0) | Y10: =IF(ISNUMBER(X10),X10+X10*(MAX(0,$D10-28))*2/100,"") | Z10: =IF(COUNT(G10,K10,O10,T10,X10),SUM(G10,K10,O10,T10,X10),"-") -> 34 | AA10: =IF(COUNT(H10,L10,P10,U10,Y10),SUM(H10,L10,P10,U10,Y10),"-") -> 48.96 | AB10: =IF(AA10="-","",RANK(AA10,AA$3:AA$109)) -> 6
A11: =IF(AA11="-","",RANK(AA11,AA$3:AA$108)) -> 10 | B11: NAGI | C11: Yacine | D11: 25 | F11: =IF(E11="","",RANK(E11,E$3:E$108,1)) | G11: =IFERROR(IF(F11="","",VLOOKUP(F11,'Concordance Classmt & Points'!$A$2:$B$32,2,FALSE)),0) | H11: =IF(ISNUMBER(G11),G11+G11*(MAX(0,$D11-28))*2/100,"") | I11: 0.33987269 | J11: =IF(I11="","",RANK(I11,I$3:I$108,1)) -> 9 | K11: =IFERROR(IF(J11="","",VLOOKUP(J11,'Concordance Classmt & Points'!$A$2:$B$32,2,FALSE)),0) -> 32 | L11: =IF(ISNUMBER(K11),K11+K11*(MAX(0,$D11-28))*2/100,"") -> 32 | N11: =IF(M11="","",RANK(M11,M$3:M$108,1)) | O11: =IFERROR(IF(N11="","",VLOOKUP(N11,'Concordance Classmt & Points'!$A$2:$B$32,2,FALSE)),0) | P11: =IF(ISNUMBER(O11),O11+O11*(MAX(0,$D11-28))*2/100,"") | R11: =IF(Q11="","",RANK(Q11,Q$3:Q$108,0)) | T11: =IFERROR(IF(R11="","",VLOOKUP(R11,'Concordance Classmt & Points'!$A$2:$B$32,2,FALSE)/S11),0) | U11: =IF(ISNUMBER(T11),T11+T11*(MAX(0,$D11-28))*2/100,"") | W11: =IF(V11="","",RANK(V11,V$3:V$108,0)) | X11: =IFERROR(IF(W11="","",VLOOKUP(W11,'Concordance Classmt & Points'!$A$2:$B$32,2,FALSE)),0) | Y11: =IF(ISNUMBER(X11),X11+X11*(MAX(0,$D11-28))*2/100,"") | Z11: =IF(COUNT(G11,K11,O11,T11,X11),SUM(G11,K11,O11,T11,X11),"-") -> 32 | AA11: =IF(COUNT(H11,L11,P11,U11,Y11),SUM(H11,L11,P11,U11,Y11),"-") -> 32 | AB11: =IF(AA11="-","",RANK(AA11,AA$3:AA$109)) -> 10
A12: =IF(AA12="-","",RANK(AA12,AA$3:AA$108)) -> 11 | B12: LEMOUCHI | C12: Djawed | D12: 20 | F12: =IF(E12="","",RANK(E12,E$3:E$108,1)) | G12: =IFERROR(IF(F12="","",VLOOKUP(F12,'Concordance Classmt & Points'!$A$2:$B$32,2,FALSE)),0) | H12: =IF(ISNUMBER(G12),G12+G12*(MAX(0,$D12-28))*2/100,"") | I12: 0.38153935 | J12: =IF(I12="","",RANK(I12,I$3:I$108,1)) -> 10 | K12: =IFERROR(IF(J12="","",VLOOKUP(J12,'Concordance Classmt & Points'!$A$2:$B$32,2,FALSE)),0) -> 31 | L12: =IF(ISNUMBER(K12),K12+K12*(MAX(0,$D12-28))*2/100,"") -> 31 | N12: =IF(M12="","",RANK(M12,M$3:M$108,1)) | O12: =IFERROR(IF(N12="","",VLOOKUP(N12,'Concordance Classmt & Points'!$A$2:$B$32,2,FALSE)),0) | P12: =IF(ISNUMBER(O12),O12+O12*(MAX(0,$D12-28))*2/100,"") | R12: =IF(Q12="","",RANK(Q12,Q$3:Q$108,0)) | T12: =IFERROR(IF(R12="","",VLOOKUP(R12,'Concordance Classmt & Points'!$A$2:$B$32,2,FALSE)/S12),0) | U12: =IF(ISNUMBER(T12),T12+T12*(MAX(0,$D12-28))*2/100,"") | W12: =IF(V12="","",RANK(V12,V$3:V$108,0)) | X12: =IFERROR(IF(W12="","",VLOOKUP(W12,'Concordance Classmt & Points'!$A$2:$B$32,2,FALSE)),0) | Y12: =IF(ISNUMBER(X12),X12+X12*(MAX(0,$D12-28))*2/100,"") | Z12: =IF(COUNT(G12,K12,O12,T12,X12),SUM(G12,K12,O12,T12,X12),"-") -> 31 | AA12: =IF(COUNT(H12,L12,P12,U12,Y12),SUM(H12,L12,P12,U12,Y12),"-") -> 31 | AB12: =IF(AA12="-","",RANK(AA12,AA$3:AA$109)) -> 11
A13: =IF(AA13="-","",RANK(AA13,AA$3:AA$108)) -> 12 | B13: NADJI | C13: Danyl | D13: 26 | F13: =IF(E13="","",RANK(E13,E$3:E$108,1)) | G13: =IFERROR(IF(F13="","",VLOOKUP(F13,'Concordance Classmt & Points'!$A$2:$B$32,2,FALSE)),0) | H13: =IF(ISNUMBER(G13),G13+G13*(MAX(0,$D13-28))*2/100,"") | I13: 0.42320602 | J13: =IF(I13="","",RANK(I13,I$3:I$108,1)) -> 11 | K13: =IFERROR(IF(J13="","",VLOOKUP(J13,'Concordance Classmt & Points'!$A$2:$B$32,2,FALSE)),0) -> 30 | L13: =IF(ISNUMBER(K13),K13+K13*(MAX(0,$D13-28))*2/100,"") -> 30 | N13: =IF(M13="","",RANK(M13,M$3:M$108,1)) | O13: =IFERROR(IF(N13="","",VLOOKUP(N13,'Concordance Classmt & Points'!$A$2:$B$32,2,FALSE)),0) | P13: =IF(ISNUMBER(O13),O13+O13*(MAX(0,$D13-28))*2/100,"") | R13: =IF(Q13="","",RANK(Q13,Q$3:Q$108,0)) | T13: =IFERROR(IF(R13="","",VLOOKUP(R13,'Concordance Classmt & Points'!$A$2:$B$32,2,FALSE)/S13),0) | U13: =IF(ISNUMBER(T13),T13+T13*(MAX(0,$D13-28))*2/100,"") | W13: =IF(V13="","",RANK(V13,V$3:V$108,0)) | X13: =IFERROR(IF(W13="","",VLOOKUP(W13,'Concordance Classmt & Points'!$A$2:$B$32,2,FALSE)),0) | Y13: =IF(ISNUMBER(X13),X13+X13*(MAX(0,$D13-28))*2/100,"") | Z13: =IF(COUNT(G13,K13,O13,T13,X13),SUM(G13,K13,O13,T13,X13),"-") -> 30 | AA13: =IF(COUNT(H13,L13,P13,U13,Y13),SUM(H13,L13,P13,U13,Y13),"-") -> 30 | AB13: =IF(AA13="-","",RANK(AA13,AA$3:AA$109)) -> 12
A14: =IF(AA14="-","",RANK(AA14,AA$3:AA$108)) -> 9 | B14: MAADI | C14: Mohamed | D14: 39 | F14: =IF(E14="","",RANK(E14,E$3:E$108,1)) | G14: =IFERROR(IF(F14="","",VLOOKUP(F14,'Concordance Classmt & Points'!$A$2:$B$32,2,FALSE)),0) | H14: =IF(ISNUMBER(G14),G14+G14*(MAX(0,$D14-28))*2/100,"") | I14: 0.46487269 | J14: =IF(I14="","",RANK(I14,I$3:I$108,1)) -> 12 | K14: =IFERROR(IF(J14="","",VLOOKUP(J14,'Concordance Classmt & Points'!$A$2:$B$32,2,FALSE)),0) -> 29 | L14: =IF(ISNUMBER(K14),K14+K14*(MAX(0,$D14-28))*2/100,"") -> 35.38 | N14: =IF(M14="","",RANK(M14,M$3:M$108,1)) | O14: =IFERROR(IF(N14="","",VLOOKUP(N14,'Concordance Classmt & Points'!$A$2:$B$32,2,FALSE)),0) | P14: =IF(ISNUMBER(O14),O14+O14*(MAX(0,$D14-28))*2/100,"") | R14: =IF(Q14="","",RANK(Q14,Q$3:Q$108,0)) | T14: =IFERROR(IF(R14="","",VLOOKUP(R14,'Concordance Classmt & Points'!$A$2:$B$32,2,FALSE)/S14),0) | U14: =IF(ISNUMBER(T14),T14+T14*(MAX(0,$D14-28))*2/100,"") | W14: =IF(V14="","",RANK(V14,V$3:V$108,0)) | X14: =IFERROR(IF(W14="","",VLOOKUP(W14,'Concordance Classmt & Points'!$A$2:$B$32,2,FALSE)),0) | Y14: =IF(ISNUMBER(X14),X14+X14*(MAX(0,$D14-28))*2/100,"") | Z14: =IF(COUNT(G14,K14,O14,T14,X14),SUM(G14,K14,O14,T14,X14),"-") -> 29 | AA14: =IF(COUNT(H14,L14,P14,U14,Y14),SUM(H14,L14,P14,U14,Y14),"-") -> 35.38 | AB14: =IF(AA14="-","",RANK(AA14,AA$3:AA$109)) -> 9
A15: =IF(AA15="-","",RANK(AA15,AA$3:AA$108)) -> 15 | B15: LOMBARD | C15: Madjid | D15: 27 | F15: =IF(E15="","",RANK(E15,E$3:E$108,1)) | G15: =IFERROR(IF(F15="","",VLOOKUP(F15,'Concordance Classmt & Points'!$A$2:$B$32,2,FALSE)),0) | H15: =IF(ISNUMBER(G15),G15+G15*(MAX(0,$D15-28))*2/100,"") | I15: 0.50653935 | J15: =IF(I15="","",RANK(I15,I$3:I$108,1)) -> 13 | K15: =IFERROR(IF(J15="","",VLOOKUP(J15,'Concordance Classmt & Points'!$A$2:$B$32,2,FALSE)),0) -> 28 | L15: =IF(ISNUMBER(K15),K15+K15*(MAX(0,$D15-28))*2/100,"") -> 28 | N15: =IF(M15="","",RANK(M15,M$3:M$108,1)) | O15: =IFERROR(IF(N15="","",VLOOKUP(N15,'Concordance Classmt & Points'!$A$2:$B$32,2,FALSE)),0) | P15: =IF(ISNUMBER(O15),O15+O15*(MAX(0,$D15-28))*2/100,"") | R15: =IF(Q15="","",RANK(Q15,Q$3:Q$108,0)) | T15: =IFERROR(IF(R15="","",VLOOKUP(R15,'Concordance Classmt & Points'!$A$2:$B$32,2,FALSE)/S15),0) | U15: =IF(ISNUMBER(T15),T15+T15*(MAX(0,$D15-28))*2/100,"") | W15: =IF(V15="","",RANK(V15,V$3:V$108,0)) | X15: =IFERROR(IF(W15="","",VLOOKUP(W15,'Concordance Classmt & Points'!$A$2:$B$32,2,FALSE)),0) | Y15: =IF(ISNUMBER(X15),X15+X15*(MAX(0,$D15-28))*2/100,"") | Z15: =IF(COUNT(G15,K15,O15,T15,X15),SUM(G15,K15,O15,T15,X15),"-") -> 28 | AA15: =IF(COUNT(H15,L15,P15,U15,Y15),SUM(H15,L15,P15,U15,Y15),"-") -> 28 | AB15: =IF(AA15="-","",RANK(AA15,AA$3:AA$109)) -> 15
A16: =IF(AA16="-","",RANK(AA16,AA$3:AA$108)) -> 13 | B16: MENDY | C16: Daniel | D16: 32 | F16: =IF(E16="","",RANK(E16,E$3:E$108,1)) | G16: =IFERROR(IF(F16="","",VLOOKUP(F16,'Concordance Classmt & Points'!$A$2:$B$32,2,FALSE)),0) | H16: =IF(ISNUMBER(G16),G16+G16*(MAX(0,$D16-28))*2/100,"") | I16: 0.54820602 | J16: =IF(I16="","",RANK(I16,I$3:I$108,1)) -> 14 | K16: =IFERROR(IF(J16="","",VLOOKUP(J16,'Concordance Classmt & Points'!$A$2:$B$32,2,FALSE)),0) -> 27 | L16: =IF(ISNUMBER(K16),K16+K16*(MAX(0,$D16-28))*2/100,"") -> 29.16 | N16: =IF(M16="","",RANK(M16,M$3:M$108,1)) | O16: =IFERROR(IF(N16="","",VLOOKUP(N16,'Concordance Classmt & Points'!$A$2:$B$32,2,FALSE)),0) | P16: =IF(ISNUMBER(O16),O16+O16*(MAX(0,$D16-28))*2/100,"") | R16: =IF(Q16="","",RANK(Q16,Q$3:Q$108,0)) | T16: =IFERROR(IF(R16="","",VLOOKUP(R16,'Concordance Classmt & Points'!$A$2:$B$32,2,FALSE)/S16),0) | U16: =IF(ISNUMBER(T16),T16+T16*(MAX(0,$D16-28))*2/100,"") | W16: =IF(V16="","",RANK(V16,V$3:V$108,0)) | X16: =IFERROR(IF(W16="","",VLOOKUP(W16,'Concordance Classmt & Points'!$A$2:$B$32,2,FALSE)),0) | Y16: =IF(ISNUMBER(X16),X16+X16*(MAX(0,$D16-28))*2/100,"") | Z16: =IF(COUNT(G16,K16,O16,T16,X16),SUM(G16,K16,O16,T16,X16),"-") -> 27 | AA16: =IF(COUNT(H16,L16,P16,U16,Y16),SUM(H16,L16,P16,U16,Y16),"-") -> 29.16 | AB16: =IF(AA16="-","",RANK(AA16,AA$3:AA$109)) -> 13
A17: =IF(AA17="-","",RANK(AA17,AA$3:AA$108)) -> 14 | B17: MOREIRA DE BRITO | C17: Emilie | D17: 33 | F17: =IF(E17="","",RANK(E17,E$3:E$108,1)) | G17: =IFERROR(IF(F17="","",VLOOKUP(F17,'Concordance Classmt & Points'!$A$2:$B$32,2,FALSE)),0) | H17: =IF(ISNUMBER(G17),G17+G17*(MAX(0,$D17-28))*2/100,"") | I17: 0.58987269 | J17: =IF(I17="","",RANK(I17,I$3:I$108,1)) -> 15 | K17: =IFERROR(IF(J17="","",VLOOKUP(J17,'Concordance Classmt & Points'!$A$2:$B$32,2,FALSE)),0) -> 26 | L17: =IF(ISNUMBER(K17),K17+K17*(MAX(0,$D17-28))*2/100,"") -> 28.6 | N17: =IF(M17="","",RANK(M17,M$3:M$108,1)) | O17: =IFERROR(IF(N17="","",VLOOKUP(N17,'Concordance Classmt & Points'!$A$2:$B$32,2,FALSE)),0) | P17: =IF(ISNUMBER(O17),O17+O17*(MAX(0,$D17-28))*2/100,"") | R17: =IF(Q17="","",RANK(Q17,Q$3:Q$108,0)) | T17: =IFERROR(IF(R17="","",VLOOKUP(R17,'Concordance Classmt & Points'!$A$2:$B$32,2,FALSE)/S17),0) | U17: =IF(ISNUMBER(T17),T17+T17*(MAX(0,$D17-28))*2/100,"") | W17: =IF(V17="","",RANK(V17,V$3:V$108,0)) | X17: =IFERROR(IF(W17="","",VLOOKUP(W17,'Concordance Classmt & Points'!$A$2:$B$32,2,FALSE)),0) | Y17: =IF(ISNUMBER(X17),X17+X17*(MAX(0,$D17-28))*2/100,"") | Z17: =IF(COUNT(G17,K17,O17,T17,X17),SUM(G17,K17,O17,T17,X17),"-") -> 26 | AA17: =IF(COUNT(H17,L17,P17,U17,Y17),SUM(H17,L17,P17,U17,Y17),"-") -> 28.6 | AB17: =IF(AA17="-","",RANK(AA17,AA$3:AA$109)) -> 14
A18: =IF(AA18="-","",RANK(AA18,AA$3:AA$108)) -> 17 | B18: ABOUDOU | C18: Nasser | D18: 25 | F18: =IF(E18="","",RANK(E18,E$3:E$108,1)) | G18: =IFERROR(IF(F18="","",VLOOKUP(F18,'Concordance Classmt & Points'!$A$2:$B$32,2,FALSE)),0) | H18: =IF(ISNUMBER(G18),G18+G18*(MAX(0,$D18-28))*2/100,"") | I18: 0.63153935 | J18: =IF(I18="","",RANK(I18,I$3:I$108,1)) -> 16 | K18: =IFERROR(IF(J18="","",VLOOKUP(J18,'Concordance Classmt & Points'!$A$2:$B$32,2,FALSE)),0) -> 25 | L18: =IF(ISNUMBER(K18),K18+K18*(MAX(0,$D18-28))*2/100,"") -> 25 | N18: =IF(M18="","",RANK(M18,M$3:M$108,1)) | O18: =IFERROR(IF(N18="","",VLOOKUP(N18,'Concordance Classmt & Points'!$A$2:$B$32,2,FALSE)),0) | P18: =IF(ISNUMBER(O18),O18+O18*(MAX(0,$D18-28))*2/100,"") | R18: =IF(Q18="","",RANK(Q18,Q$3:Q$108,0)) | T18: =IFERROR(IF(R18="","",VLOOKUP(R18,'Concordance Classmt & Points'!$A$2:$B$32,2,FALSE)/S18),0) | U18: =IF(ISNUMBER(T18),T18+T18*(MAX(0,$D18-28))*2/100,"") | W18: =IF(V18="","",RANK(V18,V$3:V$108,0)) | X18: =IFERROR(IF(W18="","",VLOOKUP(W18,'Concordance Classmt & Points'!$A$2:$B$32,2,FALSE)),0) | Y18: =IF(ISNUMBER(X18),X18+X18*(MAX(0,$D18-28))*2/100,"") | Z18: =IF(COUNT(G18,K18,O18,T18,X18),SUM(G18,K18,O18,T18,X18),"-") -> 25 | AA18: =IF(COUNT(H18,L18,P18,U18,Y18),SUM(H18,L18,P18,U18,Y18),"-") -> 25 | AB18: =IF(AA18="-","",RANK(AA18,AA$3:AA$109)) -> 17
A19: =IF(AA19="-","",RANK(AA19,AA$3:AA$108)) -> 18 | B19: IBOUROI | C19: Fardi | D19: 28 | F19: =IF(E19="","",RANK(E19,E$3:E$108,1)) | G19: =IFERROR(IF(F19="","",VLOOKUP(F19,'Concordance Classmt & Points'!$A$2:$B$32,2,FALSE)),0) | H19: =IF(ISNUMBER(G19),G19+G19*(MAX(0,$D19-28))*2/100,"") | I19: 0.67320602 | J19: =IF(I19="","",RANK(I19,I$3:I$108,1)) -> 17 | K19: =IFERROR(IF(J19="","",VLOOKUP(J19,'Concordance Classmt & Points'!$A$2:$B$32,2,FALSE)),0) -> 24 | L19: =IF(ISNUMBER(K19),K19+K19*(MAX(0,$D19-28))*2/100,"") -> 24 | N19: =IF(M19="","",RANK(M19,M$3:M$108,1)) | O19: =IFERROR(IF(N19="","",VLOOKUP(N19,'Concordance Classmt & Points'!$A$2:$B$32,2,FALSE)),0) | P19: =IF(ISNUMBER(O19),O19+O19*(MAX(0,$D19-28))*2/100,"") | R19: =IF(Q19="","",RANK(Q19,Q$3:Q$108,0)) | T19: =IFERROR(IF(R19="","",VLOOKUP(R19,'Concordance Classmt & Points'!$A$2:$B$32,2,FALSE)/S19),0) | U19: =IF(ISNUMBER(T19),T19+T19*(MAX(0,$D19-28))*2/100,"") | W19: =IF(V19="","",RANK(V19,V$3:V$108,0)) | X19: =IFERROR(IF(W19="","",VLOOKUP(W19,'Concordance Classmt & Points'!$A$2:$B$32,2,FALSE)),0) | Y19: =IF(ISNUMBER(X19),X19+X19*(MAX(0,$D19-28))*2/100,"") | Z19: =IF(COUNT(G19,K19,O19,T19,X19),SUM(G19,K19,O19,T19,X19),"-") -> 24 | AA19: =IF(COUNT(H19,L19,P19,U19,Y19),SUM(H19,L19,P19,U19,Y19),"-") -> 24 | AB19: =IF(AA19="-","",RANK(AA19,AA$3:AA$109)) -> 18
... A35: =IF(AA35="-","",RANK(AA35,AA$3:AA$108)) -> 31 | B35: LEONI | C35: Laurent | D35: 35 | F35: =IF(E35="","",RANK(E35,E$3:E$108,1)) | G35: =IFERROR(IF(F35="","",VLOOKUP(F35,'Concordance Classmt & Points'!$A$2:$B$32,2,FALSE)),0) | H35: =IF(ISNUMBER(G35),G35+G35*(MAX(0,$D35-28))*2/100,"") | I35: 1.3398727 | J35: =IF(I35="","",RANK(I35,I$3:I$108,1)) -> 33 | K35: =IFERROR(IF(J35="","",VLOOKUP(J35,'Concordance Classmt & Points'!$A$2:$B$32,2,FALSE)),0) -> 0 | L35: =IF(ISNUMBER(K35),K35+K35*(MAX(0,$D35-28))*2/100,"") -> 0 | N35: =IF(M35="","",RANK(M35,M$3:M$108,1)) | O35: =IFERROR(IF(N35="","",VLOOKUP(N35,'Concordance Classmt & Points'!$A$2:$B$32,2,FALSE)),0) | P35: =IF(ISNUMBER(O35),O35+O35*(MAX(0,$D35-28))*2/100,"") | R35: =IF(Q35="","",RANK(Q35,Q$3:Q$108,0)) | T35: =IFERROR(IF(R35="","",VLOOKUP(R35,'Concordance Classmt & Points'!$A$2:$B$32,2,FALSE)/S35),0) | U35: =IF(ISNUMBER(T35),T35+T35*(MAX(0,$D35-28))*2/100,"") | W35: =IF(V35="","",RANK(V35,V$3:V$108,0)) | X35: =IFERROR(IF(W35="","",VLOOKUP(W35,'Concordance Classmt & Points'!$A$2:$B$32,2,FALSE)),0) | Y35: =IF(ISNUMBER(X35),X35+X35*(MAX(0,$D35-28))*2/100,"") | Z35: =IF(COUNT(G35,K35,O35,T35,X35),SUM(G35,K35,O35,T35,X35),"-") -> 0 | AA35: =IF(COUNT(H35,L35,P35,U35,Y35),SUM(H35,L35,P35,U35,Y35),"-") -> 0 | AB35: =IF(AA35="-","",RANK(AA35,AA$3:AA$109)) -> 31
A36: =IF(AA36="-","",RANK(AA36,AA$3:AA$108)) | B36: ISSIHAKA HALI | C36: Amal | D36: 26 | F36: =IF(E36="","",RANK(E36,E$3:E$108,1)) | G36: =IFERROR(IF(F36="","",VLOOKUP(F36,'Concordance Classmt & Points'!$A$2:$B$32,2,FALSE)),0) | H36: =IF(ISNUMBER(G36),G36+G36*(MAX(0,$D36-28))*2/100,"") | J36: =IF(I36="","",RANK(I36,I$3:I$108,1)) | K36: =IFERROR(IF(J36="","",VLOOKUP(J36,'Concordance Classmt & Points'!$A$2:$B$32,2,FALSE)),0) | L36: =IF(ISNUMBER(K36),K36+K36*(MAX(0,$D36-28))*2/100,"") | N36: =IF(M36="","",RANK(M36,M$3:M$108,1)) | O36: =IFERROR(IF(N36="","",VLOOKUP(N36,'Concordance Classmt & Points'!$A$2:$B$32,2,FALSE)),0) | P36: =IF(ISNUMBER(O36),O36+O36*(MAX(0,$D36-28))*2/100,"") | R36: =IF(Q36="","",RANK(Q36,Q$3:Q$108,0)) | T36: =IFERROR(IF(R36="","",VLOOKUP(R36,'Concordance Classmt & Points'!$A$2:$B$32,2,FALSE)/S36),0) | U36: =IF(ISNUMBER(T36),T36+T36*(MAX(0,$D36-28))*2/100,"") | W36: =IF(V36="","",RANK(V36,V$3:V$108,0)) | X36: =IFERROR(IF(W36="","",VLOOKUP(W36,'Concordance Classmt & Points'!$A$2:$B$32,2,FALSE)),0) | Y36: =IF(ISNUMBER(X36),X36+X36*(MAX(0,$D36-28))*2/100,"") | Z36: =IF(COUNT(G36,K36,O36,T36,X36),SUM(G36,K36,O36,T36,X36),"-") -> - | AA36: =IF(COUNT(H36,L36,P36,U36,Y36),SUM(H36,L36,P36,U36,Y36),"-") -> - | AB36: =IF(AA36="-","",RANK(AA36,AA$3:AA$109))
A37: =IF(AA37="-","",RANK(AA37,AA$3:AA$108)) | B37: ALLAIS | C37: Abdellah | D37: 24 | F37: =IF(E37="","",RANK(E37,E$3:E$108,1)) | G37: =IFERROR(IF(F37="","",VLOOKUP(F37,'Concordance Classmt & Points'!$A$2:$B$32,2,FALSE)),0) | H37: =IF(ISNUMBER(G37),G37+G37*(MAX(0,$D37-28))*2/100,"") | J37: =IF(I37="","",RANK(I37,I$3:I$108,1)) | K37: =IFERROR(IF(J37="","",VLOOKUP(J37,'Concordance Classmt & Points'!$A$2:$B$32,2,FALSE)),0) | L37: =IF(ISNUMBER(K37),K37+K37*(MAX(0,$D37-28))*2/100,"") | N37: =IF(M37="","",RANK(M37,M$3:M$108,1)) | O37: =IFERROR(IF(N37="","",VLOOKUP(N37,'Concordance Classmt & Points'!$A$2:$B$32,2,FALSE)),0) | P37: =IF(ISNUMBER(O37),O37+O37*(MAX(0,$D37-28))*2/100,"") | R37: =IF(Q37="","",RANK(Q37,Q$3:Q$108,0)) | T37: =IFERROR(IF(R37="","",VLOOKUP(R37,'Concordance Classmt & Points'!$A$2:$B$32,2,FALSE)/S37),0) | U37: =IF(ISNUMBER(T37),T37+T37*(MAX(0,$D37-28))*2/100,"") | W37: =IF(V37="","",RANK(V37,V$3:V$108,0)) | X37: =IFERROR(IF(W37="","",VLOOKUP(W37,'Concordance Classmt & Points'!$A$2:$B$32,2,FALSE)),0) | Y37: =IF(ISNUMBER(X37),X37+X37*(MAX(0,$D37-28))*2/100,"") | Z37: =IF(COUNT(G37,K37,O37,T37,X37),SUM(G37,K37,O37,T37,X37),"-") -> - | AA37: =IF(COUNT(H37,L37,P37,U37,Y37),SUM(H37,L37,P37,U37,Y37),"-") -> - | AB37: =IF(AA37="-","",RANK(AA37,AA$3:AA$109))
A38: =IF(AA38="-","",RANK(AA38,AA$3:AA$108)) | B38: MOHAMED | C38: Aime-Mohamed | D38: 39 | F38: =IF(E38="","",RANK(E38,E$3:E$108,1)) | G38: =IFERROR(IF(F38="","",VLOOKUP(F38,'Concordance Classmt & Points'!$A$2:$B$32,2,FALSE)),0) | H38: =IF(ISNUMBER(G38),G38+G38*(MAX(0,$D38-28))*2/100,"") | J38: =IF(I38="","",RANK(I38,I$3:I$108,1)) | K38: =IFERROR(IF(J38="","",VLOOKUP(J38,'Concordance Classmt & Points'!$A$2:$B$32,2,FALSE)),0) | L38: =IF(ISNUMBER(K38),K38+K38*(MAX(0,$D38-28))*2/100,"") | N38: =IF(M38="","",RANK(M38,M$3:M$108,1)) | O38: =IFERROR(IF(N38="","",VLOOKUP(N38,'Concordance Classmt & Points'!$A$2:$B$32,2,FALSE)),0) | P38: =IF(ISNUMBER(O38),O38+O38*(MAX(0,$D38-28))*2/100,"") | R38: =IF(Q38="","",RANK(Q38,Q$3:Q$108,0)) | T38: =IFERROR(IF(R38="","",VLOOKUP(R38,'Concordance Classmt & Points'!$A$2:$B$32,2,FALSE)/S38),0) | U38: =IF(ISNUMBER(T38),T38+T38*(MAX(0,$D38-28))*2/100,"") | W38: =IF(V38="","",RANK(V38,V$3:V$108,0)) | X38: =IFERROR(IF(W38="","",VLOOKUP(W38,'Concordance Classmt & Points'!$A$2:$B$32,2,FALSE)),0) | Y38: =IF(ISNUMBER(X38),X38+X38*(MAX(0,$D38-28))*2/100,"") | Z38: =IF(COUNT(G38,K38,O38,T38,X38),SUM(G38,K38,O38,T38,X38),"-") -> - | AA38: =IF(COUNT(H38,L38,P38,U38,Y38),SUM(H38,L38,P38,U38,Y38),"-") -> - | AB38: =IF(AA38="-","",RANK(AA38,AA$3:AA$109))
A39: =IF(AA39="-","",RANK(AA39,AA$3:AA$108)) | B39: SANGARE | C39: Adama | D39: 25 | F39: =IF(E39="","",RANK(E39,E$3:E$108,1)) | G39: =IFERROR(IF(F39="","",VLOOKUP(F39,'Concordance Classmt & Points'!$A$2:$B$32,2,FALSE)),0) | H39: =IF(ISNUMBER(G39),G39+G39*(MAX(0,$D39-28))*2/100,"") | J39: =IF(I39="","",RANK(I39,I$3:I$108,1)) | K39: =IFERROR(IF(J39="","",VLOOKUP(J39,'Concordance Classmt & Points'!$A$2:$B$32,2,FALSE)),0) | L39: =IF(ISNUMBER(K39),K39+K39*(MAX(0,$D39-28))*2/100,"") | N39: =IF(M39="","",RANK(M39,M$3:M$108,1)) | O39: =IFERROR(IF(N39="","",VLOOKUP(N39,'Concordance Classmt & Points'!$A$2:$B$32,2,FALSE)),0) | P39: =IF(ISNUMBER(O39),O39+O39*(MAX(0,$D39-28))*2/100,"") | R39: =IF(Q39="","",RANK(Q39,Q$3:Q$108,0)) | T39: =IFERROR(IF(R39="","",VLOOKUP(R39,'Concordance Classmt & Points'!$A$2:$B$32,2,FALSE)/S39),0) | U39: =IF(ISNUMBER(T39),T39+T39*(MAX(0,$D39-28))*2/100,"") | W39: =IF(V39="","",RANK(V39,V$3:V$108,0)) | X39: =IFERROR(IF(W39="","",VLOOKUP(W39,'Concordance Classmt & Points'!$A$2:$B$32,2,FALSE)),0) | Y39: =IF(ISNUMBER(X39),X39+X39*(MAX(0,$D39-28))*2/100,"") | Z39: =IF(COUNT(G39,K39,O39,T39,X39),SUM(G39,K39,O39,T39,X39),"-") -> - | AA39: =IF(COUNT(H39,L39,P39,U39,Y39),SUM(H39,L39,P39,U39,Y39),"-") -> - | AB39: =IF(AA39="-","",RANK(AA39,AA$3:AA$109))
A40: =IF(AA40="-","",RANK(AA40,AA$3:AA$108)) | B40: MEBARKI | C40: Taoufik | D40: 26 | F40: =IF(E40="","",RANK(E40,E$3:E$108,1)) | G40: =IFERROR(IF(F40="","",VLOOKUP(F40,'Concordance Classmt & Points'!$A$2:$B$32,2,FALSE)),0) | H40: =IF(ISNUMBER(G40),G40+G40*(MAX(0,$D40-28))*2/100,"") | J40: =IF(I40="","",RANK(I40,I$3:I$108,1)) | K40: =IFERROR(IF(J40="","",VLOOKUP(J40,'Concordance Classmt & Points'!$A$2:$B$32,2,FALSE)),0) | L40: =IF(ISNUMBER(K40),K40+K40*(MAX(0,$D40-28))*2/100,"") | N40: =IF(M40="","",RANK(M40,M$3:M$108,1)) | O40: =IFERROR(IF(N40="","",VLOOKUP(N40,'Concordance Classmt & Points'!$A$2:$B$32,2,FALSE)),0) | P40: =IF(ISNUMBER(O40),O40+O40*(MAX(0,$D40-28))*2/100,"") | R40: =IF(Q40="","",RANK(Q40,Q$3:Q$108,0)) | T40: =IFERROR(IF(R40="","",VLOOKUP(R40,'Concordance Classmt & Points'!$A$2:$B$32,2,FALSE)/S40),0) | U40: =IF(ISNUMBER(T40),T40+T40*(MAX(0,$D40-28))*2/100,"") | W40: =IF(V40="","",RANK(V40,V$3:V$108,0)) | X40: =IFERROR(IF(W40="","",VLOOKUP(W40,'Concordance Classmt & Points'!$A$2:$B$32,2,FALSE)),0) | Y40: =IF(ISNUMBER(X40),X40+X40*(MAX(0,$D40-28))*2/100,"") | Z40: =IF(COUNT(G40,K40,O40,T40,X40),SUM(G40,K40,O40,T40,X40),"-") -> - | AA40: =IF(COUNT(H40,L40,P40,U40,Y40),SUM(H40,L40,P40,U40,Y40),"-") -> - | AB40: =IF(AA40="-","",RANK(AA40,AA$3:AA$109))
A41: =IF(AA41="-","",RANK(AA41,AA$3:AA$108)) | B41: TAGBA | C41: Emryck | D41: 20 | F41: =IF(E41="","",RANK(E41,E$3:E$108,1)) | G41: =IFERROR(IF(F41="","",VLOOKUP(F41,'Concordance Classmt & Points'!$A$2:$B$32,2,FALSE)),0) | H41: =IF(ISNUMBER(G41),G41+G41*(MAX(0,$D41-28))*2/100,"") | J41: =IF(I41="","",RANK(I41,I$3:I$108,1)) | K41: =IFERROR(IF(J41="","",VLOOKUP(J41,'Concordance Classmt & Points'!$A$2:$B$32,2,FALSE)),0) | L41: =IF(ISNUMBER(K41),K41+K41*(MAX(0,$D41-28))*2/100,"") | N41: =IF(M41="","",RANK(M41,M$3:M$108,1)) | O41: =IFERROR(IF(N41="","",VLOOKUP(N41,'Concordance Classmt & Points'!$A$2:$B$32,2,FALSE)),0) | P41: =IF(ISNUMBER(O41),O41+O41*(MAX(0,$D41-28))*2/100,"") | R41: =IF(Q41="","",RANK(Q41,Q$3:Q$108,0)) | T41: =IFERROR(IF(R41="","",VLOOKUP(R41,'Concordance Classmt & Points'!$A$2:$B$32,2,FALSE)/S41),0) | U41: =IF(ISNUMBER(T41),T41+T41*(MAX(0,$D41-28))*2/100,"") | W41: =IF(V41="","",RANK(V41,V$3:V$108,0)) | X41: =IFERROR(IF(W41="","",VLOOKUP(W41,'Concordance Classmt & Points'!$A$2:$B$32,2,FALSE)),0) | Y41: =IF(ISNUMBER(X41),X41+X41*(MAX(0,$D41-28))*2/100,"") | Z41: =IF(COUNT(G41,K41,O41,T41,X41),SUM(G41,K41,O41,T41,X41),"-") -> - | AA41: =IF(COUNT(H41,L41,P41,U41,Y41),SUM(H41,L41,P41,U41,Y41),"-") -> - | AB41: =IF(AA41="-","",RANK(AA41,AA$3:AA$109))
A42: =IF(AA42="-","",RANK(AA42,AA$3:AA$108)) | B42: GIANNINO | C42: Jean Claude | D42: 63 | F42: =IF(E42="","",RANK(E42,E$3:E$108,1)) | G42: =IFERROR(IF(F42="","",VLOOKUP(F42,'Concordance Classmt & Points'!$A$2:$B$32,2,FALSE)),0) | H42: =IF(ISNUMBER(G42),G42+G42*(MAX(0,$D42-28))*2/100,"") | J42: =IF(I42="","",RANK(I42,I$3:I$108,1)) | K42: =IFERROR(IF(J42="","",VLOOKUP(J42,'Concordance Classmt & Points'!$A$2:$B$32,2,FALSE)),0) | L42: =IF(ISNUMBER(K42),K42+K42*(MAX(0,$D42-28))*2/100,"") | N42: =IF(M42="","",RANK(M42,M$3:M$108,1)) | O42: =IFERROR(IF(N42="","",VLOOKUP(N42,'Concordance Classmt & Points'!$A$2:$B$32,2,FALSE)),0) | P42: =IF(ISNUMBER(O42),O42+O42*(MAX(0,$D42-28))*2/100,"") | R42: =IF(Q42="","",RANK(Q42,Q$3:Q$108,0)) | T42: =IFERROR(IF(R42="","",VLOOKUP(R42,'Concordance Classmt & Points'!$A$2:$B$32,2,FALSE)/S42),0) | U42: =IF(ISNUMBER(T42),T42+T42*(MAX(0,$D42-28))*2/100,"") | W42: =IF(V42="","",RANK(V42,V$3:V$108,0)) | X42: =IFERROR(IF(W42="","",VLOOKUP(W42,'Concordance Classmt & Points'!$A$2:$B$32,2,FALSE)),0) | Y42: =IF(ISNUMBER(X42),X42+X42*(MAX(0,$D42-28))*2/100,"") | Z42: =IF(COUNT(G42,K42,O42,T42,X42),SUM(G42,K42,O42,T42,X42),"-") -> - | AA42: =IF(COUNT(H42,L42,P42,U42,Y42),SUM(H42,L42,P42,U42,Y42),"-") -> - | AB42: =IF(AA42="-","",RANK(AA42,AA$3:AA$109))
A43: =IF(AA43="-","",RANK(AA43,AA$3:AA$108)) | B43: LARGOUTE | C43: Seif Eddine | D43: 27 | F43: =IF(E43="","",RANK(E43,E$3:E$108,1)) | G43: =IFERROR(IF(F43="","",VLOOKUP(F43,'Concordance Classmt & Points'!$A$2:$B$32,2,FALSE)),0) | H43: =IF(ISNUMBER(G43),G43+G43*(MAX(0,$D43-28))*2/100,"") | J43: =IF(I43="","",RANK(I43,I$3:I$108,1)) | K43: =IFERROR(IF(J43="","",VLOOKUP(J43,'Concordance Classmt & Points'!$A$2:$B$32,2,FALSE)),0) | L43: =IF(ISNUMBER(K43),K43+K43*(MAX(0,$D43-28))*2/100,"") | N43: =IF(M43="","",RANK(M43,M$3:M$108,1)) | O43: =IFERROR(IF(N43="","",VLOOKUP(N43,'Concordance Classmt & Points'!$A$2:$B$32,2,FALSE)),0) | P43: =IF(ISNUMBER(O43),O43+O43*(MAX(0,$D43-28))*2/100,"") | R43: =IF(Q43="","",RANK(Q43,Q$3:Q$108,0)) | T43: =IFERROR(IF(R43="","",VLOOKUP(R43,'Concordance Classmt & Points'!$A$2:$B$32,2,FALSE)/S43),0) | U43: =IF(ISNUMBER(T43),T43+T43*(MAX(0,$D43-28))*2/100,"") | W43: =IF(V43="","",RANK(V43,V$3:V$108,0)) | X43: =IFERROR(IF(W43="","",VLOOKUP(W43,'Concordance Classmt & Points'!$A$2:$B$32,2,FALSE)),0) | Y43: =IF(ISNUMBER(X43),X43+X43*(MAX(0,$D43-28))*2/100,"") | Z43: =IF(COUNT(G43,K43,O43,T43,X43),SUM(G43,K43,O43,T43,X43),"-") -> - | AA43: =IF(COUNT(H43,L43,P43,U43,Y43),SUM(H43,L43,P43,U43,Y43),"-") -> - | AB43: =IF(AA43="-","",RANK(AA43,AA$3:AA$109))
A44: =IF(AA44="-","",RANK(AA44,AA$3:AA$108)) | B44: XIAO | C44: Ai | D44: 47 | F44: =IF(E44="","",RANK(E44,E$3:E$108,1)) | G44: =IFERROR(IF(F44="","",VLOOKUP(F44,'Concordance Classmt & Points'!$A$2:$B$32,2,FALSE)),0) | H44: =IF(ISNUMBER(G44),G44+G44*(MAX(0,$D44-28))*2/100,"") | J44: =IF(I44="","",RANK(I44,I$3:I$108,1)) | K44: =IFERROR(IF(J44="","",VLOOKUP(J44,'Concordance Classmt & Points'!$A$2:$B$32,2,FALSE)),0) | L44: =IF(ISNUMBER(K44),K44+K44*(MAX(0,$D44-28))*2/100,"") | N44: =IF(M44="","",RANK(M44,M$3:M$108,1)) | O44: =IFERROR(IF(N44="","",VLOOKUP(N44,'Concordance Classmt & Points'!$A$2:$B$32,2,FALSE)),0) | P44: =IF(ISNUMBER(O44),O44+O44*(MAX(0,$D44-28))*2/100,"") | R44: =IF(Q44="","",RANK(Q44,Q$3:Q$108,0)) | T44: =IFERROR(IF(R44="","",VLOOKUP(R44,'Concordance Classmt & Points'!$A$2:$B$32,2,FALSE)/S44),0) | U44: =IF(ISNUMBER(T44),T44+T44*(MAX(0,$D44-28))*2/100,"") | W44: =IF(V44="","",RANK(V44,V$3:V$108,0)) | X44: =IFERROR(IF(W44="","",VLOOKUP(W44,'Concordance Classmt & Points'!$A$2:$B$32,2,FALSE)),0) | Y44: =IF(ISNUMBER(X44),X44+X44*(MAX(0,$D44-28))*2/100,"") | Z44: =IF(COUNT(G44,K44,O44,T44,X44),SUM(G44,K44,O44,T44,X44),"-") -> - | AA44: =IF(COUNT(H44,L44,P44,U44,Y44),SUM(H44,L44,P44,U44,Y44),"-") -> - | AB44: =IF(AA44="-","",RANK(AA44,AA$3:AA$109))
A45: =IF(AA45="-","",RANK(AA45,AA$3:AA$108)) | B45: MOUHIEDDINE | C45: Heidi | D45: 24 | F45: =IF(E45="","",RANK(E45,E$3:E$108,1)) | G45: =IFERROR(IF(F45="","",VLOOKUP(F45,'Concordance Classmt & Points'!$A$2:$B$32,2,FALSE)),0) | H45: =IF(ISNUMBER(G45),G45+G45*(MAX(0,$D45-28))*2/100,"") | J45: =IF(I45="","",RANK(I45,I$3:I$108,1)) | K45: =IFERROR(IF(J45="","",VLOOKUP(J45,'Concordance Classmt & Points'!$A$2:$B$32,2,FALSE)),0) | L45: =IF(ISNUMBER(K45),K45+K45*(MAX(0,$D45-28))*2/100,"") | N45: =IF(M45="","",RANK(M45,M$3:M$108,1)) | O45: =IFERROR(IF(N45="","",VLOOKUP(N45,'Concordance Classmt & Points'!$A$2:$B$32,2,FALSE)),0) | P45: =IF(ISNUMBER(O45),O45+O45*(MAX(0,$D45-28))*2/100,"") | R45: =IF(Q45="","",RANK(Q45,Q$3:Q$108,0)) | T45: =IFERROR(IF(R45="","",VLOOKUP(R45,'Concordance Classmt & Points'!$A$2:$B$32,2,FALSE)/S45),0) | U45: =IF(ISNUMBER(T45),T45+T45*(MAX(0,$D45-28))*2/100,"") | W45: =IF(V45="","",RANK(V45,V$3:V$108,0)) | X45: =IFERROR(IF(W45="","",VLOOKUP(W45,'Concordance Classmt & Points'!$A$2:$B$32,2,FALSE)),0) | Y45: =IF(ISNUMBER(X45),X45+X45*(MAX(0,$D45-28))*2/100,"") | Z45: =IF(COUNT(G45,K45,O45,T45,X45),SUM(G45,K45,O45,T45,X45),"-") -> - | AA45: =IF(COUNT(H45,L45,P45,U45,Y45),SUM(H45,L45,P45,U45,Y45),"-") -> - | AB45: =IF(AA45="-","",RANK(AA45,AA$3:AA$109))
A46: =IF(AA46="-","",RANK(AA46,AA$3:AA$108)) | B46: ALERINI | C46: Pierre | D46: 43 | F46: =IF(E46="","",RANK(E46,E$3:E$108,1)) | G46: =IFERROR(IF(F46="","",VLOOKUP(F46,'Concordance Classmt & Points'!$A$2:$B$32,2,FALSE)),0) | H46: =IF(ISNUMBER(G46),G46+G46*(MAX(0,$D46-28))*2/100,"") | J46: =IF(I46="","",RANK(I46,I$3:I$108,1)) | K46: =IFERROR(IF(J46="","",VLOOKUP(J46,'Concordance Classmt & Points'!$A$2:$B$32,2,FALSE)),0) | L46: =IF(ISNUMBER(K46),K46+K46*(MAX(0,$D46-28))*2/100,"") | N46: =IF(M46="","",RANK(M46,M$3:M$108,1)) | O46: =IFERROR(IF(N46="","",VLOOKUP(N46,'Concordance Classmt & Points'!$A$2:$B$32,2,FALSE)),0) | P46: =IF(ISNUMBER(O46),O46+O46*(MAX(0,$D46-28))*2/100,"") | R46: =IF(Q46="","",RANK(Q46,Q$3:Q$108,0)) | T46: =IFERROR(IF(R46="","",VLOOKUP(R46,'Concordance Classmt & Points'!$A$2:$B$32,2,FALSE)/S46),0) | U46: =IF(ISNUMBER(T46),T46+T46*(MAX(0,$D46-28))*2/100,"") | W46: =IF(V46="","",RANK(V46,V$3:V$108,0)) | X46: =IFERROR(IF(W46="","",VLOOKUP(W46,'Concordance Classmt & Points'!$A$2:$B$32,2,FALSE)),0) | Y46: =IF(ISNUMBER(X46),X46+X46*(MAX(0,$D46-28))*2/100,"") | Z46: =IF(COUNT(G46,K46,O46,T46,X46),SUM(G46,K46,O46,T46,X46),"-") -> - | AA46: =IF(COUNT(H46,L46,P46,U46,Y46),SUM(H46,L46,P46,U46,Y46),"-") -> - | AB46: =IF(AA46="-","",RANK(AA46,AA$3:AA$109))
A47: =IF(AA47="-","",RANK(AA47,AA$3:AA$108)) | B47: ALI DAGA | C47: Ibrahim | D47: 38 | F47: =IF(E47="","",RANK(E47,E$3:E$108,1)) | G47: =IFERROR(IF(F47="","",VLOOKUP(F47,'Concordance Classmt & Points'!$A$2:$B$32,2,FALSE)),0) | H47: =IF(ISNUMBER(G47),G47+G47*(MAX(0,$D47-28))*2/100,"") | J47: =IF(I47="","",RANK(I47,I$3:I$108,1)) | K47: =IFERROR(IF(J47="","",VLOOKUP(J47,'Concordance Classmt & Points'!$A$2:$B$32,2,FALSE)),0) | L47: =IF(ISNUMBER(K47),K47+K47*(MAX(0,$D47-28))*2/100,"") | N47: =IF(M47="","",RANK(M47,M$3:M$108,1)) | O47: =IFERROR(IF(N47="","",VLOOKUP(N47,'Concordance Classmt & Points'!$A$2:$B$32,2,FALSE)),0) | P47: =IF(ISNUMBER(O47),O47+O47*(MAX(0,$D47-28))*2/100,"") | R47: =IF(Q47="","",RANK(Q47,Q$3:Q$108,0)) | T47: =IFERROR(IF(R47="","",VLOOKUP(R47,'Concordance Classmt & Points'!$A$2:$B$32,2,FALSE)/S47),0) | U47: =IF(ISNUMBER(T47),T47+T47*(MAX(0,$D47-28))*2/100,"") | W47: =IF(V47="","",RANK(V47,V$3:V$108,0)) | X47: =IFERROR(IF(W47="","",VLOOKUP(W47,'Concordance Classmt & Points'!$A$2:$B$32,2,FALSE)),0) | Y47: =IF(ISNUMBER(X47),X47+X47*(MAX(0,$D47-28))*2/100,"") | Z47: =IF(COUNT(G47,K47,O47,T47,X47),SUM(G47,K47,O47,T47,X47),"-") -> - | AA47: =IF(COUNT(H47,L47,P47,U47,Y47),SUM(H47,L47,P47,U47,Y47),"-") -> - | AB47: =IF(AA47="-","",RANK(AA47,AA$3:AA$109))
... A83: =IF(AA83="-","",RANK(AA83,AA$3:AA$108)) | B83: NIGOLIAN | C83: Julien | D83: 33 | F83: =IF(E83="","",RANK(E83,E$3:E$108,1)) | G83: =IFERROR(IF(F83="","",VLOOKUP(F83,'Concordance Classmt & Points'!$A$2:$B$32,2,FALSE)),0) | H83: =IF(ISNUMBER(G83),G83+G83*(MAX(0,$D83-28))*2/100,"") | J83: =IF(I83="","",RANK(I83,I$3:I$108,1)) | K83: =IFERROR(IF(J83="","",VLOOKUP(J83,'Concordance Classmt & Points'!$A$2:$B$32,2,FALSE)),0) | L83: =IF(ISNUMBER(K83),K83+K83*(MAX(0,$D83-28))*2/100,"") | N83: =IF(M83="","",RANK(M83,M$3:M$108,1)) | O83: =IFERROR(IF(N83="","",VLOOKUP(N83,'Concordance Classmt & Points'!$A$2:$B$32,2,FALSE)),0) | P83: =IF(ISNUMBER(O83),O83+O83*(MAX(0,$D83-28))*2/100,"") | R83: =IF(Q83="","",RANK(Q83,Q$3:Q$108,0)) | T83: =IFERROR(IF(R83="","",VLOOKUP(R83,'Concordance Classmt & Points'!$A$2:$B$32,2,FALSE)/S83),0) | U83: =IF(ISNUMBER(T83),T83+T83*(MAX(0,$D83-28))*2/100,"") | W83: =IF(V83="","",RANK(V83,V$3:V$108,0)) | X83: =IFERROR(IF(W83="","",VLOOKUP(W83,'Concordance Classmt & Points'!$A$2:$B$32,2,FALSE)),0) | Y83: =IF(ISNUMBER(X83),X83+X83*(MAX(0,$D83-28))*2/100,"") | Z83: =IF(COUNT(G83,K83,O83,T83,X83),SUM(G83,K83,O83,T83,X83),"-") -> - | AA83: =IF(COUNT(H83,L83,P83,U83,Y83),SUM(H83,L83,P83,U83,Y83),"-") -> - | AB83: =IF(AA83="-","",RANK(AA83,AA$3:AA$109))
A84: =IF(AA84="-","",RANK(AA84,AA$3:AA$108)) | B84: OBOROCEANU | C84: Ion | F84: =IF(E84="","",RANK(E84,E$3:E$108,1)) | G84: =IFERROR(IF(F84="","",VLOOKUP(F84,'Concordance Classmt & Points'!$A$2:$B$32,2,FALSE)),0) | H84: =IF(ISNUMBER(G84),G84+G84*(MAX(0,$D84-28))*2/100,"") | J84: =IF(I84="","",RANK(I84,I$3:I$108,1)) | K84: =IFERROR(IF(J84="","",VLOOKUP(J84,'Concordance Classmt & Points'!$A$2:$B$32,2,FALSE)),0) | L84: =IF(ISNUMBER(K84),K84+K84*(MAX(0,$D84-28))*2/100,"") | N84: =IF(M84="","",RANK(M84,M$3:M$108,1)) | O84: =IFERROR(IF(N84="","",VLOOKUP(N84,'Concordance Classmt & Points'!$A$2:$B$32,2,FALSE)),0) | P84: =IF(ISNUMBER(O84),O84+O84*(MAX(0,$D84-28))*2/100,"") | R84: =IF(Q84="","",RANK(Q84,Q$3:Q$108,0)) | T84: =IFERROR(IF(R84="","",VLOOKUP(R84,'Concordance Classmt & Points'!$A$2:$B$32,2,FALSE)/S84),0) | U84: =IF(ISNUMBER(T84),T84+T84*(MAX(0,$D84-28))*2/100,"") | W84: =IF(V84="","",RANK(V84,V$3:V$108,0)) | X84: =IFERROR(IF(W84="","",VLOOKUP(W84,'Concordance Classmt & Points'!$A$2:$B$32,2,FALSE)),0) | Y84: =IF(ISNUMBER(X84),X84+X84*(MAX(0,$D84-28))*2/100,"") | Z84: =IF(COUNT(G84,K84,O84,T84,X84),SUM(G84,K84,O84,T84,X84),"-") -> - | AA84: =IF(COUNT(H84,L84,P84,U84,Y84),SUM(H84,L84,P84,U84,Y84),"-") -> - | AB84: =IF(AA84="-","",RANK(AA84,AA$3:AA$109))
A85: =IF(AA85="-","",RANK(AA85,AA$3:AA$108)) | B85: OBOROCEANU | C85: Gheorghe | D85: 29 | F85: =IF(E85="","",RANK(E85,E$3:E$108,1)) | G85: =IFERROR(IF(F85="","",VLOOKUP(F85,'Concordance Classmt & Points'!$A$2:$B$32,2,FALSE)),0) | H85: =IF(ISNUMBER(G85),G85+G85*(MAX(0,$D85-28))*2/100,"") | J85: =IF(I85="","",RANK(I85,I$3:I$108,1)) | K85: =IFERROR(IF(J85="","",VLOOKUP(J85,'Concordance Classmt & Points'!$A$2:$B$32,2,FALSE)),0) | L85: =IF(ISNUMBER(K85),K85+K85*(MAX(0,$D85-28))*2/100,"") | N85: =IF(M85="","",RANK(M85,M$3:M$108,1)) | O85: =IFERROR(IF(N85="","",VLOOKUP(N85,'Concordance Classmt & Points'!$A$2:$B$32,2,FALSE)),0) | P85: =IF(ISNUMBER(O85),O85+O85*(MAX(0,$D85-28))*2/100,"") | R85: =IF(Q85="","",RANK(Q85,Q$3:Q$108,0)) | T85: =IFERROR(IF(R85="","",VLOOKUP(R85,'Concordance Classmt & Points'!$A$2:$B$32,2,FALSE)/S85),0) | U85: =IF(ISNUMBER(T85),T85+T85*(MAX(0,$D85-28))*2/100,"") | W85: =IF(V85="","",RANK(V85,V$3:V$108,0)) | X85: =IFERROR(IF(W85="","",VLOOKUP(W85,'Concordance Classmt & Points'!$A$2:$B$32,2,FALSE)),0) | Y85: =IF(ISNUMBER(X85),X85+X85*(MAX(0,$D85-28))*2/100,"") | Z85: =IF(COUNT(G85,K85,O85,T85,X85),SUM(G85,K85,O85,T85,X85),"-") -> - | AA85: =IF(COUNT(H85,L85,P85,U85,Y85),SUM(H85,L85,P85,U85,Y85),"-") -> - | AB85: =IF(AA85="-","",RANK(AA85,AA$3:AA$109))
A86: =IF(AA86="-","",RANK(AA86,AA$3:AA$108)) | B86: OGBEGIE | C86: Favour | D86: 40 | F86: =IF(E86="","",RANK(E86,E$3:E$108,1)) | G86: =IFERROR(IF(F86="","",VLOOKUP(F86,'Concordance Classmt & Points'!$A$2:$B$32,2,FALSE)),0) | H86: =IF(ISNUMBER(G86),G86+G86*(MAX(0,$D86-28))*2/100,"") | J86: =IF(I86="","",RANK(I86,I$3:I$108,1)) | K86: =IFERROR(IF(J86="","",VLOOKUP(J86,'Concordance Classmt & Points'!$A$2:$B$32,2,FALSE)),0) | L86: =IF(ISNUMBER(K86),K86+K86*(MAX(0,$D86-28))*2/100,"") | N86: =IF(M86="","",RANK(M86,M$3:M$108,1)) | O86: =IFERROR(IF(N86="","",VLOOKUP(N86,'Concordance Classmt & Points'!$A$2:$B$32,2,FALSE)),0) | P86: =IF(ISNUMBER(O86),O86+O86*(MAX(0,$D86-28))*2/100,"") | R86: =IF(Q86="","",RANK(Q86,Q$3:Q$108,0)) | T86: =IFERROR(IF(R86="","",VLOOKUP(R86,'Concordance Classmt & Points'!$A$2:$B$32,2,FALSE)/S86),0) | U86: =IF(ISNUMBER(T86),T86+T86*(MAX(0,$D86-28))*2/100,"") | W86: =IF(V86="","",RANK(V86,V$3:V$108,0)) | X86: =IFERROR(IF(W86="","",VLOOKUP(W86,'Concordance Classmt & Points'!$A$2:$B$32,2,FALSE)),0) | Y86: =IF(ISNUMBER(X86),X86+X86*(MAX(0,$D86-28))*2/100,"") | Z86: =IF(COUNT(G86,K86,O86,T86,X86),SUM(G86,K86,O86,T86,X86),"-") -> - | AA86: =IF(COUNT(H86,L86,P86,U86,Y86),SUM(H86,L86,P86,U86,Y86),"-") -> - | AB86: =IF(AA86="-","",RANK(AA86,AA$3:AA$109))
A87: =IF(AA87="-","",RANK(AA87,AA$3:AA$108)) | B87: ORLANDO | C87: Mario | D87: 33 | F87: =IF(E87="","",RANK(E87,E$3:E$108,1)) | G87: =IFERROR(IF(F87="","",VLOOKUP(F87,'Concordance Classmt & Points'!$A$2:$B$32,2,FALSE)),0) | H87: =IF(ISNUMBER(G87),G87+G87*(MAX(0,$D87-28))*2/100,"") | J87: =IF(I87="","",RANK(I87,I$3:I$108,1)) | K87: =IFERROR(IF(J87="","",VLOOKUP(J87,'Concordance Classmt & Points'!$A$2:$B$32,2,FALSE)),0) | L87: =IF(ISNUMBER(K87),K87+K87*(MAX(0,$D87-28))*2/100,"") | N87: =IF(M87="","",RANK(M87,M$3:M$108,1)) | O87: =IFERROR(IF(N87="","",VLOOKUP(N87,'Concordance Classmt & Points'!$A$2:$B$32,2,FALSE)),0) | P87: =IF(ISNUMBER(O87),O87+O87*(MAX(0,$D87-28))*2/100,"") | R87: =IF(Q87="","",RANK(Q87,Q$3:Q$108,0)) | T87: =IFERROR(IF(R87="","",VLOOKUP(R87,'Concordance Classmt & Points'!$A$2:$B$32,2,FALSE)/S87),0) | U87: =IF(ISNUMBER(T87),T87+T87*(MAX(0,$D87-28))*2/100,"") | W87: =IF(V87="","",RANK(V87,V$3:V$108,0)) | X87: =IFERROR(IF(W87="","",VLOOKUP(W87,'Concordance Classmt & Points'!$A$2:$B$32,2,FALSE)),0) | Y87: =IF(ISNUMBER(X87),X87+X87*(MAX(0,$D87-28))*2/100,"") | Z87: =IF(COUNT(G87,K87,O87,T87,X87),SUM(G87,K87,O87,T87,X87),"-") -> - | AA87: =IF(COUNT(H87,L87,P87,U87,Y87),SUM(H87,L87,P87,U87,Y87),"-") -> - | AB87: =IF(AA87="-","",RANK(AA87,AA$3:AA$109))
A88: =IF(AA88="-","",RANK(AA88,AA$3:AA$108)) | B88: OUBIBI | C88: Khalid | D88: 27 | F88: =IF(E88="","",RANK(E88,E$3:E$108,1)) | G88: =IFERROR(IF(F88="","",VLOOKUP(F88,'Concordance Classmt & Points'!$A$2:$B$32,2,FALSE)),0) | H88: =IF(ISNUMBER(G88),G88+G88*(MAX(0,$D88-28))*2/100,"") | J88: =IF(I88="","",RANK(I88,I$3:I$108,1)) | K88: =IFERROR(IF(J88="","",VLOOKUP(J88,'Concordance Classmt & Points'!$A$2:$B$32,2,FALSE)),0) | L88: =IF(ISNUMBER(K88),K88+K88*(MAX(0,$D88-28))*2/100,"") | N88: =IF(M88="","",RANK(M88,M$3:M$108,1)) | O88: =IFERROR(IF(N88="","",VLOOKUP(N88,'Concordance Classmt & Points'!$A$2:$B$32,2,FALSE)),0) | P88: =IF(ISNUMBER(O88),O88+O88*(MAX(0,$D88-28))*2/100,"") | R88: =IF(Q88="","",RANK(Q88,Q$3:Q$108,0)) | T88: =IFERROR(IF(R88="","",VLOOKUP(R88,'Concordance Classmt & Points'!$A$2:$B$32,2,FALSE)/S88),0) | U88: =IF(ISNUMBER(T88),T88+T88*(MAX(0,$D88-28))*2/100,"") | W88: =IF(V88="","",RANK(V88,V$3:V$108,0)) | X88: =IFERROR(IF(W88="","",VLOOKUP(W88,'Concordance Classmt & Points'!$A$2:$B$32,2,FALSE)),0) | Y88: =IF(ISNUMBER(X88),X88+X88*(MAX(0,$D88-28))*2/100,"") | Z88: =IF(COUNT(G88,K88,O88,T88,X88),SUM(G88,K88,O88,T88,X88),"-") -> - | AA88: =IF(COUNT(H88,L88,P88,U88,Y88),SUM(H88,L88,P88,U88,Y88),"-") -> - | AB88: =IF(AA88="-","",RANK(AA88,AA$3:AA$109))
A89: =IF(AA89="-","",RANK(AA89,AA$3:AA$108)) | B89: OUHAB | C89: Kahina | D89: 37 | F89: =IF(E89="","",RANK(E89,E$3:E$108,1)) | G89: =IFERROR(IF(F89="","",VLOOKUP(F89,'Concordance Classmt & Points'!$A$2:$B$32,2,FALSE)),0) | H89: =IF(ISNUMBER(G89),G89+G89*(MAX(0,$D89-28))*2/100,"") | J89: =IF(I89="","",RANK(I89,I$3:I$108,1)) | K89: =IFERROR(IF(J89="","",VLOOKUP(J89,'Concordance Classmt & Points'!$A$2:$B$32,2,FALSE)),0) | L89: =IF(ISNUMBER(K89),K89+K89*(MAX(0,$D89-28))*2/100,"") | N89: =IF(M89="","",RANK(M89,M$3:M$108,1)) | O89: =IFERROR(IF(N89="","",VLOOKUP(N89,'Concordance Classmt & Points'!$A$2:$B$32,2,FALSE)),0) | P89: =IF(ISNUMBER(O89),O89+O89*(MAX(0,$D89-28))*2/100,"") | R89: =IF(Q89="","",RANK(Q89,Q$3:Q$108,0)) | T89: =IFERROR(IF(R89="","",VLOOKUP(R89,'Concordance Classmt & Points'!$A$2:$B$32,2,FALSE)/S89),0) | U89: =IF(ISNUMBER(T89),T89+T89*(MAX(0,$D89-28))*2/100,"") | W89: =IF(V89="","",RANK(V89,V$3:V$108,0)) | X89: =IFERROR(IF(W89="","",VLOOKUP(W89,'Concordance Classmt & Points'!$A$2:$B$32,2,FALSE)),0) | Y89: =IF(ISNUMBER(X89),X89+X89*(MAX(0,$D89-28))*2/100,"") | Z89: =IF(COUNT(G89,K89,O89,T89,X89),SUM(G89,K89,O89,T89,X89),"-") -> - | AA89: =IF(COUNT(H89,L89,P89,U89,Y89),SUM(H89,L89,P89,U89,Y89),"-") -> - | AB89: =IF(AA89="-","",RANK(AA89,AA$3:AA$109))
A90: =IF(AA90="-","",RANK(AA90,AA$3:AA$108)) | B90: OUJAAFAR | C90: Mohamed | D90: 39 | F90: =IF(E90="","",RANK(E90,E$3:E$108,1)) | G90: =IFERROR(IF(F90="","",VLOOKUP(F90,'Concordance Classmt & Points'!$A$2:$B$32,2,FALSE)),0) | H90: =IF(ISNUMBER(G90),G90+G90*(MAX(0,$D90-28))*2/100,"") | J90: =IF(I90="","",RANK(I90,I$3:I$108,1)) | K90: =IFERROR(IF(J90="","",VLOOKUP(J90,'Concordance Classmt & Points'!$A$2:$B$32,2,FALSE)),0) | L90: =IF(ISNUMBER(K90),K90+K90*(MAX(0,$D90-28))*2/100,"") | N90: =IF(M90="","",RANK(M90,M$3:M$108,1)) | O90: =IFERROR(IF(N90="","",VLOOKUP(N90,'Concordance Classmt & Points'!$A$2:$B$32,2,FALSE)),0) | P90: =IF(ISNUMBER(O90),O90+O90*(MAX(0,$D90-28))*2/100,"") | R90: =IF(Q90="","",RANK(Q90,Q$3:Q$108,0)) | T90: =IFERROR(IF(R90="","",VLOOKUP(R90,'Concordance Classmt & Points'!$A$2:$B$32,2,FALSE)/S90),0) | U90: =IF(ISNUMBER(T90),T90+T90*(MAX(0,$D90-28))*2/100,"") | W90: =IF(V90="","",RANK(V90,V$3:V$108,0)) | X90: =IFERROR(IF(W90="","",VLOOKUP(W90,'Concordance Classmt & Points'!$A$2:$B$32,2,FALSE)),0) | Y90: =IF(ISNUMBER(X90),X90+X90*(MAX(0,$D90-28))*2/100,"") | Z90: =IF(COUNT(G90,K90,O90,T90,X90),SUM(G90,K90,O90,T90,X90),"-") -> - | AA90: =IF(COUNT(H90,L90,P90,U90,Y90),SUM(H90,L90,P90,U90,Y90),"-") -> - | AB90: =IF(AA90="-","",RANK(AA90,AA$3:AA$109))
A91: =IF(AA91="-","",RANK(AA91,AA$3:AA$108)) | B91: PEROTTI | C91: Nathalie | D91: 59 | F91: =IF(E91="","",RANK(E91,E$3:E$108,1)) | G91: =IFERROR(IF(F91="","",VLOOKUP(F91,'Concordance Classmt & Points'!$A$2:$B$32,2,FALSE)),0) | H91: =IF(ISNUMBER(G91),G91+G91*(MAX(0,$D91-28))*2/100,"") | J91: =IF(I91="","",RANK(I91,I$3:I$108,1)) | K91: =IFERROR(IF(J91="","",VLOOKUP(J91,'Concordance Classmt & Points'!$A$2:$B$32,2,FALSE)),0) | L91: =IF(ISNUMBER(K91),K91+K91*(MAX(0,$D91-28))*2/100,"") | N91: =IF(M91="","",RANK(M91,M$3:M$108,1)) | O91: =IFERROR(IF(N91="","",VLOOKUP(N91,'Concordance Classmt & Points'!$A$2:$B$32,2,FALSE)),0) | P91: =IF(ISNUMBER(O91),O91+O91*(MAX(0,$D91-28))*2/100,"") | R91: =IF(Q91="","",RANK(Q91,Q$3:Q$108,0)) | T91: =IFERROR(IF(R91="","",VLOOKUP(R91,'Concordance Classmt & Points'!$A$2:$B$32,2,FALSE)/S91),0) | U91: =IF(ISNUMBER(T91),T91+T91*(MAX(0,$D91-28))*2/100,"") | W91: =IF(V91="","",RANK(V91,V$3:V$108,0)) | X91: =IFERROR(IF(W91="","",VLOOKUP(W91,'Concordance Classmt & Points'!$A$2:$B$32,2,FALSE)),0) | Y91: =IF(ISNUMBER(X91),X91+X91*(MAX(0,$D91-28))*2/100,"") | Z91: =IF(COUNT(G91,K91,O91,T91,X91),SUM(G91,K91,O91,T91,X91),"-") -> - | AA91: =IF(COUNT(H91,L91,P91,U91,Y91),SUM(H91,L91,P91,U91,Y91),"-") -> - | AB91: =IF(AA91="-","",RANK(AA91,AA$3:AA$109))
A92: =IF(AA92="-","",RANK(AA92,AA$3:AA$108)) | B92: RAVILUS | C92: Junior | D92: 25 | F92: =IF(E92="","",RANK(E92,E$3:E$108,1)) | G92: =IFERROR(IF(F92="","",VLOOKUP(F92,'Concordance Classmt & Points'!$A$2:$B$32,2,FALSE)),0) | H92: =IF(ISNUMBER(G92),G92+G92*(MAX(0,$D92-28))*2/100,"") | J92: =IF(I92="","",RANK(I92,I$3:I$108,1)) | K92: =IFERROR(IF(J92="","",VLOOKUP(J92,'Concordance Classmt & Points'!$A$2:$B$32,2,FALSE)),0) | L92: =IF(ISNUMBER(K92),K92+K92*(MAX(0,$D92-28))*2/100,"") | N92: =IF(M92="","",RANK(M92,M$3:M$108,1)) | O92: =IFERROR(IF(N92="","",VLOOKUP(N92,'Concordance Classmt & Points'!$A$2:$B$32,2,FALSE)),0) | P92: =IF(ISNUMBER(O92),O92+O92*(MAX(0,$D92-28))*2/100,"") | R92: =IF(Q92="","",RANK(Q92,Q$3:Q$108,0)) | T92: =IFERROR(IF(R92="","",VLOOKUP(R92,'Concordance Classmt & Points'!$A$2:$B$32,2,FALSE)/S92),0) | U92: =IF(ISNUMBER(T92),T92+T92*(MAX(0,$D92-28))*2/100,"") | W92: =IF(V92="","",RANK(V92,V$3:V$108,0)) | X92: =IFERROR(IF(W92="","",VLOOKUP(W92,'Concordance Classmt & Points'!$A$2:$B$32,2,FALSE)),0) | Y92: =IF(ISNUMBER(X92),X92+X92*(MAX(0,$D92-28))*2/100,"") | Z92: =IF(COUNT(G92,K92,O92,T92,X92),SUM(G92,K92,O92,T92,X92),"-") -> - | AA92: =IF(COUNT(H92,L92,P92,U92,Y92),SUM(H92,L92,P92,U92,Y92),"-") -> - | AB92: =IF(AA92="-","",RANK(AA92,AA$3:AA$109))
A93: =IF(AA93="-","",RANK(AA93,AA$3:AA$108)) | B93: REINARD | C93: Frédéric | D93: 45 | F93: =IF(E93="","",RANK(E93,E$3:E$108,1)) | G93: =IFERROR(IF(F93="","",VLOOKUP(F93,'Concordance Classmt & Points'!$A$2:$B$32,2,FALSE)),0) | H93: =IF(ISNUMBER(G93),G93+G93*(MAX(0,$D93-28))*2/100,"") | J93: =IF(I93="","",RANK(I93,I$3:I$108,1)) | K93: =IFERROR(IF(J93="","",VLOOKUP(J93,'Concordance Classmt & Points'!$A$2:$B$32,2,FALSE)),0) | L93: =IF(ISNUMBER(K93),K93+K93*(MAX(0,$D93-28))*2/100,"") | N93: =IF(M93="","",RANK(M93,M$3:M$108,1)) | O93: =IFERROR(IF(N93="","",VLOOKUP(N93,'Concordance Classmt & Points'!$A$2:$B$32,2,FALSE)),0) | P93: =IF(ISNUMBER(O93),O93+O93*(MAX(0,$D93-28))*2/100,"") | R93: =IF(Q93="","",RANK(Q93,Q$3:Q$108,0)) | T93: =IFERROR(IF(R93="","",VLOOKUP(R93,'Concordance Classmt & Points'!$A$2:$B$32,2,FALSE)/S93),0) | U93: =IF(ISNUMBER(T93),T93+T93*(MAX(0,$D93-28))*2/100,"") | W93: =IF(V93="","",RANK(V93,V$3:V$108,0)) | X93: =IFERROR(IF(W93="","",VLOOKUP(W93,'Concordance Classmt & Points'!$A$2:$B$32,2,FALSE)),0) | Y93: =IF(ISNUMBER(X93),X93+X93*(MAX(0,$D93-28))*2/100,"") | Z93: =IF(COUNT(G93,K93,O93,T93,X93),SUM(G93,K93,O93,T93,X93),"-") -> - | AA93: =IF(COUNT(H93,L93,P93,U93,Y93),SUM(H93,L93,P93,U93,Y93),"-") -> - | AB93: =IF(AA93="-","",RANK(AA93,AA$3:AA$109))
A94: =IF(AA94="-","",RANK(AA94,AA$3:AA$108)) | B94: SANCHEZ | C94: Joris | D94: 30 | F94: =IF(E94="","",RANK(E94,E$3:E$108,1)) | G94: =IFERROR(IF(F94="","",VLOOKUP(F94,'Concordance Classmt & Points'!$A$2:$B$32,2,FALSE)),0) | H94: =IF(ISNUMBER(G94),G94+G94*(MAX(0,$D94-28))*2/100,"") | J94: =IF(I94="","",RANK(I94,I$3:I$108,1)) | K94: =IFERROR(IF(J94="","",VLOOKUP(J94,'Concordance Classmt & Points'!$A$2:$B$32,2,FALSE)),0) | L94: =IF(ISNUMBER(K94),K94+K94*(MAX(0,$D94-28))*2/100,"") | N94: =IF(M94="","",RANK(M94,M$3:M$108,1)) | O94: =IFERROR(IF(N94="","",VLOOKUP(N94,'Concordance Classmt & Points'!$A$2:$B$32,2,FALSE)),0) | P94: =IF(ISNUMBER(O94),O94+O94*(MAX(0,$D94-28))*2/100,"") | R94: =IF(Q94="","",RANK(Q94,Q$3:Q$108,0)) | T94: =IFERROR(IF(R94="","",VLOOKUP(R94,'Concordance Classmt & Points'!$A$2:$B$32,2,FALSE)/S94),0) | U94: =IF(ISNUMBER(T94),T94+T94*(MAX(0,$D94-28))*2/100,"") | W94: =IF(V94="","",RANK(V94,V$3:V$108,0)) | X94: =IFERROR(IF(W94="","",VLOOKUP(W94,'Concordance Classmt & Points'!$A$2:$B$32,2,FALSE)),0) | Y94: =IF(ISNUMBER(X94),X94+X94*(MAX(0,$D94-28))*2/100,"") | Z94: =IF(COUNT(G94,K94,O94,T94,X94),SUM(G94,K94,O94,T94,X94),"-") -> - | AA94: =IF(COUNT(H94,L94,P94,U94,Y94),SUM(H94,L94,P94,U94,Y94),"-") -> - | AB94: =IF(AA94="-","",RANK(AA94,AA$3:AA$109))
A95: =IF(AA95="-","",RANK(AA95,AA$3:AA$108)) | B95: SANTIAGO | C95: Thomas | D95: 33 | F95: =IF(E95="","",RANK(E95,E$3:E$108,1)) | G95: =IFERROR(IF(F95="","",VLOOKUP(F95,'Concordance Classmt & Points'!$A$2:$B$32,2,FALSE)),0) | H95: =IF(ISNUMBER(G95),G95+G95*(MAX(0,$D95-28))*2/100,"") | J95: =IF(I95="","",RANK(I95,I$3:I$108,1)) | K95: =IFERROR(IF(J95="","",VLOOKUP(J95,'Concordance Classmt & Points'!$A$2:$B$32,2,FALSE)),0) | L95: =IF(ISNUMBER(K95),K95+K95*(MAX(0,$D95-28))*2/100,"") | N95: =IF(M95="","",RANK(M95,M$3:M$108,1)) | O95: =IFERROR(IF(N95="","",VLOOKUP(N95,'Concordance Classmt & Points'!$A$2:$B$32,2,FALSE)),0) | P95: =IF(ISNUMBER(O95),O95+O95*(MAX(0,$D95-28))*2/100,"") | R95: =IF(Q95="","",RANK(Q95,Q$3:Q$108,0)) | T95: =IFERROR(IF(R95="","",VLOOKUP(R95,'Concordance Classmt & Points'!$A$2:$B$32,2,FALSE)/S95),0) | U95: =IF(ISNUMBER(T95),T95+T95*(MAX(0,$D95-28))*2/100,"") | W95: =IF(V95="","",RANK(V95,V$3:V$108,0)) | X95: =IFERROR(IF(W95="","",VLOOKUP(W95,'Concordance Classmt & Points'!$A$2:$B$32,2,FALSE)),0) | Y95: =IF(ISNUMBER(X95),X95+X95*(MAX(0,$D95-28))*2/100,"") | Z95: =IF(COUNT(G95,K95,O95,T95,X95),SUM(G95,K95,O95,T95,X95),"-") -> - | AA95: =IF(COUNT(H95,L95,P95,U95,Y95),SUM(H95,L95,P95,U95,Y95),"-") -> - | AB95: =IF(AA95="-","",RANK(AA95,AA$3:AA$109))
A96: =IF(AA96="-","",RANK(AA96,AA$3:AA$108)) | B96: SARIAK | C96: Adam | D96: 27 | F96: =IF(E96="","",RANK(E96,E$3:E$108,1)) | G96: =IFERROR(IF(F96="","",VLOOKUP(F96,'Concordance Classmt & Points'!$A$2:$B$32,2,FALSE)),0) | H96: =IF(ISNUMBER(G96),G96+G96*(MAX(0,$D96-28))*2/100,"") | J96: =IF(I96="","",RANK(I96,I$3:I$108,1)) | K96: =IFERROR(IF(J96="","",VLOOKUP(J96,'Concordance Classmt & Points'!$A$2:$B$32,2,FALSE)),0) | L96: =IF(ISNUMBER(K96),K96+K96*(MAX(0,$D96-28))*2/100,"") | N96: =IF(M96="","",RANK(M96,M$3:M$108,1)) | O96: =IFERROR(IF(N96="","",VLOOKUP(N96,'Concordance Classmt & Points'!$A$2:$B$32,2,FALSE)),0) | P96: =IF(ISNUMBER(O96),O96+O96*(MAX(0,$D96-28))*2/100,"") | R96: =IF(Q96="","",RANK(Q96,Q$3:Q$108,0)) | T96: =IFERROR(IF(R96="","",VLOOKUP(R96,'Concordance Classmt & Points'!$A$2:$B$32,2,FALSE)/S96),0) | U96: =IF(ISNUMBER(T96),T96+T96*(MAX(0,$D96-28))*2/100,"") | W96: =IF(V96="","",RANK(V96,V$3:V$108,0)) | X96: =IFERROR(IF(W96="","",VLOOKUP(W96,'Concordance Classmt & Points'!$A$2:$B$32,2,FALSE)),0) | Y96: =IF(ISNUMBER(X96),X96+X96*(MAX(0,$D96-28))*2/100,"") | Z96: =IF(COUNT(G96,K96,O96,T96,X96),SUM(G96,K96,O96,T96,X96),"-") -> - | AA96: =IF(COUNT(H96,L96,P96,U96,Y96),SUM(H96,L96,P96,U96,Y96),"-") -> - | AB96: =IF(AA96="-","",RANK(AA96,AA$3:AA$109))
... A108: =IF(AA108="-","",RANK(AA108,AA$3:AA$108)) | B108: ZITOUNI | C108: Lakhdar | D108: 26 | F108: =IF(E108="","",RANK(E108,E$3:E$108,1)) | G108: =IFERROR(IF(F108="","",VLOOKUP(F108,'Concordance Classmt & Points'!$A$2:$B$32,2,FALSE)),0) | H108: =IF(ISNUMBER(G108),G108+G108*(MAX(0,$D108-28))*2/100,"") | J108: =IF(I108="","",RANK(I108,I$3:I$108,1)) | K108: =IFERROR(IF(J108="","",VLOOKUP(J108,'Concordance Classmt & Points'!$A$2:$B$32,2,FALSE)),0) | L108: =IF(ISNUMBER(K108),K108+K108*(MAX(0,$D108-28))*2/100,"") | N108: =IF(M108="","",RANK(M108,M$3:M$108,1)) | O108: =IFERROR(IF(N108="","",VLOOKUP(N108,'Concordance Classmt & Points'!$A$2:$B$32,2,FALSE)),0) | P108: =IF(ISNUMBER(O108),O108+O108*(MAX(0,$D108-28))*2/100,"") | R108: =IF(Q108="","",RANK(Q108,Q$3:Q$108,0)) | T108: =IFERROR(IF(R108="","",VLOOKUP(R108,'Concordance Classmt & Points'!$A$2:$B$32,2,FALSE)/S108),0) | U108: =IF(ISNUMBER(T108),T108+T108*(MAX(0,$D108-28))*2/100,"") | W108: =IF(V108="","",RANK(V108,V$3:V$108,0)) | X108: =IFERROR(IF(W108="","",VLOOKUP(W108,'Concordance Classmt & Points'!$A$2:$B$32,2,FALSE)),0) | Y108: =IF(ISNUMBER(X108),X108+X108*(MAX(0,$D108-28))*2/100,"") | Z108: =IF(COUNT(G108,K108,O108,T108,X108),SUM(G108,K108,O108,T108,X108),"-") -> - | AA108: =IF(COUNT(H108,L108,P108,U108,Y108),SUM(H108,L108,P108,U108,Y108),"-") -> - | AB108: =IF(AA108="-","",RANK(AA108,AA$3:AA$109))
A109: =IF(AA109="-","",RANK(AA109,AA$3:AA$108)) | F109: =IF(E109="","",RANK(E109,E$3:E$108,1)) | G109: =IF(F109="","",VLOOKUP(F109,'Concordance Classmt & Points'!$A$2:$B$32,2,FALSE)) | H109: =IF(ISNUMBER(G109),G109+G109*(MAX(0,$D109-28))*2/100,"") | J109: =IF(I109="","",RANK(I109,I$3:I$108,1)) | K109: =IF(J109="","",VLOOKUP(J109,'Concordance Classmt & Points'!$A$2:$B$32,2,FALSE)) | L109: =IF(ISNUMBER(K109),K109+K109*(MAX(0,$D109-28))*2/100,"") | N109: =IF(M109="","",RANK(M109,M$3:M$108,1)) | O109: =IF(N109="","",VLOOKUP(N109,'Concordance Classmt & Points'!$A$2:$B$32,2,FALSE)) | P109: =IF(ISNUMBER(O109),O109+O109*(MAX(0,$D109-28))*2/100,"") | R109: =IF(Q109="","",RANK(Q109,Q$3:Q$108,1)) | T109: =IF(R109="","",VLOOKUP(R109,'Concordance Classmt & Points'!$A$2:$B$32,2,FALSE)) | U109: =IF(ISNUMBER(T109),T109+T109*(MAX(0,$D109-28))*2/100,"") | W109: =IF(V109="","",RANK(V109,V$3:V$108,1)) | X109: =IF(W109="","",VLOOKUP(W109,'Concordance Classmt & Points'!$A$2:$B$32,2,FALSE)) | Y109: =IF(ISNUMBER(X109),X109+X109*(MAX(0,$D109-28))*2/100,"") | Z109: =IF(COUNT(G109,K109),SUM(G109,K109),"-") -> - | AA109: =IF(COUNT(H109,L109),SUM(H109,L109),"-") -> - | AB109: =IF(AA109="-","",RANK(AA109,AA$3:AA$109))

Sheet Classement général
A2: Clt | B2: Nom | C2: Prénom | D2: âge | E2: PTS Courses | F2: PTS Autres | G2: PTS totaux | H2: CLT
A3: =IF(E3="-","",RANK(E3,E$3:E$40)) -> 3 | B3: COUSCOUS | C3: Fabrice | D3: 37 | E3: ='Classement COURSES'!AA4 -> 262.5 | F3: =#REF! -> #REF! | G3: =E3+F3 -> #REF! | H3: =IF(G3="-","",RANK(G3,G$3:G$40)) -> #REF!
A4: =IF(E4="-","",RANK(E4,E$3:E$40)) -> 1 | B4: MUSTAPHA | C4: Ali | D4: 58 | E4: ='Classement COURSES'!AA3 -> 390 | F4: =#REF! -> #REF! | G4: =E4+F4 -> #REF! | H4: =IF(G4="-","",RANK(G4,G$3:G$40)) -> #REF!
A5: =IF(E5="-","",RANK(E5,E$3:E$40)) -> 4 | B5: POULIN | C5: Marcel | D5: 47 | E5: ='Classement COURSES'!AA6 -> 239.4 | F5: =#REF! -> #REF! | G5: =E5+F5 -> #REF! | H5: =IF(G5="-","",RANK(G5,G$3:G$40)) -> #REF!
A6: =IF(E6="-","",RANK(E6,E$3:E$40)) -> 2 | B6: DURAND | C6: Paul | D6: 44 | E6: ='Classement COURSES'!AA7 -> 381.9 | F6: =#REF! -> #REF! | G6: =E6+F6 -> #REF! | H6: =IF(G6="-","",RANK(G6,G$3:G$40)) -> #REF!
A7: =IF(E7="-","",RANK(E7,E$3:E$40)) -> 5 | B7: BARPIZ | C7: Driss | D7: 29 | E7: ='Classement COURSES'!AA8 -> 40 | F7: =#REF! -> #REF! | G7: =E7+F7 -> #REF! | H7: =IF(G7="-","",RANK(G7,G$3:G$40)) -> #REF!
A8: =IF(E8="-","",RANK(E8,E$3:E$40)) -> 6 | B8: DEMBÉLÉ | C8: Ousmane | D8: 26 | E8: ='Classement COURSES'!AA9 -> 37.44 | F8: =#REF! -> #REF! | G8: =E8+F8 -> #REF! | H8: =IF(G8="-","",RANK(G8,G$3:G$40)) -> #REF!
A9: =IF(E9="-","",RANK(E9,E$3:E$40)) | B9: MBAPPÉ | C9: Moussa | D9: 42 | E9: ='Classement COURSES'!AA52 -> - | F9: =#REF! -> #REF! | G9: =E9+F9 -> #VALUE! | H9: =IF(G9="-","",RANK(G9,G$3:G$40)) -> #VALUE!
A10: =IF(E10="-","",RANK(E10,E$3:E$40)) | E10: =IF(COUNT(#REF!,#REF!,#REF!,#REF!),SUM(#REF!,#REF!,#REF!,#REF!),"-") -> - | F10: =#REF! -> #REF! | G10: =E10+F10 -> #VALUE! | H10: =IF(G10="-","",RANK(G10,G$3:G$40)) -> #VALUE!
A11: =IF(E11="-","",RANK(E11,E$3:E$40)) | E11: =IF(COUNT(#REF!,#REF!,#REF!,#REF!),SUM(#REF!,#REF!,#REF!,#REF!),"-") -> - | F11: =#REF! -> #REF! | G11: =+E11+F11 -> #VALUE! | H11: =IF(G11="-","",RANK(G11,G$3:G$40)) -> #VALUE!
A12: =IF(E12="-","",RANK(E12,E$3:E$40)) | E12: =IF(COUNT(#REF!,#REF!,#REF!,#REF!),SUM(#REF!,#REF!,#REF!,#REF!),"-") -> - | F12: =#REF! -> #REF! | G12: =+E12+F12 -> #VALUE! | H12: =IF(G12="-","",RANK(G12,G$3:G$40)) -> #VALUE!
A13: =IF(E13="-","",RANK(E13,E$3:E$40)) | E13: =IF(COUNT(#REF!,#REF!,#REF!,#REF!),SUM(#REF!,#REF!,#REF!,#REF!),"-") -> - | F13: =#REF! -> #REF! | G13: =+E13+F13 -> #VALUE! | H13: =IF(G13="-","",RANK(G13,G$3:G$40)) -> #VALUE!
A14: =IF(E14="-","",RANK(E14,E$3:E$40)) | E14: =IF(COUNT(#REF!,#REF!,#REF!,#REF!),SUM(#REF!,#REF!,#REF!,#REF!),"-") -> - | F14: =#REF! -> #REF! | G14: =+E14+F14 -> #VALUE! | H14: =IF(G14="-","",RANK(G14,G$3:G$40)) -> #VALUE!
A15: =IF(E15="-","",RANK(E15,E$3:E$40)) | E15: =IF(COUNT(#REF!,#REF!,#REF!,#REF!),SUM(#REF!,#REF!,#REF!,#REF!),"-") -> - | F15: =#REF! -> #REF! | G15: =+E15+F15 -> #VALUE! | H15: =IF(G15="-","",RANK(G15,G$3:G$40)) -> #VALUE!
A16: =IF(E16="-","",RANK(E16,E$3:E$40)) | E16: =IF(COUNT(#REF!,#REF!,#REF!,#REF!),SUM(#REF!,#REF!,#REF!,#REF!),"-") -> - | F16: =#REF! -> #REF! | G16: =+E16+F16 -> #VALUE! | H16: =IF(G16="-","",RANK(G16,G$3:G$40)) -> #VALUE!
A17: =IF(E17="-","",RANK(E17,E$3:E$40)) | E17: =IF(COUNT(#REF!,#REF!,#REF!,#REF!),SUM(#REF!,#REF!,#REF!,#REF!),"-") -> - | F17: =#REF! -> #REF! | G17: =+E17+F17 -> #VALUE! | H17: =IF(G17="-","",RANK(G17,G$3:G$40)) -> #VALUE!
A18: =IF(E18="-","",RANK(E18,E$3:E$40)) | E18: =IF(COUNT(#REF!,#REF!,#REF!,#REF!),SUM(#REF!,#REF!,#REF!,#REF!),"-") -> - | F18: =#REF! -> #REF! | G18: =+E18+F18 -> #VALUE! | H18: =IF(G18="-","",RANK(G18,G$3:G$40)) -> #VALUE!
A19: =IF(E19="-","",RANK(E19,E$3:E$40)) | E19: =IF(COUNT(#REF!,#REF!,#REF!,#REF!),SUM(#REF!,#REF!,#REF!,#REF!),"-") -> - | F19: =#REF! -> #REF! | G19: =+E19+F19 -> #VALUE! | H19: =IF(G19="-","",RANK(G19,G$3:G$40)) -> #VALUE!
A20: =IF(E20="-","",RANK(E20,E$3:E$40)) | E20: =IF(COUNT(#REF!,#REF!,#REF!,#REF!),SUM(#REF!,#REF!,#REF!,#REF!),"-") -> - | F20: =#REF! -> #REF! | G20: =+E20+F20 -> #VALUE! | H20: =IF(G20="-","",RANK(G20,G$3:G$40)) -> #VALUE!
A21: =IF(E21="-","",RANK(E21,E$3:E$40)) | E21: =IF(COUNT(#REF!,#REF!,#REF!,#REF!),SUM(#REF!,#REF!,#REF!,#REF!),"-") -> - | F21: =#REF! -> #REF! | G21: =+E21+F21 -> #VALUE! | H21: =IF(G21="-","",RANK(G21,G$3:G$40)) -> #VALUE!
A22: =IF(E22="-","",RANK(E22,E$3:E$40)) | E22: =IF(COUNT(#REF!,#REF!,#REF!,#REF!),SUM(#REF!,#REF!,#REF!,#REF!),"-") -> - | F22: =#REF! -> #REF! | G22: =+E22+F22 -> #VALUE! | H22: =IF(G22="-","",RANK(G22,G$3:G$40)) -> #VALUE!
... A40: =IF(E40="-","",RANK(E40,E$3:E$40)) | E40: =IF(COUNT(#REF!,#REF!,#REF!,#REF!),SUM(#REF!,#REF!,#REF!,#REF!),"-") -> - | F40: =#REF! -> #REF! | G40: =+E40+F40 -> #VALUE! | H40: =IF(G40="-","",RANK(G40,G$3:G$40)) -> #VALUE!
B41: 7 | C41: Personnes Inscrites

Sheet Concordance Classmt & Points
A2: Classmt | B2: Points
A3: 1 | B3: 90
A4: 2 | B4: 75
A5: 3 | B5: 60
A6: 4 | B6: 50
A7: 5 | B7: 45
A8: 6 | B8: 40
A9: 7 | B9: 36
A10: 8 | B10: 34
A11: 9 | B11: 32
A12: 10 | B12: 31
A13: 11 | B13: 30
A14: 12 | B14: 29
... A32: 30 | B32: 2
