Workbook

Sheet Classement Haltérophilie Hommes
A2: Clt | B2: Nom | C2: Prénom | D2: Age | E2: Arraché de sol 100kg | F2: Clt | G2: Pts | H2: Pts âge | I2: Tirage Buste Penché 100kg | J2: Clt | K2: Pts | L2: Pts âge | M2: Développé-couché 80kg | N2: Clt | O2: Pts | P2: Pts âge | Q2: PTS Totaux | R2: CLT Final
A3: =IF(Q3="-","",RANK(Q3,Q$3:Q$40)) | B3: COUSCOUS | C3: Fabrice | F3: =IF(E3="","",RANK(E3,E$3:E$40)) | G3: =IF(F3="","",VLOOKUP(F3,'Concordance Classmt & Points'!$A$2:$B$32,2,FALSE)) | H3: =IF(ISNUMBER(G3),G3+G3*(MAX(0,$D3-28))*5/100,"") | J3: =IF(I3="","",RANK(I3,I$3:I$40)) | K3: =IF(J3="","",VLOOKUP(J3,'Concordance Classmt & Points'!$A$2:$B$32,2,FALSE)) | L3: =IF(ISNUMBER(K3),K3+K3*(MAX(0,$D3-28))*5/100,"") | N3: =IF(M3="","",RANK(M3,M$3:M$40)) | O3: =IF(N3="","",VLOOKUP(N3,'Concordance Classmt & Points'!$A$2:$B$32,2,FALSE)) | P3: =IF(ISNUMBER(O3),O3+O3*(MAX(0,$D3-28))*5/100,"") | Q3: =IF(COUNT(H3,L3,P3),SUM(H3,L3,P3),"-") -> - | R3: =IF(Q3="-","",RANK(Q3,Q$3:Q$40))
A4: =IF(Q4="-","",RANK(Q4,Q$3:Q$40)) | B4: barpiz | F4: =IF(E4="","",RANK(E4,E$3:E$40)) | G4: =IF(F4="","",VLOOKUP(F4,'Concordance Classmt & Points'!$A$2:$B$32,2,FALSE)) | H4: =IF(ISNUMBER(G4),G4+G4*(MAX(0,$D4-28))*5/100,"") | J4: =IF(I4="","",RANK(I4,I$3:I$40)) | K4: =IF(J4="","",VLOOKUP(J4,'Concordance Classmt & Points'!$A$2:$B$32,2,FALSE)) | L4: =IF(ISNUMBER(K4),K4+K4*(MAX(0,$D4-28))*5/100,"") | N4: =IF(M4="","",RANK(M4,M$3:M$40)) | O4: =IF(N4="","",VLOOKUP(N4,'Concordance Classmt & Points'!$A$2:$B$32,2,FALSE)) | P4: =IF(ISNUMBER(O4),O4+O4*(MAX(0,$D4-28))*5/100,"") | Q4: =IF(COUNT(H4,L4,P4),SUM(H4,L4,P4),"-") -> - | R4: =IF(Q4="-","",RANK(Q4,Q$3:Q$40))
A5: =IF(Q5="-","",RANK(Q5,Q$3:Q$40)) | B5: mbappé | F5: =IF(E5="","",RANK(E5,E$3:E$40)) | G5: =IF(F5="","",VLOOKUP(F5,'Concordance Classmt & Points'!$A$2:$B$32,2,FALSE)) | H5: =IF(ISNUMBER(G5),G5+G5*(MAX(0,$D5-28))*5/100,"") | J5: =IF(I5="","",RANK(I5,I$3:I$40)) | K5: =IF(J5="","",VLOOKUP(J5,'Concordance Classmt & Points'!$A$2:$B$32,2,FALSE)) | L5: =IF(ISNUMBER(K5),K5+K5*(MAX(0,$D5-28))*5/100,"") | N5: =IF(M5="","",RANK(M5,M$3:M$40)) | O5: =IF(N5="","",VLOOKUP(N5,'Concordance Classmt & Points'!$A$2:$B$32,2,FALSE)) | P5: =IF(ISNUMBER(O5),O5+O5*(MAX(0,$D5-28))*5/100,"") | Q5: =IF(COUNT(H5,L5,P5),SUM(H5,L5,P5),"-") -> - | R5: =IF(Q5="-","",RANK(Q5,Q$3:Q$40))
A6: =IF(Q6="-","",RANK(Q6,Q$3:Q$40)) | F6: =IF(E6="","",RANK(E6,E$3:E$40)) | G6: =IF(F6="","",VLOOKUP(F6,'Concordance Classmt & Points'!$A$2:$B$32,2,FALSE)) | H6: =IF(ISNUMBER(G6),G6+G6*(MAX(0,$D6-28))*5/100,"") | J6: =IF(I6="","",RANK(I6,I$3:I$40)) | K6: =IF(J6="","",VLOOKUP(J6,'Concordance Classmt & Points'!$A$2:$B$32,2,FALSE)) | L6: =IF(ISNUMBER(K6),K6+K6*(MAX(0,$D6-28))*5/100,"") | N6: =IF(M6="","",RANK(M6,M$3:M$40)) | O6: =IF(N6="","",VLOOKUP(N6,'Concordance Classmt & Points'!$A$2:$B$32,2,FALSE)) | P6: =IF(ISNUMBER(O6),O6+O6*(MAX(0,$D6-28))*5/100,"") | Q6: =IF(COUNT(H6,L6,P6),SUM(H6,L6,P6),"-") -> - | R6: =IF(Q6="-","",RANK(Q6,Q$3:Q$40))
A7: =IF(Q7="-","",RANK(Q7,Q$3:Q$40)) | F7: =IF(E7="","",RANK(E7,E$3:E$40)) | G7: =IF(F7="","",VLOOKUP(F7,'Concordance Classmt & Points'!$A$2:$B$32,2,FALSE)) | H7: =IF(ISNUMBER(G7),G7+G7*(MAX(0,$D7-28))*5/100,"") | J7: =IF(I7="","",RANK(I7,I$3:I$40)) | K7: =IF(J7="","",VLOOKUP(J7,'Concordance Classmt & Points'!$A$2:$B$32,2,FALSE)) | L7: =IF(ISNUMBER(K7),K7+K7*(MAX(0,$D7-28))*5/100,"") | N7: =IF(M7="","",RANK(M7,M$3:M$40)) | O7: =IF(N7="","",VLOOKUP(N7,'Concordance Classmt & Points'!$A$2:$B$32,2,FALSE)) | P7: =IF(ISNUMBER(O7),O7+O7*(MAX(0,$D7-28))*5/100,"") | Q7: =IF(COUNT(H7,L7,P7),SUM(H7,L7,P7),"-") -> - | R7: =IF(Q7="-","",RANK(Q7,Q$3:Q$40))
A8: =IF(Q8="-","",RANK(Q8,Q$3:Q$40)) | F8: =IF(E8="","",RANK(E8,E$3:E$40)) | G8: =IF(F8="","",VLOOKUP(F8,'Concordance Classmt & Points'!$A$2:$B$32,2,FALSE)) | H8: =IF(ISNUMBER(G8),G8+G8*(MAX(0,$D8-28))*5/100,"") | J8: =IF(I8="","",RANK(I8,I$3:I$40)) | K8: =IF(J8="","",VLOOKUP(J8,'Concordance Classmt & Points'!$A$2:$B$32,2,FALSE)) | L8: =IF(ISNUMBER(K8),K8+K8*(MAX(0,$D8-28))*5/100,"") | N8: =IF(M8="","",RANK(M8,M$3:M$40)) | O8: =IF(N8="","",VLOOKUP(N8,'Concordance Classmt & Points'!$A$2:$B$32,2,FALSE)) | P8: =IF(ISNUMBER(O8),O8+O8*(MAX(0,$D8-28))*5/100,"") | Q8: =IF(COUNT(H8,L8,P8),SUM(H8,L8,P8),"-") -> - | R8: =IF(Q8="-","",RANK(Q8,Q$3:Q$40))
A9: =IF(Q9="-","",RANK(Q9,Q$3:Q$40)) | F9: =IF(E9="","",RANK(E9,E$3:E$40)) | G9: =IF(F9="","",VLOOKUP(F9,'Concordance Classmt & Points'!$A$2:$B$32,2,FALSE)) | H9: =IF(ISNUMBER(G9),G9+G9*(MAX(0,$D9-28))*5/100,"") | J9: =IF(I9="","",RANK(I9,I$3:I$40)) | K9: =IF(J9="","",VLOOKUP(J9,'Concordance Classmt & Points'!$A$2:$B$32,2,FALSE)) | L9: =IF(ISNUMBER(K9),K9+K9*(MAX(0,$D9-28))*5/100,"") | N9: =IF(M9="","",RANK(M9,M$3:M$40)) | O9: =IF(N9="","",VLOOKUP(N9,'Concordance Classmt & Points'!$A$2:$B$32,2,FALSE)) | P9: =IF(ISNUMBER(O9),O9+O9*(MAX(0,$D9-28))*5/100,"") | Q9: =IF(COUNT(H9,L9,P9),SUM(H9,L9,P9),"-") -> - | R9: =IF(Q9="-","",RANK(Q9,Q$3:Q$40))
A10: =IF(Q10="-","",RANK(Q10,Q$3:Q$40)) | F10: =IF(E10="","",RANK(E10,E$3:E$40)) | G10: =IF(F10="","",VLOOKUP(F10,'Concordance Classmt & Points'!$A$2:$B$32,2,FALSE)) | H10: =IF(ISNUMBER(G10),G10+G10*(MAX(0,$D10-28))*5/100,"") | J10: =IF(I10="","",RANK(I10,I$3:I$40)) | K10: =IF(J10="","",VLOOKUP(J10,'Concordance Classmt & Points'!$A$2:$B$32,2,FALSE)) | L10: =IF(ISNUMBER(K10),K10+K10*(MAX(0,$D10-28))*5/100,"") | N10: =IF(M10="","",RANK(M10,M$3:M$40)) | O10: =IF(N10="","",VLOOKUP(N10,'Concordance Classmt & Points'!$A$2:$B$32,2,FALSE)) | P10: =IF(ISNUMBER(O10),O10+O10*(MAX(0,$D10-28))*5/100,"") | Q10: =IF(COUNT(H10,L10,P10),SUM(H10,L10,P10),"-") -> - | R10: =IF(Q10="-","",RANK(Q10,Q$3:Q$40))
A11: =IF(Q11="-","",RANK(Q11,Q$3:Q$40)) | F11: =IF(E11="","",RANK(E11,E$3:E$40)) | G11: =IF(F11="","",VLOOKUP(F11,'Concordance Classmt & Points'!$A$2:$B$32,2,FALSE)) | H11: =IF(ISNUMBER(G11),G11+G11*(MAX(0,$D11-28))*5/100,"") | J11: =IF(I11="","",RANK(I11,I$3:I$40)) | K11: =IF(J11="","",VLOOKUP(J11,'Concordance Classmt & Points'!$A$2:$B$32,2,FALSE)) | L11: =IF(ISNUMBER(K11),K11+K11*(MAX(0,$D11-28))*5/100,"") | N11: =IF(M11="","",RANK(M11,M$3:M$40)) | O11: =IF(N11="","",VLOOKUP(N11,'Concordance Classmt & Points'!$A$2:$B$32,2,FALSE)) | P11: =IF(ISNUMBER(O11),O11+O11*(MAX(0,$D11-28))*5/100,"") | Q11: =IF(COUNT(H11,L11,P11),SUM(H11,L11,P11),"-") -> - | R11: =IF(Q11="-","",RANK(Q11,Q$3:Q$40))
A12: =IF(Q12="-","",RANK(Q12,Q$3:Q$40)) | F12: =IF(E12="","",RANK(E12,E$3:E$40)) | G12: =IF(F12="","",VLOOKUP(F12,'Concordance Classmt & Points'!$A$2:$B$32,2,FALSE)) | H12: =IF(ISNUMBER(G12),G12+G12*(MAX(0,$D12-28))*5/100,"") | J12: =IF(I12="","",RANK(I12,I$3:I$40)) | K12: =IF(J12="","",VLOOKUP(J12,'Concordance Classmt & Points'!$A$2:$B$32,2,FALSE)) | L12: =IF(ISNUMBER(K12),K12+K12*(MAX(0,$D12-28))*5/100,"") | N12: =IF(M12="","",RANK(M12,M$3:M$40)) | O12: =IF(N12="","",VLOOKUP(N12,'Concordance Classmt & Points'!$A$2:$B$32,2,FALSE)) | P12: =IF(ISNUMBER(O12),O12+O12*(MAX(0,$D12-28))*5/100,"") | Q12: =IF(COUNT(H12,L12,P12),SUM(H12,L12,P12),"-") -> - | R12: =IF(Q12="-","",RANK(Q12,Q$3:Q$40))
A13: =IF(Q13="-","",RANK(Q13,Q$3:Q$40)) | F13: =IF(E13="","",RANK(E13,E$3:E$40)) | G13: =IF(F13="","",VLOOKUP(F13,'Concordance Classmt & Points'!$A$2:$B$32,2,FALSE)) | H13: =IF(ISNUMBER(G13),G13+G13*(MAX(0,$D13-28))*5/100,"") | J13: =IF(I13="","",RANK(I13,I$3:I$40)) | K13: =IF(J13="","",VLOOKUP(J13,'Concordance Classmt & Points'!$A$2:$B$32,2,FALSE)) | L13: =IF(ISNUMBER(K13),K13+K13*(MAX(0,$D13-28))*5/100,"") | N13: =IF(M13="","",RANK(M13,M$3:M$40)) | O13: =IF(N13="","",VLOOKUP(N13,'Concordance Classmt & Points'!$A$2:$B$32,2,FALSE)) | P13: =IF(ISNUMBER(O13),O13+O13*(MAX(0,$D13-28))*5/100,"") | Q13: =IF(COUNT(H13,L13,P13),SUM(H13,L13,P13),"-") -> - | R13: =IF(Q13="-","",RANK(Q13,Q$3:Q$40))
A14: =IF(Q14="-","",RANK(Q14,Q$3:Q$40)) | F14: =IF(E14="","",RANK(E14,E$3:E$40)) | G14: =IF(F14="","",VLOOKUP(F14,'Concordance Classmt & Points'!$A$2:$B$32,2,FALSE)) | H14: =IF(ISNUMBER(G14),G14+G14*(MAX(0,$D14-28))*5/100,"") | J14: =IF(I14="","",RANK(I14,I$3:I$40)) | K14: =IF(J14="","",VLOOKUP(J14,'Concordance Classmt & Points'!$A$2:$B$32,2,FALSE)) | L14: =IF(ISNUMBER(K14),K14+K14*(MAX(0,$D14-28))*5/100,"") | N14: =IF(M14="","",RANK(M14,M$3:M$40)) | O14: =IF(N14="","",VLOOKUP(N14,'Concordance Classmt & Points'!$A$2:$B$32,2,FALSE)) | P14: =IF(ISNUMBER(O14),O14+O14*(MAX(0,$D14-28))*5/100,"") | Q14: =IF(COUNT(H14,L14,P14),SUM(H14,L14,P14),"-") -> - | R14: =IF(Q14="-","",RANK(Q14,Q$3:Q$40))
A15: =IF(Q15="-","",RANK(Q15,Q$3:Q$40)) | F15: =IF(E15="","",RANK(E15,E$3:E$40)) | G15: =IF(F15="","",VLOOKUP(F15,'Concordance Classmt & Points'!$A$2:$B$32,2,FALSE)) | H15: =IF(ISNUMBER(G15),G15+G15*(MAX(0,$D15-28))*5/100,"") | J15: =IF(I15="","",RANK(I15,I$3:I$40)) | K15: =IF(J15="","",VLOOKUP(J15,'Concordance Classmt & Points'!$A$2:$B$32,2,FALSE)) | L15: =IF(ISNUMBER(K15),K15+K15*(MAX(0,$D15-28))*5/100,"") | N15: =IF(M15="","",RANK(M15,M$3:M$40)) | O15: =IF(N15="","",VLOOKUP(N15,'Concordance Classmt & Points'!$A$2:$B$32,2,FALSE)) | P15: =IF(ISNUMBER(O15),O15+O15*(MAX(0,$D15-28))*5/100,"") | Q15: =IF(COUNT(H15,L15,P15),SUM(H15,L15,P15),"-") -> - | R15: =IF(Q15="-","",RANK(Q15,Q$3:Q$40))
A16: =IF(Q16="-","",RANK(Q16,Q$3:Q$40)) | F16: =IF(E16="","",RANK(E16,E$3:E$40)) | G16: =IF(F16="","",VLOOKUP(F16,'Concordance Classmt & Points'!$A$2:$B$32,2,FALSE)) | H16: =IF(ISNUMBER(G16),G16+G16*(MAX(0,$D16-28))*5/100,"") | J16: =IF(I16="","",RANK(I16,I$3:I$40)) | K16: =IF(J16="","",VLOOKUP(J16,'Concordance Classmt & Points'!$A$2:$B$32,2,FALSE)) | L16: =IF(ISNUMBER(K16),K16+K16*(MAX(0,$D16-28))*5/100,"") | N16: =IF(M16="","",RANK(M16,M$3:M$40)) | O16: =IF(N16="","",VLOOKUP(N16,'Concordance Classmt & Points'!$A$2:$B$32,2,FALSE)) | P16: =IF(ISNUMBER(O16),O16+O16*(MAX(0,$D16-28))*5/100,"") | Q16: =IF(COUNT(H16,L16,P16),SUM(H16,L16,P16),"-") -> - | R16: =IF(Q16="-","",RANK(Q16,Q$3:Q$40))
A17: =IF(Q17="-","",RANK(Q17,Q$3:Q$40)) | F17: =IF(E17="","",RANK(E17,E$3:E$40)) | G17: =IF(F17="","",VLOOKUP(F17,'Concordance Classmt & Points'!$A$2:$B$32,2,FALSE)) | H17: =IF(ISNUMBER(G17),G17+G17*(MAX(0,$D17-28))*5/100,"") | J17: =IF(I17="","",RANK(I17,I$3:I$40)) | K17: =IF(J17="","",VLOOKUP(J17,'Concordance Classmt & Points'!$A$2:$B$32,2,FALSE)) | L17: =IF(ISNUMBER(K17),K17+K17*(MAX(0,$D17-28))*5/100,"") | N17: =IF(M17="","",RANK(M17,M$3:M$40)) | O17: =IF(N17="","",VLOOKUP(N17,'Concordance Classmt & Points'!$A$2:$B$32,2,FALSE)) | P17: =IF(ISNUMBER(O17),O17+O17*(MAX(0,$D17-28))*5/100,"") | Q17: =IF(COUNT(H17,L17,P17),SUM(H17,L17,P17),"-") -> - | R17: =IF(Q17="-","",RANK(Q17,Q$3:Q$40))
... A42: =IF(Q42="-","",RANK(Q42,Q$3:Q$40)) | F42: =IF(E42="","",RANK(E42,E$3:E$40)) | G42: =IF(F42="","",VLOOKUP(F42,'Concordance Classmt & Points'!$A$2:$B$32,2,FALSE)) | H42: =IF(ISNUMBER(G42),G42+G42*(MAX(0,$D42-28))*5/100,"") | J42: =IF(I42="","",RANK(I42,I$3:I$40)) | K42: =IF(J42="","",VLOOKUP(J42,'Concordance Classmt & Points'!$A$2:$B$32,2,FALSE)) | L42: =IF(ISNUMBER(K42),K42+K42*(MAX(0,$D42-28))*5/100,"") | N42: =IF(M42="","",RANK(M42,M$3:M$40)) | O42: =IF(N42="","",VLOOKUP(N42,'Concordance Classmt & Points'!$A$2:$B$32,2,FALSE)) | P42: =IF(ISNUMBER(O42),O42+O42*(MAX(0,$D42-28))*5/100,"") | Q42: =IF(COUNT(H42,L42,P42),SUM(H42,L42,P42),"-") -> - | R42: =IF(Q42="-","",RANK(Q42,Q$3:Q$40))

Sheet Concordance Classmt & Points
A2: Classmt | B2: Points
A3: 1 | B3: 90
A4: 2 | B4: 75
A5: 3 | B5: 60
A6: 4 | B6: 50
A7: 5 | B7: 45
A8: 6 | B8: 40
A9: 7 | B9: 36
A10: 8 | B10: 34
A11: 9 | B11: 32
A12: 10 | B12: 31
A13: 11 | B13: 30
A14: 12 | B14: 29
... A32: 30 | B32: 2
